Workbook
Name Fériés: [1]Fériés!$D$4:$D$16

Sheet Données
A1: NOM | B1: PRENOM | C1: DATE ENTREE | D1: DATE SORTIE | E1: =EOMONTH(DATE($Q$2,1,1),0) -> 43496 | F1: =EOMONTH(E1,1) -> 43524 | G1: =EOMONTH(F1,1) -> 43555 | H1: =EOMONTH(G1,1) -> 43585 | I1: =EOMONTH(H1,1) -> 43616 | J1: =EOMONTH(I1,1) -> 43646 | K1: =EOMONTH(J1,1) -> 43677 | L1: =EOMONTH(K1,1) -> 43708 | M1: =EOMONTH(L1,1) -> 43738 | ... P1: =EOMONTH(O1,1) -> 43830 | Q1: Année
Q2: 2019
B3: Nicolas | C3: 43440 | D3: 43583 | E3: =((MAX(E$1-$C3,0)-MAX(EOMONTH(E$1,-1)-$C3,0))-(MAX(E$1-$D3,0)-MAX(EOMONTH(E$1,-1)-$D3,0))+(EOMONTH(E$1,0)=EOMONTH($C3,0)))/DAY(EOMONTH(E$1,0)) -> 1 | F3: =((MAX(F$1-$C3,0)-MAX(EOMONTH(F$1,-1)-$C3,0))-(MAX(F$1-$D3,0)-MAX(EOMONTH(F$1,-1)-$D3,0))+(EOMONTH(F$1,0)=EOMONTH($C3,0)))/DAY(EOMONTH(F$1,0)) -> 1 | G3: =((MAX(G$1-$C3,0)-MAX(EOMONTH(G$1,-1)-$C3,0))-(MAX(G$1-$D3,0)-MAX(EOMONTH(G$1,-1)-$D3,0))+(EOMONTH(G$1,0)=EOMONTH($C3,0)))/DAY(EOMONTH(G$1,0)) -> 1 | H3: =((MAX(H$1-$C3,0)-MAX(EOMONTH(H$1,-1)-$C3,0))-(MAX(H$1-$D3,0)-MAX(EOMONTH(H$1,-1)-$D3,0))+(EOMONTH(H$1,0)=EOMONTH($C3,0)))/DAY(EOMONTH(H$1,0)) -> 0.93333333 | I3: =((MAX(I$1-$C3,0)-MAX(EOMONTH(I$1,-1)-$C3,0))-(MAX(I$1-$D3,0)-MAX(EOMONTH(I$1,-1)-$D3,0))+(EOMONTH(I$1,0)=EOMONTH($C3,0)))/DAY(EOMONTH(I$1,0)) -> 0 | J3: =((MAX(J$1-$C3,0)-MAX(EOMONTH(J$1,-1)-$C3,0))-(MAX(J$1-$D3,0)-MAX(EOMONTH(J$1,-1)-$D3,0))+(EOMONTH(J$1,0)=EOMONTH($C3,0)))/DAY(EOMONTH(J$1,0)) -> 0 | K3: =((MAX(K$1-$C3,0)-MAX(EOMONTH(K$1,-1)-$C3,0))-(MAX(K$1-$D3,0)-MAX(EOMONTH(K$1,-1)-$D3,0))+(EOMONTH(K$1,0)=EOMONTH($C3,0)))/DAY(EOMONTH(K$1,0)) -> 0 | L3: =((MAX(L$1-$C3,0)-MAX(EOMONTH(L$1,-1)-$C3,0))-(MAX(L$1-$D3,0)-MAX(EOMONTH(L$1,-1)-$D3,0))+(EOMONTH(L$1,0)=EOMONTH($C3,0)))/DAY(EOMONTH(L$1,0)) -> 0 | ... P3: =((MAX(P$1-$C3,0)-MAX(EOMONTH(P$1,-1)-$C3,0))-(MAX(P$1-$D3,0)-MAX(EOMONTH(P$1,-1)-$D3,0))+(EOMONTH(P$1,0)=EOMONTH($C3,0)))/DAY(EOMONTH(P$1,0)) -> 0
B4: Marie-Paule | C4: 43446 | D4: 43465 | E4: =((MAX(E$1-$C4,0)-MAX(EOMONTH(E$1,-1)-$C4,0))-(MAX(E$1-$D4,0)-MAX(EOMONTH(E$1,-1)-$D4,0))+(EOMONTH(E$1,0)=EOMONTH($C4,0)))/DAY(EOMONTH(E$1,0)) -> 0 | F4: =((MAX(F$1-$C4,0)-MAX(EOMONTH(F$1,-1)-$C4,0))-(MAX(F$1-$D4,0)-MAX(EOMONTH(F$1,-1)-$D4,0))+(EOMONTH(F$1,0)=EOMONTH($C4,0)))/DAY(EOMONTH(F$1,0)) -> 0 | G4: =((MAX(G$1-$C4,0)-MAX(EOMONTH(G$1,-1)-$C4,0))-(MAX(G$1-$D4,0)-MAX(EOMONTH(G$1,-1)-$D4,0))+(EOMONTH(G$1,0)=EOMONTH($C4,0)))/DAY(EOMONTH(G$1,0)) -> 0 | H4: =((MAX(H$1-$C4,0)-MAX(EOMONTH(H$1,-1)-$C4,0))-(MAX(H$1-$D4,0)-MAX(EOMONTH(H$1,-1)-$D4,0))+(EOMONTH(H$1,0)=EOMONTH($C4,0)))/DAY(EOMONTH(H$1,0)) -> 0 | I4: =((MAX(I$1-$C4,0)-MAX(EOMONTH(I$1,-1)-$C4,0))-(MAX(I$1-$D4,0)-MAX(EOMONTH(I$1,-1)-$D4,0))+(EOMONTH(I$1,0)=EOMONTH($C4,0)))/DAY(EOMONTH(I$1,0)) -> 0 | J4: =((MAX(J$1-$C4,0)-MAX(EOMONTH(J$1,-1)-$C4,0))-(MAX(J$1-$D4,0)-MAX(EOMONTH(J$1,-1)-$D4,0))+(EOMONTH(J$1,0)=EOMONTH($C4,0)))/DAY(EOMONTH(J$1,0)) -> 0 | K4: =((MAX(K$1-$C4,0)-MAX(EOMONTH(K$1,-1)-$C4,0))-(MAX(K$1-$D4,0)-MAX(EOMONTH(K$1,-1)-$D4,0))+(EOMONTH(K$1,0)=EOMONTH($C4,0)))/DAY(EOMONTH(K$1,0)) -> 0 | L4: =((MAX(L$1-$C4,0)-MAX(EOMONTH(L$1,-1)-$C4,0))-(MAX(L$1-$D4,0)-MAX(EOMONTH(L$1,-1)-$D4,0))+(EOMONTH(L$1,0)=EOMONTH($C4,0)))/DAY(EOMONTH(L$1,0)) -> 0 | ... P4: =((MAX(P$1-$C4,0)-MAX(EOMONTH(P$1,-1)-$C4,0))-(MAX(P$1-$D4,0)-MAX(EOMONTH(P$1,-1)-$D4,0))+(EOMONTH(P$1,0)=EOMONTH($C4,0)))/DAY(EOMONTH(P$1,0)) -> 0
B5: Anaïs | C5: 43451 | D5: 43583 | E5: =((MAX(E$1-$C5,0)-MAX(EOMONTH(E$1,-1)-$C5,0))-(MAX(E$1-$D5,0)-MAX(EOMONTH(E$1,-1)-$D5,0))+(EOMONTH(E$1,0)=EOMONTH($C5,0)))/DAY(EOMONTH(E$1,0)) -> 1 | F5: =((MAX(F$1-$C5,0)-MAX(EOMONTH(F$1,-1)-$C5,0))-(MAX(F$1-$D5,0)-MAX(EOMONTH(F$1,-1)-$D5,0))+(EOMONTH(F$1,0)=EOMONTH($C5,0)))/DAY(EOMONTH(F$1,0)) -> 1 | G5: =((MAX(G$1-$C5,0)-MAX(EOMONTH(G$1,-1)-$C5,0))-(MAX(G$1-$D5,0)-MAX(EOMONTH(G$1,-1)-$D5,0))+(EOMONTH(G$1,0)=EOMONTH($C5,0)))/DAY(EOMONTH(G$1,0)) -> 1 | H5: =((MAX(H$1-$C5,0)-MAX(EOMONTH(H$1,-1)-$C5,0))-(MAX(H$1-$D5,0)-MAX(EOMONTH(H$1,-1)-$D5,0))+(EOMONTH(H$1,0)=EOMONTH($C5,0)))/DAY(EOMONTH(H$1,0)) -> 0.93333333 | I5: =((MAX(I$1-$C5,0)-MAX(EOMONTH(I$1,-1)-$C5,0))-(MAX(I$1-$D5,0)-MAX(EOMONTH(I$1,-1)-$D5,0))+(EOMONTH(I$1,0)=EOMONTH($C5,0)))/DAY(EOMONTH(I$1,0)) -> 0 | J5: =((MAX(J$1-$C5,0)-MAX(EOMONTH(J$1,-1)-$C5,0))-(MAX(J$1-$D5,0)-MAX(EOMONTH(J$1,-1)-$D5,0))+(EOMONTH(J$1,0)=EOMONTH($C5,0)))/DAY(EOMONTH(J$1,0)) -> 0 | K5: =((MAX(K$1-$C5,0)-MAX(EOMONTH(K$1,-1)-$C5,0))-(MAX(K$1-$D5,0)-MAX(EOMONTH(K$1,-1)-$D5,0))+(EOMONTH(K$1,0)=EOMONTH($C5,0)))/DAY(EOMONTH(K$1,0)) -> 0 | L5: =((MAX(L$1-$C5,0)-MAX(EOMONTH(L$1,-1)-$C5,0))-(MAX(L$1-$D5,0)-MAX(EOMONTH(L$1,-1)-$D5,0))+(EOMONTH(L$1,0)=EOMONTH($C5,0)))/DAY(EOMONTH(L$1,0)) -> 0 | ... P5: =((MAX(P$1-$C5,0)-MAX(EOMONTH(P$1,-1)-$C5,0))-(MAX(P$1-$D5,0)-MAX(EOMONTH(P$1,-1)-$D5,0))+(EOMONTH(P$1,0)=EOMONTH($C5,0)))/DAY(EOMONTH(P$1,0)) -> 0
B6: Sophie | C6: 43452 | D6: 43541 | E6: =((MAX(E$1-$C6,0)-MAX(EOMONTH(E$1,-1)-$C6,0))-(MAX(E$1-$D6,0)-MAX(EOMONTH(E$1,-1)-$D6,0))+(EOMONTH(E$1,0)=EOMONTH($C6,0)))/DAY(EOMONTH(E$1,0)) -> 1 | F6: =((MAX(F$1-$C6,0)-MAX(EOMONTH(F$1,-1)-$C6,0))-(MAX(F$1-$D6,0)-MAX(EOMONTH(F$1,-1)-$D6,0))+(EOMONTH(F$1,0)=EOMONTH($C6,0)))/DAY(EOMONTH(F$1,0)) -> 1 | G6: =((MAX(G$1-$C6,0)-MAX(EOMONTH(G$1,-1)-$C6,0))-(MAX(G$1-$D6,0)-MAX(EOMONTH(G$1,-1)-$D6,0))+(EOMONTH(G$1,0)=EOMONTH($C6,0)))/DAY(EOMONTH(G$1,0)) -> 0.5483871 | H6: =((MAX(H$1-$C6,0)-MAX(EOMONTH(H$1,-1)-$C6,0))-(MAX(H$1-$D6,0)-MAX(EOMONTH(H$1,-1)-$D6,0))+(EOMONTH(H$1,0)=EOMONTH($C6,0)))/DAY(EOMONTH(H$1,0)) -> 0 | I6: =((MAX(I$1-$C6,0)-MAX(EOMONTH(I$1,-1)-$C6,0))-(MAX(I$1-$D6,0)-MAX(EOMONTH(I$1,-1)-$D6,0))+(EOMONTH(I$1,0)=EOMONTH($C6,0)))/DAY(EOMONTH(I$1,0)) -> 0 | J6: =((MAX(J$1-$C6,0)-MAX(EOMONTH(J$1,-1)-$C6,0))-(MAX(J$1-$D6,0)-MAX(EOMONTH(J$1,-1)-$D6,0))+(EOMONTH(J$1,0)=EOMONTH($C6,0)))/DAY(EOMONTH(J$1,0)) -> 0 | K6: =((MAX(K$1-$C6,0)-MAX(EOMONTH(K$1,-1)-$C6,0))-(MAX(K$1-$D6,0)-MAX(EOMONTH(K$1,-1)-$D6,0))+(EOMONTH(K$1,0)=EOMONTH($C6,0)))/DAY(EOMONTH(K$1,0)) -> 0 | L6: =((MAX(L$1-$C6,0)-MAX(EOMONTH(L$1,-1)-$C6,0))-(MAX(L$1-$D6,0)-MAX(EOMONTH(L$1,-1)-$D6,0))+(EOMONTH(L$1,0)=EOMONTH($C6,0)))/DAY(EOMONTH(L$1,0)) -> 0 | ... P6: =((MAX(P$1-$C6,0)-MAX(EOMONTH(P$1,-1)-$C6,0))-(MAX(P$1-$D6,0)-MAX(EOMONTH(P$1,-1)-$D6,0))+(EOMONTH(P$1,0)=EOMONTH($C6,0)))/DAY(EOMONTH(P$1,0)) -> 0
B7: Héloïse | C7: 43456 | D7: 43471 | E7: =((MAX(E$1-$C7,0)-MAX(EOMONTH(E$1,-1)-$C7,0))-(MAX(E$1-$D7,0)-MAX(EOMONTH(E$1,-1)-$D7,0))+(EOMONTH(E$1,0)=EOMONTH($C7,0)))/DAY(EOMONTH(E$1,0)) -> 0.19354839 | F7: =((MAX(F$1-$C7,0)-MAX(EOMONTH(F$1,-1)-$C7,0))-(MAX(F$1-$D7,0)-MAX(EOMONTH(F$1,-1)-$D7,0))+(EOMONTH(F$1,0)=EOMONTH($C7,0)))/DAY(EOMONTH(F$1,0)) -> 0 | G7: =((MAX(G$1-$C7,0)-MAX(EOMONTH(G$1,-1)-$C7,0))-(MAX(G$1-$D7,0)-MAX(EOMONTH(G$1,-1)-$D7,0))+(EOMONTH(G$1,0)=EOMONTH($C7,0)))/DAY(EOMONTH(G$1,0)) -> 0 | H7: =((MAX(H$1-$C7,0)-MAX(EOMONTH(H$1,-1)-$C7,0))-(MAX(H$1-$D7,0)-MAX(EOMONTH(H$1,-1)-$D7,0))+(EOMONTH(H$1,0)=EOMONTH($C7,0)))/DAY(EOMONTH(H$1,0)) -> 0 | I7: =((MAX(I$1-$C7,0)-MAX(EOMONTH(I$1,-1)-$C7,0))-(MAX(I$1-$D7,0)-MAX(EOMONTH(I$1,-1)-$D7,0))+(EOMONTH(I$1,0)=EOMONTH($C7,0)))/DAY(EOMONTH(I$1,0)) -> 0 | J7: =((MAX(J$1-$C7,0)-MAX(EOMONTH(J$1,-1)-$C7,0))-(MAX(J$1-$D7,0)-MAX(EOMONTH(J$1,-1)-$D7,0))+(EOMONTH(J$1,0)=EOMONTH($C7,0)))/DAY(EOMONTH(J$1,0)) -> 0 | K7: =((MAX(K$1-$C7,0)-MAX(EOMONTH(K$1,-1)-$C7,0))-(MAX(K$1-$D7,0)-MAX(EOMONTH(K$1,-1)-$D7,0))+(EOMONTH(K$1,0)=EOMONTH($C7,0)))/DAY(EOMONTH(K$1,0)) -> 0 | L7: =((MAX(L$1-$C7,0)-MAX(EOMONTH(L$1,-1)-$C7,0))-(MAX(L$1-$D7,0)-MAX(EOMONTH(L$1,-1)-$D7,0))+(EOMONTH(L$1,0)=EOMONTH($C7,0)))/DAY(EOMONTH(L$1,0)) -> 0 | ... P7: =((MAX(P$1-$C7,0)-MAX(EOMONTH(P$1,-1)-$C7,0))-(MAX(P$1-$D7,0)-MAX(EOMONTH(P$1,-1)-$D7,0))+(EOMONTH(P$1,0)=EOMONTH($C7,0)))/DAY(EOMONTH(P$1,0)) -> 0
B8: Laura-Déborah | C8: 43456 | D8: 43583 | E8: =((MAX(E$1-$C8,0)-MAX(EOMONTH(E$1,-1)-$C8,0))-(MAX(E$1-$D8,0)-MAX(EOMONTH(E$1,-1)-$D8,0))+(EOMONTH(E$1,0)=EOMONTH($C8,0)))/DAY(EOMONTH(E$1,0)) -> 1 | F8: =((MAX(F$1-$C8,0)-MAX(EOMONTH(F$1,-1)-$C8,0))-(MAX(F$1-$D8,0)-MAX(EOMONTH(F$1,-1)-$D8,0))+(EOMONTH(F$1,0)=EOMONTH($C8,0)))/DAY(EOMONTH(F$1,0)) -> 1 | G8: =((MAX(G$1-$C8,0)-MAX(EOMONTH(G$1,-1)-$C8,0))-(MAX(G$1-$D8,0)-MAX(EOMONTH(G$1,-1)-$D8,0))+(EOMONTH(G$1,0)=EOMONTH($C8,0)))/DAY(EOMONTH(G$1,0)) -> 1 | H8: =((MAX(H$1-$C8,0)-MAX(EOMONTH(H$1,-1)-$C8,0))-(MAX(H$1-$D8,0)-MAX(EOMONTH(H$1,-1)-$D8,0))+(EOMONTH(H$1,0)=EOMONTH($C8,0)))/DAY(EOMONTH(H$1,0)) -> 0.93333333 | I8: =((MAX(I$1-$C8,0)-MAX(EOMONTH(I$1,-1)-$C8,0))-(MAX(I$1-$D8,0)-MAX(EOMONTH(I$1,-1)-$D8,0))+(EOMONTH(I$1,0)=EOMONTH($C8,0)))/DAY(EOMONTH(I$1,0)) -> 0 | J8: =((MAX(J$1-$C8,0)-MAX(EOMONTH(J$1,-1)-$C8,0))-(MAX(J$1-$D8,0)-MAX(EOMONTH(J$1,-1)-$D8,0))+(EOMONTH(J$1,0)=EOMONTH($C8,0)))/DAY(EOMONTH(J$1,0)) -> 0 | K8: =((MAX(K$1-$C8,0)-MAX(EOMONTH(K$1,-1)-$C8,0))-(MAX(K$1-$D8,0)-MAX(EOMONTH(K$1,-1)-$D8,0))+(EOMONTH(K$1,0)=EOMONTH($C8,0)))/DAY(EOMONTH(K$1,0)) -> 0 | L8: =((MAX(L$1-$C8,0)-MAX(EOMONTH(L$1,-1)-$C8,0))-(MAX(L$1-$D8,0)-MAX(EOMONTH(L$1,-1)-$D8,0))+(EOMONTH(L$1,0)=EOMONTH($C8,0)))/DAY(EOMONTH(L$1,0)) -> 0 | ... P8: =((MAX(P$1-$C8,0)-MAX(EOMONTH(P$1,-1)-$C8,0))-(MAX(P$1-$D8,0)-MAX(EOMONTH(P$1,-1)-$D8,0))+(EOMONTH(P$1,0)=EOMONTH($C8,0)))/DAY(EOMONTH(P$1,0)) -> 0
B9: Eloïse | C9: 43456 | D9: 43583 | E9: =((MAX(E$1-$C9,0)-MAX(EOMONTH(E$1,-1)-$C9,0))-(MAX(E$1-$D9,0)-MAX(EOMONTH(E$1,-1)-$D9,0))+(EOMONTH(E$1,0)=EOMONTH($C9,0)))/DAY(EOMONTH(E$1,0)) -> 1 | F9: =((MAX(F$1-$C9,0)-MAX(EOMONTH(F$1,-1)-$C9,0))-(MAX(F$1-$D9,0)-MAX(EOMONTH(F$1,-1)-$D9,0))+(EOMONTH(F$1,0)=EOMONTH($C9,0)))/DAY(EOMONTH(F$1,0)) -> 1 | G9: =((MAX(G$1-$C9,0)-MAX(EOMONTH(G$1,-1)-$C9,0))-(MAX(G$1-$D9,0)-MAX(EOMONTH(G$1,-1)-$D9,0))+(EOMONTH(G$1,0)=EOMONTH($C9,0)))/DAY(EOMONTH(G$1,0)) -> 1 | H9: =((MAX(H$1-$C9,0)-MAX(EOMONTH(H$1,-1)-$C9,0))-(MAX(H$1-$D9,0)-MAX(EOMONTH(H$1,-1)-$D9,0))+(EOMONTH(H$1,0)=EOMONTH($C9,0)))/DAY(EOMONTH(H$1,0)) -> 0.93333333 | I9: =((MAX(I$1-$C9,0)-MAX(EOMONTH(I$1,-1)-$C9,0))-(MAX(I$1-$D9,0)-MAX(EOMONTH(I$1,-1)-$D9,0))+(EOMONTH(I$1,0)=EOMONTH($C9,0)))/DAY(EOMONTH(I$1,0)) -> 0 | J9: =((MAX(J$1-$C9,0)-MAX(EOMONTH(J$1,-1)-$C9,0))-(MAX(J$1-$D9,0)-MAX(EOMONTH(J$1,-1)-$D9,0))+(EOMONTH(J$1,0)=EOMONTH($C9,0)))/DAY(EOMONTH(J$1,0)) -> 0 | K9: =((MAX(K$1-$C9,0)-MAX(EOMONTH(K$1,-1)-$C9,0))-(MAX(K$1-$D9,0)-MAX(EOMONTH(K$1,-1)-$D9,0))+(EOMONTH(K$1,0)=EOMONTH($C9,0)))/DAY(EOMONTH(K$1,0)) -> 0 | L9: =((MAX(L$1-$C9,0)-MAX(EOMONTH(L$1,-1)-$C9,0))-(MAX(L$1-$D9,0)-MAX(EOMONTH(L$1,-1)-$D9,0))+(EOMONTH(L$1,0)=EOMONTH($C9,0)))/DAY(EOMONTH(L$1,0)) -> 0 | ... P9: =((MAX(P$1-$C9,0)-MAX(EOMONTH(P$1,-1)-$C9,0))-(MAX(P$1-$D9,0)-MAX(EOMONTH(P$1,-1)-$D9,0))+(EOMONTH(P$1,0)=EOMONTH($C9,0)))/DAY(EOMONTH(P$1,0)) -> 0
B10: Camille | C10: 43456 | D10: 43590 | E10: =((MAX(E$1-$C10,0)-MAX(EOMONTH(E$1,-1)-$C10,0))-(MAX(E$1-$D10,0)-MAX(EOMONTH(E$1,-1)-$D10,0))+(EOMONTH(E$1,0)=EOMONTH($C10,0)))/DAY(EOMONTH(E$1,0)) -> 1 | F10: =((MAX(F$1-$C10,0)-MAX(EOMONTH(F$1,-1)-$C10,0))-(MAX(F$1-$D10,0)-MAX(EOMONTH(F$1,-1)-$D10,0))+(EOMONTH(F$1,0)=EOMONTH($C10,0)))/DAY(EOMONTH(F$1,0)) -> 1 | G10: =((MAX(G$1-$C10,0)-MAX(EOMONTH(G$1,-1)-$C10,0))-(MAX(G$1-$D10,0)-MAX(EOMONTH(G$1,-1)-$D10,0))+(EOMONTH(G$1,0)=EOMONTH($C10,0)))/DAY(EOMONTH(G$1,0)) -> 1 | H10: =((MAX(H$1-$C10,0)-MAX(EOMONTH(H$1,-1)-$C10,0))-(MAX(H$1-$D10,0)-MAX(EOMONTH(H$1,-1)-$D10,0))+(EOMONTH(H$1,0)=EOMONTH($C10,0)))/DAY(EOMONTH(H$1,0)) -> 1 | I10: =((MAX(I$1-$C10,0)-MAX(EOMONTH(I$1,-1)-$C10,0))-(MAX(I$1-$D10,0)-MAX(EOMONTH(I$1,-1)-$D10,0))+(EOMONTH(I$1,0)=EOMONTH($C10,0)))/DAY(EOMONTH(I$1,0)) -> 0.16129032 | J10: =((MAX(J$1-$C10,0)-MAX(EOMONTH(J$1,-1)-$C10,0))-(MAX(J$1-$D10,0)-MAX(EOMONTH(J$1,-1)-$D10,0))+(EOMONTH(J$1,0)=EOMONTH($C10,0)))/DAY(EOMONTH(J$1,0)) -> 0 | K10: =((MAX(K$1-$C10,0)-MAX(EOMONTH(K$1,-1)-$C10,0))-(MAX(K$1-$D10,0)-MAX(EOMONTH(K$1,-1)-$D10,0))+(EOMONTH(K$1,0)=EOMONTH($C10,0)))/DAY(EOMONTH(K$1,0)) -> 0 | L10: =((MAX(L$1-$C10,0)-MAX(EOMONTH(L$1,-1)-$C10,0))-(MAX(L$1-$D10,0)-MAX(EOMONTH(L$1,-1)-$D10,0))+(EOMONTH(L$1,0)=EOMONTH($C10,0)))/DAY(EOMONTH(L$1,0)) -> 0 | ... P10: =((MAX(P$1-$C10,0)-MAX(EOMONTH(P$1,-1)-$C10,0))-(MAX(P$1-$D10,0)-MAX(EOMONTH(P$1,-1)-$D10,0))+(EOMONTH(P$1,0)=EOMONTH($C10,0)))/DAY(EOMONTH(P$1,0)) -> 0
B11: Marie-Ange | C11: 43456 | D11: 43597 | E11: =((MAX(E$1-$C11,0)-MAX(EOMONTH(E$1,-1)-$C11,0))-(MAX(E$1-$D11,0)-MAX(EOMONTH(E$1,-1)-$D11,0))+(EOMONTH(E$1,0)=EOMONTH($C11,0)))/DAY(EOMONTH(E$1,0)) -> 1 | F11: =((MAX(F$1-$C11,0)-MAX(EOMONTH(F$1,-1)-$C11,0))-(MAX(F$1-$D11,0)-MAX(EOMONTH(F$1,-1)-$D11,0))+(EOMONTH(F$1,0)=EOMONTH($C11,0)))/DAY(EOMONTH(F$1,0)) -> 1 | G11: =((MAX(G$1-$C11,0)-MAX(EOMONTH(G$1,-1)-$C11,0))-(MAX(G$1-$D11,0)-MAX(EOMONTH(G$1,-1)-$D11,0))+(EOMONTH(G$1,0)=EOMONTH($C11,0)))/DAY(EOMONTH(G$1,0)) -> 1 | H11: =((MAX(H$1-$C11,0)-MAX(EOMONTH(H$1,-1)-$C11,0))-(MAX(H$1-$D11,0)-MAX(EOMONTH(H$1,-1)-$D11,0))+(EOMONTH(H$1,0)=EOMONTH($C11,0)))/DAY(EOMONTH(H$1,0)) -> 1 | I11: =((MAX(I$1-$C11,0)-MAX(EOMONTH(I$1,-1)-$C11,0))-(MAX(I$1-$D11,0)-MAX(EOMONTH(I$1,-1)-$D11,0))+(EOMONTH(I$1,0)=EOMONTH($C11,0)))/DAY(EOMONTH(I$1,0)) -> 0.38709677 | J11: =((MAX(J$1-$C11,0)-MAX(EOMONTH(J$1,-1)-$C11,0))-(MAX(J$1-$D11,0)-MAX(EOMONTH(J$1,-1)-$D11,0))+(EOMONTH(J$1,0)=EOMONTH($C11,0)))/DAY(EOMONTH(J$1,0)) -> 0 | K11: =((MAX(K$1-$C11,0)-MAX(EOMONTH(K$1,-1)-$C11,0))-(MAX(K$1-$D11,0)-MAX(EOMONTH(K$1,-1)-$D11,0))+(EOMONTH(K$1,0)=EOMONTH($C11,0)))/DAY(EOMONTH(K$1,0)) -> 0 | L11: =((MAX(L$1-$C11,0)-MAX(EOMONTH(L$1,-1)-$C11,0))-(MAX(L$1-$D11,0)-MAX(EOMONTH(L$1,-1)-$D11,0))+(EOMONTH(L$1,0)=EOMONTH($C11,0)))/DAY(EOMONTH(L$1,0)) -> 0 | ... P11: =((MAX(P$1-$C11,0)-MAX(EOMONTH(P$1,-1)-$C11,0))-(MAX(P$1-$D11,0)-MAX(EOMONTH(P$1,-1)-$D11,0))+(EOMONTH(P$1,0)=EOMONTH($C11,0)))/DAY(EOMONTH(P$1,0)) -> 0
B12: Fabien | C12: 43460 | D12: 43562 | E12: =((MAX(E$1-$C12,0)-MAX(EOMONTH(E$1,-1)-$C12,0))-(MAX(E$1-$D12,0)-MAX(EOMONTH(E$1,-1)-$D12,0))+(EOMONTH(E$1,0)=EOMONTH($C12,0)))/DAY(EOMONTH(E$1,0)) -> 1 | F12: =((MAX(F$1-$C12,0)-MAX(EOMONTH(F$1,-1)-$C12,0))-(MAX(F$1-$D12,0)-MAX(EOMONTH(F$1,-1)-$D12,0))+(EOMONTH(F$1,0)=EOMONTH($C12,0)))/DAY(EOMONTH(F$1,0)) -> 1 | G12: =((MAX(G$1-$C12,0)-MAX(EOMONTH(G$1,-1)-$C12,0))-(MAX(G$1-$D12,0)-MAX(EOMONTH(G$1,-1)-$D12,0))+(EOMONTH(G$1,0)=EOMONTH($C12,0)))/DAY(EOMONTH(G$1,0)) -> 1 | H12: =((MAX(H$1-$C12,0)-MAX(EOMONTH(H$1,-1)-$C12,0))-(MAX(H$1-$D12,0)-MAX(EOMONTH(H$1,-1)-$D12,0))+(EOMONTH(H$1,0)=EOMONTH($C12,0)))/DAY(EOMONTH(H$1,0)) -> 0.23333333 | I12: =((MAX(I$1-$C12,0)-MAX(EOMONTH(I$1,-1)-$C12,0))-(MAX(I$1-$D12,0)-MAX(EOMONTH(I$1,-1)-$D12,0))+(EOMONTH(I$1,0)=EOMONTH($C12,0)))/DAY(EOMONTH(I$1,0)) -> 0 | J12: =((MAX(J$1-$C12,0)-MAX(EOMONTH(J$1,-1)-$C12,0))-(MAX(J$1-$D12,0)-MAX(EOMONTH(J$1,-1)-$D12,0))+(EOMONTH(J$1,0)=EOMONTH($C12,0)))/DAY(EOMONTH(J$1,0)) -> 0 | K12: =((MAX(K$1-$C12,0)-MAX(EOMONTH(K$1,-1)-$C12,0))-(MAX(K$1-$D12,0)-MAX(EOMONTH(K$1,-1)-$D12,0))+(EOMONTH(K$1,0)=EOMONTH($C12,0)))/DAY(EOMONTH(K$1,0)) -> 0 | L12: =((MAX(L$1-$C12,0)-MAX(EOMONTH(L$1,-1)-$C12,0))-(MAX(L$1-$D12,0)-MAX(EOMONTH(L$1,-1)-$D12,0))+(EOMONTH(L$1,0)=EOMONTH($C12,0)))/DAY(EOMONTH(L$1,0)) -> 0 | ... P12: =((MAX(P$1-$C12,0)-MAX(EOMONTH(P$1,-1)-$C12,0))-(MAX(P$1-$D12,0)-MAX(EOMONTH(P$1,-1)-$D12,0))+(EOMONTH(P$1,0)=EOMONTH($C12,0)))/DAY(EOMONTH(P$1,0)) -> 0
B13: Mirna | C13: 43460 | D13: 43471 | E13: =((MAX(E$1-$C13,0)-MAX(EOMONTH(E$1,-1)-$C13,0))-(MAX(E$1-$D13,0)-MAX(EOMONTH(E$1,-1)-$D13,0))+(EOMONTH(E$1,0)=EOMONTH($C13,0)))/DAY(EOMONTH(E$1,0)) -> 0.19354839 | F13: =((MAX(F$1-$C13,0)-MAX(EOMONTH(F$1,-1)-$C13,0))-(MAX(F$1-$D13,0)-MAX(EOMONTH(F$1,-1)-$D13,0))+(EOMONTH(F$1,0)=EOMONTH($C13,0)))/DAY(EOMONTH(F$1,0)) -> 0 | G13: =((MAX(G$1-$C13,0)-MAX(EOMONTH(G$1,-1)-$C13,0))-(MAX(G$1-$D13,0)-MAX(EOMONTH(G$1,-1)-$D13,0))+(EOMONTH(G$1,0)=EOMONTH($C13,0)))/DAY(EOMONTH(G$1,0)) -> 0 | H13: =((MAX(H$1-$C13,0)-MAX(EOMONTH(H$1,-1)-$C13,0))-(MAX(H$1-$D13,0)-MAX(EOMONTH(H$1,-1)-$D13,0))+(EOMONTH(H$1,0)=EOMONTH($C13,0)))/DAY(EOMONTH(H$1,0)) -> 0 | I13: =((MAX(I$1-$C13,0)-MAX(EOMONTH(I$1,-1)-$C13,0))-(MAX(I$1-$D13,0)-MAX(EOMONTH(I$1,-1)-$D13,0))+(EOMONTH(I$1,0)=EOMONTH($C13,0)))/DAY(EOMONTH(I$1,0)) -> 0 | J13: =((MAX(J$1-$C13,0)-MAX(EOMONTH(J$1,-1)-$C13,0))-(MAX(J$1-$D13,0)-MAX(EOMONTH(J$1,-1)-$D13,0))+(EOMONTH(J$1,0)=EOMONTH($C13,0)))/DAY(EOMONTH(J$1,0)) -> 0 | K13: =((MAX(K$1-$C13,0)-MAX(EOMONTH(K$1,-1)-$C13,0))-(MAX(K$1-$D13,0)-MAX(EOMONTH(K$1,-1)-$D13,0))+(EOMONTH(K$1,0)=EOMONTH($C13,0)))/DAY(EOMONTH(K$1,0)) -> 0 | L13: =((MAX(L$1-$C13,0)-MAX(EOMONTH(L$1,-1)-$C13,0))-(MAX(L$1-$D13,0)-MAX(EOMONTH(L$1,-1)-$D13,0))+(EOMONTH(L$1,0)=EOMONTH($C13,0)))/DAY(EOMONTH(L$1,0)) -> 0 | ... P13: =((MAX(P$1-$C13,0)-MAX(EOMONTH(P$1,-1)-$C13,0))-(MAX(P$1-$D13,0)-MAX(EOMONTH(P$1,-1)-$D13,0))+(EOMONTH(P$1,0)=EOMONTH($C13,0)))/DAY(EOMONTH(P$1,0)) -> 0
B14: Claudia | C14: 43468 | D14: 43468 | E14: =((MAX(E$1-$C14,0)-MAX(EOMONTH(E$1,-1)-$C14,0))-(MAX(E$1-$D14,0)-MAX(EOMONTH(E$1,-1)-$D14,0))+(EOMONTH(E$1,0)=EOMONTH($C14,0)))/DAY(EOMONTH(E$1,0)) -> 0.032258065 | F14: =((MAX(F$1-$C14,0)-MAX(EOMONTH(F$1,-1)-$C14,0))-(MAX(F$1-$D14,0)-MAX(EOMONTH(F$1,-1)-$D14,0))+(EOMONTH(F$1,0)=EOMONTH($C14,0)))/DAY(EOMONTH(F$1,0)) -> 0 | G14: =((MAX(G$1-$C14,0)-MAX(EOMONTH(G$1,-1)-$C14,0))-(MAX(G$1-$D14,0)-MAX(EOMONTH(G$1,-1)-$D14,0))+(EOMONTH(G$1,0)=EOMONTH($C14,0)))/DAY(EOMONTH(G$1,0)) -> 0 | H14: =((MAX(H$1-$C14,0)-MAX(EOMONTH(H$1,-1)-$C14,0))-(MAX(H$1-$D14,0)-MAX(EOMONTH(H$1,-1)-$D14,0))+(EOMONTH(H$1,0)=EOMONTH($C14,0)))/DAY(EOMONTH(H$1,0)) -> 0 | I14: =((MAX(I$1-$C14,0)-MAX(EOMONTH(I$1,-1)-$C14,0))-(MAX(I$1-$D14,0)-MAX(EOMONTH(I$1,-1)-$D14,0))+(EOMONTH(I$1,0)=EOMONTH($C14,0)))/DAY(EOMONTH(I$1,0)) -> 0 | J14: =((MAX(J$1-$C14,0)-MAX(EOMONTH(J$1,-1)-$C14,0))-(MAX(J$1-$D14,0)-MAX(EOMONTH(J$1,-1)-$D14,0))+(EOMONTH(J$1,0)=EOMONTH($C14,0)))/DAY(EOMONTH(J$1,0)) -> 0 | K14: =((MAX(K$1-$C14,0)-MAX(EOMONTH(K$1,-1)-$C14,0))-(MAX(K$1-$D14,0)-MAX(EOMONTH(K$1,-1)-$D14,0))+(EOMONTH(K$1,0)=EOMONTH($C14,0)))/DAY(EOMONTH(K$1,0)) -> 0 | L14: =((MAX(L$1-$C14,0)-MAX(EOMONTH(L$1,-1)-$C14,0))-(MAX(L$1-$D14,0)-MAX(EOMONTH(L$1,-1)-$D14,0))+(EOMONTH(L$1,0)=EOMONTH($C14,0)))/DAY(EOMONTH(L$1,0)) -> 0 | ... P14: =((MAX(P$1-$C14,0)-MAX(EOMONTH(P$1,-1)-$C14,0))-(MAX(P$1-$D14,0)-MAX(EOMONTH(P$1,-1)-$D14,0))+(EOMONTH(P$1,0)=EOMONTH($C14,0)))/DAY(EOMONTH(P$1,0)) -> 0
... B60: Caroline | C60: 43570 | D60: 43764 | E60: =((MAX(E$1-$C60,0)-MAX(EOMONTH(E$1,-1)-$C60,0))-(MAX(E$1-$D60,0)-MAX(EOMONTH(E$1,-1)-$D60,0))+(EOMONTH(E$1,0)=EOMONTH($C60,0)))/DAY(EOMONTH(E$1,0)) -> 0 | F60: =((MAX(F$1-$C60,0)-MAX(EOMONTH(F$1,-1)-$C60,0))-(MAX(F$1-$D60,0)-MAX(EOMONTH(F$1,-1)-$D60,0))+(EOMONTH(F$1,0)=EOMONTH($C60,0)))/DAY(EOMONTH(F$1,0)) -> 0 | G60: =((MAX(G$1-$C60,0)-MAX(EOMONTH(G$1,-1)-$C60,0))-(MAX(G$1-$D60,0)-MAX(EOMONTH(G$1,-1)-$D60,0))+(EOMONTH(G$1,0)=EOMONTH($C60,0)))/DAY(EOMONTH(G$1,0)) -> 0 | H60: =((MAX(H$1-$C60,0)-MAX(EOMONTH(H$1,-1)-$C60,0))-(MAX(H$1-$D60,0)-MAX(EOMONTH(H$1,-1)-$D60,0))+(EOMONTH(H$1,0)=EOMONTH($C60,0)))/DAY(EOMONTH(H$1,0)) -> 0.53333333 | I60: =((MAX(I$1-$C60,0)-MAX(EOMONTH(I$1,-1)-$C60,0))-(MAX(I$1-$D60,0)-MAX(EOMONTH(I$1,-1)-$D60,0))+(EOMONTH(I$1,0)=EOMONTH($C60,0)))/DAY(EOMONTH(I$1,0)) -> 1 | J60: =((MAX(J$1-$C60,0)-MAX(EOMONTH(J$1,-1)-$C60,0))-(MAX(J$1-$D60,0)-MAX(EOMONTH(J$1,-1)-$D60,0))+(EOMONTH(J$1,0)=EOMONTH($C60,0)))/DAY(EOMONTH(J$1,0)) -> 1 | K60: =((MAX(K$1-$C60,0)-MAX(EOMONTH(K$1,-1)-$C60,0))-(MAX(K$1-$D60,0)-MAX(EOMONTH(K$1,-1)-$D60,0))+(EOMONTH(K$1,0)=EOMONTH($C60,0)))/DAY(EOMONTH(K$1,0)) -> 1 | L60: =((MAX(L$1-$C60,0)-MAX(EOMONTH(L$1,-1)-$C60,0))-(MAX(L$1-$D60,0)-MAX(EOMONTH(L$1,-1)-$D60,0))+(EOMONTH(L$1,0)=EOMONTH($C60,0)))/DAY(EOMONTH(L$1,0)) -> 1 | ... P60: =((MAX(P$1-$C60,0)-MAX(EOMONTH(P$1,-1)-$C60,0))-(MAX(P$1-$D60,0)-MAX(EOMONTH(P$1,-1)-$D60,0))+(EOMONTH(P$1,0)=EOMONTH($C60,0)))/DAY(EOMONTH(P$1,0)) -> 0
B61: Pascal | C61: 43571 | D61: ? | E61: =((MAX(E$1-$C61,0)-MAX(EOMONTH(E$1,-1)-$C61,0))-(MAX(E$1-$D61,0)-MAX(EOMONTH(E$1,-1)-$D61,0))+(EOMONTH(E$1,0)=EOMONTH($C61,0)))/DAY(EOMONTH(E$1,0)) -> #VALUE! | F61: =((MAX(F$1-$C61,0)-MAX(EOMONTH(F$1,-1)-$C61,0))-(MAX(F$1-$D61,0)-MAX(EOMONTH(F$1,-1)-$D61,0))+(EOMONTH(F$1,0)=EOMONTH($C61,0)))/DAY(EOMONTH(F$1,0)) -> #VALUE! | G61: =((MAX(G$1-$C61,0)-MAX(EOMONTH(G$1,-1)-$C61,0))-(MAX(G$1-$D61,0)-MAX(EOMONTH(G$1,-1)-$D61,0))+(EOMONTH(G$1,0)=EOMONTH($C61,0)))/DAY(EOMONTH(G$1,0)) -> #VALUE! | H61: =((MAX(H$1-$C61,0)-MAX(EOMONTH(H$1,-1)-$C61,0))-(MAX(H$1-$D61,0)-MAX(EOMONTH(H$1,-1)-$D61,0))+(EOMONTH(H$1,0)=EOMONTH($C61,0)))/DAY(EOMONTH(H$1,0)) -> #VALUE! | I61: =((MAX(I$1-$C61,0)-MAX(EOMONTH(I$1,-1)-$C61,0))-(MAX(I$1-$D61,0)-MAX(EOMONTH(I$1,-1)-$D61,0))+(EOMONTH(I$1,0)=EOMONTH($C61,0)))/DAY(EOMONTH(I$1,0)) -> #VALUE! | J61: =((MAX(J$1-$C61,0)-MAX(EOMONTH(J$1,-1)-$C61,0))-(MAX(J$1-$D61,0)-MAX(EOMONTH(J$1,-1)-$D61,0))+(EOMONTH(J$1,0)=EOMONTH($C61,0)))/DAY(EOMONTH(J$1,0)) -> #VALUE! | K61: =((MAX(K$1-$C61,0)-MAX(EOMONTH(K$1,-1)-$C61,0))-(MAX(K$1-$D61,0)-MAX(EOMONTH(K$1,-1)-$D61,0))+(EOMONTH(K$1,0)=EOMONTH($C61,0)))/DAY(EOMONTH(K$1,0)) -> #VALUE! | L61: =((MAX(L$1-$C61,0)-MAX(EOMONTH(L$1,-1)-$C61,0))-(MAX(L$1-$D61,0)-MAX(EOMONTH(L$1,-1)-$D61,0))+(EOMONTH(L$1,0)=EOMONTH($C61,0)))/DAY(EOMONTH(L$1,0)) -> #VALUE! | ... P61: =((MAX(P$1-$C61,0)-MAX(EOMONTH(P$1,-1)-$C61,0))-(MAX(P$1-$D61,0)-MAX(EOMONTH(P$1,-1)-$D61,0))+(EOMONTH(P$1,0)=EOMONTH($C61,0)))/DAY(EOMONTH(P$1,0)) -> #VALUE!
B62: Elisabeth | C62: 43577 | D62: 43764 | E62: =((MAX(E$1-$C62,0)-MAX(EOMONTH(E$1,-1)-$C62,0))-(MAX(E$1-$D62,0)-MAX(EOMONTH(E$1,-1)-$D62,0))+(EOMONTH(E$1,0)=EOMONTH($C62,0)))/DAY(EOMONTH(E$1,0)) -> 0 | F62: =((MAX(F$1-$C62,0)-MAX(EOMONTH(F$1,-1)-$C62,0))-(MAX(F$1-$D62,0)-MAX(EOMONTH(F$1,-1)-$D62,0))+(EOMONTH(F$1,0)=EOMONTH($C62,0)))/DAY(EOMONTH(F$1,0)) -> 0 | G62: =((MAX(G$1-$C62,0)-MAX(EOMONTH(G$1,-1)-$C62,0))-(MAX(G$1-$D62,0)-MAX(EOMONTH(G$1,-1)-$D62,0))+(EOMONTH(G$1,0)=EOMONTH($C62,0)))/DAY(EOMONTH(G$1,0)) -> 0 | H62: =((MAX(H$1-$C62,0)-MAX(EOMONTH(H$1,-1)-$C62,0))-(MAX(H$1-$D62,0)-MAX(EOMONTH(H$1,-1)-$D62,0))+(EOMONTH(H$1,0)=EOMONTH($C62,0)))/DAY(EOMONTH(H$1,0)) -> 0.3 | I62: =((MAX(I$1-$C62,0)-MAX(EOMONTH(I$1,-1)-$C62,0))-(MAX(I$1-$D62,0)-MAX(EOMONTH(I$1,-1)-$D62,0))+(EOMONTH(I$1,0)=EOMONTH($C62,0)))/DAY(EOMONTH(I$1,0)) -> 1 | J62: =((MAX(J$1-$C62,0)-MAX(EOMONTH(J$1,-1)-$C62,0))-(MAX(J$1-$D62,0)-MAX(EOMONTH(J$1,-1)-$D62,0))+(EOMONTH(J$1,0)=EOMONTH($C62,0)))/DAY(EOMONTH(J$1,0)) -> 1 | K62: =((MAX(K$1-$C62,0)-MAX(EOMONTH(K$1,-1)-$C62,0))-(MAX(K$1-$D62,0)-MAX(EOMONTH(K$1,-1)-$D62,0))+(EOMONTH(K$1,0)=EOMONTH($C62,0)))/DAY(EOMONTH(K$1,0)) -> 1 | L62: =((MAX(L$1-$C62,0)-MAX(EOMONTH(L$1,-1)-$C62,0))-(MAX(L$1-$D62,0)-MAX(EOMONTH(L$1,-1)-$D62,0))+(EOMONTH(L$1,0)=EOMONTH($C62,0)))/DAY(EOMONTH(L$1,0)) -> 1 | ... P62: =((MAX(P$1-$C62,0)-MAX(EOMONTH(P$1,-1)-$C62,0))-(MAX(P$1-$D62,0)-MAX(EOMONTH(P$1,-1)-$D62,0))+(EOMONTH(P$1,0)=EOMONTH($C62,0)))/DAY(EOMONTH(P$1,0)) -> 0
B63: Roxanne | C63: 43577 | D63: 43757 | E63: =((MAX(E$1-$C63,0)-MAX(EOMONTH(E$1,-1)-$C63,0))-(MAX(E$1-$D63,0)-MAX(EOMONTH(E$1,-1)-$D63,0))+(EOMONTH(E$1,0)=EOMONTH($C63,0)))/DAY(EOMONTH(E$1,0)) -> 0 | F63: =((MAX(F$1-$C63,0)-MAX(EOMONTH(F$1,-1)-$C63,0))-(MAX(F$1-$D63,0)-MAX(EOMONTH(F$1,-1)-$D63,0))+(EOMONTH(F$1,0)=EOMONTH($C63,0)))/DAY(EOMONTH(F$1,0)) -> 0 | G63: =((MAX(G$1-$C63,0)-MAX(EOMONTH(G$1,-1)-$C63,0))-(MAX(G$1-$D63,0)-MAX(EOMONTH(G$1,-1)-$D63,0))+(EOMONTH(G$1,0)=EOMONTH($C63,0)))/DAY(EOMONTH(G$1,0)) -> 0 | H63: =((MAX(H$1-$C63,0)-MAX(EOMONTH(H$1,-1)-$C63,0))-(MAX(H$1-$D63,0)-MAX(EOMONTH(H$1,-1)-$D63,0))+(EOMONTH(H$1,0)=EOMONTH($C63,0)))/DAY(EOMONTH(H$1,0)) -> 0.3 | I63: =((MAX(I$1-$C63,0)-MAX(EOMONTH(I$1,-1)-$C63,0))-(MAX(I$1-$D63,0)-MAX(EOMONTH(I$1,-1)-$D63,0))+(EOMONTH(I$1,0)=EOMONTH($C63,0)))/DAY(EOMONTH(I$1,0)) -> 1 | J63: =((MAX(J$1-$C63,0)-MAX(EOMONTH(J$1,-1)-$C63,0))-(MAX(J$1-$D63,0)-MAX(EOMONTH(J$1,-1)-$D63,0))+(EOMONTH(J$1,0)=EOMONTH($C63,0)))/DAY(EOMONTH(J$1,0)) -> 1 | K63: =((MAX(K$1-$C63,0)-MAX(EOMONTH(K$1,-1)-$C63,0))-(MAX(K$1-$D63,0)-MAX(EOMONTH(K$1,-1)-$D63,0))+(EOMONTH(K$1,0)=EOMONTH($C63,0)))/DAY(EOMONTH(K$1,0)) -> 1 | L63: =((MAX(L$1-$C63,0)-MAX(EOMONTH(L$1,-1)-$C63,0))-(MAX(L$1-$D63,0)-MAX(EOMONTH(L$1,-1)-$D63,0))+(EOMONTH(L$1,0)=EOMONTH($C63,0)))/DAY(EOMONTH(L$1,0)) -> 1 | ... P63: =((MAX(P$1-$C63,0)-MAX(EOMONTH(P$1,-1)-$C63,0))-(MAX(P$1-$D63,0)-MAX(EOMONTH(P$1,-1)-$D63,0))+(EOMONTH(P$1,0)=EOMONTH($C63,0)))/DAY(EOMONTH(P$1,0)) -> 0
B64: Nathalie | C64: 43584 | D64: 43778 | E64: =((MAX(E$1-$C64,0)-MAX(EOMONTH(E$1,-1)-$C64,0))-(MAX(E$1-$D64,0)-MAX(EOMONTH(E$1,-1)-$D64,0))+(EOMONTH(E$1,0)=EOMONTH($C64,0)))/DAY(EOMONTH(E$1,0)) -> 0 | F64: =((MAX(F$1-$C64,0)-MAX(EOMONTH(F$1,-1)-$C64,0))-(MAX(F$1-$D64,0)-MAX(EOMONTH(F$1,-1)-$D64,0))+(EOMONTH(F$1,0)=EOMONTH($C64,0)))/DAY(EOMONTH(F$1,0)) -> 0 | G64: =((MAX(G$1-$C64,0)-MAX(EOMONTH(G$1,-1)-$C64,0))-(MAX(G$1-$D64,0)-MAX(EOMONTH(G$1,-1)-$D64,0))+(EOMONTH(G$1,0)=EOMONTH($C64,0)))/DAY(EOMONTH(G$1,0)) -> 0 | H64: =((MAX(H$1-$C64,0)-MAX(EOMONTH(H$1,-1)-$C64,0))-(MAX(H$1-$D64,0)-MAX(EOMONTH(H$1,-1)-$D64,0))+(EOMONTH(H$1,0)=EOMONTH($C64,0)))/DAY(EOMONTH(H$1,0)) -> 0.066666667 | I64: =((MAX(I$1-$C64,0)-MAX(EOMONTH(I$1,-1)-$C64,0))-(MAX(I$1-$D64,0)-MAX(EOMONTH(I$1,-1)-$D64,0))+(EOMONTH(I$1,0)=EOMONTH($C64,0)))/DAY(EOMONTH(I$1,0)) -> 1 | J64: =((MAX(J$1-$C64,0)-MAX(EOMONTH(J$1,-1)-$C64,0))-(MAX(J$1-$D64,0)-MAX(EOMONTH(J$1,-1)-$D64,0))+(EOMONTH(J$1,0)=EOMONTH($C64,0)))/DAY(EOMONTH(J$1,0)) -> 1 | K64: =((MAX(K$1-$C64,0)-MAX(EOMONTH(K$1,-1)-$C64,0))-(MAX(K$1-$D64,0)-MAX(EOMONTH(K$1,-1)-$D64,0))+(EOMONTH(K$1,0)=EOMONTH($C64,0)))/DAY(EOMONTH(K$1,0)) -> 1 | L64: =((MAX(L$1-$C64,0)-MAX(EOMONTH(L$1,-1)-$C64,0))-(MAX(L$1-$D64,0)-MAX(EOMONTH(L$1,-1)-$D64,0))+(EOMONTH(L$1,0)=EOMONTH($C64,0)))/DAY(EOMONTH(L$1,0)) -> 1 | ... P64: =((MAX(P$1-$C64,0)-MAX(EOMONTH(P$1,-1)-$C64,0))-(MAX(P$1-$D64,0)-MAX(EOMONTH(P$1,-1)-$D64,0))+(EOMONTH(P$1,0)=EOMONTH($C64,0)))/DAY(EOMONTH(P$1,0)) -> 0
B65: Carlos David | C65: 43584 | D65: 43764 | E65: =((MAX(E$1-$C65,0)-MAX(EOMONTH(E$1,-1)-$C65,0))-(MAX(E$1-$D65,0)-MAX(EOMONTH(E$1,-1)-$D65,0))+(EOMONTH(E$1,0)=EOMONTH($C65,0)))/DAY(EOMONTH(E$1,0)) -> 0 | F65: =((MAX(F$1-$C65,0)-MAX(EOMONTH(F$1,-1)-$C65,0))-(MAX(F$1-$D65,0)-MAX(EOMONTH(F$1,-1)-$D65,0))+(EOMONTH(F$1,0)=EOMONTH($C65,0)))/DAY(EOMONTH(F$1,0)) -> 0 | G65: =((MAX(G$1-$C65,0)-MAX(EOMONTH(G$1,-1)-$C65,0))-(MAX(G$1-$D65,0)-MAX(EOMONTH(G$1,-1)-$D65,0))+(EOMONTH(G$1,0)=EOMONTH($C65,0)))/DAY(EOMONTH(G$1,0)) -> 0 | H65: =((MAX(H$1-$C65,0)-MAX(EOMONTH(H$1,-1)-$C65,0))-(MAX(H$1-$D65,0)-MAX(EOMONTH(H$1,-1)-$D65,0))+(EOMONTH(H$1,0)=EOMONTH($C65,0)))/DAY(EOMONTH(H$1,0)) -> 0.066666667 | I65: =((MAX(I$1-$C65,0)-MAX(EOMONTH(I$1,-1)-$C65,0))-(MAX(I$1-$D65,0)-MAX(EOMONTH(I$1,-1)-$D65,0))+(EOMONTH(I$1,0)=EOMONTH($C65,0)))/DAY(EOMONTH(I$1,0)) -> 1 | J65: =((MAX(J$1-$C65,0)-MAX(EOMONTH(J$1,-1)-$C65,0))-(MAX(J$1-$D65,0)-MAX(EOMONTH(J$1,-1)-$D65,0))+(EOMONTH(J$1,0)=EOMONTH($C65,0)))/DAY(EOMONTH(J$1,0)) -> 1 | K65: =((MAX(K$1-$C65,0)-MAX(EOMONTH(K$1,-1)-$C65,0))-(MAX(K$1-$D65,0)-MAX(EOMONTH(K$1,-1)-$D65,0))+(EOMONTH(K$1,0)=EOMONTH($C65,0)))/DAY(EOMONTH(K$1,0)) -> 1 | L65: =((MAX(L$1-$C65,0)-MAX(EOMONTH(L$1,-1)-$C65,0))-(MAX(L$1-$D65,0)-MAX(EOMONTH(L$1,-1)-$D65,0))+(EOMONTH(L$1,0)=EOMONTH($C65,0)))/DAY(EOMONTH(L$1,0)) -> 1 | ... P65: =((MAX(P$1-$C65,0)-MAX(EOMONTH(P$1,-1)-$C65,0))-(MAX(P$1-$D65,0)-MAX(EOMONTH(P$1,-1)-$D65,0))+(EOMONTH(P$1,0)=EOMONTH($C65,0)))/DAY(EOMONTH(P$1,0)) -> 0
B66: Christophe | C66: 43584 | D66: 43764 | E66: =((MAX(E$1-$C66,0)-MAX(EOMONTH(E$1,-1)-$C66,0))-(MAX(E$1-$D66,0)-MAX(EOMONTH(E$1,-1)-$D66,0))+(EOMONTH(E$1,0)=EOMONTH($C66,0)))/DAY(EOMONTH(E$1,0)) -> 0 | F66: =((MAX(F$1-$C66,0)-MAX(EOMONTH(F$1,-1)-$C66,0))-(MAX(F$1-$D66,0)-MAX(EOMONTH(F$1,-1)-$D66,0))+(EOMONTH(F$1,0)=EOMONTH($C66,0)))/DAY(EOMONTH(F$1,0)) -> 0 | G66: =((MAX(G$1-$C66,0)-MAX(EOMONTH(G$1,-1)-$C66,0))-(MAX(G$1-$D66,0)-MAX(EOMONTH(G$1,-1)-$D66,0))+(EOMONTH(G$1,0)=EOMONTH($C66,0)))/DAY(EOMONTH(G$1,0)) -> 0 | H66: =((MAX(H$1-$C66,0)-MAX(EOMONTH(H$1,-1)-$C66,0))-(MAX(H$1-$D66,0)-MAX(EOMONTH(H$1,-1)-$D66,0))+(EOMONTH(H$1,0)=EOMONTH($C66,0)))/DAY(EOMONTH(H$1,0)) -> 0.066666667 | I66: =((MAX(I$1-$C66,0)-MAX(EOMONTH(I$1,-1)-$C66,0))-(MAX(I$1-$D66,0)-MAX(EOMONTH(I$1,-1)-$D66,0))+(EOMONTH(I$1,0)=EOMONTH($C66,0)))/DAY(EOMONTH(I$1,0)) -> 1 | J66: =((MAX(J$1-$C66,0)-MAX(EOMONTH(J$1,-1)-$C66,0))-(MAX(J$1-$D66,0)-MAX(EOMONTH(J$1,-1)-$D66,0))+(EOMONTH(J$1,0)=EOMONTH($C66,0)))/DAY(EOMONTH(J$1,0)) -> 1 | K66: =((MAX(K$1-$C66,0)-MAX(EOMONTH(K$1,-1)-$C66,0))-(MAX(K$1-$D66,0)-MAX(EOMONTH(K$1,-1)-$D66,0))+(EOMONTH(K$1,0)=EOMONTH($C66,0)))/DAY(EOMONTH(K$1,0)) -> 1 | L66: =((MAX(L$1-$C66,0)-MAX(EOMONTH(L$1,-1)-$C66,0))-(MAX(L$1-$D66,0)-MAX(EOMONTH(L$1,-1)-$D66,0))+(EOMONTH(L$1,0)=EOMONTH($C66,0)))/DAY(EOMONTH(L$1,0)) -> 1 | ... P66: =((MAX(P$1-$C66,0)-MAX(EOMONTH(P$1,-1)-$C66,0))-(MAX(P$1-$D66,0)-MAX(EOMONTH(P$1,-1)-$D66,0))+(EOMONTH(P$1,0)=EOMONTH($C66,0)))/DAY(EOMONTH(P$1,0)) -> 0
B67: Sophie | C67: 43584 | D67: 43764 | E67: =((MAX(E$1-$C67,0)-MAX(EOMONTH(E$1,-1)-$C67,0))-(MAX(E$1-$D67,0)-MAX(EOMONTH(E$1,-1)-$D67,0))+(EOMONTH(E$1,0)=EOMONTH($C67,0)))/DAY(EOMONTH(E$1,0)) -> 0 | F67: =((MAX(F$1-$C67,0)-MAX(EOMONTH(F$1,-1)-$C67,0))-(MAX(F$1-$D67,0)-MAX(EOMONTH(F$1,-1)-$D67,0))+(EOMONTH(F$1,0)=EOMONTH($C67,0)))/DAY(EOMONTH(F$1,0)) -> 0 | G67: =((MAX(G$1-$C67,0)-MAX(EOMONTH(G$1,-1)-$C67,0))-(MAX(G$1-$D67,0)-MAX(EOMONTH(G$1,-1)-$D67,0))+(EOMONTH(G$1,0)=EOMONTH($C67,0)))/DAY(EOMONTH(G$1,0)) -> 0 | H67: =((MAX(H$1-$C67,0)-MAX(EOMONTH(H$1,-1)-$C67,0))-(MAX(H$1-$D67,0)-MAX(EOMONTH(H$1,-1)-$D67,0))+(EOMONTH(H$1,0)=EOMONTH($C67,0)))/DAY(EOMONTH(H$1,0)) -> 0.066666667 | I67: =((MAX(I$1-$C67,0)-MAX(EOMONTH(I$1,-1)-$C67,0))-(MAX(I$1-$D67,0)-MAX(EOMONTH(I$1,-1)-$D67,0))+(EOMONTH(I$1,0)=EOMONTH($C67,0)))/DAY(EOMONTH(I$1,0)) -> 1 | J67: =((MAX(J$1-$C67,0)-MAX(EOMONTH(J$1,-1)-$C67,0))-(MAX(J$1-$D67,0)-MAX(EOMONTH(J$1,-1)-$D67,0))+(EOMONTH(J$1,0)=EOMONTH($C67,0)))/DAY(EOMONTH(J$1,0)) -> 1 | K67: =((MAX(K$1-$C67,0)-MAX(EOMONTH(K$1,-1)-$C67,0))-(MAX(K$1-$D67,0)-MAX(EOMONTH(K$1,-1)-$D67,0))+(EOMONTH(K$1,0)=EOMONTH($C67,0)))/DAY(EOMONTH(K$1,0)) -> 1 | L67: =((MAX(L$1-$C67,0)-MAX(EOMONTH(L$1,-1)-$C67,0))-(MAX(L$1-$D67,0)-MAX(EOMONTH(L$1,-1)-$D67,0))+(EOMONTH(L$1,0)=EOMONTH($C67,0)))/DAY(EOMONTH(L$1,0)) -> 1 | ... P67: =((MAX(P$1-$C67,0)-MAX(EOMONTH(P$1,-1)-$C67,0))-(MAX(P$1-$D67,0)-MAX(EOMONTH(P$1,-1)-$D67,0))+(EOMONTH(P$1,0)=EOMONTH($C67,0)))/DAY(EOMONTH(P$1,0)) -> 0
B68: Sébastien | C68: 43584 | D68: 43589 | E68: =((MAX(E$1-$C68,0)-MAX(EOMONTH(E$1,-1)-$C68,0))-(MAX(E$1-$D68,0)-MAX(EOMONTH(E$1,-1)-$D68,0))+(EOMONTH(E$1,0)=EOMONTH($C68,0)))/DAY(EOMONTH(E$1,0)) -> 0 | F68: =((MAX(F$1-$C68,0)-MAX(EOMONTH(F$1,-1)-$C68,0))-(MAX(F$1-$D68,0)-MAX(EOMONTH(F$1,-1)-$D68,0))+(EOMONTH(F$1,0)=EOMONTH($C68,0)))/DAY(EOMONTH(F$1,0)) -> 0 | G68: =((MAX(G$1-$C68,0)-MAX(EOMONTH(G$1,-1)-$C68,0))-(MAX(G$1-$D68,0)-MAX(EOMONTH(G$1,-1)-$D68,0))+(EOMONTH(G$1,0)=EOMONTH($C68,0)))/DAY(EOMONTH(G$1,0)) -> 0 | H68: =((MAX(H$1-$C68,0)-MAX(EOMONTH(H$1,-1)-$C68,0))-(MAX(H$1-$D68,0)-MAX(EOMONTH(H$1,-1)-$D68,0))+(EOMONTH(H$1,0)=EOMONTH($C68,0)))/DAY(EOMONTH(H$1,0)) -> 0.066666667 | I68: =((MAX(I$1-$C68,0)-MAX(EOMONTH(I$1,-1)-$C68,0))-(MAX(I$1-$D68,0)-MAX(EOMONTH(I$1,-1)-$D68,0))+(EOMONTH(I$1,0)=EOMONTH($C68,0)))/DAY(EOMONTH(I$1,0)) -> 0.12903226 | J68: =((MAX(J$1-$C68,0)-MAX(EOMONTH(J$1,-1)-$C68,0))-(MAX(J$1-$D68,0)-MAX(EOMONTH(J$1,-1)-$D68,0))+(EOMONTH(J$1,0)=EOMONTH($C68,0)))/DAY(EOMONTH(J$1,0)) -> 0 | K68: =((MAX(K$1-$C68,0)-MAX(EOMONTH(K$1,-1)-$C68,0))-(MAX(K$1-$D68,0)-MAX(EOMONTH(K$1,-1)-$D68,0))+(EOMONTH(K$1,0)=EOMONTH($C68,0)))/DAY(EOMONTH(K$1,0)) -> 0 | L68: =((MAX(L$1-$C68,0)-MAX(EOMONTH(L$1,-1)-$C68,0))-(MAX(L$1-$D68,0)-MAX(EOMONTH(L$1,-1)-$D68,0))+(EOMONTH(L$1,0)=EOMONTH($C68,0)))/DAY(EOMONTH(L$1,0)) -> 0 | ... P68: =((MAX(P$1-$C68,0)-MAX(EOMONTH(P$1,-1)-$C68,0))-(MAX(P$1-$D68,0)-MAX(EOMONTH(P$1,-1)-$D68,0))+(EOMONTH(P$1,0)=EOMONTH($C68,0)))/DAY(EOMONTH(P$1,0)) -> 0
B69: Marion | C69: 43584 | D69: 43771 | E69: =((MAX(E$1-$C69,0)-MAX(EOMONTH(E$1,-1)-$C69,0))-(MAX(E$1-$D69,0)-MAX(EOMONTH(E$1,-1)-$D69,0))+(EOMONTH(E$1,0)=EOMONTH($C69,0)))/DAY(EOMONTH(E$1,0)) -> 0 | F69: =((MAX(F$1-$C69,0)-MAX(EOMONTH(F$1,-1)-$C69,0))-(MAX(F$1-$D69,0)-MAX(EOMONTH(F$1,-1)-$D69,0))+(EOMONTH(F$1,0)=EOMONTH($C69,0)))/DAY(EOMONTH(F$1,0)) -> 0 | G69: =((MAX(G$1-$C69,0)-MAX(EOMONTH(G$1,-1)-$C69,0))-(MAX(G$1-$D69,0)-MAX(EOMONTH(G$1,-1)-$D69,0))+(EOMONTH(G$1,0)=EOMONTH($C69,0)))/DAY(EOMONTH(G$1,0)) -> 0 | H69: =((MAX(H$1-$C69,0)-MAX(EOMONTH(H$1,-1)-$C69,0))-(MAX(H$1-$D69,0)-MAX(EOMONTH(H$1,-1)-$D69,0))+(EOMONTH(H$1,0)=EOMONTH($C69,0)))/DAY(EOMONTH(H$1,0)) -> 0.066666667 | I69: =((MAX(I$1-$C69,0)-MAX(EOMONTH(I$1,-1)-$C69,0))-(MAX(I$1-$D69,0)-MAX(EOMONTH(I$1,-1)-$D69,0))+(EOMONTH(I$1,0)=EOMONTH($C69,0)))/DAY(EOMONTH(I$1,0)) -> 1 | J69: =((MAX(J$1-$C69,0)-MAX(EOMONTH(J$1,-1)-$C69,0))-(MAX(J$1-$D69,0)-MAX(EOMONTH(J$1,-1)-$D69,0))+(EOMONTH(J$1,0)=EOMONTH($C69,0)))/DAY(EOMONTH(J$1,0)) -> 1 | K69: =((MAX(K$1-$C69,0)-MAX(EOMONTH(K$1,-1)-$C69,0))-(MAX(K$1-$D69,0)-MAX(EOMONTH(K$1,-1)-$D69,0))+(EOMONTH(K$1,0)=EOMONTH($C69,0)))/DAY(EOMONTH(K$1,0)) -> 1 | L69: =((MAX(L$1-$C69,0)-MAX(EOMONTH(L$1,-1)-$C69,0))-(MAX(L$1-$D69,0)-MAX(EOMONTH(L$1,-1)-$D69,0))+(EOMONTH(L$1,0)=EOMONTH($C69,0)))/DAY(EOMONTH(L$1,0)) -> 1 | ... P69: =((MAX(P$1-$C69,0)-MAX(EOMONTH(P$1,-1)-$C69,0))-(MAX(P$1-$D69,0)-MAX(EOMONTH(P$1,-1)-$D69,0))+(EOMONTH(P$1,0)=EOMONTH($C69,0)))/DAY(EOMONTH(P$1,0)) -> 0
B70: Manon | C70: 43584 | D70: 43764 | E70: =((MAX(E$1-$C70,0)-MAX(EOMONTH(E$1,-1)-$C70,0))-(MAX(E$1-$D70,0)-MAX(EOMONTH(E$1,-1)-$D70,0))+(EOMONTH(E$1,0)=EOMONTH($C70,0)))/DAY(EOMONTH(E$1,0)) -> 0 | F70: =((MAX(F$1-$C70,0)-MAX(EOMONTH(F$1,-1)-$C70,0))-(MAX(F$1-$D70,0)-MAX(EOMONTH(F$1,-1)-$D70,0))+(EOMONTH(F$1,0)=EOMONTH($C70,0)))/DAY(EOMONTH(F$1,0)) -> 0 | G70: =((MAX(G$1-$C70,0)-MAX(EOMONTH(G$1,-1)-$C70,0))-(MAX(G$1-$D70,0)-MAX(EOMONTH(G$1,-1)-$D70,0))+(EOMONTH(G$1,0)=EOMONTH($C70,0)))/DAY(EOMONTH(G$1,0)) -> 0 | H70: =((MAX(H$1-$C70,0)-MAX(EOMONTH(H$1,-1)-$C70,0))-(MAX(H$1-$D70,0)-MAX(EOMONTH(H$1,-1)-$D70,0))+(EOMONTH(H$1,0)=EOMONTH($C70,0)))/DAY(EOMONTH(H$1,0)) -> 0.066666667 | I70: =((MAX(I$1-$C70,0)-MAX(EOMONTH(I$1,-1)-$C70,0))-(MAX(I$1-$D70,0)-MAX(EOMONTH(I$1,-1)-$D70,0))+(EOMONTH(I$1,0)=EOMONTH($C70,0)))/DAY(EOMONTH(I$1,0)) -> 1 | J70: =((MAX(J$1-$C70,0)-MAX(EOMONTH(J$1,-1)-$C70,0))-(MAX(J$1-$D70,0)-MAX(EOMONTH(J$1,-1)-$D70,0))+(EOMONTH(J$1,0)=EOMONTH($C70,0)))/DAY(EOMONTH(J$1,0)) -> 1 | K70: =((MAX(K$1-$C70,0)-MAX(EOMONTH(K$1,-1)-$C70,0))-(MAX(K$1-$D70,0)-MAX(EOMONTH(K$1,-1)-$D70,0))+(EOMONTH(K$1,0)=EOMONTH($C70,0)))/DAY(EOMONTH(K$1,0)) -> 1 | L70: =((MAX(L$1-$C70,0)-MAX(EOMONTH(L$1,-1)-$C70,0))-(MAX(L$1-$D70,0)-MAX(EOMONTH(L$1,-1)-$D70,0))+(EOMONTH(L$1,0)=EOMONTH($C70,0)))/DAY(EOMONTH(L$1,0)) -> 1 | ... P70: =((MAX(P$1-$C70,0)-MAX(EOMONTH(P$1,-1)-$C70,0))-(MAX(P$1-$D70,0)-MAX(EOMONTH(P$1,-1)-$D70,0))+(EOMONTH(P$1,0)=EOMONTH($C70,0)))/DAY(EOMONTH(P$1,0)) -> 0
B71: Borja | C71: 43584 | D71: 43778 | E71: =((MAX(E$1-$C71,0)-MAX(EOMONTH(E$1,-1)-$C71,0))-(MAX(E$1-$D71,0)-MAX(EOMONTH(E$1,-1)-$D71,0))+(EOMONTH(E$1,0)=EOMONTH($C71,0)))/DAY(EOMONTH(E$1,0)) -> 0 | F71: =((MAX(F$1-$C71,0)-MAX(EOMONTH(F$1,-1)-$C71,0))-(MAX(F$1-$D71,0)-MAX(EOMONTH(F$1,-1)-$D71,0))+(EOMONTH(F$1,0)=EOMONTH($C71,0)))/DAY(EOMONTH(F$1,0)) -> 0 | G71: =((MAX(G$1-$C71,0)-MAX(EOMONTH(G$1,-1)-$C71,0))-(MAX(G$1-$D71,0)-MAX(EOMONTH(G$1,-1)-$D71,0))+(EOMONTH(G$1,0)=EOMONTH($C71,0)))/DAY(EOMONTH(G$1,0)) -> 0 | H71: =((MAX(H$1-$C71,0)-MAX(EOMONTH(H$1,-1)-$C71,0))-(MAX(H$1-$D71,0)-MAX(EOMONTH(H$1,-1)-$D71,0))+(EOMONTH(H$1,0)=EOMONTH($C71,0)))/DAY(EOMONTH(H$1,0)) -> 0.066666667 | I71: =((MAX(I$1-$C71,0)-MAX(EOMONTH(I$1,-1)-$C71,0))-(MAX(I$1-$D71,0)-MAX(EOMONTH(I$1,-1)-$D71,0))+(EOMONTH(I$1,0)=EOMONTH($C71,0)))/DAY(EOMONTH(I$1,0)) -> 1 | J71: =((MAX(J$1-$C71,0)-MAX(EOMONTH(J$1,-1)-$C71,0))-(MAX(J$1-$D71,0)-MAX(EOMONTH(J$1,-1)-$D71,0))+(EOMONTH(J$1,0)=EOMONTH($C71,0)))/DAY(EOMONTH(J$1,0)) -> 1 | K71: =((MAX(K$1-$C71,0)-MAX(EOMONTH(K$1,-1)-$C71,0))-(MAX(K$1-$D71,0)-MAX(EOMONTH(K$1,-1)-$D71,0))+(EOMONTH(K$1,0)=EOMONTH($C71,0)))/DAY(EOMONTH(K$1,0)) -> 1 | L71: =((MAX(L$1-$C71,0)-MAX(EOMONTH(L$1,-1)-$C71,0))-(MAX(L$1-$D71,0)-MAX(EOMONTH(L$1,-1)-$D71,0))+(EOMONTH(L$1,0)=EOMONTH($C71,0)))/DAY(EOMONTH(L$1,0)) -> 1 | ... P71: =((MAX(P$1-$C71,0)-MAX(EOMONTH(P$1,-1)-$C71,0))-(MAX(P$1-$D71,0)-MAX(EOMONTH(P$1,-1)-$D71,0))+(EOMONTH(P$1,0)=EOMONTH($C71,0)))/DAY(EOMONTH(P$1,0)) -> 0
B72: Marie-Pierre | C72: 43584 | D72: 43764 | E72: =((MAX(E$1-$C72,0)-MAX(EOMONTH(E$1,-1)-$C72,0))-(MAX(E$1-$D72,0)-MAX(EOMONTH(E$1,-1)-$D72,0))+(EOMONTH(E$1,0)=EOMONTH($C72,0)))/DAY(EOMONTH(E$1,0)) -> 0 | F72: =((MAX(F$1-$C72,0)-MAX(EOMONTH(F$1,-1)-$C72,0))-(MAX(F$1-$D72,0)-MAX(EOMONTH(F$1,-1)-$D72,0))+(EOMONTH(F$1,0)=EOMONTH($C72,0)))/DAY(EOMONTH(F$1,0)) -> 0 | G72: =((MAX(G$1-$C72,0)-MAX(EOMONTH(G$1,-1)-$C72,0))-(MAX(G$1-$D72,0)-MAX(EOMONTH(G$1,-1)-$D72,0))+(EOMONTH(G$1,0)=EOMONTH($C72,0)))/DAY(EOMONTH(G$1,0)) -> 0 | H72: =((MAX(H$1-$C72,0)-MAX(EOMONTH(H$1,-1)-$C72,0))-(MAX(H$1-$D72,0)-MAX(EOMONTH(H$1,-1)-$D72,0))+(EOMONTH(H$1,0)=EOMONTH($C72,0)))/DAY(EOMONTH(H$1,0)) -> 0.066666667 | I72: =((MAX(I$1-$C72,0)-MAX(EOMONTH(I$1,-1)-$C72,0))-(MAX(I$1-$D72,0)-MAX(EOMONTH(I$1,-1)-$D72,0))+(EOMONTH(I$1,0)=EOMONTH($C72,0)))/DAY(EOMONTH(I$1,0)) -> 1 | J72: =((MAX(J$1-$C72,0)-MAX(EOMONTH(J$1,-1)-$C72,0))-(MAX(J$1-$D72,0)-MAX(EOMONTH(J$1,-1)-$D72,0))+(EOMONTH(J$1,0)=EOMONTH($C72,0)))/DAY(EOMONTH(J$1,0)) -> 1 | K72: =((MAX(K$1-$C72,0)-MAX(EOMONTH(K$1,-1)-$C72,0))-(MAX(K$1-$D72,0)-MAX(EOMONTH(K$1,-1)-$D72,0))+(EOMONTH(K$1,0)=EOMONTH($C72,0)))/DAY(EOMONTH(K$1,0)) -> 1 | L72: =((MAX(L$1-$C72,0)-MAX(EOMONTH(L$1,-1)-$C72,0))-(MAX(L$1-$D72,0)-MAX(EOMONTH(L$1,-1)-$D72,0))+(EOMONTH(L$1,0)=EOMONTH($C72,0)))/DAY(EOMONTH(L$1,0)) -> 1 | ... P72: =((MAX(P$1-$C72,0)-MAX(EOMONTH(P$1,-1)-$C72,0))-(MAX(P$1-$D72,0)-MAX(EOMONTH(P$1,-1)-$D72,0))+(EOMONTH(P$1,0)=EOMONTH($C72,0)))/DAY(EOMONTH(P$1,0)) -> 0
B73: Blandine | C73: 43587 | D73: 43590 | E73: =((MAX(E$1-$C73,0)-MAX(EOMONTH(E$1,-1)-$C73,0))-(MAX(E$1-$D73,0)-MAX(EOMONTH(E$1,-1)-$D73,0))+(EOMONTH(E$1,0)=EOMONTH($C73,0)))/DAY(EOMONTH(E$1,0)) -> 0 | F73: =((MAX(F$1-$C73,0)-MAX(EOMONTH(F$1,-1)-$C73,0))-(MAX(F$1-$D73,0)-MAX(EOMONTH(F$1,-1)-$D73,0))+(EOMONTH(F$1,0)=EOMONTH($C73,0)))/DAY(EOMONTH(F$1,0)) -> 0 | G73: =((MAX(G$1-$C73,0)-MAX(EOMONTH(G$1,-1)-$C73,0))-(MAX(G$1-$D73,0)-MAX(EOMONTH(G$1,-1)-$D73,0))+(EOMONTH(G$1,0)=EOMONTH($C73,0)))/DAY(EOMONTH(G$1,0)) -> 0 | H73: =((MAX(H$1-$C73,0)-MAX(EOMONTH(H$1,-1)-$C73,0))-(MAX(H$1-$D73,0)-MAX(EOMONTH(H$1,-1)-$D73,0))+(EOMONTH(H$1,0)=EOMONTH($C73,0)))/DAY(EOMONTH(H$1,0)) -> 0 | I73: =((MAX(I$1-$C73,0)-MAX(EOMONTH(I$1,-1)-$C73,0))-(MAX(I$1-$D73,0)-MAX(EOMONTH(I$1,-1)-$D73,0))+(EOMONTH(I$1,0)=EOMONTH($C73,0)))/DAY(EOMONTH(I$1,0)) -> 0.12903226 | J73: =((MAX(J$1-$C73,0)-MAX(EOMONTH(J$1,-1)-$C73,0))-(MAX(J$1-$D73,0)-MAX(EOMONTH(J$1,-1)-$D73,0))+(EOMONTH(J$1,0)=EOMONTH($C73,0)))/DAY(EOMONTH(J$1,0)) -> 0 | K73: =((MAX(K$1-$C73,0)-MAX(EOMONTH(K$1,-1)-$C73,0))-(MAX(K$1-$D73,0)-MAX(EOMONTH(K$1,-1)-$D73,0))+(EOMONTH(K$1,0)=EOMONTH($C73,0)))/DAY(EOMONTH(K$1,0)) -> 0 | L73: =((MAX(L$1-$C73,0)-MAX(EOMONTH(L$1,-1)-$C73,0))-(MAX(L$1-$D73,0)-MAX(EOMONTH(L$1,-1)-$D73,0))+(EOMONTH(L$1,0)=EOMONTH($C73,0)))/DAY(EOMONTH(L$1,0)) -> 0 | ... P73: =((MAX(P$1-$C73,0)-MAX(EOMONTH(P$1,-1)-$C73,0))-(MAX(P$1-$D73,0)-MAX(EOMONTH(P$1,-1)-$D73,0))+(EOMONTH(P$1,0)=EOMONTH($C73,0)))/DAY(EOMONTH(P$1,0)) -> 0
... B113: Lucie | C113: 43645 | D113: 43757 | E113: =((MAX(E$1-$C113,0)-MAX(EOMONTH(E$1,-1)-$C113,0))-(MAX(E$1-$D113,0)-MAX(EOMONTH(E$1,-1)-$D113,0))+(EOMONTH(E$1,0)=EOMONTH($C113,0)))/DAY(EOMONTH(E$1,0)) -> 0 | F113: =((MAX(F$1-$C113,0)-MAX(EOMONTH(F$1,-1)-$C113,0))-(MAX(F$1-$D113,0)-MAX(EOMONTH(F$1,-1)-$D113,0))+(EOMONTH(F$1,0)=EOMONTH($C113,0)))/DAY(EOMONTH(F$1,0)) -> 0 | G113: =((MAX(G$1-$C113,0)-MAX(EOMONTH(G$1,-1)-$C113,0))-(MAX(G$1-$D113,0)-MAX(EOMONTH(G$1,-1)-$D113,0))+(EOMONTH(G$1,0)=EOMONTH($C113,0)))/DAY(EOMONTH(G$1,0)) -> 0 | H113: =((MAX(H$1-$C113,0)-MAX(EOMONTH(H$1,-1)-$C113,0))-(MAX(H$1-$D113,0)-MAX(EOMONTH(H$1,-1)-$D113,0))+(EOMONTH(H$1,0)=EOMONTH($C113,0)))/DAY(EOMONTH(H$1,0)) -> 0 | I113: =((MAX(I$1-$C113,0)-MAX(EOMONTH(I$1,-1)-$C113,0))-(MAX(I$1-$D113,0)-MAX(EOMONTH(I$1,-1)-$D113,0))+(EOMONTH(I$1,0)=EOMONTH($C113,0)))/DAY(EOMONTH(I$1,0)) -> 0 | J113: =((MAX(J$1-$C113,0)-MAX(EOMONTH(J$1,-1)-$C113,0))-(MAX(J$1-$D113,0)-MAX(EOMONTH(J$1,-1)-$D113,0))+(EOMONTH(J$1,0)=EOMONTH($C113,0)))/DAY(EOMONTH(J$1,0)) -> 0.066666667 | K113: =((MAX(K$1-$C113,0)-MAX(EOMONTH(K$1,-1)-$C113,0))-(MAX(K$1-$D113,0)-MAX(EOMONTH(K$1,-1)-$D113,0))+(EOMONTH(K$1,0)=EOMONTH($C113,0)))/DAY(EOMONTH(K$1,0)) -> 1 | L113: =((MAX(L$1-$C113,0)-MAX(EOMONTH(L$1,-1)-$C113,0))-(MAX(L$1-$D113,0)-MAX(EOMONTH(L$1,-1)-$D113,0))+(EOMONTH(L$1,0)=EOMONTH($C113,0)))/DAY(EOMONTH(L$1,0)) -> 1 | ... P113: =((MAX(P$1-$C113,0)-MAX(EOMONTH(P$1,-1)-$C113,0))-(MAX(P$1-$D113,0)-MAX(EOMONTH(P$1,-1)-$D113,0))+(EOMONTH(P$1,0)=EOMONTH($C113,0)))/DAY(EOMONTH(P$1,0)) -> 0

Sheet Recap
A1: NOM | B1: PRENOM | C1: DATE ENTREE | D1: DATE SORTIE | E1: =Données!E1 -> 43496 | F1: =EDATE(E1,1) -> 43524 | G1: =EDATE(F1,1) -> 43552 | H1: =EDATE(G1,1) -> 43583 | I1: =EDATE(H1,1) -> 43613 | J1: =EDATE(I1,1) -> 43644 | K1: =EDATE(J1,1) -> 43674 | L1: =EDATE(K1,1) -> 43705 | M1: =EDATE(L1,1) -> 43736 | ... P1: =EDATE(O1,1) -> 43827 | Q1: Total Jours
E2: =SUMPRODUCT((Données!$B$3:$B$21=Recap!$A2)*(Données!E$3:E$21)) -> 0 | F2: =SUMPRODUCT((Données!$B$3:$B$21=Recap!$A2)*(Données!F$3:F$21)) -> 0 | G2: =SUMPRODUCT((Données!$B$3:$B$21=Recap!$A2)*(Données!G$3:G$21)) -> 0 | H2: =SUMPRODUCT((Données!$B$3:$B$21=Recap!$A2)*(Données!H$3:H$21)) -> 0 | I2: =SUMPRODUCT((Données!$B$3:$B$21=Recap!$A2)*(Données!I$3:I$21)) -> 0 | J2: =SUMPRODUCT((Données!$B$3:$B$21=Recap!$A2)*(Données!J$3:J$21)) -> 0 | K2: =SUMPRODUCT((Données!$B$3:$B$21=Recap!$A2)*(Données!K$3:K$21)) -> 0 | L2: =SUMPRODUCT((Données!$B$3:$B$21=Recap!$A2)*(Données!L$3:L$21)) -> 0 | ... P2: =SUMPRODUCT((Données!$B$3:$B$21=Recap!$A2)*(Données!P$3:P$21)) -> 0 | Q2: =SUM(E2:P2) -> 0
B3: Nicolas | E3: =SUMPRODUCT((Données!$B$3:$B$21=Recap!$A3)*(Données!E$3:E$21)) -> 0 | F3: =SUMPRODUCT((Données!$B$3:$B$21=Recap!$A3)*(Données!F$3:F$21)) -> 0 | G3: =SUMPRODUCT((Données!$B$3:$B$21=Recap!$A3)*(Données!G$3:G$21)) -> 0 | H3: =SUMPRODUCT((Données!$B$3:$B$21=Recap!$A3)*(Données!H$3:H$21)) -> 0 | I3: =SUMPRODUCT((Données!$B$3:$B$21=Recap!$A3)*(Données!I$3:I$21)) -> 0 | J3: =SUMPRODUCT((Données!$B$3:$B$21=Recap!$A3)*(Données!J$3:J$21)) -> 0 | K3: =SUMPRODUCT((Données!$B$3:$B$21=Recap!$A3)*(Données!K$3:K$21)) -> 0 | L3: =SUMPRODUCT((Données!$B$3:$B$21=Recap!$A3)*(Données!L$3:L$21)) -> 0 | ... P3: =SUMPRODUCT((Données!$B$3:$B$21=Recap!$A3)*(Données!P$3:P$21)) -> 0 | Q3: =SUM(E3:P3) -> 0
B4: Marie-Paule | E4: =SUMPRODUCT((Données!$B$3:$B$21=Recap!$A4)*(Données!E$3:E$21)) -> 0 | F4: =SUMPRODUCT((Données!$B$3:$B$21=Recap!$A4)*(Données!F$3:F$21)) -> 0 | G4: =SUMPRODUCT((Données!$B$3:$B$21=Recap!$A4)*(Données!G$3:G$21)) -> 0 | H4: =SUMPRODUCT((Données!$B$3:$B$21=Recap!$A4)*(Données!H$3:H$21)) -> 0 | I4: =SUMPRODUCT((Données!$B$3:$B$21=Recap!$A4)*(Données!I$3:I$21)) -> 0 | J4: =SUMPRODUCT((Données!$B$3:$B$21=Recap!$A4)*(Données!J$3:J$21)) -> 0 | K4: =SUMPRODUCT((Données!$B$3:$B$21=Recap!$A4)*(Données!K$3:K$21)) -> 0 | L4: =SUMPRODUCT((Données!$B$3:$B$21=Recap!$A4)*(Données!L$3:L$21)) -> 0 | ... P4: =SUMPRODUCT((Données!$B$3:$B$21=Recap!$A4)*(Données!P$3:P$21)) -> 0 | Q4: =SUM(E4:P4) -> 0
B5: Anaïs | E5: =SUMPRODUCT((Données!$B$3:$B$21=Recap!$A5)*(Données!E$3:E$21)) -> 0 | F5: =SUMPRODUCT((Données!$B$3:$B$21=Recap!$A5)*(Données!F$3:F$21)) -> 0 | G5: =SUMPRODUCT((Données!$B$3:$B$21=Recap!$A5)*(Données!G$3:G$21)) -> 0 | H5: =SUMPRODUCT((Données!$B$3:$B$21=Recap!$A5)*(Données!H$3:H$21)) -> 0 | I5: =SUMPRODUCT((Données!$B$3:$B$21=Recap!$A5)*(Données!I$3:I$21)) -> 0 | J5: =SUMPRODUCT((Données!$B$3:$B$21=Recap!$A5)*(Données!J$3:J$21)) -> 0 | K5: =SUMPRODUCT((Données!$B$3:$B$21=Recap!$A5)*(Données!K$3:K$21)) -> 0 | L5: =SUMPRODUCT((Données!$B$3:$B$21=Recap!$A5)*(Données!L$3:L$21)) -> 0 | ... P5: =SUMPRODUCT((Données!$B$3:$B$21=Recap!$A5)*(Données!P$3:P$21)) -> 0 | Q5: =SUM(E5:P5) -> 0
B6: Sophie | E6: =SUMPRODUCT((Données!$B$3:$B$21=Recap!$A6)*(Données!E$3:E$21)) -> 0 | F6: =SUMPRODUCT((Données!$B$3:$B$21=Recap!$A6)*(Données!F$3:F$21)) -> 0 | G6: =SUMPRODUCT((Données!$B$3:$B$21=Recap!$A6)*(Données!G$3:G$21)) -> 0 | H6: =SUMPRODUCT((Données!$B$3:$B$21=Recap!$A6)*(Données!H$3:H$21)) -> 0 | I6: =SUMPRODUCT((Données!$B$3:$B$21=Recap!$A6)*(Données!I$3:I$21)) -> 0 | J6: =SUMPRODUCT((Données!$B$3:$B$21=Recap!$A6)*(Données!J$3:J$21)) -> 0 | K6: =SUMPRODUCT((Données!$B$3:$B$21=Recap!$A6)*(Données!K$3:K$21)) -> 0 | L6: =SUMPRODUCT((Données!$B$3:$B$21=Recap!$A6)*(Données!L$3:L$21)) -> 0 | ... P6: =SUMPRODUCT((Données!$B$3:$B$21=Recap!$A6)*(Données!P$3:P$21)) -> 0 | Q6: =SUM(E6:P6) -> 0
