Workbook
Name debut: Location!$N$5:$N$2669
Name Debut_Voiture: #REF!
Name fin: Location!$O$5:$O$2669
Name Fin_Voiture: #REF!
Name location: Location!$A5:$A2669

Sheet Planning
B2: Début | D2: =INDEX(Location!$N:$N,MATCH(D4,Location!$A:$A,0)) -> 41988 | E2: =INDEX(Location!$N:$N,MATCH(E4,Location!$A:$A,0)) -> 41990 | F2: =INDEX(Location!$N:$N,MATCH(F4,Location!$A:$A,0)) -> 41989 | G2: =INDEX(Location!$N:$N,MATCH(G4,Location!$A:$A,0)) -> 0
B3: Fin | D3: =INDEX(Location!$O:$O,MATCH(D4,Location!$A:$A,0)) -> 41993 | E3: =INDEX(Location!$O:$O,MATCH(E4,Location!$A:$A,0)) -> 41996 | F3: =INDEX(Location!$O:$O,MATCH(F4,Location!$A:$A,0)) -> 41994 | G3: =INDEX(Location!$O:$O,MATCH(G4,Location!$A:$A,0)) -> 0
D4: Voiture01 | E4: Voiture02 | F4: Voiture03 | G4: Voiture04
A5: 41988 | B5: =TEXT(A5,"jjj") -> lun | C5: =A5 -> 41988
A6: =A5+1 -> 41989 | B6: =TEXT(A6,"jjj") -> mar | C6: =A6 -> 41989 | D6: =IF(D$4=Location!A6,SUMPRODUCT((debut<=Planning!C6)*(fin>=C6)),"")
A7: =A6+1 -> 41990 | B7: =TEXT(A7,"jjj") -> mer | C7: =A7 -> 41990 | D7: =IF(D$4=Location!A7,SUMPRODUCT((debut<=Planning!C7)*(fin>=C7)),"")
A8: =A7+1 -> 41991 | B8: =TEXT(A8,"jjj") -> jeu | C8: =A8 -> 41991 | D8: =IF(D$4=Location!A8,SUMPRODUCT((debut<=Planning!C8)*(fin>=C8)),"")
A9: =A8+1 -> 41992 | B9: =TEXT(A9,"jjj") -> ven | C9: =A9 -> 41992 | D9: =IF(D$4=Location!A9,SUMPRODUCT((debut<=Planning!C9)*(fin>=C9)),"")
A10: =A9+1 -> 41993 | B10: =TEXT(A10,"jjj") -> sam | C10: =A10 -> 41993 | D10: =IF(D$4=Location!A10,SUMPRODUCT((debut<=Planning!C10)*(fin>=C10)),"")
A11: =A10+1 -> 41994 | B11: =TEXT(A11,"jjj") -> dim | C11: =A11 -> 41994 | D11: =IF(D$4=Location!A11,SUMPRODUCT((debut<=Planning!C11)*(fin>=C11)),"")
A12: =A11+1 -> 41995 | B12: =TEXT(A12,"jjj") -> lun | C12: =A12 -> 41995 | D12: =IF(D$4=Location!A12,SUMPRODUCT((debut<=Planning!C12)*(fin>=C12)),"")
A13: =A12+1 -> 41996 | B13: =TEXT(A13,"jjj") -> mar | C13: =A13 -> 41996 | D13: =IF(D$4=Location!A13,SUMPRODUCT((debut<=Planning!C13)*(fin>=C13)),"")
A14: =A13+1 -> 41997 | B14: =TEXT(A14,"jjj") -> mer | C14: =A14 -> 41997 | D14: =IF(D$4=Location!A14,SUMPRODUCT((debut<=Planning!C14)*(fin>=C14)),"")
A15: =A14+1 -> 41998 | B15: =TEXT(A15,"jjj") -> jeu | C15: =A15 -> 41998
A16: =A15+1 -> 41999 | B16: =TEXT(A16,"jjj") -> ven | C16: =A16 -> 41999
A17: =A16+1 -> 42000 | B17: =TEXT(A17,"jjj") -> sam | C17: =A17 -> 42000
A18: =A17+1 -> 42001 | B18: =TEXT(A18,"jjj") -> dim | C18: =A18 -> 42001
A19: =A18+1 -> 42002 | B19: =TEXT(A19,"jjj") -> lun | C19: =A19 -> 42002
A20: =A19+1 -> 42003 | B20: =TEXT(A20,"jjj") -> mar | C20: =A20 -> 42003
A21: =A20+1 -> 42004 | B21: =TEXT(A21,"jjj") -> mer | C21: =A21 -> 42004
A22: =A21+1 -> 42005 | B22: =TEXT(A22,"jjj") -> jeu | C22: =A22 -> 42005
A23: =A22+1 -> 42006 | B23: =TEXT(A23,"jjj") -> ven | C23: =A23 -> 42006
A24: =A23+1 -> 42007 | B24: =TEXT(A24,"jjj") -> sam | C24: =A24 -> 42007
A25: =A24+1 -> 42008 | B25: =TEXT(A25,"jjj") -> dim | C25: =A25 -> 42008
A26: =A25+1 -> 42009 | B26: =TEXT(A26,"jjj") -> lun | C26: =A26 -> 42009
... A2759: =A2758+1 -> 44742 | B2759: =TEXT(A2759,"jjj") -> jeu | C2759: =A2759 -> 44742

Sheet Vehicules
A4: Numéro | B4: Immatriculation | C4: Marque | D4: Modèle | E4: Catégorie | F4: Année | G4: Motorisation | H4: Places | I4: Kilometrage | J4: CarteGrise | K4: Chassis | L4: Assurance
A5: Voiture01 | B5: 123AZE12 | C5: RENAULT | D5: Clio | E5: A | F5: 2000 | G5: ESSENCE | H5: 5
A6: Voiture02 | B6: 123AZE13 | C6: PEUGEOT | D6: 206 | E6: B | F6: 2000 | G6: DIESEL | H6: 5
A7: Voiture03 | B7: 123AZE14 | C7: MERCEDES | D7: Classe C | E7: C | F7: 2001 | G7: DIESEL | H7: 5
A8: Voiture04 | B8: 123AZE15 | C8: FIAT | D8: Panda | E8: D | F8: 2001 | G8: ESSENCE | H8: 5

Sheet Tarifs
B4: Catégories | C4: Formule 1 | D4: Formule 2 | E4: Formule 3 | F4: Formule 4 | G4: Formule 5 | K4: Energie
B5: A | C5: 25 | D5: 26 | E5: 27 | F5: 28 | G5: 29 | K5: Essence
B6: B | C6: =C5+1 -> 26 | D6: =D5+1 -> 27 | E6: =E5+1 -> 28 | F6: =F5+1 -> 29 | G6: =G5+1 -> 30 | K6: Diesel
B7: C | C7: 26 | D7: 27 | E7: 28 | F7: 29 | G7: 30
B8: D | C8: =C7+1 -> 27 | D8: =D7+1 -> 28 | E8: =E7+1 -> 29 | F8: =F7+1 -> 30 | G8: =G7+1 -> 31
B9: E | C9: 27 | D9: 28 | E9: 29 | F9: 30 | G9: 31
B10: F | C10: =C9+1 -> 28 | D10: =D9+1 -> 29 | E10: =E9+1 -> 30 | F10: =F9+1 -> 31 | G10: =G9+1 -> 32
B11: G | C11: 28 | D11: 29 | E11: 30 | F11: 31 | G11: 32

Sheet Location
A4: Numero | B4: Immatriculation | C4: Marque | D4: Modèle | E4: Catégorie | F4: Contrat | G4: Nom | H4: Prénom | I4: Permis | J4: Adresse | K4: CP | L4: Ville | M4: Téléphone | N4: Début | O4: Fin | P4: Durée | Q4: Formule | R4: Cout
A5: Voiture01 | B5: =VLOOKUP(A5,Vehicules!A$4:L$54,2,0) -> 123AZE12 | C5: =VLOOKUP(B5,Vehicules!B$4:M$54,2,0) -> RENAULT | D5: =VLOOKUP(C5,Vehicules!C$4:N$54,2,0) -> Clio | E5: =VLOOKUP(D5,Vehicules!D$4:O$54,2,0) -> A | F5: 12343 | G5: aa01 | H5: ba01 | N5: 41988 | O5: 41993 | P5: =O5-N5 -> 5
A6: Voiture02 | B6: =VLOOKUP(A6,Vehicules!A$4:L$54,2,0) -> 123AZE13 | C6: =VLOOKUP(B6,Vehicules!B$4:M$54,2,0) -> PEUGEOT | D6: =VLOOKUP(C6,Vehicules!C$4:N$54,2,0) -> 206 | E6: =VLOOKUP(D6,Vehicules!D$4:O$54,2,0) -> B | F6: 12344 | G6: aa02 | H6: ba02 | N6: 41990 | O6: 41996 | P6: =O6-N6 -> 6
A7: Voiture03 | B7: =VLOOKUP(A7,Vehicules!A$4:L$54,2,0) -> 123AZE14 | C7: =VLOOKUP(B7,Vehicules!B$4:M$54,2,0) -> MERCEDES | D7: =VLOOKUP(C7,Vehicules!C$4:N$54,2,0) -> Classe C | E7: =VLOOKUP(D7,Vehicules!D$4:O$54,2,0) -> C | F7: 12345 | G7: aa03 | H7: ba03 | N7: 41989 | O7: 41994 | P7: =O7-N7 -> 5
A8: Voiture04 | B8: =VLOOKUP(A8,Vehicules!A$4:L$54,2,0) -> 123AZE15 | C8: =VLOOKUP(B8,Vehicules!B$4:M$54,2,0) -> FIAT | D8: =VLOOKUP(C8,Vehicules!C$4:N$54,2,0) -> Panda | E8: =VLOOKUP(D8,Vehicules!D$4:O$54,2,0) -> D | F8: =F7+1 -> 12346 | G8: aa04 | H8: ba04
