Workbook

Sheet Feuil1
B1: 2010 | N1: 2011 | Z1: 2012 | AL1: 2013 | AX1: 2014 | BJ1: 2015 | BV1: 2016 | CH1: 2017 | CT1: 2018 | DF1: 2019 | DR1: 2020 | ED1: 2021 | EP1: 2022 | FB1: 2023
A2: CAMIONS | B2: =DATE(OFFSET(B1,0,-(MOD(COLUMN()-2,12)+1)+1),(MOD(COLUMN()-2,12)+1),15) -> 40193 | C2: =DATE(OFFSET(C1,0,-(MOD(COLUMN()-2,12)+1)+1),(MOD(COLUMN()-2,12)+1),15) -> 40224 | D2: =DATE(OFFSET(D1,0,-(MOD(COLUMN()-2,12)+1)+1),(MOD(COLUMN()-2,12)+1),15) -> 40252 | E2: =DATE(OFFSET(E1,0,-(MOD(COLUMN()-2,12)+1)+1),(MOD(COLUMN()-2,12)+1),15) -> 40283 | F2: =DATE(OFFSET(F1,0,-(MOD(COLUMN()-2,12)+1)+1),(MOD(COLUMN()-2,12)+1),15) -> 40313 | G2: =DATE(OFFSET(G1,0,-(MOD(COLUMN()-2,12)+1)+1),(MOD(COLUMN()-2,12)+1),15) -> 40344 | H2: =DATE(OFFSET(H1,0,-(MOD(COLUMN()-2,12)+1)+1),(MOD(COLUMN()-2,12)+1),15) -> 40374 | I2: =DATE(OFFSET(I1,0,-(MOD(COLUMN()-2,12)+1)+1),(MOD(COLUMN()-2,12)+1),15) -> 40405 | ... FM2: =DATE(OFFSET(FM1,0,-(MOD(COLUMN()-2,12)+1)+1),(MOD(COLUMN()-2,12)+1),15) -> 45275
A3: CAMION 1 | B3: =IF(AND(B$2>=Feuil2!$B3,Feuil1!B$2<=Feuil2!$D3)=FALSE,"",Feuil2!$E3) | C3: =IF(AND(C$2>=Feuil2!$B3,Feuil1!C$2<=Feuil2!$D3)=FALSE,"",Feuil2!$E3) | D3: =IF(AND(D$2>=Feuil2!$B3,Feuil1!D$2<=Feuil2!$D3)=FALSE,"",Feuil2!$E3) | E3: =IF(AND(E$2>=Feuil2!$B3,Feuil1!E$2<=Feuil2!$D3)=FALSE,"",Feuil2!$E3) | F3: =IF(AND(F$2>=Feuil2!$B3,Feuil1!F$2<=Feuil2!$D3)=FALSE,"",Feuil2!$E3) | G3: =IF(AND(G$2>=Feuil2!$B3,Feuil1!G$2<=Feuil2!$D3)=FALSE,"",Feuil2!$E3) | H3: =IF(AND(H$2>=Feuil2!$B3,Feuil1!H$2<=Feuil2!$D3)=FALSE,"",Feuil2!$E3) | I3: =IF(AND(I$2>=Feuil2!$B3,Feuil1!I$2<=Feuil2!$D3)=FALSE,"",Feuil2!$E3) | ... FM3: =IF(AND(FM$2>=Feuil2!$B3,Feuil1!FM$2<=Feuil2!$D3)=FALSE,"",Feuil2!$E3)
A4: CAMION 2 | B4: =IF(AND(B$2>=Feuil2!$B4,Feuil1!B$2<=Feuil2!$D4)=FALSE,"",Feuil2!$E4) | C4: =IF(AND(C$2>=Feuil2!$B4,Feuil1!C$2<=Feuil2!$D4)=FALSE,"",Feuil2!$E4) | D4: =IF(AND(D$2>=Feuil2!$B4,Feuil1!D$2<=Feuil2!$D4)=FALSE,"",Feuil2!$E4) | E4: =IF(AND(E$2>=Feuil2!$B4,Feuil1!E$2<=Feuil2!$D4)=FALSE,"",Feuil2!$E4) | F4: =IF(AND(F$2>=Feuil2!$B4,Feuil1!F$2<=Feuil2!$D4)=FALSE,"",Feuil2!$E4) | G4: =IF(AND(G$2>=Feuil2!$B4,Feuil1!G$2<=Feuil2!$D4)=FALSE,"",Feuil2!$E4) | H4: =IF(AND(H$2>=Feuil2!$B4,Feuil1!H$2<=Feuil2!$D4)=FALSE,"",Feuil2!$E4) | I4: =IF(AND(I$2>=Feuil2!$B4,Feuil1!I$2<=Feuil2!$D4)=FALSE,"",Feuil2!$E4) | ... FM4: =IF(AND(FM$2>=Feuil2!$B4,Feuil1!FM$2<=Feuil2!$D4)=FALSE,"",Feuil2!$E4)
A5: CAMION 3 | B5: =IF(AND(B$2>=Feuil2!$B5,Feuil1!B$2<=Feuil2!$D5)=FALSE,"",Feuil2!$E5) | C5: =IF(AND(C$2>=Feuil2!$B5,Feuil1!C$2<=Feuil2!$D5)=FALSE,"",Feuil2!$E5) | D5: =IF(AND(D$2>=Feuil2!$B5,Feuil1!D$2<=Feuil2!$D5)=FALSE,"",Feuil2!$E5) | E5: =IF(AND(E$2>=Feuil2!$B5,Feuil1!E$2<=Feuil2!$D5)=FALSE,"",Feuil2!$E5) | F5: =IF(AND(F$2>=Feuil2!$B5,Feuil1!F$2<=Feuil2!$D5)=FALSE,"",Feuil2!$E5) | G5: =IF(AND(G$2>=Feuil2!$B5,Feuil1!G$2<=Feuil2!$D5)=FALSE,"",Feuil2!$E5) | H5: =IF(AND(H$2>=Feuil2!$B5,Feuil1!H$2<=Feuil2!$D5)=FALSE,"",Feuil2!$E5) | I5: =IF(AND(I$2>=Feuil2!$B5,Feuil1!I$2<=Feuil2!$D5)=FALSE,"",Feuil2!$E5) | ... FM5: =IF(AND(FM$2>=Feuil2!$B5,Feuil1!FM$2<=Feuil2!$D5)=FALSE,"",Feuil2!$E5)
A6: CAMION 4 | B6: =IF(AND(B$2>=Feuil2!$B6,Feuil1!B$2<=Feuil2!$D6)=FALSE,"",Feuil2!$E6) | C6: =IF(AND(C$2>=Feuil2!$B6,Feuil1!C$2<=Feuil2!$D6)=FALSE,"",Feuil2!$E6) | D6: =IF(AND(D$2>=Feuil2!$B6,Feuil1!D$2<=Feuil2!$D6)=FALSE,"",Feuil2!$E6) | E6: =IF(AND(E$2>=Feuil2!$B6,Feuil1!E$2<=Feuil2!$D6)=FALSE,"",Feuil2!$E6) | F6: =IF(AND(F$2>=Feuil2!$B6,Feuil1!F$2<=Feuil2!$D6)=FALSE,"",Feuil2!$E6) | G6: =IF(AND(G$2>=Feuil2!$B6,Feuil1!G$2<=Feuil2!$D6)=FALSE,"",Feuil2!$E6) | H6: =IF(AND(H$2>=Feuil2!$B6,Feuil1!H$2<=Feuil2!$D6)=FALSE,"",Feuil2!$E6) | I6: =IF(AND(I$2>=Feuil2!$B6,Feuil1!I$2<=Feuil2!$D6)=FALSE,"",Feuil2!$E6) | ... FM6: =IF(AND(FM$2>=Feuil2!$B6,Feuil1!FM$2<=Feuil2!$D6)=FALSE,"",Feuil2!$E6)
A7: CAMION 5 | B7: =IF(AND(B$2>=Feuil2!$B7,Feuil1!B$2<=Feuil2!$D7)=FALSE,"",Feuil2!$E7) | C7: =IF(AND(C$2>=Feuil2!$B7,Feuil1!C$2<=Feuil2!$D7)=FALSE,"",Feuil2!$E7) | D7: =IF(AND(D$2>=Feuil2!$B7,Feuil1!D$2<=Feuil2!$D7)=FALSE,"",Feuil2!$E7) | E7: =IF(AND(E$2>=Feuil2!$B7,Feuil1!E$2<=Feuil2!$D7)=FALSE,"",Feuil2!$E7) | F7: =IF(AND(F$2>=Feuil2!$B7,Feuil1!F$2<=Feuil2!$D7)=FALSE,"",Feuil2!$E7) | G7: =IF(AND(G$2>=Feuil2!$B7,Feuil1!G$2<=Feuil2!$D7)=FALSE,"",Feuil2!$E7) | H7: =IF(AND(H$2>=Feuil2!$B7,Feuil1!H$2<=Feuil2!$D7)=FALSE,"",Feuil2!$E7) | I7: =IF(AND(I$2>=Feuil2!$B7,Feuil1!I$2<=Feuil2!$D7)=FALSE,"",Feuil2!$E7) | ... FM7: =IF(AND(FM$2>=Feuil2!$B7,Feuil1!FM$2<=Feuil2!$D7)=FALSE,"",Feuil2!$E7)
A8: CAMION 6 | B8: =IF(AND(B$2>=Feuil2!$B8,Feuil1!B$2<=Feuil2!$D8)=FALSE,"",Feuil2!$E8) | C8: =IF(AND(C$2>=Feuil2!$B8,Feuil1!C$2<=Feuil2!$D8)=FALSE,"",Feuil2!$E8) | D8: =IF(AND(D$2>=Feuil2!$B8,Feuil1!D$2<=Feuil2!$D8)=FALSE,"",Feuil2!$E8) | E8: =IF(AND(E$2>=Feuil2!$B8,Feuil1!E$2<=Feuil2!$D8)=FALSE,"",Feuil2!$E8) | F8: =IF(AND(F$2>=Feuil2!$B8,Feuil1!F$2<=Feuil2!$D8)=FALSE,"",Feuil2!$E8) | G8: =IF(AND(G$2>=Feuil2!$B8,Feuil1!G$2<=Feuil2!$D8)=FALSE,"",Feuil2!$E8) | H8: =IF(AND(H$2>=Feuil2!$B8,Feuil1!H$2<=Feuil2!$D8)=FALSE,"",Feuil2!$E8) | I8: =IF(AND(I$2>=Feuil2!$B8,Feuil1!I$2<=Feuil2!$D8)=FALSE,"",Feuil2!$E8) | ... FM8: =IF(AND(FM$2>=Feuil2!$B8,Feuil1!FM$2<=Feuil2!$D8)=FALSE,"",Feuil2!$E8)
A9: CAMION 7 | B9: =IF(AND(B$2>=Feuil2!$B9,Feuil1!B$2<=Feuil2!$D9)=FALSE,"",Feuil2!$E9) | C9: =IF(AND(C$2>=Feuil2!$B9,Feuil1!C$2<=Feuil2!$D9)=FALSE,"",Feuil2!$E9) | D9: =IF(AND(D$2>=Feuil2!$B9,Feuil1!D$2<=Feuil2!$D9)=FALSE,"",Feuil2!$E9) | E9: =IF(AND(E$2>=Feuil2!$B9,Feuil1!E$2<=Feuil2!$D9)=FALSE,"",Feuil2!$E9) | F9: =IF(AND(F$2>=Feuil2!$B9,Feuil1!F$2<=Feuil2!$D9)=FALSE,"",Feuil2!$E9) | G9: =IF(AND(G$2>=Feuil2!$B9,Feuil1!G$2<=Feuil2!$D9)=FALSE,"",Feuil2!$E9) | H9: =IF(AND(H$2>=Feuil2!$B9,Feuil1!H$2<=Feuil2!$D9)=FALSE,"",Feuil2!$E9) | I9: =IF(AND(I$2>=Feuil2!$B9,Feuil1!I$2<=Feuil2!$D9)=FALSE,"",Feuil2!$E9) | ... FM9: =IF(AND(FM$2>=Feuil2!$B9,Feuil1!FM$2<=Feuil2!$D9)=FALSE,"",Feuil2!$E9)
A10: CAMION 8 | B10: =IF(AND(B$2>=Feuil2!$B10,Feuil1!B$2<=Feuil2!$D10)=FALSE,"",Feuil2!$E10) | C10: =IF(AND(C$2>=Feuil2!$B10,Feuil1!C$2<=Feuil2!$D10)=FALSE,"",Feuil2!$E10) | D10: =IF(AND(D$2>=Feuil2!$B10,Feuil1!D$2<=Feuil2!$D10)=FALSE,"",Feuil2!$E10) | E10: =IF(AND(E$2>=Feuil2!$B10,Feuil1!E$2<=Feuil2!$D10)=FALSE,"",Feuil2!$E10) | F10: =IF(AND(F$2>=Feuil2!$B10,Feuil1!F$2<=Feuil2!$D10)=FALSE,"",Feuil2!$E10) | G10: =IF(AND(G$2>=Feuil2!$B10,Feuil1!G$2<=Feuil2!$D10)=FALSE,"",Feuil2!$E10) | H10: =IF(AND(H$2>=Feuil2!$B10,Feuil1!H$2<=Feuil2!$D10)=FALSE,"",Feuil2!$E10) | I10: =IF(AND(I$2>=Feuil2!$B10,Feuil1!I$2<=Feuil2!$D10)=FALSE,"",Feuil2!$E10) | ... FM10: =IF(AND(FM$2>=Feuil2!$B10,Feuil1!FM$2<=Feuil2!$D10)=FALSE,"",Feuil2!$E10)
A11: CAMION 9 | B11: =IF(AND(B$2>=Feuil2!$B11,Feuil1!B$2<=Feuil2!$D11)=FALSE,"",Feuil2!$E11) | C11: =IF(AND(C$2>=Feuil2!$B11,Feuil1!C$2<=Feuil2!$D11)=FALSE,"",Feuil2!$E11) | D11: =IF(AND(D$2>=Feuil2!$B11,Feuil1!D$2<=Feuil2!$D11)=FALSE,"",Feuil2!$E11) | E11: =IF(AND(E$2>=Feuil2!$B11,Feuil1!E$2<=Feuil2!$D11)=FALSE,"",Feuil2!$E11) | F11: =IF(AND(F$2>=Feuil2!$B11,Feuil1!F$2<=Feuil2!$D11)=FALSE,"",Feuil2!$E11) | G11: =IF(AND(G$2>=Feuil2!$B11,Feuil1!G$2<=Feuil2!$D11)=FALSE,"",Feuil2!$E11) | H11: =IF(AND(H$2>=Feuil2!$B11,Feuil1!H$2<=Feuil2!$D11)=FALSE,"",Feuil2!$E11) | I11: =IF(AND(I$2>=Feuil2!$B11,Feuil1!I$2<=Feuil2!$D11)=FALSE,"",Feuil2!$E11) | ... FM11: =IF(AND(FM$2>=Feuil2!$B11,Feuil1!FM$2<=Feuil2!$D11)=FALSE,"",Feuil2!$E11)
A12: CAMION 10 | B12: =IF(AND(B$2>=Feuil2!$B12,Feuil1!B$2<=Feuil2!$D12)=FALSE,"",Feuil2!$E12) | C12: =IF(AND(C$2>=Feuil2!$B12,Feuil1!C$2<=Feuil2!$D12)=FALSE,"",Feuil2!$E12) | D12: =IF(AND(D$2>=Feuil2!$B12,Feuil1!D$2<=Feuil2!$D12)=FALSE,"",Feuil2!$E12) | E12: =IF(AND(E$2>=Feuil2!$B12,Feuil1!E$2<=Feuil2!$D12)=FALSE,"",Feuil2!$E12) | F12: =IF(AND(F$2>=Feuil2!$B12,Feuil1!F$2<=Feuil2!$D12)=FALSE,"",Feuil2!$E12) | G12: =IF(AND(G$2>=Feuil2!$B12,Feuil1!G$2<=Feuil2!$D12)=FALSE,"",Feuil2!$E12) | H12: =IF(AND(H$2>=Feuil2!$B12,Feuil1!H$2<=Feuil2!$D12)=FALSE,"",Feuil2!$E12) | I12: =IF(AND(I$2>=Feuil2!$B12,Feuil1!I$2<=Feuil2!$D12)=FALSE,"",Feuil2!$E12) | ... FM12: =IF(AND(FM$2>=Feuil2!$B12,Feuil1!FM$2<=Feuil2!$D12)=FALSE,"",Feuil2!$E12)

Sheet Feuil2
B2: début crédit | C2: durée | D2: fin de crédit | E2: mensualité
A3: CAMION 1 | B3: 40461 | C3: 1800 | D3: 42287 | E3: 2000
A4: CAMION 2 | B4: 40734 | C4: 1800 | D4: 42561 | E4: 2000
A5: CAMION 3 | B5: 40796 | C5: 1800 | D5: 42623 | E5: 2000
A6: CAMION 4 | B6: 41030 | C6: 1800 | D6: 42856 | E6: 2500
A7: CAMION 5 | B7: 42217 | C7: 1800 | D7: 44044 | E7: 1500
A8: CAMION 6 | B8: 41306 | C8: 1800 | D8: 43132 | E8: 3200
A9: CAMION 7 | B9: 42522 | C9: 1800 | D9: 44348 | E9: 1800
A10: CAMION 8 | B10: 42917 | C10: 1800 | D10: 44743 | E10: 1600
A11: CAMION 9 | B11: 43405 | C11: 1800 | D11: 45231 | E11: 2000
A12: CAMION 10 | B12: 43405 | C12: 1800 | D12: 45231 | E12: 2200
