Workbook
Name L_Gravite: [1]Controle!$A$2:$A$4
Name L_Région: [1]Controle!$C$2:$C$52
Name L_Région: [1]Controle!$C$2:$C$52
Name L_Région: [1]Controle!$C$2:$C$52
Name L_Région: [2]Controle!$C$2:$C$52
Name L_Secteurs: [1]Controle!$E$2:$E$141
Name L_Secteurs: [1]Controle!$E$2:$E$141
Name L_Secteurs: [1]Controle!$E$2:$E$141
Name L_Secteurs: [2]Controle!$E$2:$E$141
Name L_Verif: [1]Controle!$G$2:$G$4

Sheet Tornade
A1: Date (heure TU) | D1: Année | E1: date plus hâtive | F1: date plus tardive
A2: 36699.826 | D2: 2000 | E2: {=MIN(IF(YEAR($A$2:$A$104)=D2,($A$2:$A$104)))} -> 36699.826 | F2: {=MAX(IF(YEAR($A$2:$A$104)=D2,($A$2:$A$104)))} -> 36725.847
A3: 36725.847 | D3: 2001
A4: 37061.948 | D4: 2002
A5: 37061.969 | D5: 2003
A6: 37076.875 | D6: 2004
A7: 37076.878 | D7: 2005
A8: 37107.985 | D8: 2006
A9: 37113.047 | D9: 2007
A10: 37407.896 | D10: 2008
A11: 37441.719 | D11: 2009
A12: 37451.979 | D12: 2010
A13: 37460.014 | D13: 2011
A14: 37486.646 | D14: 2012
... A20: 37829.896 | D20: 2018
A21: 37839.965
A22: 37868.917
A23: 37887.875
A24: 38146.872
A25: 38158.924
A26: 38158.948
A27: 38199.681
A28: 38199.75
A29: 38199.753
A30: 38199.833
A31: 38209.896
A32: 38233.885
... A104: 43364.875

Sheet WFCN
A1: WF émise | E1: Diagnostics | I1: Événements tornadiques | N1: Autres WW/WU émis
A2: Heure émise | B2: Rgns | C2: Sctrs | D2: Terminée | E2: Date | F2: Régions | G2: Strs | H2: Cote | I2: début (UTC) | J2: Région | K2: Secteur | L2: Localité | M2: Résumé | N2: Veille | O2: Alerte | P2: WU+mention
E3: 37061.948 | F3: YRJ | G3: alma | H3: MA | I3: 37061.948 | J3: yrj | K3: alma | L3: Pointe Taillon | M3: T(F0) | N3: 37061.887 | O3: 37061.92 | P3: Aucun | AA3: =COUNTIFS(WFCN!H:H,"f") -> 126
E4: 37061.969 | F4: YRJ | G4: alma | H4: MA | I4: 37061.969 | J4: yrj | K4: alma | L4: St-Henri-de-Taillon | M4: T(F2) | N4: 37061.887 | O4: 37061.92 | P4: Aucun
A5: 37076.88 | B5: WMJ | C5: pap/chene | D5: 37076.915 | E5: 37076.875 | F5: WMJ | G5: chene | H5: mp0 | I5: 37076.875 | J5: wmj | K5: pap/chene | L5: Lac-des-Plages | M5: T(F1) | N5: 37076.647 | O5: 37076.845 | P5: Aucun
A6: 37076.88 | B6: WJT | C6: ste-adele | D6: 37076.915 | E6: 37076.878 | F6: WJT | G6: adele | H6: mp0 | I6: 37076.878 | J6: wjt | K6: ste-adele | L6: Brébeuf | M6: T(F1) | N6: 37076.647 | O6: MP0 | P6: Aucun
A7: 37076.88 | B7: WJT | C7: mt-tremb | D7: 37076.915 | E7: 37076.915 | F7: WJT | G7: agath | H7: F
A8: 37082.817 | B8: YBG | C8: falar | D8: 37082.852 | E8: 37082.823 | F8: YBG | G8: falar | H8: mp0 | I8: 37082.802 | J8: ybg | K8: falar | L8: St-Honoré | M8: T(F0) | N8: Aucun | O8: Aucun | P8: Aucun
A9: 37082.817 | B9: YBG | C9: sague | D9: 37082.872 | E9: 37082.823 | F9: YBG | G9: sague | H9: i | I9: 37082.823 | J9: ybg | K9: sague | L9: Chicoutimi (même que St-Honoré) | M9: T(F0) | N9: Aucun | O9: Aucun | P9: Aucun
E10: 37113.047 | F10: YNM | G10: matag | H10: MA | I10: 37107.985 | J10: ynm | K10: matag | L10: Matagami | M10: T(F1) | N10: 37107.884 | O10: Aucun | P10: Aucun
E11: 37113.047 | F11: YRJ | G11: alma | H11: MA | I11: 37113.047 | J11: yrj | K11: alma | L11: Alma | M11: T(F1) | N11: 37112.636 | O11: 37112.994 | P11: Aucun
E12: 37407.896 | F12: DEG | G12: deg | H12: MA | I12: 37407.896 | J12: DEG | K12: deg | L12: Packington | M12: T(F2) | N12: 37407.801 | O12: mp0 | P12: Aucun
A13: 37430.906 | B13: YMX | C13: jerom | D13: 37430.93 | E13: 37430.93 | F13: YMX | G13: jerom | H13: F
E14: 37441.719 | F14: WPD | G14: jardi | H14: MA | I14: 37441.719 | J14: WPD | K14: jardi | L14: Boileau | M14: T(F1) | N14: 37441.64 | O14: Aucun | P14: Aucun
E15: 37451.979 | F15: YVO | G15: sentr | H15: MA | I15: 37451.979 | J15: YVO | K15: sentr | L15: Senneterre | M15: T(F1) | N15: 37451.817 | O15: 37451.906 | P15: Aucun
E16: 37460.014 | F16: WHV | G16: marie | H16: MA | I16: 37460.014 | J16: WHV | K16: marie | L16: St-Frédéric | M16: T(F1) | N16: 37459.784 | O16: 37459.999 | P16: Aucun
A17: 37466.023 | B17: WMJ | C17: chene | D17: 37466.054 | E17: 37466.023 | F17: WMJ | G17: chene | H17: F
A18: 37466.023 | B18: WJT | C18: WJT | D18: 37466.079 | E18: 37466.023 | F18: WJT | G18: WJT | H18: F
A19: 37466.023 | B19: WMJ | C19: label | D19: 37466.054 | E19: 37466.023 | F19: WMJ | G19: label | H19: F
A20: 37466.079 | B20: YMX | C20: YMX | D20: 37466.113 | E20: 37466.079 | F20: YMX | G20: YMX | H20: F
A21: 37466.079 | B21: LAN | C21: masco | D21: 37466.113 | E21: 37466.079 | F21: LAN | G21: masco | H21: F
A22: 37466.079 | B22: LAN | C22: rawdo | D22: 37466.113 | E22: 37466.079 | F22: LAN | G22: rawdo | H22: F
A23: 37466.113 | B23: HYA | C23: verch | D23: 37466.129 | E23: 37466.113 | F23: HYA | G23: verch | H23: F
A24: 37466.113 | B24: HYA | C24: hyaci | D24: 37466.129 | E24: 37466.113 | F24: HYA | G24: hyaci | H24: F
A25: 37466.113 | B25: HYA | C25: sorel | D25: 37466.129 | E25: 37466.113 | F25: HYA | G25: sorel | H25: F
E26: 37486.646 | F26: YRJ | G26: norma | H26: MA | I26: 37486.646 | J26: YRJ | K26: norma | L26: Dolbeau | M26: T(F1) | N26: 37485.814 | O26: 37486.606 | P26: Aucun
E27: 37502.604 | F27: YVO | G27: amos | H27: MA | I27: 37502.604 | J27: YVO | K27: amos | L27: Berry | M27: T(F1) | N27: Aucun | O27: Aucun | P27: Aucun
E28: 37783.885 | F28: WUL | G28: laval | H28: MA | I28: 37783.885 | J28: WUL | K28: laval | L28: Laval | M28: T( F1) | N28: Aucun | O28: Aucun | P28: Aucun
E29: 37799.785 | F29: ZMV | G29: labri | H29: MA | I29: 37799.785 | J29: ZMV | K29: labri | L29: Labrieville | M29: T( F0) | N29: Aucun | O29: mp0 | P29: mp0
E30: 37801.667 | F30: YWA | G30: shawv | H30: MA | I30: 37801.667 | J30: YWA | K30: shawv | L30: Fort-William | M30: T(F0) | N30: 37801.629 | O30: 37801.664 | P30: Aucun
E31: 37810.615 | F31: YRJ | G31: norma | H31: MA | I31: 37810.615 | J31: YRJ | K31: norma | L31: Ste-Jeanne-d'Arc | M31: T(F0) | N31: 37810.61 | O31: 37810.61 | P31: Aucun
E32: 37829.896 | F32: YYY | G32: b-rik | H32: MA | I32: 37829.896 | J32: YYY | K32: b-rik | L32: St-Narcisse | M32: T(F1) | N32: Aucun | O32: Aucun | P32: Aucun
E33: 37839.965 | F33: YSC | G33: granb | H33: MA | I33: 37839.965 | J33: YSC | K33: granb | L33: Roxton Pond | M33: T(F0) | N33: 37839.624 | O33: Aucun | P33: Aucun
E34: 37868.917 | F34: YQB | G34: lotbi | H34: MA | I34: 37868.917 | J34: YQB | K34: lotbi | L34: Issoudun | M34: T(F0) | N34: Aucun | O34: Aucun | P34: Aucun
E35: 37887.875 | F35: LAN | G35: rawdo | H35: MA | I35: 37887.875 | J35: LAN | K35: rawdo | L35: L' Assomption | M35: T(F0) | N35: Aucun | O35: Aucun | P35: Aucun
E36: 38146.872 | F36: YVO | G36: amos | H36: MA | I36: 38146.872 | J36: YVO | K36: amos | L36: Landrienne | M36: T(F1) | N36: 38146.417 | O36: 38146.824 | P36: 38146.824
E37: 38158.924 | F37: YQB | G37: lotbi | H37: MA | I37: 38158.924 | J37: YQB | K37: lotbi | L37: Laurier-Station | M37: T(F0) | N37: Aucun | O37: Aucun | P37: Aucun
E38: 38199.681 | F38: YSC | G38: richm | H38: MA | I38: 38199.681 | J38: YSC | K38: richm | L38: Durham-sud | M38: T(F1) | N38: 38199.628 | O38: Aucun | P38: Aucun
E39: 38199.75 | F39: WNQ | G39: victo | H39: MA | I39: 38199.75 | J39: WNQ | K39: victo | L39: Chesterville | M39: T(F0) | N39: 38199.628 | O39: mp0 | P39: Aucun
E40: 38199.753 | F40: WUL | G40: prairi | H40: MA | I40: 38199.753 | J40: WUL | K40: prairi | L40: Chateauguay | M40: T(F0) | N40: Aucun | O40: 38199.738 | P40: Aucun
E41: 38199.833 | F41: WNQ | G41: victo | H41: MA | I41: 38199.833 | J41: WNQ | K41: victo | L41: St-Albert | M41: T(F1) | N41: 38199.628 | O41: 38199.782 | P41: Aucun
E42: 38209.896 | F42: WMJ | G42: chene | H42: MA | I42: 38209.896 | J42: WMJ | K42: chene | L42: Thurso | M42: T(F1) | N42: 38209.489 | O42: 38209.761 | P42: 38209.856
E43: 38233.885 | F43: YVO | G43: malar | H43: MA | I43: 38233.885 | J43: YVO | K43: malar | L43: Malartic | M43: T(F0) | N43: 38233.473 | O43: 38233.819 | P43: Aucun
E44: 38528.833 | F44: HYA | G44: verch | H44: MA | I44: 38528.833 | J44: HYA | K44: verch | L44: Verchères | M44: T (F1) | N44: 38528.762 | O44: mp0 | P44: Aucun
E45: 38534.889 | F45: LAN | G45: rawdo | H45: MA | I45: 38534.889 | J45: LAN | K45: rawdo | L45: Épiphanie | M45: T (F0) | N45: 38534.639 | O45: 38534.865 | P45: 38534.865
E46: 38897.833 | F46: YBG | G46: etern | H46: MA | I46: 38897.833 | J46: YBG | K46: etern | L46: Anse-St-Jean | M46: T(F0) | N46: Aucun | O46: Aucun | P46: Aucun
E47: 38923.847 | F47: YRJ | G47: alma | H47: MA | I47: 38923.847 | J47: YRJ | K47: alma | L47: Hébertville | M47: T(F0) | N47: 38923.826 | O47: 38923.823 | P47: Aucun
E48: 38930.938 | F48: WHV | G48: georg | H48: MA | I48: 38930.938 | J48: WHV | K48: georg | L48: St-Gédéon | M48: T(F1) | N48: 38930.64 | O48: Aucun | P48: Aucun
E49: 38930.951 | F49: YSC | G49: megan | H49: MA | I49: 38930.951 | J49: YSC | K49: megan | L49: Lac Drolet | M49: T(F2) | N49: 38930.64 | O49: 38930.938 | P49: 38930.938
E50: 39278.781 | F50: YBG | G50: sague | H50: MA | I50: 39278.781 | J50: YBG | K50: sague | L50: Lac Boivin | M50: T(F0) | N50: Aucun | O50: Aucun | P50: Aucune
A51: 39260.806 | B51: WTY | C51: louis | D51: 39260.826 | E51: 39260.826 | F51: WTY | G51: louis | H51: F
E52: 39306.969 | F52: WDQ | G52: bouch | H52: MA | I52: 39306.969 | J52: WDQ | K52: bouch | L52: Lac Bouchette | M52: T(F0) | N52: 39306.942 | O52: Aucun | P52: Aucun
E53: 39308.146 | F53: WST | G53: fabien | H53: MA | I53: 39308.146 | J53: WST | K53: fabien | L53: St-Just-de-Bretonnière | M53: T(F0) | N53: Aucun | O53: Aucun | P53: Aucun
E54: 39319.875 | F54: WHV | G54: marie | H54: MA | I54: 39319.875 | J54: WHV | K54: marie | L54: Beauceville | M54: T(F0) | N54: 39319.59 | O54: Aucun | P54: Aucun
E55: 39638.938 | F55: YBG | G55: falar | H55: MA | I55: 39638.938 | J55: YBG | K55: falar | L55: Shipshaw | M55: T(F0), R(120) | N55: 39638.912 | O55: 39638.909 | P55: Non
E56: 39699.917 | F56: YBG | G56: falar | H56: MA | I56: 39699.917 | J56: YBG | K56: falar | L56: Zec Martin-Valin | M56: T (F0) | N56: Non | O56: Non | P56: Non
E57: 39652.757 | F57: LAN | G57: rawdo | H57: MA | I57: 39652.757 | J57: LAN | K57: rawdo | L57: Lanoraie | M57: T(F0) | N57: 39652.73 | O57: 39652.744 | P57: Oui
E58: 39671.934 | F58: HYA | G58: verch | H58: MA | I58: 39671.934 | J58: HYA | K58: verch | L58: McMasterville | M58: T(F0) | N58: MP0 | O58: Non | P58: Non
E59: 39934 | F59: yrj | G59: norma | H59: MA | I59: 39934.872 | J59: yrj | K59: norma | L59: Normandin | M59: T(F0) | N59: Non | O59: Non | P59: Non
A60: 40005.989 | B60: ymx | C60: eusta | D60: 40006.003 | E60: 40005 | F60: ymx | G60: eusta | H60: mp0 | I60: 40005.96 | J60: ymx | K60: eusta | L60: St-Augustin Mirabel | M60: T(F0) | N60: 40005.539 | O60: 40005.866 | P60: Non
A61: 40006.009 | B61: ymx | C61: eusta | D61: 40006.035 | E61: 40005 | F61: ymx | G61: eusta | H61: mp0 | I61: 40005.977 | J61: ymx | K61: eusta | L61: Boisbriand | M61: T(F1) | N61: 40005.539 | O61: 40005.866 | P61: Non
A62: 40006.003 | B62: hya | C62: hyaci | D62: 40006.038 | E62: 40005 | F62: hya | G62: hyaci | H62: F
A63: 40006.009 | B63: ymx | C63: lachu | D63: 40006.035 | E63: 40005 | F63: ymx | G63: lachu | H63: F
A64: 40005.989 | B64: wul | C64: laval | D64: 40006.035 | E64: 40005 | F64: wul | G64: laval | H64: F
A65: 40006.003 | B65: wul | C65: longu | D65: 40006.035 | E65: 40005 | F65: wul | G65: longu | H65: F
A66: 40005.989 | B66: lan | C66: masco | D66: 40006.003 | E66: 40005 | F66: lan | G66: masco | H66: F
A67: 40005.989 | B67: wul | C67: mtl | D67: 40006.035 | E67: 40005 | F67: wul | G67: mtl | H67: F
A68: 40006.003 | B68: hya | C68: sorel | D68: 40006.035 | E68: 40005 | F68: hya | G68: sorel | H68: F
A69: 40006.009 | B69: wbz | C69: soula | D69: 40006.035 | E69: 40005 | F69: wbz | G69: soula | H69: F
A70: 40006.009 | B70: wbz | C70: vaudr | D70: 40006.035 | E70: 40005 | F70: wbz | G70: vaudr | H70: F
A71: 40006.003 | B71: hya | C71: verch | D71: 40006.038 | E71: 40005 | F71: hya | G71: verch | H71: F
E72: 40021 | F72: ysc | G72: richm | H72: MA | I72: 40021.681 | J72: ysc | K72: richm | L72: Ste-Christine | M72: T(F0) | N72: 40021.633 | O72: MP0 | P72: Non
E73: 40023 | F73: yqb | G73: quebc | H73: MA | I73: 40023.886 | J73: yqb | K73: quebc | L73: Duberger | M73: T(F0) | N73: 40023.753 | O73: 40023.883 | P73: Non
E74: 40029 | F74: lau | G74: lauri | H74: MA | I74: 40029.781 | J74: lau | K74: lauri | L74: Mont-Laurier | M74: T(F2) | N74: 40029.624 | O74: 40029.745 | P74: Oui
E75: 40046 | F75: lau | G75: lauri | H75: MA | I75: 40046.708 | J75: lau | K75: lauri | L75: Réservoir Baskatong | M75: T(F0) | N75: Non | O75: Non | P75: Non
E76: 40046 | F76: wdq | G76: tuque | H76: MA | I76: 40047 | J76: wdq | K76: tuque | L76: La Tuque | M76: T(F0) | N76: Non | O76: Non | P76: Non
E77: 40357.859 | F77: lan | G77: masco | H77: MA | I77: 40357.868 | J77: lan | K77: masco | L77: Mascouche/Repentigny | M77: T(F0) | N77: 40357.829 | O77: 40357.859 | P77: Oui
E78: 40357.812 | F78: wul | G78: mtl | H78: MA | I78: 40357.812 | J78: wul | K78: mtl | L78: Ste-Anne-de-Bellevue/Kirkland | M78: T(F0) | N78: MP0 | O78: MP0 | P78: MP0
E79: 40375.771 | F79: whv | G79: etche | H79: MA | I79: 40375.771 | J79: whv | K79: etche | L79: Saint-Camille de Bellechasse | M79: T(F0) | N79: 40375.357 | O79: Non | P79: Non
A80: 40376.826 | B80: wbz | C80: hunti | D80: 40376.842 | E80: 40376.826 | F80: wbz | G80: hunti | H80: F
A81: 40406.847 | B81: ysc | C81: weedo | D81: 40376.879 | E81: 40406.847 | F81: ysc | G81: weedo | H81: F
A82: 40406.847 | B82: ysc | C82: thmin | D82: 40376.908 | E82: 40406.847 | F82: ysc | G82: thmin | H82: F
E83: 40376.743 | F83: wbz | G83: vaudr | H83: Mp0 | I83: 40376.74 | J83: wbz | K83: vaudr | L83: Vaudreuil/St-Lazare | M83: T(F0) | N83: 40376.63 | O83: MP0 | P83: Oui
E84: 40423.01 | F84: ymx | G84: eusta | H84: MA | I84: 40423.01 | J84: ymx | K84: eusta | L84: St-Benoit-de-Mirabel | M84: T(F0) | N84: Non | O84: Non | P84: Non
A85: 40776.936 | B85: ysc | C85: brome | D85: 40776.978 | E85: 40776.936 | F85: ysc | G85: brome | H85: F
A86: 40776.963 | B86: ysc | C86: granb | D86: 40776.978 | E86: 40776.963 | F86: ysc | G86: granb | H86: F
A87: 40776.963 | B87: ysc | C87: oford | D87: 40776.978 | E87: 40776.963 | F87: ysc | G87: oford | H87: F
A88: 40799.883 | B88: wul | C88: laval | D88: 40799.897 | E88: 40799.883 | F88: wul | G88: laval | H88: F
A89: 40799.883 | B89: ymx | C89: eusta | D89: 40799.897 | E89: 40799.883 | F89: ymx | G89: eusta | H89: F
E90: 40741.812 | F90: yvo | G90: valdo | H90: MA | I90: 40741.812 | J90: yvo | K90: valdo | L90: Val Senneville/Barraute | M90: T(F0) | N90: 40741.608 | O90: 40741.738 | P90: Oui
E91: 40744.896 | F91: wpd | G91: etape | H91: MA | I91: 40744.896 | J91: wpd | K91: etape | L91: Parc des Laurentides (km 113) | M91: T(F1) | N91: 40744.645 | O91: 40744.84 | P91: Non
E92: 40761.781 | F92: yrj | G92: norma | H92: MA | I92: 40761.781 | J92: yrj | K92: norma | L92: Ste-Élisabeth-de-Proulx | M92: T(F1) | N92: 40761.64 | O92: 40761.716 | P92: Oui
E93: 40790.951 | F93: wty | G93: 3riv | H93: MA | I93: 40790.951 | J93: wty | K93: 3riv | L93: Trois-Rivières | M93: T(F0) | N93: 40790.557 | O93: Non | P93: Non
A94: 41054.911 | B94: wmj | C94: wakef | D94: 41054.947 | E94: 41054.911 | F94: wmj | G94: wakef | H94: F
A95: 41054.911 | B95: ywa | C95: shawv | D95: 41054.92 | E95: 41054.911 | F95: ywa | G95: shawv | H95: F
A96: 41054.92 | B96: wmj | C96: lievr | D96: 41054.974 | E96: 41054.92 | F96: wmj | G96: lievr | H96: F
A97: 41054.947 | B97: wmj | C97: chene | D97: 41054.974 | E97: 41054.947 | F97: wmj | G97: chene | H97: F
A98: 41055.009 | B98: wul | C98: laval | D98: 41055.051 | E98: 41055.009 | F98: wul | G98: laval | H98: F
A99: 41055.009 | B99: wbz | C99: soula | D99: 41055.051 | E99: 41055.009 | F99: wbz | G99: soula | H99: F
A100: 41055.009 | B100: wbz | C100: vaudr | D100: 41055.051 | E100: 41055.009 | F100: wbz | G100: vaudr | H100: F
...

Sheet Statistique
M1: Observé | U1: Bulletin en vigueur | AA1: Alerte de tornade
A2: Janvier | B2: =COUNTIF(Tornade!#REF!,1)/(YEAR(MAX(Tornade!A:A))-YEAR(MIN(Tornade!A:A))) -> #REF! | C2: =B2/SUM(B$2:B$13) -> #REF! | L2: T(F/EF) | M2: 0 | N2: 1 | O2: 2 | P2: 3 | Q2: 4 | R2: 5 | S2: Total | U2: Veille | V2: WU | W2: Aucun | X2: Mention | Y2: Aucun | Z2: F | AA2: Émis | AB2: Hit | AC2: Miss | AD2: FA
A3: Février | B3: =COUNTIF(Tornade!#REF!,2)/(YEAR(MAX(Tornade!A:A))-YEAR(MIN(Tornade!A:A))) -> #REF! | C3: =B3/SUM(B$2:B$13) -> #REF! | L3: 2001 | M3: =COUNTIFS(Tornade!#REF!,$L3,Tornade!#REF!,"T(F0)")+COUNTIFS(Tornade!#REF!,$L3,Tornade!#REF!,"T(EF0)") -> #REF! | N3: =COUNTIFS(Tornade!#REF!,$L3,Tornade!#REF!,"T(F1)")+COUNTIFS(Tornade!#REF!,$L3,Tornade!#REF!,"T(EF1)") -> #REF! | O3: =COUNTIFS(Tornade!#REF!,$L3,Tornade!#REF!,"T(F2)")+COUNTIFS(Tornade!#REF!,$L3,Tornade!#REF!,"T(EF2)") -> #REF! | P3: =COUNTIFS(Tornade!#REF!,$L3,Tornade!#REF!,"T(F3)")+COUNTIFS(Tornade!#REF!,$L3,Tornade!#REF!,"T(EF3)") -> #REF! | Q3: =COUNTIFS(Tornade!#REF!,$L3,Tornade!#REF!,"T(F4)")+COUNTIFS(Tornade!#REF!,$L3,Tornade!#REF!,"T(EF4)") -> #REF! | R3: =COUNTIFS(Tornade!#REF!,$L3,Tornade!#REF!,"T(F5)")+COUNTIFS(Tornade!#REF!,$L3,Tornade!#REF!,"T(EF5)") -> #REF! | S3: =SUM(M3:R3) -> #REF! | U3: =COUNTIFS(WFCN!N:N,">36892",WFCN!N:N,"<37257") -> 6 | V3: =COUNTIFS(WFCN!O:O,">36892",WFCN!O:O,"<37257") -> 4 | X3: =COUNTIFS(WFCN!$E:$E,">36892",WFCN!$E:$E,"<37257",WFCN!P:P,"oui") -> 0 | Y3: =S3-U3 -> #REF! | Z3: 14 | AA3: =COUNTIFS(WFCN!A:A,">36892",WFCN!A:A,"<37257") -> 5 | AB3: =COUNTIFS(WFCN!$E:$E,">36892",WFCN!$E:$E,"<37257",WFCN!$H:$H,"s")+COUNTIFS(WFCN!$E:$E,">39814",WFCN!$E:$E,"<40179",WFCN!$H:$H,"MPi") -> 0 | AC3: =COUNTIFS(WFCN!$E:$E,">36892",WFCN!$E:$E,"<37257",WFCN!$H:$H,"MA")+COUNTIFS(WFCN!$E:$E,">36892",WFCN!$E:$E,"<37257",WFCN!$H:$H,"Mp0") -> 7 | AD3: =COUNTIFS(WFCN!E:E,">36892",WFCN!E:E,"<37257",WFCN!H:H,"F") -> 1
A4: Mars | B4: =COUNTIF(Tornade!#REF!,3)/(YEAR(MAX(Tornade!A:A))-YEAR(MIN(Tornade!A:A))) -> #REF! | C4: =B4/SUM(B$2:B$13) -> #REF! | L4: 2002 | M4: =COUNTIFS(Tornade!#REF!,$L4,Tornade!#REF!,"T(F0)")+COUNTIFS(Tornade!#REF!,$L4,Tornade!#REF!,"T(EF0)") -> #REF! | N4: =COUNTIFS(Tornade!#REF!,$L4,Tornade!#REF!,"T(F1)")+COUNTIFS(Tornade!#REF!,$L4,Tornade!#REF!,"T(EF1)") -> #REF! | O4: =COUNTIFS(Tornade!#REF!,$L4,Tornade!#REF!,"T(F2)")+COUNTIFS(Tornade!#REF!,$L4,Tornade!#REF!,"T(EF2)") -> #REF! | P4: =COUNTIFS(Tornade!#REF!,$L4,Tornade!#REF!,"T(F3)")+COUNTIFS(Tornade!#REF!,$L4,Tornade!#REF!,"T(EF3)") -> #REF! | Q4: =COUNTIFS(Tornade!#REF!,$L4,Tornade!#REF!,"T(F4)")+COUNTIFS(Tornade!#REF!,$L4,Tornade!#REF!,"T(EF4)") -> #REF! | R4: =COUNTIFS(Tornade!#REF!,$L4,Tornade!#REF!,"T(F5)")+COUNTIFS(Tornade!#REF!,$L4,Tornade!#REF!,"T(EF5)") -> #REF! | S4: =SUM(M4:R4) -> #REF! | U4: =COUNTIFS(WFCN!N:N,">37257",WFCN!N:N,"<37622") -> 5 | V4: =COUNTIFS(WFCN!O:O,">37257",WFCN!O:O,"<37622") -> 3 | X4: =COUNTIFS(WFCN!$E:$E,">37257",WFCN!$E:$E,"<37622",WFCN!P:P,"oui") -> 0 | Y4: =S4-U4 -> #REF! | Z4: 120 | AA4: =COUNTIFS(WFCN!A:A,">37257",WFCN!A:A,"<37622") -> 10 | AB4: =COUNTIFS(WFCN!$E:$E,">37257",WFCN!$E:$E,"<37622",WFCN!$H:$H,"s")+COUNTIFS(WFCN!$E:$E,">39814",WFCN!$E:$E,"<40179",WFCN!$H:$H,"mpi") -> 0 | AC4: =COUNTIFS(WFCN!$E:$E,">37257",WFCN!$E:$E,"<37622",WFCN!$H:$H,"MA")+COUNTIFS(WFCN!$E:$E,">37257",WFCN!$E:$E,"<37622",WFCN!$H:$H,"MP0") -> 6 | AD4: =COUNTIFS(WFCN!E:E,">37257",WFCN!E:E,"<37622",WFCN!H:H,"f") -> 10
A5: Avril | B5: =COUNTIF(Tornade!#REF!,4)/(YEAR(MAX(Tornade!A:A))-YEAR(MIN(Tornade!A:A))) -> #REF! | C5: =B5/SUM(B$2:B$13) -> #REF! | L5: 2003 | M5: =COUNTIFS(Tornade!#REF!,$L5,Tornade!#REF!,"T(F0)")+COUNTIFS(Tornade!#REF!,$L5,Tornade!#REF!,"T(EF0)") -> #REF! | N5: =COUNTIFS(Tornade!#REF!,$L5,Tornade!#REF!,"T(F1)")+COUNTIFS(Tornade!#REF!,$L5,Tornade!#REF!,"T(EF1)") -> #REF! | O5: =COUNTIFS(Tornade!#REF!,$L5,Tornade!#REF!,"T(F2)")+COUNTIFS(Tornade!#REF!,$L5,Tornade!#REF!,"T(EF2)") -> #REF! | P5: =COUNTIFS(Tornade!#REF!,$L5,Tornade!#REF!,"T(F3)")+COUNTIFS(Tornade!#REF!,$L5,Tornade!#REF!,"T(EF3)") -> #REF! | Q5: =COUNTIFS(Tornade!#REF!,$L5,Tornade!#REF!,"T(F4)")+COUNTIFS(Tornade!#REF!,$L5,Tornade!#REF!,"T(EF4)") -> #REF! | R5: =COUNTIFS(Tornade!#REF!,$L5,Tornade!#REF!,"T(F5)")+COUNTIFS(Tornade!#REF!,$L5,Tornade!#REF!,"T(EF5)") -> #REF! | S5: =SUM(M5:R5) -> #REF! | U5: =COUNTIFS(WFCN!N:N,">37622",WFCN!N:N,"<37987") -> 3 | V5: =COUNTIFS(WFCN!O:O,">37622",WFCN!O:O,"<37987") -> 2 | X5: =COUNTIFS(WFCN!$E:$E,">37622",WFCN!$E:$E,"<37987",WFCN!P:P,"oui") -> 0 | Y5: =S5-U5 -> #REF! | Z5: 45 | AA5: =COUNTIFS(WFCN!A:A,">37622",WFCN!A:A,"<37987") -> 0 | AB5: =COUNTIFS(WFCN!$E:$E,">37622",WFCN!$E:$E,"<37987",WFCN!$H:$H,"s")+COUNTIFS(WFCN!$E:$E,">39814",WFCN!$E:$E,"<40179",WFCN!$H:$H,"mpi") -> 0 | AC5: =COUNTIFS(WFCN!$E:$E,">37622",WFCN!$E:$E,"<37987",WFCN!$H:$H,"MA")+COUNTIFS(WFCN!$E:$E,">37622",WFCN!$E:$E,"<37987",WFCN!$H:$H,"MP0") -> 8 | AD5: =COUNTIFS(WFCN!E:E,">37622",WFCN!E:E,"<37987",WFCN!H:H,"f") -> 0
A6: Mai | B6: =COUNTIF(Tornade!#REF!,5)/(YEAR(MAX(Tornade!A:A))-YEAR(MIN(Tornade!A:A))) -> #REF! | C6: =B6/SUM(B$2:B$13) -> #REF! | L6: 2004 | M6: =COUNTIFS(Tornade!#REF!,$L6,Tornade!#REF!,"T(F0)")+COUNTIFS(Tornade!#REF!,$L6,Tornade!#REF!,"T(EF0)") -> #REF! | N6: =COUNTIFS(Tornade!#REF!,$L6,Tornade!#REF!,"T(F1)")+COUNTIFS(Tornade!#REF!,$L6,Tornade!#REF!,"T(EF1)") -> #REF! | O6: =COUNTIFS(Tornade!#REF!,$L6,Tornade!#REF!,"T(F2)")+COUNTIFS(Tornade!#REF!,$L6,Tornade!#REF!,"T(EF2)") -> #REF! | P6: =COUNTIFS(Tornade!#REF!,$L6,Tornade!#REF!,"T(F3)")+COUNTIFS(Tornade!#REF!,$L6,Tornade!#REF!,"T(EF3)") -> #REF! | Q6: =COUNTIFS(Tornade!#REF!,$L6,Tornade!#REF!,"T(F4)")+COUNTIFS(Tornade!#REF!,$L6,Tornade!#REF!,"T(EF4)") -> #REF! | R6: =COUNTIFS(Tornade!#REF!,$L6,Tornade!#REF!,"T(F5)")+COUNTIFS(Tornade!#REF!,$L6,Tornade!#REF!,"T(EF5)") -> #REF! | S6: =SUM(M6:R6) -> #REF! | U6: =COUNTIFS(WFCN!N:N,">37987",WFCN!N:N,"<38353") -> 6 | V6: =COUNTIFS(WFCN!O:O,">37987",WFCN!O:O,"<38353") -> 5 | X6: =COUNTIFS(WFCN!$E:$E,">37987",WFCN!$E:$E,"<38353",WFCN!P:P,"oui") -> 0 | Y6: =S6-U6 -> #REF! | Z6: 79 | AA6: =COUNTIFS(WFCN!A:A,">37987",WFCN!A:A,"<38353") -> 0 | AB6: =COUNTIFS(WFCN!$E:$E,">37987",WFCN!$E:$E,"<38353",WFCN!$H:$H,"s")+COUNTIFS(WFCN!$E:$E,">39814",WFCN!$E:$E,"<40179",WFCN!$H:$H,"mpi") -> 0 | AC6: =COUNTIFS(WFCN!$E:$E,">37987",WFCN!$E:$E,"<38353",WFCN!$H:$H,"MA")+COUNTIFS(WFCN!$E:$E,">37987",WFCN!$E:$E,"<38353",WFCN!$H:$H,"MP0") -> 8 | AD6: =COUNTIFS(WFCN!E:E,">37987",WFCN!E:E,"<38353",WFCN!H:H,"f") -> 0
A7: Juin | B7: =COUNTIF(Tornade!#REF!,6)/(YEAR(MAX(Tornade!A:A))-YEAR(MIN(Tornade!A:A))) -> #REF! | C7: =B7/SUM(B$2:B$13) -> #REF! | L7: 2005 | M7: =COUNTIFS(Tornade!#REF!,$L7,Tornade!#REF!,"T(F0)")+COUNTIFS(Tornade!#REF!,$L7,Tornade!#REF!,"T(EF0)") -> #REF! | N7: =COUNTIFS(Tornade!#REF!,$L7,Tornade!#REF!,"T(F1)")+COUNTIFS(Tornade!#REF!,$L7,Tornade!#REF!,"T(EF1)") -> #REF! | O7: =COUNTIFS(Tornade!#REF!,$L7,Tornade!#REF!,"T(F2)")+COUNTIFS(Tornade!#REF!,$L7,Tornade!#REF!,"T(EF2)") -> #REF! | P7: =COUNTIFS(Tornade!#REF!,$L7,Tornade!#REF!,"T(F3)")+COUNTIFS(Tornade!#REF!,$L7,Tornade!#REF!,"T(EF3)") -> #REF! | Q7: =COUNTIFS(Tornade!#REF!,$L7,Tornade!#REF!,"T(F4)")+COUNTIFS(Tornade!#REF!,$L7,Tornade!#REF!,"T(EF4)") -> #REF! | R7: =COUNTIFS(Tornade!#REF!,$L7,Tornade!#REF!,"T(F5)")+COUNTIFS(Tornade!#REF!,$L7,Tornade!#REF!,"T(EF5)") -> #REF! | S7: =SUM(M7:R7) -> #REF! | U7: =COUNTIFS(WFCN!N:N,">38353",WFCN!N:N,"<38718") -> 2 | V7: =COUNTIFS(WFCN!O:O,">38353",WFCN!O:O,"<38718") -> 1 | X7: =COUNTIFS(WFCN!$E:$E,">38353",WFCN!$E:$E,"<38718",WFCN!P:P,"oui") -> 0 | Y7: =S7-U7 -> #REF! | Z7: 95 | AA7: =COUNTIFS(WFCN!A:A,">38353",WFCN!A:A,"<38718") -> 0 | AB7: =COUNTIFS(WFCN!$E:$E,">38353",WFCN!$E:$E,"<38718",WFCN!$H:$H,"s")+COUNTIFS(WFCN!$E:$E,">39814",WFCN!$E:$E,"<40179",WFCN!$H:$H,"mpi") -> 0 | AC7: =COUNTIFS(WFCN!$E:$E,">38353",WFCN!$E:$E,"<38718",WFCN!$H:$H,"MA")+COUNTIFS(WFCN!$E:$E,">383353",WFCN!$E:$E,"<38718",WFCN!$H:$H,"MP0") -> 2 | AD7: =COUNTIFS(WFCN!E:E,">38353",WFCN!E:E,"<38718",WFCN!H:H,"f") -> 0
A8: Juillet | B8: =COUNTIF(Tornade!#REF!,7)/(YEAR(MAX(Tornade!A:A))-YEAR(MIN(Tornade!A:A))) -> #REF! | C8: =B8/SUM(B$2:B$13) -> #REF! | L8: 2006 | M8: =COUNTIFS(Tornade!#REF!,$L8,Tornade!#REF!,"T(F0)")+COUNTIFS(Tornade!#REF!,$L8,Tornade!#REF!,"T(EF0)") -> #REF! | N8: =COUNTIFS(Tornade!#REF!,$L8,Tornade!#REF!,"T(F1)")+COUNTIFS(Tornade!#REF!,$L8,Tornade!#REF!,"T(EF1)") -> #REF! | O8: =COUNTIFS(Tornade!#REF!,$L8,Tornade!#REF!,"T(F2)")+COUNTIFS(Tornade!#REF!,$L8,Tornade!#REF!,"T(EF2)") -> #REF! | P8: =COUNTIFS(Tornade!#REF!,$L8,Tornade!#REF!,"T(F3)")+COUNTIFS(Tornade!#REF!,$L8,Tornade!#REF!,"T(EF3)") -> #REF! | Q8: =COUNTIFS(Tornade!#REF!,$L8,Tornade!#REF!,"T(F4)")+COUNTIFS(Tornade!#REF!,$L8,Tornade!#REF!,"T(EF4)") -> #REF! | R8: =COUNTIFS(Tornade!#REF!,$L8,Tornade!#REF!,"T(F5)")+COUNTIFS(Tornade!#REF!,$L8,Tornade!#REF!,"T(EF5)") -> #REF! | S8: =SUM(M8:R8) -> #REF! | U8: =COUNTIFS(WFCN!N:N,">38718",WFCN!N:N,"<39083") -> 3 | V8: =COUNTIFS(WFCN!O:O,">38718",WFCN!O:O,"<39083") -> 2 | X8: =COUNTIFS(WFCN!$E:$E,">38718",WFCN!$E:$E,"<39083",WFCN!P:P,"oui") -> 0 | Y8: =S8-U8 -> #REF! | Z8: 235 | AA8: =COUNTIFS(WFCN!A:A,">38718",WFCN!A:A,"<39083") -> 0 | AB8: =COUNTIFS(WFCN!$E:$E,">38718",WFCN!$E:$E,"<39083",WFCN!$H:$H,"s")+COUNTIFS(WFCN!$E:$E,">39814",WFCN!$E:$E,"<40179",WFCN!$H:$H,"mpi") -> 0 | AC8: =COUNTIFS(WFCN!$E:$E,">38718",WFCN!$E:$E,"<39083",WFCN!$H:$H,"MA")+COUNTIFS(WFCN!$E:$E,">38718",WFCN!$E:$E,"<39083",WFCN!$H:$H,"MP0") -> 4 | AD8: =COUNTIFS(WFCN!E:E,">38718",WFCN!E:E,"<39083",WFCN!H:H,"f") -> 0
A9: Août | B9: =COUNTIF(Tornade!#REF!,8)/(YEAR(MAX(Tornade!A:A))-YEAR(MIN(Tornade!A:A))) -> #REF! | C9: =B9/SUM(B$2:B$13) -> #REF! | L9: 2007 | M9: =COUNTIFS(Tornade!#REF!,$L9,Tornade!#REF!,"T(F0)")+COUNTIFS(Tornade!#REF!,$L9,Tornade!#REF!,"T(EF0)") -> #REF! | N9: =COUNTIFS(Tornade!#REF!,$L9,Tornade!#REF!,"T(F1)")+COUNTIFS(Tornade!#REF!,$L9,Tornade!#REF!,"T(EF1)") -> #REF! | O9: =COUNTIFS(Tornade!#REF!,$L9,Tornade!#REF!,"T(F2)")+COUNTIFS(Tornade!#REF!,$L9,Tornade!#REF!,"T(EF2)") -> #REF! | P9: =COUNTIFS(Tornade!#REF!,$L9,Tornade!#REF!,"T(F3)")+COUNTIFS(Tornade!#REF!,$L9,Tornade!#REF!,"T(EF3)") -> #REF! | Q9: =COUNTIFS(Tornade!#REF!,$L9,Tornade!#REF!,"T(F4)")+COUNTIFS(Tornade!#REF!,$L9,Tornade!#REF!,"T(EF4)") -> #REF! | R9: =COUNTIFS(Tornade!#REF!,$L9,Tornade!#REF!,"T(F5)")+COUNTIFS(Tornade!#REF!,$L9,Tornade!#REF!,"T(EF5)") -> #REF! | S9: =SUM(M9:R9) -> #REF! | U9: =COUNTIFS(WFCN!N:N,">39083",WFCN!N:N,"<39448") -> 2 | V9: =COUNTIFS(WFCN!O:O,">39083",WFCN!O:O,"<39448") -> 0 | X9: =COUNTIFS(WFCN!$E:$E,">39083",WFCN!$E:$E,"<39448",WFCN!P:P,"oui") -> 0 | Y9: =S9-U9 -> #REF! | Z9: 122 | AA9: =COUNTIFS(WFCN!A:A,">39083",WFCN!A:A,"<39448") -> 1 | AB9: =COUNTIFS(WFCN!$E:$E,">39083",WFCN!$E:$E,"<39448",WFCN!$H:$H,"s")+COUNTIFS(WFCN!$E:$E,">39814",WFCN!$E:$E,"<40179",WFCN!$H:$H,"mpi") -> 0 | AC9: =COUNTIFS(WFCN!$E:$E,">39083",WFCN!$E:$E,"<39448",WFCN!$H:$H,"MA")+COUNTIFS(WFCN!$E:$E,">39083",WFCN!$E:$E,"<39448",WFCN!$H:$H,"MP0") -> 4 | AD9: =COUNTIFS(WFCN!E:E,">39083",WFCN!E:E,"<39448",WFCN!H:H,"f") -> 1
A10: Septembre | B10: =COUNTIF(Tornade!#REF!,9)/(YEAR(MAX(Tornade!A:A))-YEAR(MIN(Tornade!A:A))) -> #REF! | C10: =B10/SUM(B$2:B$13) -> #REF! | L10: 2008 | M10: =COUNTIFS(Tornade!#REF!,$L10,Tornade!#REF!,"T(F0)")+COUNTIFS(Tornade!#REF!,$L10,Tornade!#REF!,"T(EF0)") -> #REF! | N10: =COUNTIFS(Tornade!#REF!,$L10,Tornade!#REF!,"T(F1)")+COUNTIFS(Tornade!#REF!,$L10,Tornade!#REF!,"T(EF1)") -> #REF! | O10: =COUNTIFS(Tornade!#REF!,$L10,Tornade!#REF!,"T(F2)")+COUNTIFS(Tornade!#REF!,$L10,Tornade!#REF!,"T(EF2)") -> #REF! | P10: =COUNTIFS(Tornade!#REF!,$L10,Tornade!#REF!,"T(F3)")+COUNTIFS(Tornade!#REF!,$L10,Tornade!#REF!,"T(EF3)") -> #REF! | Q10: =COUNTIFS(Tornade!#REF!,$L10,Tornade!#REF!,"T(F4)")+COUNTIFS(Tornade!#REF!,$L10,Tornade!#REF!,"T(EF4)") -> #REF! | R10: =COUNTIFS(Tornade!#REF!,$L10,Tornade!#REF!,"T(F5)")+COUNTIFS(Tornade!#REF!,$L10,Tornade!#REF!,"T(EF5)") -> #REF! | S10: =SUM(M10:R10) -> #REF! | U10: =COUNTIFS(WFCN!N:N,">39448",WFCN!N:N,"<39814") -> 2 | V10: =COUNTIFS(WFCN!O:O,">39448",WFCN!O:O,"<39814") -> 2 | X10: =COUNTIFS(WFCN!$E:$E,">39448",WFCN!$E:$E,"<39814",WFCN!P:P,"oui") -> 1 | Y10: =S10-U10 -> #REF! | Z10: 218 | AA10: =COUNTIFS(WFCN!A:A,">39448",WFCN!A:A,"<39814") -> 0 | AB10: =COUNTIFS(WFCN!$E:$E,">39448",WFCN!$E:$E,"<39814",WFCN!$H:$H,"s")+COUNTIFS(WFCN!$E:$E,">39814",WFCN!$E:$E,"<40179",WFCN!$H:$H,"mpi") -> 0 | AC10: =COUNTIFS(WFCN!$E:$E,">39448",WFCN!$E:$E,"<39814",WFCN!$H:$H,"MA")+COUNTIFS(WFCN!$E:$E,">39448",WFCN!$E:$E,"<39814",WFCN!$H:$H,"MP0") -> 4 | AD10: =COUNTIFS(WFCN!E:E,">39448",WFCN!E:E,"<39814",WFCN!H:H,"f") -> 0
A11: Octobre | B11: =COUNTIF(Tornade!#REF!,10)/(YEAR(MAX(Tornade!A:A))-YEAR(MIN(Tornade!A:A))) -> #REF! | C11: =B11/SUM(B$2:B$13) -> #REF! | L11: 2009 | M11: =COUNTIFS(Tornade!#REF!,$L11,Tornade!#REF!,"T(F0)")+COUNTIFS(Tornade!#REF!,$L11,Tornade!#REF!,"T(EF0)") -> #REF! | N11: =COUNTIFS(Tornade!#REF!,$L11,Tornade!#REF!,"T(F1)")+COUNTIFS(Tornade!#REF!,$L11,Tornade!#REF!,"T(EF1)") -> #REF! | O11: =COUNTIFS(Tornade!#REF!,$L11,Tornade!#REF!,"T(F2)")+COUNTIFS(Tornade!#REF!,$L11,Tornade!#REF!,"T(EF2)") -> #REF! | P11: =COUNTIFS(Tornade!#REF!,$L11,Tornade!#REF!,"T(F3)")+COUNTIFS(Tornade!#REF!,$L11,Tornade!#REF!,"T(EF3)") -> #REF! | Q11: =COUNTIFS(Tornade!#REF!,$L11,Tornade!#REF!,"T(F4)")+COUNTIFS(Tornade!#REF!,$L11,Tornade!#REF!,"T(EF4)") -> #REF! | R11: =COUNTIFS(Tornade!#REF!,$L11,Tornade!#REF!,"T(F5)")+COUNTIFS(Tornade!#REF!,$L11,Tornade!#REF!,"T(EF5)") -> #REF! | S11: =SUM(M11:R11) -> #REF! | U11: =COUNTIFS(WFCN!N:N,">39814",WFCN!N:N,"<40179") -> 5 | V11: =COUNTIFS(WFCN!O:O,">39814",WFCN!O:O,"<40179") -> 4 | X11: =COUNTIFS(WFCN!$E:$E,">39814",WFCN!$E:$E,"<40179",WFCN!P:P,"oui") -> 1 | Y11: =S11-U11 -> #REF! | Z11: 19 | AA11: =COUNTIFS(WFCN!A:A,">39814",WFCN!A:A,"<40179") -> 12 | AB11: =COUNTIFS(WFCN!$E:$E,">39814",WFCN!$E:$E,"<40179",WFCN!$H:$H,"s")+COUNTIFS(WFCN!$E:$E,">39814",WFCN!$E:$E,"<40179",WFCN!$H:$H,"mpi") -> 0 | AC11: =COUNTIFS(WFCN!$E:$E,">39814",WFCN!$E:$E,"<40179",WFCN!$H:$H,"MA")+COUNTIFS(WFCN!$E:$E,">39814",WFCN!$E:$E,"<40179",WFCN!$H:$H,"MP0") -> 8 | AD11: =COUNTIFS(WFCN!E:E,">39814",WFCN!E:E,"<40179",WFCN!H:H,"f") -> 10
A12: Novembre | B12: =COUNTIF(Tornade!#REF!,11)/(YEAR(MAX(Tornade!A:A))-YEAR(MIN(Tornade!A:A))) -> #REF! | C12: =B12/SUM(B$2:B$13) -> #REF! | L12: 2010 | M12: =COUNTIFS(Tornade!#REF!,$L12,Tornade!#REF!,"T(F0)")+COUNTIFS(Tornade!#REF!,$L12,Tornade!#REF!,"T(EF0)") -> #REF! | N12: =COUNTIFS(Tornade!#REF!,$L12,Tornade!#REF!,"T(F1)")+COUNTIFS(Tornade!#REF!,$L12,Tornade!#REF!,"T(EF1)") -> #REF! | O12: =COUNTIFS(Tornade!#REF!,$L12,Tornade!#REF!,"T(F2)")+COUNTIFS(Tornade!#REF!,$L12,Tornade!#REF!,"T(EF2)") -> #REF! | P12: =COUNTIFS(Tornade!#REF!,$L12,Tornade!#REF!,"T(F3)")+COUNTIFS(Tornade!#REF!,$L12,Tornade!#REF!,"T(EF3)") -> #REF! | Q12: =COUNTIFS(Tornade!#REF!,$L12,Tornade!#REF!,"T(F4)")+COUNTIFS(Tornade!#REF!,$L12,Tornade!#REF!,"T(EF4)") -> #REF! | R12: =COUNTIFS(Tornade!#REF!,$L12,Tornade!#REF!,"T(F5)")+COUNTIFS(Tornade!#REF!,$L12,Tornade!#REF!,"T(EF5)") -> #REF! | S12: =SUM(M12:R12) -> #REF! | U12: =COUNTIFS(WFCN!N:N,">40179",WFCN!N:N,"<40544") -> 3 | V12: =COUNTIFS(WFCN!O:O,">40179",WFCN!O:O,"<40544") -> 1 | X12: =COUNTIFS(WFCN!$E:$E,">40179",WFCN!$E:$E,"<40544",WFCN!P:P,"oui") -> 2 | Y12: =S12-U12 -> #REF! | Z12: 254 | AA12: =COUNTIFS(WFCN!A:A,">40179",WFCN!A:A,"<40544") -> 3 | AB12: =COUNTIFS(WFCN!$E:$E,">40179",WFCN!$E:$E,"<40544",WFCN!$H:$H,"s")+COUNTIFS(WFCN!$E:$E,">39814",WFCN!$E:$E,"<40179",WFCN!$H:$H,"mpi") -> 0 | AC12: =COUNTIFS(WFCN!$E:$E,">40179",WFCN!$E:$E,"<40544",WFCN!$H:$H,"MA")+COUNTIFS(WFCN!$E:$E,">40179",WFCN!$E:$E,"<40544",WFCN!$H:$H,"MP0") -> 5 | AD12: =COUNTIFS(WFCN!E:E,">40179",WFCN!E:E,"<40544",WFCN!H:H,"f") -> 3
A13: Décembre | B13: =COUNTIF(Tornade!#REF!,12)/(YEAR(MAX(Tornade!A:A))-YEAR(MIN(Tornade!A:A))) -> #REF! | C13: =B13/SUM(B$2:B$13) -> #REF! | L13: 2011 | M13: =COUNTIFS(Tornade!#REF!,$L13,Tornade!#REF!,"T(F0)")+COUNTIFS(Tornade!#REF!,$L13,Tornade!#REF!,"T(EF0)") -> #REF! | N13: =COUNTIFS(Tornade!#REF!,$L13,Tornade!#REF!,"T(F1)")+COUNTIFS(Tornade!#REF!,$L13,Tornade!#REF!,"T(EF1)") -> #REF! | O13: =COUNTIFS(Tornade!#REF!,$L13,Tornade!#REF!,"T(F2)")+COUNTIFS(Tornade!#REF!,$L13,Tornade!#REF!,"T(EF2)") -> #REF! | P13: =COUNTIFS(Tornade!#REF!,$L13,Tornade!#REF!,"T(F3)")+COUNTIFS(Tornade!#REF!,$L13,Tornade!#REF!,"T(EF3)") -> #REF! | Q13: =COUNTIFS(Tornade!#REF!,$L13,Tornade!#REF!,"T(F4)")+COUNTIFS(Tornade!#REF!,$L13,Tornade!#REF!,"T(EF4)") -> #REF! | R13: =COUNTIFS(Tornade!#REF!,$L13,Tornade!#REF!,"T(F5)")+COUNTIFS(Tornade!#REF!,$L13,Tornade!#REF!,"T(EF5)") -> #REF! | S13: =SUM(M13:R13) -> #REF! | U13: =COUNTIFS(WFCN!N:N,">40544",WFCN!N:N,"<40909") -> 4 | V13: =COUNTIFS(WFCN!O:O,">40544",WFCN!O:O,"<40909") -> 3 | X13: =COUNTIFS(WFCN!$E:$E,">40544",WFCN!$E:$E,"<40909",WFCN!P:P,"oui") -> 2 | Y13: =S13-U13 -> #REF! | Z13: 505 | AA13: =COUNTIFS(WFCN!A:A,">40544",WFCN!A:A,"<40909") -> 5 | AB13: =COUNTIFS(WFCN!$E:$E,">40544",WFCN!$E:$E,"<40909",WFCN!$H:$H,"s")+COUNTIFS(WFCN!$E:$E,">39814",WFCN!$E:$E,"<40179",WFCN!$H:$H,"mpi") -> 0 | AC13: =COUNTIFS(WFCN!$E:$E,">40544",WFCN!$E:$E,"<40909",WFCN!$H:$H,"MA")+COUNTIFS(WFCN!$E:$E,">40544",WFCN!$E:$E,"<40909",WFCN!$H:$H,"MP0") -> 4 | AD13: =COUNTIFS(WFCN!E:E,">40544",WFCN!E:E,"<40909",WFCN!H:H,"f") -> 5
A14: Total | B14: =SUM(B2:B13) -> #REF! | L14: 2012 | M14: =COUNTIFS(Tornade!#REF!,$L14,Tornade!#REF!,"T(F0)")+COUNTIFS(Tornade!#REF!,$L14,Tornade!#REF!,"T(EF0)") -> #REF! | N14: =COUNTIFS(Tornade!#REF!,$L14,Tornade!#REF!,"T(F1)")+COUNTIFS(Tornade!#REF!,$L14,Tornade!#REF!,"T(EF1)") -> #REF! | O14: =COUNTIFS(Tornade!#REF!,$L14,Tornade!#REF!,"T(F2)")+COUNTIFS(Tornade!#REF!,$L14,Tornade!#REF!,"T(EF2)") -> #REF! | P14: =COUNTIFS(Tornade!#REF!,$L14,Tornade!#REF!,"T(F3)")+COUNTIFS(Tornade!#REF!,$L14,Tornade!#REF!,"T(EF3)") -> #REF! | Q14: =COUNTIFS(Tornade!#REF!,$L14,Tornade!#REF!,"T(F4)")+COUNTIFS(Tornade!#REF!,$L14,Tornade!#REF!,"T(EF4)") -> #REF! | R14: =COUNTIFS(Tornade!#REF!,$L14,Tornade!#REF!,"T(F5)")+COUNTIFS(Tornade!#REF!,$L14,Tornade!#REF!,"T(EF5)") -> #REF! | S14: =SUM(M14:R14) -> #REF! | U14: =COUNTIFS(WFCN!N:N,">40909",WFCN!N:N,"<41275") -> 5 | V14: =COUNTIFS(WFCN!O:O,">40909",WFCN!O:O,"<41275") -> 4 | X14: =COUNTIFS(WFCN!$E:$E,">40909",WFCN!$E:$E,"<41275",WFCN!P:P,"oui") -> 3 | Y14: =S14-U14 -> #REF! | Z14: 323 | AA14: =COUNTIFS(WFCN!A:A,">40909",WFCN!A:A,"<41275") -> 29 | AB14: =COUNTIFS(WFCN!$E:$E,">40909",WFCN!$E:$E,"<41275",WFCN!$H:$H,"s")+COUNTIFS(WFCN!$E:$E,">39814",WFCN!$E:$E,"<40179",WFCN!$H:$H,"mpi") -> 1 | AC14: =COUNTIFS(WFCN!$E:$E,">40909",WFCN!$E:$E,"<41275",WFCN!$H:$H,"MA")+COUNTIFS(WFCN!$E:$E,">40909",WFCN!$E:$E,"<41275",WFCN!$H:$H,"MP0") -> 5 | AD14: =COUNTIFS(WFCN!E:E,">40909",WFCN!E:E,"<41275",WFCN!H:H,"f") -> 28
L15: 2013 | M15: =COUNTIFS(Tornade!#REF!,$L15,Tornade!#REF!,"T(F0)")+COUNTIFS(Tornade!#REF!,$L15,Tornade!#REF!,"T(EF0)") -> #REF! | N15: =COUNTIFS(Tornade!#REF!,$L15,Tornade!#REF!,"T(F1)")+COUNTIFS(Tornade!#REF!,$L15,Tornade!#REF!,"T(EF1)") -> #REF! | O15: =COUNTIFS(Tornade!#REF!,$L15,Tornade!#REF!,"T(F2)")+COUNTIFS(Tornade!#REF!,$L15,Tornade!#REF!,"T(EF2)") -> #REF! | P15: =COUNTIFS(Tornade!#REF!,$L15,Tornade!#REF!,"T(F3)")+COUNTIFS(Tornade!#REF!,$L15,Tornade!#REF!,"T(EF3)") -> #REF! | Q15: =COUNTIFS(Tornade!#REF!,$L15,Tornade!#REF!,"T(F4)")+COUNTIFS(Tornade!#REF!,$L15,Tornade!#REF!,"T(EF4)") -> #REF! | R15: =COUNTIFS(Tornade!#REF!,$L15,Tornade!#REF!,"T(F5)")+COUNTIFS(Tornade!#REF!,$L15,Tornade!#REF!,"T(EF5)") -> #REF! | S15: =SUM(M15:R15) -> #REF! | U15: =COUNTIFS(WFCN!N:N,">41275",WFCN!N:N,"<41640") -> 2 | V15: =COUNTIFS(WFCN!O:O,">41275",WFCN!O:O,"<41640") -> 1 | X15: =COUNTIFS(WFCN!$E:$E,">41275",WFCN!$E:$E,"<41640",WFCN!P:P,"oui") -> 1 | Y15: =S15-U15 -> #REF! | Z15: 426 | AA15: =COUNTIFS(WFCN!A:A,">41275",WFCN!A:A,"<41640") -> 20 | AB15: =COUNTIFS(WFCN!$E:$E,">41275",WFCN!$E:$E,"<41640",WFCN!$H:$H,"s")+COUNTIFS(WFCN!$E:$E,">39814",WFCN!$E:$E,"<40179",WFCN!$H:$H,"mpi") -> 0 | AC15: =COUNTIFS(WFCN!$E:$E,">41275",WFCN!$E:$E,"<41640",WFCN!$H:$H,"MA")+COUNTIFS(WFCN!$E:$E,">41275",WFCN!$E:$E,"<41640",WFCN!$H:$H,"MP0") -> 4 | AD15: =COUNTIFS(WFCN!E:E,">41275",WFCN!E:E,"<41640",WFCN!H:H,"f") -> 20
A16: Intensité | B16: F | C16: EF | L16: 2014 | M16: =COUNTIFS(Tornade!#REF!,$L16,Tornade!#REF!,"T(F0)")+COUNTIFS(Tornade!#REF!,$L16,Tornade!#REF!,"T(EF0)") -> #REF! | N16: =COUNTIFS(Tornade!#REF!,$L16,Tornade!#REF!,"T(F1)")+COUNTIFS(Tornade!#REF!,$L16,Tornade!#REF!,"T(EF1)") -> #REF! | O16: =COUNTIFS(Tornade!#REF!,$L16,Tornade!#REF!,"T(F2)")+COUNTIFS(Tornade!#REF!,$L16,Tornade!#REF!,"T(EF2)") -> #REF! | P16: =COUNTIFS(Tornade!#REF!,$L16,Tornade!#REF!,"T(F3)")+COUNTIFS(Tornade!#REF!,$L16,Tornade!#REF!,"T(EF3)") -> #REF! | Q16: =COUNTIFS(Tornade!#REF!,$L16,Tornade!#REF!,"T(F4)")+COUNTIFS(Tornade!#REF!,$L16,Tornade!#REF!,"T(EF4)") -> #REF! | R16: =COUNTIFS(Tornade!#REF!,$L16,Tornade!#REF!,"T(F5)")+COUNTIFS(Tornade!#REF!,$L16,Tornade!#REF!,"T(EF5)") -> #REF! | S16: =SUM(M16:R16) -> #REF! | U16: =COUNTIFS(WFCN!N:N,">41640",WFCN!N:N,"<42005") -> 6 | V16: =COUNTIFS(WFCN!O:O,">41640",WFCN!O:O,"<42005") -> 3 | X16: =COUNTIFS(WFCN!$E:$E,">41640",WFCN!$E:$E,"<42005",WFCN!P:P,"oui") -> 3 | Y16: =S16-U16 -> #REF! | Z16: 263 | AA16: =COUNTIFS(WFCN!A:A,">41640",WFCN!A:A,"<42005") -> 16 | AB16: =COUNTIFS(WFCN!$E:$E,">41640",WFCN!$E:$E,"<42005",WFCN!$H:$H,"s")+COUNTIFS(WFCN!$E:$E,">39814",WFCN!$E:$E,"<40179",WFCN!$H:$H,"mpi") -> 0 | AC16: =COUNTIFS(WFCN!$E:$E,">41640",WFCN!$E:$E,"<42005",WFCN!$H:$H,"MA")+COUNTIFS(WFCN!$E:$E,">41640",WFCN!$E:$E,"<42005",WFCN!$H:$H,"MP0") -> 6 | AD16: =COUNTIFS(WFCN!E:E,">41640",WFCN!E:E,"<42005",WFCN!H:H,"f") -> 13
A17: 0 | B17: =COUNTIF(Tornade!#REF!,"T(F0)") -> #REF! | C17: =COUNTIF(Tornade!#REF!,"T(EF0)") -> #REF! | L17: 2015 | M17: =COUNTIFS(Tornade!#REF!,$L17,Tornade!#REF!,"T(F0)")+COUNTIFS(Tornade!#REF!,$L17,Tornade!#REF!,"T(EF0)") -> #REF! | N17: =COUNTIFS(Tornade!#REF!,$L17,Tornade!#REF!,"T(F1)")+COUNTIFS(Tornade!#REF!,$L17,Tornade!#REF!,"T(EF1)") -> #REF! | O17: =COUNTIFS(Tornade!#REF!,$L17,Tornade!#REF!,"T(F2)")+COUNTIFS(Tornade!#REF!,$L17,Tornade!#REF!,"T(EF2)") -> #REF! | P17: =COUNTIFS(Tornade!#REF!,$L17,Tornade!#REF!,"T(F3)")+COUNTIFS(Tornade!#REF!,$L17,Tornade!#REF!,"T(EF3)") -> #REF! | Q17: =COUNTIFS(Tornade!#REF!,$L17,Tornade!#REF!,"T(F4)")+COUNTIFS(Tornade!#REF!,$L17,Tornade!#REF!,"T(EF4)") -> #REF! | R17: =COUNTIFS(Tornade!#REF!,$L17,Tornade!#REF!,"T(F5)")+COUNTIFS(Tornade!#REF!,$L17,Tornade!#REF!,"T(EF5)") -> #REF! | S17: =SUM(M17:R17) -> #REF! | U17: =COUNTIFS(WFCN!N:N,">42005",WFCN!N:N,"<42370") -> 1 | V17: =COUNTIFS(WFCN!O:O,">42005",WFCN!O:O,"<42370") -> 0 | X17: =COUNTIFS(WFCN!$E:$E,">42005",WFCN!$E:$E,"<42370",WFCN!P:P,"oui") -> 0 | Y17: =S17-U17 -> #REF! | Z17: 403 | AA17: =COUNTIFS(WFCN!A:A,">42005",WFCN!A:A,"<42370") -> 6 | AB17: =COUNTIFS(WFCN!$E:$E,">42005",WFCN!$E:$E,"<42370",WFCN!$H:$H,"s")+COUNTIFS(WFCN!$E:$E,">39814",WFCN!$E:$E,"<40179",WFCN!$H:$H,"mpi") -> 0 | AC17: =COUNTIFS(WFCN!$E:$E,">42005",WFCN!$E:$E,"<42370",WFCN!$H:$H,"MA")+COUNTIFS(WFCN!$E:$E,">42005",WFCN!$E:$E,"<42370",WFCN!$H:$H,"MP0") -> 1 | AD17: =COUNTIFS(WFCN!E:E,">42005",WFCN!E:E,"<42370",WFCN!H:H,"f") -> 6
A18: 1 | B18: =COUNTIF(Tornade!#REF!,"T(F1)") -> #REF! | C18: =COUNTIF(Tornade!#REF!,"T(EF1)") -> #REF! | L18: 2016 | M18: =COUNTIFS(Tornade!#REF!,$L18,Tornade!#REF!,"T(F0)")+COUNTIFS(Tornade!#REF!,$L18,Tornade!#REF!,"T(EF0)") -> #REF! | N18: =COUNTIFS(Tornade!#REF!,$L18,Tornade!#REF!,"T(F1)")+COUNTIFS(Tornade!#REF!,$L18,Tornade!#REF!,"T(EF1)") -> #REF! | O18: =COUNTIFS(Tornade!#REF!,$L18,Tornade!#REF!,"T(F2)")+COUNTIFS(Tornade!#REF!,$L18,Tornade!#REF!,"T(EF2)") -> #REF! | P18: =COUNTIFS(Tornade!#REF!,$L18,Tornade!#REF!,"T(F3)")+COUNTIFS(Tornade!#REF!,$L18,Tornade!#REF!,"T(EF3)") -> #REF! | Q18: =COUNTIFS(Tornade!#REF!,$L18,Tornade!#REF!,"T(F4)")+COUNTIFS(Tornade!#REF!,$L18,Tornade!#REF!,"T(EF4)") -> #REF! | R18: =COUNTIFS(Tornade!#REF!,$L18,Tornade!#REF!,"T(F5)")+COUNTIFS(Tornade!#REF!,$L18,Tornade!#REF!,"T(EF5)") -> #REF! | S18: =SUM(M18:R18) -> #REF! | U18: =COUNTIFS(WFCN!N:N,">42370",WFCN!N:N,"<42736") -> 4 | V18: =COUNTIFS(WFCN!O:O,">42370",WFCN!O:O,"<42736") -> 2 | X18: =COUNTIFS(WFCN!$E:$E,">42370",WFCN!$E:$E,"<42736",WFCN!P:P,"oui") -> 1 | Y18: =S18-U18 -> #REF! | AA18: =COUNTIFS(WFCN!A:A,">42370",WFCN!A:A,"<42736") -> 1 | AB18: =COUNTIFS(WFCN!$E:$E,">42370",WFCN!$E:$E,"<42736",WFCN!$H:$H,"s")+COUNTIFS(WFCN!$E:$E,">39814",WFCN!$E:$E,"<40179",WFCN!$H:$H,"mpi") -> 0 | AC18: =COUNTIFS(WFCN!$E:$E,">42370",WFCN!$E:$E,"<42736",WFCN!$H:$H,"MA")+COUNTIFS(WFCN!$E:$E,">42370",WFCN!$E:$E,"<42736",WFCN!$H:$H,"MP0") -> 4 | AD18: =COUNTIFS(WFCN!E:E,">42370",WFCN!E:E,"<42736",WFCN!H:H,"f") -> 1
A19: 2 | B19: =COUNTIF(Tornade!#REF!,"T(F2)") -> #REF! | C19: =COUNTIF(Tornade!#REF!,"T(EF2)") -> #REF! | L19: 2017 | M19: =COUNTIFS(Tornade!#REF!,$L19,Tornade!#REF!,"T(F0)")+COUNTIFS(Tornade!#REF!,$L19,Tornade!#REF!,"T(EF0)") -> #REF! | N19: =COUNTIFS(Tornade!#REF!,$L19,Tornade!#REF!,"T(F1)")+COUNTIFS(Tornade!#REF!,$L19,Tornade!#REF!,"T(EF1)") -> #REF! | O19: =COUNTIFS(Tornade!#REF!,$L19,Tornade!#REF!,"T(F2)")+COUNTIFS(Tornade!#REF!,$L19,Tornade!#REF!,"T(EF2)") -> #REF! | P19: =COUNTIFS(Tornade!#REF!,$L19,Tornade!#REF!,"T(F3)")+COUNTIFS(Tornade!#REF!,$L19,Tornade!#REF!,"T(EF3)") -> #REF! | Q19: =COUNTIFS(Tornade!#REF!,$L19,Tornade!#REF!,"T(F4)")+COUNTIFS(Tornade!#REF!,$L19,Tornade!#REF!,"T(EF4)") -> #REF! | R19: =COUNTIFS(Tornade!#REF!,$L19,Tornade!#REF!,"T(F5)")+COUNTIFS(Tornade!#REF!,$L19,Tornade!#REF!,"T(EF5)") -> #REF! | S19: =SUM(M19:R19) -> #REF! | U19: =COUNTIFS(WFCN!N:N,">42736",WFCN!N:N,"<43101") -> 7 | V19: =COUNTIFS(WFCN!O:O,">42736",WFCN!O:O,"<43101") -> 2 | X19: =COUNTIFS(WFCN!$E:$E,">42736",WFCN!$E:$E,"<43101",WFCN!P:P,"oui") -> 1 | Y19: =S19-U19 -> #REF! | AA19: =COUNTIFS(WFCN!A:A,">42736",WFCN!A:A,"<43101") -> 24 | AB19: =COUNTIFS(WFCN!$E:$E,">42736",WFCN!$E:$E,"<43101",WFCN!$H:$H,"s")+COUNTIFS(WFCN!$E:$E,">39814",WFCN!$E:$E,"<40179",WFCN!$H:$H,"mpi") -> 0 | AC19: =COUNTIFS(WFCN!$E:$E,">42736",WFCN!$E:$E,"<43101",WFCN!$H:$H,"MA")+COUNTIFS(WFCN!$E:$E,">42736",WFCN!$E:$E,"<43101",WFCN!$H:$H,"MP0") -> 14 | AD19: =COUNTIFS(WFCN!E:E,">42736",WFCN!E:E,"<43101",WFCN!H:H,"f") -> 24
A20: 3 | B20: =COUNTIF(Tornade!#REF!,"T(F3)") -> #REF! | C20: =COUNTIF(Tornade!#REF!,"T(EF3)") -> #REF! | L20: 2018 | M20: =COUNTIFS(Tornade!#REF!,$L20,Tornade!#REF!,"T(F0)")+COUNTIFS(Tornade!#REF!,$L20,Tornade!#REF!,"T(EF0)") -> #REF! | N20: =COUNTIFS(Tornade!#REF!,$L20,Tornade!#REF!,"T(F1)")+COUNTIFS(Tornade!#REF!,$L20,Tornade!#REF!,"T(EF1)") -> #REF! | O20: =COUNTIFS(Tornade!#REF!,$L20,Tornade!#REF!,"T(F2)")+COUNTIFS(Tornade!#REF!,$L20,Tornade!#REF!,"T(EF2)") -> #REF! | P20: =COUNTIFS(Tornade!#REF!,$L20,Tornade!#REF!,"T(F3)")+COUNTIFS(Tornade!#REF!,$L20,Tornade!#REF!,"T(EF3)") -> #REF! | Q20: =COUNTIFS(Tornade!#REF!,$L20,Tornade!#REF!,"T(F4)")+COUNTIFS(Tornade!#REF!,$L20,Tornade!#REF!,"T(EF4)") -> #REF! | R20: =COUNTIFS(Tornade!#REF!,$L20,Tornade!#REF!,"T(F5)")+COUNTIFS(Tornade!#REF!,$L20,Tornade!#REF!,"T(EF5)") -> #REF! | S20: =SUM(M20:R20) -> #REF! | U20: =COUNTIFS(WFCN!N:N,">43101",WFCN!N:N,"<43466") -> 5 | V20: =COUNTIFS(WFCN!O:O,">43101",WFCN!O:O,"<43466") -> 3 | X20: =COUNTIFS(WFCN!$E:$E,">43101",WFCN!$E:$E,"<43466",WFCN!P:P,"oui") -> 1 | Y20: =S20-U20 -> #REF! | AA20: =COUNTIFS(WFCN!A:A,">43101",WFCN!A:A,"<43466") -> 4 | AB20: =COUNTIFS(WFCN!$E:$E,">43101",WFCN!$E:$E,"<43466",WFCN!$H:$H,"s")+COUNTIFS(WFCN!$E:$E,">39814",WFCN!$E:$E,"<40179",WFCN!$H:$H,"mpi") -> 0 | AC20: =COUNTIFS(WFCN!$E:$E,">43101",WFCN!$E:$E,"<43466",WFCN!$H:$H,"MA")+COUNTIFS(WFCN!$E:$E,">43101",WFCN!$E:$E,"<43466",WFCN!$H:$H,"MP0") -> 6 | AD20: =COUNTIFS(WFCN!E:E,">43101",WFCN!E:E,"<43466",WFCN!H:H,"f") -> 4
A21: 4 | B21: =COUNTIF(Tornade!#REF!,"T(F4)") -> #REF! | C21: =COUNTIF(Tornade!#REF!,"T(EF4)") -> #REF! | L21: 2019 | U21: =COUNTIFS(WFCN!N:N,">43466",WFCN!N:N,"<43831") -> 0 | V21: =COUNTIFS(WFCN!O:O,">43466",WFCN!O:O,"<43831") -> 0 | X21: =COUNTIFS(WFCN!$E:$E,">43466",WFCN!$E:$E,"<43831",WFCN!P:P,"oui") -> 0 | Y21: =S21-U21 -> 0 | AA21: =COUNTIFS(WFCN!A:A,">43466",WFCN!A:A,"<43831") -> 0 | AB21: =COUNTIFS(WFCN!$E:$E,">43466",WFCN!$E:$E,"<43831",WFCN!$H:$H,"s")+COUNTIFS(WFCN!$E:$E,">43466",WFCN!$E:$E,"<43831",WFCN!$H:$H,"mpi") -> 0 | AC21: =COUNTIFS(WFCN!$E:$E,">43466",WFCN!$E:$E,"<43831",WFCN!$H:$H,"MA")+COUNTIFS(WFCN!$E:$E,">43466",WFCN!$E:$E,"<43831",WFCN!$H:$H,"MP0") -> 0 | AD21: =COUNTIFS(WFCN!E:E,">43466",WFCN!E:E,"<43831",WFCN!H:H,"f") -> 0
A22: 5 | B22: =COUNTIF(Tornade!#REF!,"T(F5)") -> #REF! | C22: =COUNTIF(Tornade!#REF!,"T(EF5)") -> #REF! | L22: 2020 | U22: =COUNTIFS(WFCN!N:N,">43831",WFCN!N:N,"<44196") -> 0 | V22: =COUNTIFS(WFCN!O:O,">43831",WFCN!O:O,"<44196") -> 0 | X22: 0 | Y22: =S22-U22 -> 0 | Z22: 0 | AA22: =COUNTIFS(WFCN!A:A,">43831",WFCN!A:A,"<44196") -> 0 | AB22: =COUNTIFS(WFCN!$E:$E,">43831",WFCN!$E:$E,"<44196",WFCN!$H:$H,"s")+COUNTIFS(WFCN!$E:$E,">43831",WFCN!$E:$E,"<44196",WFCN!$H:$H,"mpi") -> 0 | AC22: =COUNTIFS(WFCN!$E:$E,">43831",WFCN!$E:$E,"<44196",WFCN!$H:$H,"MA")+COUNTIFS(WFCN!$E:$E,">43831",WFCN!$E:$E,"<44196",WFCN!$H:$H,"MP0") -> 0 | AD22: =COUNTIFS(WFCN!E:E,">43831",WFCN!E:E,"<44196",WFCN!H:H,"f") -> 0
L23: TOTAL | M23: =SUM(M3:M22) -> #REF! | N23: =SUM(N3:N22) -> #REF! | O23: =SUM(O3:O22) -> #REF! | P23: =SUM(P3:P22) -> #REF! | Q23: =SUM(Q3:Q22) -> #REF! | R23: =SUM(R3:R22) -> #REF! | S23: =SUM(S3:S22) -> #REF! | U23: =SUM(U3:U22) -> 71 | V23: =SUM(V3:V22) -> 42 | X23: =SUM(X3:X22) -> 16 | Z23: =SUM(Z3:Z22) -> 3121 | AA23: =SUM(AA3:AA22) -> 136 | AB23: =SUM(AB3:AB22) -> 1 | AC23: =SUM(AC3:AC22) -> 100 | AD23: =SUM(AD3:AD22) -> 126
M24: =M23/$S23 -> #REF! | N24: =N23/$S23 -> #REF! | O24: =O23/$S23 -> #REF! | P24: =P23/$S23 -> #REF! | Q24: =Q23/$S23 -> #REF! | R24: =R23/$S23 -> #REF! | S24: en % | U24: =U23/S23 -> #REF! | V24: =V23/$S23 -> #REF! | X24: =X23/$S23 -> #REF! | AB24: =AB23/$S23 -> #REF!
A25: Fréquence horaire depuis 1988
A26: Heure (TU) | B26: Occurrence | C26: Pourcentage
A27: 0 | B27: =COUNTIFS(Tornade!#REF!,A27,Tornade!A:A,">32143") -> #REF! | C27: =B27/SUM(B$27:B$50) -> #REF!
A28: 1 | B28: =COUNTIFS(Tornade!#REF!,A28,Tornade!A:A,">32143") -> #REF! | C28: =B28/SUM(B$27:B$50) -> #REF!
A29: 2 | B29: =COUNTIFS(Tornade!#REF!,A29,Tornade!A:A,">32143") -> #REF! | C29: =B29/SUM(B$27:B$50) -> #REF!
A30: 3 | B30: =COUNTIFS(Tornade!#REF!,A30,Tornade!A:A,">32143") -> #REF! | C30: =B30/SUM(B$27:B$50) -> #REF!
A31: 4 | B31: =COUNTIFS(Tornade!#REF!,A31,Tornade!A:A,">32143") -> #REF! | C31: =B31/SUM(B$27:B$50) -> #REF!
A32: 5 | B32: =COUNTIFS(Tornade!#REF!,A32,Tornade!A:A,">32143") -> #REF! | C32: =B32/SUM(B$27:B$50) -> #REF!
A33: 6 | B33: =COUNTIFS(Tornade!#REF!,A33,Tornade!A:A,">32143") -> #REF! | C33: =B33/SUM(B$27:B$50) -> #REF!
A34: 7 | B34: =COUNTIFS(Tornade!#REF!,A34,Tornade!A:A,">32143") -> #REF! | C34: =B34/SUM(B$27:B$50) -> #REF!
A35: 8 | B35: =COUNTIFS(Tornade!#REF!,A35,Tornade!A:A,">32143") -> #REF! | C35: =B35/SUM(B$27:B$50) -> #REF!
A36: 9 | B36: =COUNTIFS(Tornade!#REF!,A36,Tornade!A:A,">32143") -> #REF! | C36: =B36/SUM(B$27:B$50) -> #REF!
A37: 10 | B37: =COUNTIFS(Tornade!#REF!,A37,Tornade!A:A,">32143") -> #REF! | C37: =B37/SUM(B$27:B$50) -> #REF!
A38: 11 | B38: =COUNTIFS(Tornade!#REF!,A38,Tornade!A:A,">32143") -> #REF! | C38: =B38/SUM(B$27:B$50) -> #REF!
... A50: 23 | B50: =COUNTIFS(Tornade!#REF!,A50,Tornade!A:A,">32143") -> #REF! | C50: =B50/SUM(B$27:B$50) -> #REF!
A51: Total | B51: =SUM(B27:B50) -> #REF!

Sheet Stat_Tornade
A1: année | I1: Veille | J1: Alerte | K1: Alertes + mention Tornade | O1: WF (Alertes de tornade)
A2: année | B2: F0 | C2: F1 | D2: F2 | E2: F3 | F2: F4 | G2: F5 | H2: Total | I2: en vigueur | K2: Issued | L2: Hit | M2: F | N2: Miss | O2: Issued | P2: Hit | Q2: F | R2: Miss
A3: 2001 | B3: 2 | C3: 4 | D3: 1 | E3: 0 | F3: 0 | G3: 0 | H3: 7 | I3: 6 | J3: 4 | K3: 14 | L3: 0 | M3: 14 | N3: 7 | O3: 5 | P3: 1 | Q3: 4 | R3: 6
A4: 2002 | B4: 1 | C4: 4 | D4: 1 | E4: 0 | F4: 0 | G4: 0 | H4: 6 | I4: 5 | J4: 3 | K4: 120 | L4: 0 | M4: 120 | N4: 6 | O4: 13 | P4: 0 | Q4: 13 | R4: 6
A5: 2003 | B5: 6 | C5: 2 | D5: 0 | E5: 0 | F5: 0 | G5: 0 | H5: 8 | I5: 2 | J5: 0 | K5: 47 | L5: 2 | M5: 45 | N5: 6 | O5: 0 | P5: 0 | Q5: 0 | R5: 8
A6: 2004 | B6: 4 | C6: 4 | D6: 0 | E6: 0 | F6: 0 | G6: 0 | H6: 8 | I6: 6 | J6: 5 | K6: 81 | L6: 2 | M6: 79 | N6: 6 | O6: 0 | P6: 0 | Q6: 0 | R6: 8
A7: 2005 | B7: 2 | C7: 1 | D7: 0 | E7: 0 | F7: 0 | G7: 0 | H7: 3 | I7: 2 | J7: 1 | K7: 96 | L7: 1 | M7: 95 | N7: 2 | O7: 0 | P7: 0 | Q7: 0 | R7: 3
A8: 2006 | B8: 2 | C8: 1 | D8: 1 | E8: 0 | F8: 0 | G8: 0 | H8: 4 | I8: 3 | J8: 2 | K8: 236 | L8: 1 | M8: 235 | N8: 3 | O8: 0 | P8: 0 | Q8: 0 | R8: 4
A9: 2007 | B9: 4 | C9: 0 | D9: 0 | E9: 0 | F9: 0 | G9: 0 | H9: 4 | I9: 2 | J9: 2 | K9: 122 | L9: 0 | M9: 122 | N9: 4 | O9: 1 | P9: 0 | Q9: 0 | R9: 4
A10: 2008 | B10: 4 | C10: 0 | D10: 0 | E10: 0 | F10: 0 | G10: 0 | H10: 4 | I10: 3 | J10: 2 | K10: 219 | L10: 1 | M10: 218 | N10: 3 | O10: 0 | P10: 0 | Q10: 0 | R10: 4
A11: 2009 | B11: 6 | C11: 1 | D11: 1 | E11: 0 | F11: 0 | G11: 0 | H11: 8 | I11: 5 | J11: 4 | K11: 21 | L11: 2 | M11: 19 | N11: 6 | O11: 12 | P11: 0 | Q11: 10 | R11: 8
A12: 2010 | B12: 5 | C12: 0 | D12: 0 | E12: 0 | F12: 0 | G12: 0 | H12: 5 | I12: 3 | J12: 1 | K12: 254 | L12: 1 | M12: 254 | N12: 4 | O12: 3 | P12: 0 | Q12: 3 | R12: 5 | U12: =L23/H23 -> 0.25641026
A13: 2011 | B13: 2 | C13: 2 | D13: 0 | E13: 0 | F13: 0 | G13: 0 | H13: 4 | I13: 4 | J13: 4 | K13: 507 | L13: 2 | M13: 505 | N13: 2 | O13: 5 | P13: 0 | Q13: 5 | R13: 4 | U13: =M23/K23 -> 0.99394904
A14: 2012 | B14: 3 | C14: 2 | D14: 1 | E14: 0 | F14: 0 | G14: 0 | H14: 6 | I14: 4 | J14: 4 | K14: 327 | L14: 4 | M14: 323 | N14: 2 | O14: 28 | P14: 1 | Q14: 27 | R14: 5
A15: 2013 | B15: 4 | C15: 0 | D15: 0 | E15: 0 | F15: 0 | G15: 0 | H15: 4 | I15: 2 | J15: 1 | K15: 427 | L15: 1 | M15: 426 | N15: 3 | O15: 20 | P15: 0 | Q15: 20 | R15: 4
A16: 2014 | B16: 2 | C16: 3 | D16: 1 | E16: 0 | F16: 0 | G16: 0 | H16: 6 | I16: 3 | J16: 2 | K16: 265 | L16: 2 | M16: 263 | N16: 4 | O16: 13 | P16: 0 | Q16: 13 | R16: 6
A17: 2015 | B17: 1 | C17: 0 | D17: 0 | E17: 0 | F17: 0 | G17: 0 | H17: 1 | I17: 1 | J17: 1 | K17: 404 | L17: 1 | M17: 403 | N17: 0 | O17: 15 | P17: 0 | Q17: 15 | R17: 1
A18: 2016
A19: 2017
A20: 2018
A21: 2019
A22: 2020
A23: TOTAL | H23: =SUM(H3:H17) -> 78 | I23: =SUM(I3:I17) -> 51 | J23: =SUM(J3:J17) -> 36 | K23: =SUM(K3:K17) -> 3140 | L23: =SUM(L3:L17) -> 20 | M23: =SUM(M3:M17) -> 3121 | N23: =SUM(N3:N17) -> 58 | O23: =SUM(O3:O17) -> 115 | ... R23: =SUM(R3:R17) -> 76
H24: en % | I24: =I23/H23 -> 0.65384615 | J24: =J23/$H23 -> 0.46153846 | L24: =L23/$H23 -> 0.25641026
U39: En vigueur | V39: WF | W39: WU+mention | X39: WU seul | Y39: veille seul | Z39: rien | AA39: total
U40: 2001 | V40: 1 | W40: 0 | X40: 5 | Y40: 2 | Z40: 0 | AA40: 7 | AB40: =SUM(V40:Z40) -> 8
U41: 2002 | V41: 0 | W41: 0 | X41: 3 | Y41: 2 | Z41: 1 | AA41: 6 | AB41: =SUM(V41:Z41) -> 6
U42: 2003 | V42: 0 | W42: 2 | X42: 2 | Y42: 0 | Z42: 6 | AA42: 8 | AB42: =SUM(V42:Z42) -> 10
U43: 2004 | V43: 0 | W43: 2 | X43: 5 | Y43: 1 | Z43: 2 | AA43: 8 | AB43: =SUM(V43:Z43) -> 10
U44: 2005 | V44: 0 | W44: 1 | X44: 1 | Y44: 1 | Z44: 1 | AA44: 3 | AB44: =SUM(V44:Z44) -> 4
U45: 2006 | V45: 0 | W45: 1 | X45: 2 | Y45: 1 | Z45: 1 | AA45: 4 | AB45: =SUM(V45:Z45) -> 5
U46: 2007 | V46: 0 | W46: 0 | X46: 2 | Y46: 0 | Z46: 2 | AA46: 4 | AB46: =SUM(V46:Z46) -> 4
U47: 2008 | V47: 0 | W47: 1 | X47: 2 | Y47: 1 | Z47: 1 | AA47: 4 | AB47: =SUM(V47:Z47) -> 5
U48: 2009 | V48: 0 | W48: 2 | X48: 4 | Y48: 1 | Z48: 3 | AA48: 8 | AB48: =SUM(V48:Z48) -> 10
U49: 2010 | V49: 0 | W49: 1 | X49: 1 | Y49: 2 | Z49: 2 | AA49: 5 | AB49: =SUM(V49:Z49) -> 6
U50: 2011 | V50: 0 | W50: 2 | X50: 4 | Y50: 0 | Z50: 0 | AA50: 4 | AB50: =SUM(V50:Z50) -> 6
U51: 2012 | V51: 1 | W51: 3 | X51: 4 | Y51: 0 | Z51: 2 | AA51: 6 | AB51: =SUM(V51:Z51) -> 10
... U53: 2014 | V53: 0 | W53: 2 | X53: 2 | Y53: 3 | Z53: 1 | AA53: 6 | AB53: =SUM(V53:Z53) -> 8
U54: 2015 | V54: 0 | W54: 1 | X54: 1 | Y54: 0 | Z54: 0 | AA54: 1 | AB54: 1
A68: En vigueur | B68: WU+mention | C68: WU seul | D68: veille seul | E68: rien | F68: total
A69: 2001 | B69: 0 | C69: 5 | D69: 2 | E69: 0 | F69: 7 | G69: =SUM(B69:E69) -> 7
A70: 2002 | B70: 0 | C70: 3 | D70: 2 | E70: 1 | F70: 6 | G70: =SUM(B70:E70) -> 6
A71: 2003 | B71: 2 | C71: 0 | D71: 0 | E71: 6 | F71: 8 | G71: =SUM(B71:E71) -> 8
A72: 2004 | B72: 2 | C72: 3 | D72: 1 | E72: 2 | F72: 8 | G72: =SUM(B72:E72) -> 8
A73: 2005 | B73: 1 | C73: 0 | D73: 1 | E73: 1 | F73: 3 | G73: =SUM(B73:E73) -> 3
A74: 2006 | B74: 1 | C74: 1 | D74: 1 | E74: 1 | F74: 4 | G74: =SUM(B74:E74) -> 4
A75: 2007 | B75: 0 | C75: 2 | D75: 0 | E75: 2 | F75: 4 | G75: =SUM(B75:E75) -> 4
A76: 2008 | B76: 1 | C76: 1 | D76: 1 | E76: 1 | F76: 4 | G76: =SUM(B76:E76) -> 4
A77: 2009 | B77: 2 | C77: 2 | D77: 1 | E77: 3 | F77: 8 | G77: =SUM(B77:E77) -> 8
A78: 2010 | B78: 1 | C78: 0 | D78: 2 | E78: 2 | F78: 5 | G78: =SUM(B78:E78) -> 5
A79: 2011 | B79: 2 | C79: 2 | D79: 0 | E79: 0 | F79: 4 | G79: =SUM(B79:E79) -> 4
A80: 2012 | B80: 3 | C80: 1 | D80: 0 | E80: 2 | F80: 6 | G80: =SUM(B80:E80) -> 6
... A83: 2015 | B83: 1 | C83: 0 | D83: 0 | E83: 0 | F83: 1 | G83: =SUM(B83:E83) -> 1

Sheet Stat_Tornade_V2017
A1: année | B1: Tornades observées | J1: Veille | K1: Alerte | L1: Alertes + mention Tornade | P1: WF (Alertes de tornade) | X1: Heure | Y1: Événements | AB1: Moyenne
A2: année | B2: F-1 | C2: F0 | D2: F1 | E2: F2 | F2: F3 | G2: F4 | H2: F5 | I2: Total | J2: en vigueur | L2: Issued | M2: Hit | N2: F | O2: Miss | P2: Issued | Q2: Hit | R2: F | S2: Miss | Y2: Violent | Z2: Quasi | AA2: V+Q | AB2: Violent | AC2: Quasi | AM2: Cumul | AN2: %
A3: 2001 | B3: 1 | C3: 2 | D3: 4 | E3: 1 | F3: 0 | G3: 0 | H3: 0 | I3: 7 | J3: 6 | K3: 4 | L3: 14 | M3: 0 | N3: 14 | O3: 7 | P3: 5 | Q3: 1 | R3: 4 | S3: 6 | X3: 06Z | Y3: 8 | Z3: 3 | AA3: 11 | AB3: =Y3/10 -> 0.8 | AC3: =Z3/10 -> 0.3 | AL3: 06Z | AM3: 8 | AN3: =AM3/Y$31 -> #DIV/0!
A4: 2002 | B4: 0 | C4: 1 | D4: 4 | E4: 1 | F4: 0 | G4: 0 | H4: 0 | I4: 6 | J4: 5 | K4: 3 | L4: 120 | M4: 0 | N4: 120 | O4: 6 | P4: 13 | Q4: 0 | R4: 13 | S4: 6 | X4: 07Z | Y4: 4 | Z4: 2 | AA4: 6 | AB4: =Y4/10 -> 0.4 | AC4: =Z4/10 -> 0.2 | AL4: 07Z | AM4: =Y4+AM3 -> 12 | AN4: =AM4/Y$31 -> #DIV/0!
A5: 2003 | B5: 2 | C5: 6 | D5: 2 | E5: 0 | F5: 0 | G5: 0 | H5: 0 | I5: 8 | J5: 2 | K5: 0 | L5: 47 | M5: 2 | N5: 45 | O5: 6 | P5: 0 | Q5: 0 | R5: 0 | S5: 8 | X5: 08Z | Y5: 5 | Z5: 4 | AA5: 9 | AB5: =Y5/10 -> 0.5 | AC5: =Z5/10 -> 0.4 | AL5: 08Z | AM5: =Y5+AM4 -> 17 | AN5: =AM5/Y$31 -> #DIV/0!
A6: 2004 | B6: 1 | C6: 4 | D6: 4 | E6: 0 | F6: 0 | G6: 0 | H6: 0 | I6: 8 | J6: 6 | K6: 5 | L6: 81 | M6: 2 | N6: 79 | O6: 6 | P6: 0 | Q6: 0 | R6: 0 | S6: 8 | X6: 09Z | Y6: 5 | Z6: 3 | AA6: 8 | AB6: =Y6/10 -> 0.5 | AC6: =Z6/10 -> 0.3 | AL6: 09Z | AM6: =Y6+AM5 -> 22 | AN6: =AM6/Y$31 -> #DIV/0!
A7: 2005 | B7: 1 | C7: 2 | D7: 1 | E7: 0 | F7: 0 | G7: 0 | H7: 0 | I7: 3 | J7: 2 | K7: 1 | L7: 96 | M7: 1 | N7: 95 | O7: 2 | P7: 0 | Q7: 0 | R7: 0 | S7: 3 | X7: 10Z | Y7: 6 | Z7: 4 | AA7: 10 | AB7: =Y7/10 -> 0.6 | AC7: =Z7/10 -> 0.4 | AL7: 10Z | AM7: =Y7+AM6 -> 28 | AN7: =AM7/Y$31 -> #DIV/0!
A8: 2006 | B8: nd | C8: 2 | D8: 1 | E8: 1 | F8: 0 | G8: 0 | H8: 0 | I8: 4 | J8: 3 | K8: 2 | L8: 236 | M8: 1 | N8: 235 | O8: 3 | P8: 0 | Q8: 0 | R8: 0 | S8: 4 | X8: 11Z | Y8: 9 | Z8: 2 | AA8: 11 | AB8: =Y8/10 -> 0.9 | AC8: =Z8/10 -> 0.2 | AL8: 11Z | AM8: =Y8+AM7 -> 37 | AN8: =AM8/Y$31 -> #DIV/0!
A9: 2007 | B9: 0 | C9: 4 | D9: 0 | E9: 0 | F9: 0 | G9: 0 | H9: 0 | I9: 4 | J9: 2 | K9: 2 | L9: 122 | M9: 0 | N9: 122 | O9: 4 | P9: 1 | Q9: 0 | R9: 0 | S9: 4 | X9: 12Z | Y9: 4 | Z9: 2 | AA9: 6 | AB9: =Y9/10 -> 0.4 | AC9: =Z9/10 -> 0.2 | AL9: 12Z | AM9: =Y9+AM8 -> 41 | AN9: =AM9/Y$31 -> #DIV/0!
A10: 2008 | B10: 3 | C10: 4 | D10: 0 | E10: 0 | F10: 0 | G10: 0 | H10: 0 | I10: 4 | J10: 3 | K10: 2 | L10: 219 | M10: 1 | N10: 218 | O10: 3 | P10: 0 | Q10: 0 | R10: 0 | S10: 4 | X10: 13Z | Y10: 7 | Z10: 2 | AA10: 9 | AB10: =Y10/10 -> 0.7 | AC10: =Z10/10 -> 0.2 | AL10: 13Z | AM10: =Y10+AM9 -> 48 | AN10: =AM10/Y$31 -> #DIV/0!
A11: 2009 | B11: nd | C11: 6 | D11: 1 | E11: 1 | F11: 0 | G11: 0 | H11: 0 | I11: 8 | J11: 5 | K11: 4 | L11: 21 | M11: 2 | N11: 19 | O11: 6 | P11: 12 | Q11: 0 | R11: 10 | S11: 8 | X11: 14Z | Y11: 9 | Z11: 4 | AA11: 13 | AB11: =Y11/10 -> 0.9 | AC11: =Z11/10 -> 0.4 | AL11: 14Z | AM11: =Y11+AM10 -> 57 | AN11: =AM11/Y$31 -> #DIV/0!
A12: 2010 | B12: 4 | C12: 5 | D12: 0 | E12: 0 | F12: 0 | G12: 0 | H12: 0 | I12: 5 | J12: 3 | K12: 1 | L12: 254 | M12: 1 | N12: 254 | O12: 4 | P12: 3 | Q12: 0 | R12: 3 | S12: 5 | V12: =M18/I18 -> 0.24675325 | X12: 15Z | Y12: 11 | Z12: 5 | AA12: 16 | AB12: =Y12/10 -> 1.1 | AC12: =Z12/10 -> 0.5 | AL12: 15Z | AM12: =Y12+AM11 -> 68 | AN12: =AM12/Y$31 -> #DIV/0!
A13: 2011 | B13: 0 | C13: 2 | D13: 2 | E13: 0 | F13: 0 | G13: 0 | H13: 0 | I13: 4 | J13: 4 | K13: 4 | L13: 507 | M13: 2 | N13: 505 | O13: 2 | P13: 5 | Q13: 0 | R13: 5 | S13: 4 | V13: =N18/L18 -> 0.99159357 | X13: 16Z | Y13: 30 | Z13: 17 | AA13: 47 | AB13: =Y13/10 -> 3 | AC13: =Z13/10 -> 1.7 | AL13: 16Z | AM13: =Y13+AM12 -> 98 | AN13: =AM13/Y$31 -> #DIV/0!
A14: 2012 | B14: 1 | C14: 3 | D14: 2 | E14: 1 | F14: 0 | G14: 0 | H14: 0 | I14: 6 | J14: 4 | K14: 4 | L14: 327 | M14: 4 | N14: 323 | O14: 2 | P14: 28 | Q14: 1 | R14: 27 | S14: 5 | X14: 17Z | Y14: 57 | Z14: 39 | AA14: 96 | AB14: =Y14/10 -> 5.7 | AC14: =Z14/10 -> 3.9
A15: 2013 | B15: 0 | C15: 4 | D15: 0 | E15: 0 | F15: 0 | G15: 0 | H15: 0 | I15: 4 | J15: 2 | K15: 1 | L15: 427 | M15: 1 | N15: 426 | O15: 3 | P15: 20 | Q15: 0 | R15: 20 | S15: 4 | X15: 18Z | Y15: 78 | Z15: 40 | AA15: 118 | AB15: =Y15/10 -> 7.8 | AC15: =Z15/10 -> 4
A16: 2014 | B16: 0 | C16: 2 | D16: 3 | E16: 1 | F16: 0 | G16: 0 | H16: 0 | I16: 6 | L16: 265 | M16: 2 | N16: 258 | O16: 4 | P16: 13 | Q16: 0 | R16: 13 | S16: 6
A18: TOTAL | I18: =SUM(I3:I16) -> 77 | J18: =SUM(J3:J15) -> 47 | K18: =SUM(K3:K15) -> 33 | L18: =SUM(L3:L16) -> 2736 | M18: =SUM(M3:M16) -> 19 | N18: =SUM(N3:N16) -> 2713 | O18: =SUM(O3:O16) -> 58 | P18: =SUM(P3:P16) -> 100 | Q18: =SUM(Q3:Q16) -> 2 | R18: =SUM(R3:R16) -> 95 | S18: =SUM(S3:S16) -> 75 | X18: 19Z | Y18: 75 | Z18: 71 | AA18: 146 | AB18: =Y18/10 -> 7.5 | AC18: =Z18/10 -> 7.1 | AL18: 17Z | AM18: =Y18+AM13 -> 173 | AN18: =AM18/Y$31 -> #DIV/0!
I19: en % | J19: =J18/I18 -> 0.61038961 | K19: =K18/$I18 -> 0.42857143 | M19: =M18/$I18 -> 0.24675325 | X19: 20Z | Y19: 112 | Z19: 59 | AA19: 171 | AB19: =Y19/10 -> 11.2 | AC19: =Z19/10 -> 5.9 | AL19: 18Z | AM19: =Y19+AM18 -> 285 | AN19: =AM19/Y$31 -> #DIV/0!
X20: 21Z | Y20: 113 | Z20: 73 | AA20: 186 | AB20: =Y20/10 -> 11.3 | AC20: =Z20/10 -> 7.3 | AL20: 19Z | AM20: =Y20+AM19 -> 398 | AN20: =AM20/Y$31 -> #DIV/0!
X21: 22Z | Y21: 91 | Z21: 60 | AA21: 151 | AB21: =Y21/10 -> 9.1 | AC21: =Z21/10 -> 6 | AL21: 20Z | AM21: =Y21+AM20 -> 489 | AN21: =AM21/Y$31 -> #DIV/0!
X22: 23Z | Y22: 79 | Z22: 49 | AA22: 128 | AB22: =Y22/10 -> 7.9 | AC22: =Z22/10 -> 4.9 | AL22: 21Z | AM22: =Y22+AM21 -> 568 | AN22: =AM22/Y$31 -> #DIV/0!
X23: 00Z | Y23: 58 | Z23: 34 | AA23: 92 | AB23: =Y23/10 -> 5.8 | AC23: =Z23/10 -> 3.4 | AL23: 22Z | AM23: =Y23+AM22 -> 626 | AN23: =AM23/Y$31 -> #DIV/0!
X24: 01Z | Y24: 31 | Z24: 20 | AA24: 51 | AB24: =Y24/10 -> 3.1 | AC24: =Z24/10 -> 2 | AL24: 23Z | AM24: =Y24+AM23 -> 657 | AN24: =AM24/Y$31 -> #DIV/0!
X25: 02Z | Y25: 23 | Z25: 13 | AA25: 36 | AB25: =Y25/10 -> 2.3 | AC25: =Z25/10 -> 1.3 | AL25: 00Z | AM25: =Y25+AM24 -> 680 | AN25: =AM25/Y$31 -> #DIV/0!
X26: 03Z | Y26: 10 | Z26: 5 | AA26: 15 | AB26: =Y26/10 -> 1 | AC26: =Z26/10 -> 0.5 | AL26: 01Z | AM26: =Y26+AM25 -> 690 | AN26: =AM26/Y$31 -> #DIV/0!
X27: 04Z | Y27: 11 | Z27: 11 | AA27: 22 | AB27: =Y27/10 -> 1.1 | AC27: =Z27/10 -> 1.1 | AL27: 02Z | AM27: =Y27+AM26 -> 701 | AN27: =AM27/Y$31 -> #DIV/0!
X28: 05Z | Y28: 9 | Z28: 2 | AA28: 11 | AB28: =Y28/10 -> 0.9 | AC28: =Z28/10 -> 0.2 | AL28: 03Z | AM28: =Y28+AM27 -> 710 | AN28: =AM28/Y$31 -> #DIV/0!
X29: total | Y29: =SUM(Y1:Y28) -> 845 | AL29: 04Z | AM29: =Y29+AM28 -> 1555 | AN29: =AM29/Y$31 -> #DIV/0!
AL30: 05Z | AM30: =Y30+AM29 -> 1555 | AN30: =AM30/Y$31 -> #DIV/0!
V34: En vigueur | W34: WF | X34: WU+mention | Y34: WU seul | Z34: veille seul | AA34: rien | AB34: total
V35: 2001 | W35: 1 | X35: 0 | Y35: 5 | Z35: 2 | AA35: 0 | AB35: 7 | AC35: =SUM(W35:AA35) -> 8
V36: 2002 | W36: 0 | X36: 0 | Y36: 3 | Z36: 2 | AA36: 1 | AB36: 6 | AC36: =SUM(W36:AA36) -> 6
V37: 2003 | W37: 0 | X37: 2 | Y37: 2 | Z37: 0 | AA37: 6 | AB37: 8 | AC37: =SUM(W37:AA37) -> 10
V38: 2004 | W38: 0 | X38: 2 | Y38: 5 | Z38: 1 | AA38: 2 | AB38: 8 | AC38: =SUM(W38:AA38) -> 10
V39: 2005 | W39: 0 | X39: 1 | Y39: 1 | Z39: 1 | AA39: 1 | AB39: 3 | AC39: =SUM(W39:AA39) -> 4
V40: 2006 | W40: 0 | X40: 1 | Y40: 2 | Z40: 1 | AA40: 1 | AB40: 4 | AC40: =SUM(W40:AA40) -> 5
V41: 2007 | W41: 0 | X41: 0 | Y41: 2 | Z41: 0 | AA41: 2 | AB41: 4 | AC41: =SUM(W41:AA41) -> 4
V42: 2008 | W42: 0 | X42: 1 | Y42: 2 | Z42: 1 | AA42: 1 | AB42: 4 | AC42: =SUM(W42:AA42) -> 5
V43: 2009 | W43: 0 | X43: 2 | Y43: 4 | Z43: 1 | AA43: 3 | AB43: 8 | AC43: =SUM(W43:AA43) -> 10
V44: 2010 | W44: 0 | X44: 1 | Y44: 1 | Z44: 2 | AA44: 2 | AB44: 5 | AC44: =SUM(W44:AA44) -> 6
V45: 2011 | W45: 0 | X45: 2 | Y45: 4 | Z45: 0 | AA45: 0 | AB45: 4 | AC45: =SUM(W45:AA45) -> 6
V46: 2012 | W46: 1 | X46: 3 | Y46: 4 | Z46: 0 | AA46: 2 | AB46: 6 | AC46: =SUM(W46:AA46) -> 10
... V48: 2014 | W48: 0 | X48: 2 | Y48: 2 | Z48: 3 | AA48: 1 | AB48: 6 | AC48: =SUM(W48:AA48) -> 8
V49: 2015
A63: En vigueur | B63: WF | C63: WU+mention | D63: WU seul | E63: veille seul | F63: rien | G63: total
A64: 2001 | B64: 1 | C64: 0 | D64: 5 | E64: 2 | F64: 0 | G64: 7 | H64: =SUM(B64:F64) -> 8
A65: 2002 | B65: 0 | C65: 0 | D65: 3 | E65: 2 | F65: 1 | G65: 6 | H65: =SUM(B65:F65) -> 6
A66: 2003 | B66: 0 | C66: 2 | D66: 0 | E66: 0 | F66: 6 | G66: 8 | H66: =SUM(B66:F66) -> 8
A67: 2004 | B67: 0 | C67: 2 | D67: 3 | E67: 1 | F67: 2 | G67: 8 | H67: =SUM(B67:F67) -> 8
A68: 2005 | B68: 0 | C68: 1 | D68: 0 | E68: 1 | F68: 1 | G68: 3 | H68: =SUM(B68:F68) -> 3
A69: 2006 | B69: 0 | C69: 1 | D69: 1 | E69: 1 | F69: 1 | G69: 4 | H69: =SUM(B69:F69) -> 4
A70: 2007 | B70: 0 | C70: 0 | D70: 2 | E70: 0 | F70: 2 | G70: 4 | H70: =SUM(B70:F70) -> 4
A71: 2008 | B71: 0 | C71: 1 | D71: 1 | E71: 1 | F71: 1 | G71: 4 | H71: =SUM(B71:F71) -> 4
A72: 2009 | B72: 0 | C72: 2 | D72: 2 | E72: 1 | F72: 3 | G72: 8 | H72: =SUM(B72:F72) -> 8
A73: 2010 | B73: 0 | C73: 1 | D73: 0 | E73: 2 | F73: 2 | G73: 5 | H73: =SUM(B73:F73) -> 5
A74: 2011 | B74: 0 | C74: 2 | D74: 2 | E74: 0 | F74: 0 | G74: 4 | H74: =SUM(B74:F74) -> 4
A75: 2012 | B75: 1 | C75: 3 | D75: 1 | E75: 0 | F75: 2 | G75: 6 | H75: =SUM(B75:F75) -> 7
... A77: 2014 | B77: 0 | C77: 2 | D77: 0 | E77: 3 | F77: 1 | G77: 6 | H77: =SUM(B77:F77) -> 6
A78: 2015

Sheet Carte&Code
A1: Nom des régions | B1: Région | C1: Secteur | D1: Nom des secteurs | E1: Gravité
A2: MONTREAL METROPOLITAIN - LAVAL | B2: WUL | C2: mtl | D2: L'ILE DE MONTREAL | E2: Mineur
C3: laval | D3: LAVAL | E3: Quasi
C4: prairi | D4: CHATEAUGUAY - LA PRAIRIE | E4: Violent
C5: longu | D5: LONGUEUIL - VARENNES
A6: VAUDREUIL - SOULANGES - HUNTINGDON | B6: WBZ | C6: soula | D6: SOULANGES | E6: Vérif
C7: vaudr | D7: VAUDREUIL | E7: i
C8: beauh | D8: VALLEYFIELD - BEAUHARNOIS | E8: q
C9: sremi | D9: SAINT-REMI | E9: v
C10: hunti | D10: HUNTINGDON
C11: hemmi | D11: HEMMINGFORD | E11: REGION
A12: VALLEE DU RICHELIEU - SAINT-HYACINTHE | B12: HYA | C12: lacol | D12: LACOLLE | E12: WUL
C13: stjen | D13: SAINT-JEAN - MARIEVILLE | E13: WBZ
C14: verch | D14: VERCHERES - BELOEIL | E14: HYA
C15: hyaci | D15: SAINT-HYACINTHE - ACTON VALE | E15: YMX
C16: sorel | D16: SOREL - YAMASKA | E16: LAN
A17: LANAUDIERE | B17: LAN | C17: masco | D17: MASCOUCHE | E17: WJT
C18: rawdo | D18: RAWDON - JOLIETTE | E18: TRM
C19: berti | D19: BERTHIERVILLE - SAINT-GABRIEL | E19: WMJ
A20: LACHUTE - SAINT-JEROME | B20: YMX | C20: lachu | D20: LACHUTE | E20: YWA
C21: jerom | D21: SAINT-JEROME | E21: LAU
C22: eusta | D22: SAINT-EUSTACHE | E22: DOR
A23: LAURENTIDES | B23: WJT | C23: agath | D23: MONT-TREMBLANT - SAINTE-AGATHE | E23: WBA
C24: adele | D24: SAINTE-ADELE - SAINT-SAUVEUR | E24: YVO
A25: PARC DU MONT-TREMBLANT-SAINT-MICHEL-DES-SAINTS | B25: TRM | C25: donat | D25: SAINT-DONAT - PARC DU MONT-TREMBLANT | E25: WPK
C26: smich | D26: SAINT-MICHEL-DES-SAINTS | E26: YNM
A27: MONT-LAURIER | B27: LAU | C27: lauri | D27: MONT-LAURIER | E27: YKQ
C28: miner | D28: LA MINERVE - RIVIERE ROUGE | E28: YSC
A29: RESERVE FAUNIQUE LA VERENDRYE | B29: DOR | C29: dorva | D29: DORVAL LODGE | E29: WHV
C30: domai | D30: LE DOMAINE | E30: WNQ
A31: HAUTE-GATINEAU - LIEVRE - PAPINEAU | B31: WMJ | C31: maniw | D31: MANIWAKI - GRACEFIELD | E31: WTY
C32: label | D32: RESERVE PAPINEAU-LABELLE | E32: YQB
C33: wakef | D33: LOW - WAKEFIELD | E33: WST
C34: lievr | D34: LA RIVIERE DU LIEVRE | E34: WIS
C35: chene | D35: PAPINEAUVILLE - CHENEVILLE | E35: WPD
A36: PONTIAC | B36: YWA | C36: joach | D36: RAPIDES-DES-JOACHIMS | E36: WDQ
C37: shawv | D37: FORT WILLIAM - SHAWVILLE | E37: YBG
A38: TEMISCAMINGUE | B38: WBA | C38: vmari | D38: VILLE-MARIE | E38: YRJ
C39: temis | D39: TEMISCAMING | E39: YMT
A40: ABITIBI | B40: YVO | C40: lsarr | D40: LA SARRE | E40: WNH
C41: amos | D41: AMOS | E41: DEG
C42: quevi | D42: LEBEL-SUR-QUEVILLON | E42: YYY
C43: rouyn | D43: ROUYN | E43: WZS
C44: malar | D44: MALARTIC | E44: MAT
C45: valdo | D45: VAL D OR - LOUVICOURT | E45: WSG
C46: sentr | D46: SENNETERRE | E46: MUR
A47: PARENT - RESERVOIR GOUIN | B47: WPK | C47: gouin | D47: RESERVOIR GOUIN | E47: YCL
C48: paren | D48: PARENT | E48: WOC
A49: MATAGAMI | B49: YNM | C49: matag | D49: JOUTEL - MATAGAMI | E49: YGP
C50: mique | D50: MIQUELON - DESMARAISVILLE | E50: ESC
A51: WASKAGANISH | B51: YKQ | C51: ykq | D51: WASKAGANISH | E51: YBC
A52: ESTRIE | B52: YSC | C52: brome | D52: BROME-MISSISQUOI | E52: YZV
C53: granb | D53: GRANBY - WATERLOO | E53: YGV
C54: oford | D54: MONT-ORFORD - LAC MEMPHREMAGOG | E54: ZMV
C55: richm | D55: RICHMOND | E55: YNA
C56: sherb | D56: SHERBROOKE | E56: WBY
C57: coati | D57: COATICOOK | E57: WDM
C58: cooks | D58: COOKSHIRE | E58: YBX
C59: weedo | D59: WEEDON | E59: YGL
C60: megan | D60: LAC-MEGANTIC | E60: YAH
C61: thmin | D61: THETFORD MINES | E61: YKL
A62: BEAUCE | B62: WHV | C62: georg | D62: SAINT-GEORGES-DE-BEAUCE | E62: YWK
C63: marie | D63: SAINTE-MARIE-DE-BEAUCE
C64: etche | D64: LAC-ETCHEMIN
A65: DRUMMONDVILLE - BOIS-FRANCS | B65: WNQ | C65: drumm | D65: DRUMMONDVILLE
C66: nicol | D66: NICOLET
C67: victo | D67: VICTORIAVILLE
C68: becan | D68: BECANCOUR - VILLEROY
A69: MAURICIE | B69: WTY | C69: mataw | D69: MATAWIN - PARC NATIONAL DE LA MAURICIE
C70: shawi | D70: SHAWINIGAN
C71: louis | D71: LOUISEVILLE
C72: 3riv | D72: TROIS-RIVIERES
C73: perad | D73: SAINTE-ANNE-DE-LA-PERADE
C74: lsabl | D74: LAC-AUX-SABLES
A75: QUEBEC | B75: YQB | C75: portn | D75: PORTNEUF
C76: valca | D76: VALCARTIER - STONEHAM
C77: quebc | D77: QUEBEC
C78: orlea | D78: COTE-DE-BEAUPRE - L ILE D ORLEANS
C79: lotbi | D79: LOTBINIERE
C80: levis | D80: LEVIS
C81: lamber | D81: SAINT-LAMBERT
C82: blcha | D82: BELLECHASSE
A83: MONTMAGNY - L ISLET | B83: WST | C83: montm | D83: MONTMAGNY - SAINT-JEAN-PORT-JOLI
C84: fabien | D84: SAINT-FABIEN - SAINT-PAMPHILE
A85: CHARLEVOIX | B85: WIS | C85: spaul | D85: BAIE-SAINT-PAUL
C86: malbe | D86: LA MALBAIE
A87: RESERVE FAUNIQUE DES LAURENTIDES | B87: WPD | C87: apica | D87: MONT APICA
C88: etape | D88: L'ETAPE
C89: jardi | D89: PARC DES GRANDS-JARDINS
A90: LA TUQUE | B90: WDQ | C90: bouch | D90: LAC BOUCHETTE
C91: touq | D91: LA TUQUE
A92: SAGUENAY | B92: YBG | C92: falar | D92: FALARDEAU - MONT-VALIN
C93: sague | D93: LA VILLE DE SAGUENAY
C94: srose | D94: SAINTE-ROSE-DU-NORD
C95: etern | D95: RIVIERE-ETERNITE - PETIT-SAGUENAY
C96: tadou | D96: TADOUSSAC - BAIE-SAINTE-CATHERINE
A97: LAC SAINT-JEAN | B97: YRJ | C97: resfa | D97: LA RESERVE FAUNIQUE ASHUAPMUSHUAN
C98: norma | D98: NORMANDIN - PERIBONKA
C99: rober | D99: SAINT-FELICIEN - ROBERVAL
C100: alma | D100: ALMA - DESBIENS
...
