Workbook
Name MaPlage: Variables!$A$2:$C$11

Sheet Feuil1
A1: Année | B1: 2017
A2: Mois | B2: 12
A3: Date | B3: =DATE($B$1,$B$2,COLUMN()-1) -> 43070 | C3: =DATE($B$1,$B$2,COLUMN()-1) -> 43071 | D3: =DATE($B$1,$B$2,COLUMN()-1) -> 43072 | E3: =DATE($B$1,$B$2,COLUMN()-1) -> 43073 | F3: =DATE($B$1,$B$2,COLUMN()-1) -> 43074 | G3: =DATE($B$1,$B$2,COLUMN()-1) -> 43075 | H3: =DATE($B$1,$B$2,COLUMN()-1) -> 43076 | I3: =DATE($B$1,$B$2,COLUMN()-1) -> 43077 | ... AF3: =DATE($B$1,$B$2,COLUMN()-1) -> 43100
A4: Jour | B4: =VLOOKUP((MOD((B$3-$B$3)/10,1)*10)+1,MaPlage,MATCH($A4,Variables!$A$1:$C$1,0)) -> A | C4: =VLOOKUP((MOD((C$3-$B$3)/10,1)*10)+1,MaPlage,MATCH($A4,Variables!$A$1:$C$1,0)) -> A | D4: =VLOOKUP((MOD((D$3-$B$3)/10,1)*10)+1,MaPlage,MATCH($A4,Variables!$A$1:$C$1,0)) -> A | E4: =VLOOKUP((MOD((E$3-$B$3)/10,1)*10)+1,MaPlage,MATCH($A4,Variables!$A$1:$C$1,0)) -> C | F4: =VLOOKUP((MOD((F$3-$B$3)/10,1)*10)+1,MaPlage,MATCH($A4,Variables!$A$1:$C$1,0)) -> C | G4: =VLOOKUP((MOD((G$3-$B$3)/10,1)*10)+1,MaPlage,MATCH($A4,Variables!$A$1:$C$1,0)) -> B | H4: =VLOOKUP((MOD((H$3-$B$3)/10,1)*10)+1,MaPlage,MATCH($A4,Variables!$A$1:$C$1,0)) -> B | I4: =VLOOKUP((MOD((I$3-$B$3)/10,1)*10)+1,MaPlage,MATCH($A4,Variables!$A$1:$C$1,0)) -> D | ... AF4: =VLOOKUP((MOD((AF$3-$B$3)/10,1)*10)+1,MaPlage,MATCH($A4,Variables!$A$1:$C$1,0)) -> A
A5: Nuit | B5: =VLOOKUP((MOD((B$3-$B$3)/10,1)*10)+1,MaPlage,MATCH($A5,Variables!$A$1:$C$1,0)) -> B | C5: =VLOOKUP((MOD((C$3-$B$3)/10,1)*10)+1,MaPlage,MATCH($A5,Variables!$A$1:$C$1,0)) -> B | D5: =VLOOKUP((MOD((D$3-$B$3)/10,1)*10)+1,MaPlage,MATCH($A5,Variables!$A$1:$C$1,0)) -> B | E5: =VLOOKUP((MOD((E$3-$B$3)/10,1)*10)+1,MaPlage,MATCH($A5,Variables!$A$1:$C$1,0)) -> D | F5: =VLOOKUP((MOD((F$3-$B$3)/10,1)*10)+1,MaPlage,MATCH($A5,Variables!$A$1:$C$1,0)) -> D | G5: =VLOOKUP((MOD((G$3-$B$3)/10,1)*10)+1,MaPlage,MATCH($A5,Variables!$A$1:$C$1,0)) -> A | H5: =VLOOKUP((MOD((H$3-$B$3)/10,1)*10)+1,MaPlage,MATCH($A5,Variables!$A$1:$C$1,0)) -> A | I5: =VLOOKUP((MOD((I$3-$B$3)/10,1)*10)+1,MaPlage,MATCH($A5,Variables!$A$1:$C$1,0)) -> C | ... AF5: =VLOOKUP((MOD((AF$3-$B$3)/10,1)*10)+1,MaPlage,MATCH($A5,Variables!$A$1:$C$1,0)) -> B
A8: Jour & heure | B8: Résultat | D8: 4 Rotations sur 10 Jours | F8: en fonction du schéma de la Feuille Variables …
A9: =NOW() -> 43081.588 | B9: {=INDEX($A$1:$AF$5,IF((A9-INT(A9))<0.75,4,5),MATCH(DAY(A9),DAY($3:$3),0))} -> A

Sheet Variables
A1: # | B1: Jour | C1: Nuit | E1: 4 | F1: Rotations | G1: Sur | H1: 10 | I1: Jours | K1: https://forum.excel-pratique.com/viewtopic.php?f=19&t=102234
A2: =ROW()-1 -> 1 | B2: A | C2: B
A3: =ROW()-1 -> 2 | B3: A | C3: B
A4: =ROW()-1 -> 3 | B4: A | C4: B
A5: =ROW()-1 -> 4 | B5: C | C5: D
A6: =ROW()-1 -> 5 | B6: C | C6: D
A7: =ROW()-1 -> 6 | B7: B | C7: A
A8: =ROW()-1 -> 7 | B8: B | C8: A
A9: =ROW()-1 -> 8 | B9: D | C9: C
A10: =ROW()-1 -> 9 | B10: D | C10: C
A11: =ROW()-1 -> 10 | B11: D | C11: C
