Workbook
Name FRNS: OFFSET(Data!$B$2,,,COUNTIF(Data!$B:$B,"><")-1)
Name GROUPE: OFFSET(FRNS,,1,)

Sheet Data
A1: MOIS | B1: TIERS | C1: Groupe
A2: 1 | B2: 2BMP BELLANGER | C2: Avocat
A3: 1 | B3: 2BMP BELLANGER | C3: Avocat
A4: 1 | B4: A. BONHOMME - P. LEAL | C4: Avocat
A5: 1 | B5: A.A.J. | C5: EXE
A6: 1 | B6: A.A.J. | C6: EXE
A7: 1 | B7: A.A.J. | C7: EXE
A8: 1 | B8: A.A.J. | C8: EXE
A9: 1 | B9: A.A.J. | C9: EXE
A10: 1 | B10: A.A.J. | C10: EXE
A11: 1 | B11: A.A.J. | C11: EXE
A12: 1 | B12: A.A.J. | C12: EXE
A13: 1 | B13: A.A.J. | C13: Avocat
... A60: 1 | B60: ABEGUILE-LEPASTOUREL | C60: EXE

Sheet Tableau
A1: FRNS | B1: Groupe 1 | C1: Groupe 2 | D1: Groupe 3 | E1: Groupe 4 | F1: Groupe 5 | G1: Groupe 6
A2: 2BMP BELLANGER | B2: {=IFERROR(INDEX(Data!$C$2:$C$60,MATCH(0,COUNTIF($A$2:A2,Data!$C$2:$C$60)+(Data!$B$2:$B$60<>$A2),0)),"")} -> Avocat | C2: {=IFERROR(INDEX(Data!$C$2:$C$60,MATCH(0,COUNTIF($A$2:B2,Data!$C$2:$C$60)+(Data!$B$2:$B$60<>$A2),0)),"")} | D2: {=IFERROR(INDEX(Data!$C$2:$C$60,MATCH(0,COUNTIF($A$2:C2,Data!$C$2:$C$60)+(Data!$B$2:$B$60<>$A2),0)),"")} | E2: {=IFERROR(INDEX(Data!$C$2:$C$60,MATCH(0,COUNTIF($A$2:D2,Data!$C$2:$C$60)+(Data!$B$2:$B$60<>$A2),0)),"")} | F2: {=IFERROR(INDEX(Data!$C$2:$C$60,MATCH(0,COUNTIF($A$2:E2,Data!$C$2:$C$60)+(Data!$B$2:$B$60<>$A2),0)),"")} | G2: {=IFERROR(INDEX(Data!$C$2:$C$60,MATCH(0,COUNTIF($A$2:F2,Data!$C$2:$C$60)+(Data!$B$2:$B$60<>$A2),0)),"")}
A3: A. BONHOMME - P. LEAL | B3: {=IFERROR(INDEX(Data!$C$2:$C$60,MATCH(0,COUNTIF($A$2:A3,Data!$C$2:$C$60)+(Data!$B$2:$B$60<>$A3),0)),"")} -> Avocat | C3: {=IFERROR(INDEX(Data!$C$2:$C$60,MATCH(0,COUNTIF($A$2:B3,Data!$C$2:$C$60)+(Data!$B$2:$B$60<>$A3),0)),"")} | D3: {=IFERROR(INDEX(Data!$C$2:$C$60,MATCH(0,COUNTIF($A$2:C3,Data!$C$2:$C$60)+(Data!$B$2:$B$60<>$A3),0)),"")} | E3: {=IFERROR(INDEX(Data!$C$2:$C$60,MATCH(0,COUNTIF($A$2:D3,Data!$C$2:$C$60)+(Data!$B$2:$B$60<>$A3),0)),"")} | F3: {=IFERROR(INDEX(Data!$C$2:$C$60,MATCH(0,COUNTIF($A$2:E3,Data!$C$2:$C$60)+(Data!$B$2:$B$60<>$A3),0)),"")} | G3: {=IFERROR(INDEX(Data!$C$2:$C$60,MATCH(0,COUNTIF($A$2:F3,Data!$C$2:$C$60)+(Data!$B$2:$B$60<>$A3),0)),"")}
A4: A.A.J. | B4: {=IFERROR(INDEX(Data!$C$2:$C$60,MATCH(0,COUNTIF($A$2:A4,Data!$C$2:$C$60)+(Data!$B$2:$B$60<>$A4),0)),"")} -> EXE | C4: {=IFERROR(INDEX(Data!$C$2:$C$60,MATCH(0,COUNTIF($A$2:B4,Data!$C$2:$C$60)+(Data!$B$2:$B$60<>$A4),0)),"")} | D4: {=IFERROR(INDEX(Data!$C$2:$C$60,MATCH(0,COUNTIF($A$2:C4,Data!$C$2:$C$60)+(Data!$B$2:$B$60<>$A4),0)),"")} | E4: {=IFERROR(INDEX(Data!$C$2:$C$60,MATCH(0,COUNTIF($A$2:D4,Data!$C$2:$C$60)+(Data!$B$2:$B$60<>$A4),0)),"")} | F4: {=IFERROR(INDEX(Data!$C$2:$C$60,MATCH(0,COUNTIF($A$2:E4,Data!$C$2:$C$60)+(Data!$B$2:$B$60<>$A4),0)),"")} | G4: {=IFERROR(INDEX(Data!$C$2:$C$60,MATCH(0,COUNTIF($A$2:F4,Data!$C$2:$C$60)+(Data!$B$2:$B$60<>$A4),0)),"")}
A5: A.C.R HUISSIERS | B5: {=IFERROR(INDEX(Data!$C$2:$C$60,MATCH(0,COUNTIF($A$2:A5,Data!$C$2:$C$60)+(Data!$B$2:$B$60<>$A5),0)),"")} -> EXE | C5: {=IFERROR(INDEX(Data!$C$2:$C$60,MATCH(0,COUNTIF($A$2:B5,Data!$C$2:$C$60)+(Data!$B$2:$B$60<>$A5),0)),"")} -> EXE/RST | D5: {=IFERROR(INDEX(Data!$C$2:$C$60,MATCH(0,COUNTIF($A$2:C5,Data!$C$2:$C$60)+(Data!$B$2:$B$60<>$A5),0)),"")} -> Cabinet | E5: {=IFERROR(INDEX(Data!$C$2:$C$60,MATCH(0,COUNTIF($A$2:D5,Data!$C$2:$C$60)+(Data!$B$2:$B$60<>$A5),0)),"")} -> RST | F5: {=IFERROR(INDEX(Data!$C$2:$C$60,MATCH(0,COUNTIF($A$2:E5,Data!$C$2:$C$60)+(Data!$B$2:$B$60<>$A5),0)),"")} -> RMF | G5: {=IFERROR(INDEX(Data!$C$2:$C$60,MATCH(0,COUNTIF($A$2:F5,Data!$C$2:$C$60)+(Data!$B$2:$B$60<>$A5),0)),"")}
A6: ABEGUILE-LEPASTOUREL | B6: {=IFERROR(INDEX(Data!$C$2:$C$60,MATCH(0,COUNTIF($A$2:A6,Data!$C$2:$C$60)+(Data!$B$2:$B$60<>$A6),0)),"")} -> RMF | C6: {=IFERROR(INDEX(Data!$C$2:$C$60,MATCH(0,COUNTIF($A$2:B6,Data!$C$2:$C$60)+(Data!$B$2:$B$60<>$A6),0)),"")} | D6: {=IFERROR(INDEX(Data!$C$2:$C$60,MATCH(0,COUNTIF($A$2:C6,Data!$C$2:$C$60)+(Data!$B$2:$B$60<>$A6),0)),"")} | E6: {=IFERROR(INDEX(Data!$C$2:$C$60,MATCH(0,COUNTIF($A$2:D6,Data!$C$2:$C$60)+(Data!$B$2:$B$60<>$A6),0)),"")} | F6: {=IFERROR(INDEX(Data!$C$2:$C$60,MATCH(0,COUNTIF($A$2:E6,Data!$C$2:$C$60)+(Data!$B$2:$B$60<>$A6),0)),"")} | G6: {=IFERROR(INDEX(Data!$C$2:$C$60,MATCH(0,COUNTIF($A$2:F6,Data!$C$2:$C$60)+(Data!$B$2:$B$60<>$A6),0)),"")}
