Workbook
Name HEA: Données!$C$2:$C$25
Name HEB: Données!$D$2:$D$25
Name IPE: Données!$B$2:$B$25
Name Prix_IPE: Données!$B$1:$B$19
Name PrixCoupeIPE_droite: Données!$H$1:$H$19
Name Section: Données!$A$2:$A$5
Name Types_de_coupes: Données!$F$2:$F$5
Name UPN: Données!$E$2:$E$25

Sheet Calcul
E3: Date : 20/02/1982
E4: Client : 0293918
E5: Référence : F7W82DDE8
B10: N° | C10: Profil | D10: Section | E10: Type de coupe | F10: PrixCoupe | G10: Quantité | H10: Longueur (mm) | I10: Poids KG/ML | J10: Poids unitaire (kg) | K10: Poids total poste (kg) | L10: Prix/KG HT | M10: Prix unitaire HT | N10: Total HT
B11: 1 | C11: IPE | D11: 80 | E11: Droite | F11: =IF(E11="Droite","4€",IF(E11="Droite-biaise","10€",IF(E11="Biaise-biaise","8€",IF(E11="Chapeau","15€","COUPE?")))) -> 4€ | I11: =IFERROR(INDEX(Données!$A$1:$L$18,MATCH(D11,Données!$B:$B,0),MATCH("Poids"&C11,Données!$1:$1,0)),0) -> 6 | J11: =(H11/1000)*I11 -> 0 | K11: =G11*J11 -> 0 | M11: =IFERROR(J11*L11+F11,"-") -> 4 | N11: =IFERROR(G11*M11,"-") -> 0
B12: 2 | C12: IPE | D12: 100 | E12: Droite-biaise | F12: =IF(E12="Droite","4€",IF(E12="Droite-biaise","10€",IF(E12="Biaise-biaise","8€",IF(E12="Chapeau","15€","COUPE?")))) -> 10€ | I12: =IFERROR(INDEX(Données!$A$1:$L$18,MATCH(D12,Données!$B:$B,0),MATCH("Poids"&C12,Données!$1:$1,0)),0) -> 8.1 | J12: =(H12/1000)*I12 -> 0 | K12: =G12*J12 -> 0 | M12: =IFERROR(J12*L12+F12,"-") -> 10 | N12: =IFERROR(G12*M12,"-") -> 0
B13: 3 | C13: IPE | D13: 140 | E13: Biaise-biaise | F13: =IF(E13="Droite","4€",IF(E13="Droite-biaise","10€",IF(E13="Biaise-biaise","8€",IF(E13="Chapeau","15€","COUPE?")))) -> 8€ | I13: =IFERROR(INDEX(Données!$A$1:$L$18,MATCH(D13,Données!$B:$B,0),MATCH("Poids"&C13,Données!$1:$1,0)),0) -> 12.9 | J13: =(H13/1000)*I13 -> 0 | K13: =G13*J13 -> 0 | M13: =IFERROR(J13*L13+F13,"-") -> 8 | N13: =IFERROR(G13*M13,"-") -> 0
B14: 4 | C14: IPE | D14: 140 | E14: Chapeau | F14: =IF(E14="Droite","4€",IF(E14="Droite-biaise","10€",IF(E14="Biaise-biaise","8€",IF(E14="Chapeau","15€","COUPE?")))) -> 15€ | I14: =IFERROR(INDEX(Données!$A$1:$L$18,MATCH(D14,Données!$B:$B,0),MATCH("Poids"&C14,Données!$1:$1,0)),0) -> 12.9 | J14: =(H14/1000)*I14 -> 0 | K14: =G14*J14 -> 0 | M14: =IFERROR(J14*L14+F14,"-") -> 15 | N14: =IFERROR(G14*M14,"-") -> 0
B15: 5 | C15: HEA | D15: 100 | F15: =IF(E15="Droite","4€",IF(E15="Droite-biaise","10€",IF(E15="Biaise-biaise","8€",IF(E15="Chapeau","15€","COUPE?")))) -> COUPE? | I15: =IFERROR(INDEX(Données!$A$1:$L$18,MATCH(D15,Données!$B:$B,0),MATCH("Poids"&C15,Données!$1:$1,0)),0) -> 19.9 | J15: =(H15/1000)*I15 -> 0 | K15: =G15*J15 -> 0 | M15: =IFERROR(J15*L15+F15,"-") -> - | N15: =IFERROR(G15*M15,"-") -> -
B16: 6 | C16: UPN | D16: 35 | F16: =IF(E16="Droite","4€",IF(E16="Droite-biaise","10€",IF(E16="Biaise-biaise","8€",IF(E16="Chapeau","15€","COUPE?")))) -> COUPE? | J16: =(H16/1000)*I16 -> 0 | K16: =G16*J16 -> 0 | M16: =IFERROR(J16*L16+F16,"-") -> - | N16: =IFERROR(G16*M16,"-") -> -
B17: 7 | C17: IPE | D17: 140 | F17: =IF(E17="Droite","4€",IF(E17="Droite-biaise","10€",IF(E17="Biaise-biaise","8€",IF(E17="Chapeau","15€","COUPE?")))) -> COUPE? | J17: =(H17/1000)*I17 -> 0 | K17: =G17*J17 -> 0 | M17: =IFERROR(J17*L17+F17,"-") -> - | N17: =IFERROR(G17*M17,"-") -> -
B18: 8 | C18: IPE | D18: 160 | F18: =IF(E18="Droite","4€",IF(E18="Droite-biaise","10€",IF(E18="Biaise-biaise","8€",IF(E18="Chapeau","15€","COUPE?")))) -> COUPE? | J18: =(H18/1000)*I18 -> 0 | K18: =G18*J18 -> 0 | M18: =IFERROR(J18*L18+F18,"-") -> - | N18: =IFERROR(G18*M18,"-") -> -
B19: 9 | C19: IPE | D19: 100 | F19: =IF(E19="Droite","4€",IF(E19="Droite-biaise","10€",IF(E19="Biaise-biaise","8€",IF(E19="Chapeau","15€","COUPE?")))) -> COUPE? | J19: =(H19/1000)*I19 -> 0 | K19: =G19*J19 -> 0 | M19: =IFERROR(J19*L19+F19,"-") -> - | N19: =IFERROR(G19*M19,"-") -> -
B20: 10 | C20: HEB | D20: 200 | F20: =IF(E20="Droite","4€",IF(E20="Droite-biaise","10€",IF(E20="Biaise-biaise","8€",IF(E20="Chapeau","15€","COUPE?")))) -> COUPE? | J20: =(H20/1000)*I20 -> 0 | K20: =G20*J20 -> 0 | M20: =IFERROR(J20*L20+F20,"-") -> - | N20: =IFERROR(G20*M20,"-") -> -
B21: 11 | C21: IPE | D21: 100 | F21: =IF(E21="Droite","4€",IF(E21="Droite-biaise","10€",IF(E21="Biaise-biaise","8€",IF(E21="Chapeau","15€","COUPE?")))) -> COUPE? | J21: =(H21/1000)*I21 -> 0 | K21: =G21*J21 -> 0 | M21: =IFERROR(J21*L21+F21,"-") -> - | N21: =IFERROR(G21*M21,"-") -> -
B22: 12 | C22: HEB | D22: 181 | F22: =IF(E22="Droite","4€",IF(E22="Droite-biaise","10€",IF(E22="Biaise-biaise","8€",IF(E22="Chapeau","15€","COUPE?")))) -> COUPE? | J22: =(H22/1000)*I22 -> 0 | K22: =G22*J22 -> 0 | M22: =IFERROR(J22*L22+F22,"-") -> - | N22: =IFERROR(G22*M22,"-") -> -
B23: 13 | C23: HEB | D23: 182 | F23: =IF(E23="Droite","4€",IF(E23="Droite-biaise","10€",IF(E23="Biaise-biaise","8€",IF(E23="Chapeau","15€","COUPE?")))) -> COUPE? | J23: =(H23/1000)*I23 -> 0 | K23: =G23*J23 -> 0 | M23: =IFERROR(J23*L23+F23,"-") -> - | N23: =IFERROR(G23*M23,"-") -> -
B24: 14 | C24: HEB | D24: 183 | F24: =IF(E24="Droite","4€",IF(E24="Droite-biaise","10€",IF(E24="Biaise-biaise","8€",IF(E24="Chapeau","15€","COUPE?")))) -> COUPE? | J24: =(H24/1000)*I24 -> 0 | K24: =G24*J24 -> 0 | M24: =IFERROR(J24*L24+F24,"-") -> - | N24: =IFERROR(G24*M24,"-") -> -
B25: 15 | C25: HEB | D25: 184 | F25: =IF(E25="Droite","4€",IF(E25="Droite-biaise","10€",IF(E25="Biaise-biaise","8€",IF(E25="Chapeau","15€","COUPE?")))) -> COUPE? | J25: =(H25/1000)*I25 -> 0 | K25: =G25*J25 -> 0 | M25: =IFERROR(J25*L25+F25,"-") -> - | N25: =IFERROR(G25*M25,"-") -> -
B26: 16 | C26: HEB | D26: 185 | F26: =IF(E26="Droite","4€",IF(E26="Droite-biaise","10€",IF(E26="Biaise-biaise","8€",IF(E26="Chapeau","15€","COUPE?")))) -> COUPE? | J26: =(H26/1000)*I26 -> 0 | K26: =G26*J26 -> 0 | M26: =IFERROR(J26*L26+F26,"-") -> - | N26: =IFERROR(G26*M26,"-") -> -
B27: 17 | C27: HEB | D27: 186 | F27: =IF(E27="Droite","4€",IF(E27="Droite-biaise","10€",IF(E27="Biaise-biaise","8€",IF(E27="Chapeau","15€","COUPE?")))) -> COUPE? | J27: =(H27/1000)*I27 -> 0 | K27: =G27*J27 -> 0 | M27: =IFERROR(J27*L27+F27,"-") -> - | N27: =IFERROR(G27*M27,"-") -> -
... B31: 21 | C31: HEB | D31: 190 | F31: =IF(E31="Droite","4€",IF(E31="Droite-biaise","10€",IF(E31="Biaise-biaise","8€",IF(E31="Chapeau","15€","COUPE?")))) -> COUPE? | J31: =(H31/1000)*I31 -> 0 | K31: =G31*J31 -> 0 | M31: =IFERROR(J31*L31+F31,"-") -> - | N31: =IFERROR(G31*M31,"-") -> -
C33: Validité : 09/04/1983 | J33: POIDS TOTAL : | K33: =SUM(K11:K32) -> 0 | M33: TOTAL HT : | N33: =SUM(N11:N32) -> 0
C34: Délai :

Sheet Données
A1: Section | B1: IPE | C1: HEA | D1: HEB | E1: UPN | F1: Types de coupes | I1: PoidsIPE | J1: PoidsHEA | K1: PoidsHEB | L1: PoidsUPN
A2: IPE | B2: 80 | C2: 100 | D2: 100 | E2: 30 | F2: Droite | I2: 6 | J2: 16.7 | K2: 20.4 | L2: =864/100 -> 8.64
A3: HEA | B3: 100 | C3: 120 | D3: 120 | E3: 35 | F3: Droite-biaise | I3: =81/10 -> 8.1 | J3: 19.9 | K3: 26.7 | L3: 10.6
A4: HEB | B4: 120 | C4: 140 | D4: 140 | E4: 40 | F4: Biaise-biaise | I4: 10.4 | J4: 24.7 | K4: 33.7 | L4: 13.4
A5: UPN | B5: 140 | C5: 160 | D5: 160 | E5: 50 | F5: Chapeau | I5: 12.9 | J5: 30.4 | K5: 42.6 | L5: 16
B6: 160 | C6: 180 | D6: 180 | E6: 60 | I6: 15.8 | J6: 35.5 | K6: 51.2 | L6: 18.8
B7: 180 | C7: 200 | D7: 200 | E7: 65 | I7: 18.8 | J7: 42.3 | K7: 61.3 | L7: 22
B8: 200 | C8: 220 | D8: 220 | E8: 70 | I8: 22.4 | J8: 50.5 | K8: 71.5 | L8: 25.3
B9: 220 | C9: 240 | D9: 240 | E9: 80 | I9: 26.2 | J9: 60.3 | K9: 83.2 | L9: 29.4
B10: 240 | C10: 260 | D10: 260 | E10: 100 | I10: 30.7 | J10: 68.2 | K10: 93 | L10: 33.2
B11: 270 | C11: 280 | D11: 280 | E11: 120 | I11: 36.1 | J11: 76.4 | K11: 103 | L11: 37.9
B12: 300 | C12: 300 | D12: 300 | E12: 140 | I12: 42.2 | J12: 88.3 | K12: 117 | L12: 41.8
B13: 330 | C13: 320 | D13: 320 | E13: 160 | I13: 49.1 | J13: 97.6 | K13: 127 | L13: 46.2
B14: 360 | C14: 340 | D14: 340 | E14: 180 | I14: 57.1 | J14: 105 | K14: 134
B15: 400 | C15: 360 | D15: 360 | E15: 200 | I15: 66.3 | J15: 112 | K15: 142
B16: 450 | C16: 400 | D16: 400 | E16: 220 | I16: 77.6 | J16: 125 | K16: 155
B17: 500 | C17: 450 | D17: 450 | E17: 240 | I17: 90.7 | J17: 140 | K17: 171
C18: 500 | D18: 500 | E18: 250 | J18: 155 | K18: 187
E19: 260
E20: 280
E21: 300
