Workbook
Name ADVERSAIRE: 'LISTE MATCHS'!$D$2:$D$161
Name dates: 'LISTE MATCHS'!$A$2:$A$161
Name EQUIPE: Equipes!$A$2:$A$21

Sheet LISTE MATCHS
A1: Date du match | B1: Heure | C1: Domicile/Extérieur | D1: Equipe adverse | E1: Compétition | F1: Phase | G1: Aller-Retour | H1: Modification demandée
A2: 43106 | B2: 15H | C2: Domicile | D2: ST LAUR/ST GERV ENT 1 | E2: U15 Départemental 2 | F2: 1 | G2: Aller
A3: 43106 | B3: 15H | C3: Domicile | D3: BAZAS PATRONAGE 2 | E3: U18 Departemental 3 | F3: 1 | G3: Aller
A4: 43107 | B4: 14H55 | C4: Domicile | D4: UZESTE E.C. 1 | E4: Seniors Departemental 2 | F4: . | G4: Aller
A5: 43113 | B5: 20H | C5: Extérieur | D5: STE HELENE CA 1 | E5: Seniors Regional 4 | F5: Phase Unique | G5: Aller
A6: 43113 | B6: 13H45 | C6: Domicile | D6: MORIZES A.S. 1 | E6: U13 Bras Niveau 1 Division 2 | F6: Phase 2 | G6: Aller
A7: 43113 | B7: 13H45 | C7: Extérieur | D7: SAINT-AUBIN AS 2 | E7: U13 Bras Niveau 2 Division 1 | F7: Phase 2 | G7: Aller
A8: 43113 | B8: 13H45 | C8: Extérieur | D8: PESSAC CHÂTAIGNERAIE 2 | E8: U13 Bras Niveau 2 Division 2 | F8: Phase 2 | G8: Aller
A9: 43113 | B9: 13H45 | C9: Extérieur | D9: FC DES GRAVES 1 | E9: U13 Brassage Lfna | F9: Phase 2 | G9: Aller
A10: 43113 | B10: 15H | C10: Extérieur | D10: LANGON FC 1 | E10: U16 Regional 1 | F10: Phase Unique | G10: Retour
A11: 43114 | B11: 13H | C11: Domicile | D11: BLEUETS MACARIENS 1 | E11: Seniors Departemental 2 | F11: . | G11: Aller
A12: 43114 | B12: 15H | C12: Domicile | D12: BIARRITZ JEANNE ARC 1 | E12: Seniors Regional 1 | F12: Phase Unique | G12: Aller
A13: 43114 | B13: 13H | C13: Extérieur | D13: BERGERAC PERIGORD FC 2 | E13: Feminines Regional 2 | F13: Phase 2 | G13: Aller
A14: 43120 | B14: 15H | C14: Extérieur | D14: GALGON ENT 1 | E14: U15 Départemental 2 | F14: 1 | G14: Retour
A15: 43120 | B15: 15H | C15: Domicile | D15: PAU FC 1 | E15: U16 Regional 1 | F15: Phase Unique | G15: Retour
A16: 43120 | B16: 15H | C16: Domicile | D16: LANGON FC 1 | E16: U17 Regional 2 | F16: Phase Unique - Sud | G16: Aller
A17: 43120 | B17: 15H | C17: Extérieur | D17: BELIN BELIET ENT 2 | E17: U18 Departemental 3 | F17: 1 | G17: Aller
A18: 43120 | B18: 15H | C18: Extérieur | D18: STADE MONTOIS 1 | E18: U19 Regional 2 - Sud | F18: Phase Unique | G18: Aller
A19: 43120 | B19: 10H30 | C19: Domicile | D19: (4) FC DES GRAVES 1 | E19: U11 Niveau 1 Poule B | F19: 3ème phase | G19: Aller
A20: 43120 | B20: 10H30 | C20: Domicile | D20: (6) LEOGNAN USC 1 | E20: U11 Niveau 1 Poule A | F20: 3ème phase | G20: Aller
A21: 43120 | B21: 10H30 | C21: Extérieur | D21: (7) C.A. BEGLAIS 1 | E21: U11 Niveau 1 Poule A | F21: 3ème phase | G21: Aller
A22: 43120 | B22: 10H30 | C22: Extérieur | D22: (1) LANGON FC 1 | E22: U11 Niveau 1 Poule B | F22: 3ème phase | G22: Aller
A23: 43120 | B23: 10H30 | C23: Domicile | D23: (6) CABANAC-V.S.C 1 | E23: U11 Niveau 2 Poule C | F23: 3ème phase | G23: Aller
A24: 43120 | B24: 10H30 | C24: Domicile | D24: (3) COQS ROUGES BORD 2 | E24: U11 Niveau 2 Poule C | F24: 3ème phase | G24: Aller
A25: 43120 | B25: 10H30 | C25: Extérieur | D25: (7) J.VILLENAVAISE 4 | E25: U11 Niveau 2 Poule A | F25: 3ème phase | G25: Aller
A26: 43120 | B26: 10H30 | C26: Extérieur | D26: (3) C.A. BEGLAIS 2 | E26: U11 Niveau 2 Poule A | F26: 3ème phase | G26: Aller
A27: 43120 | B27: 15H | C27: Extérieur | D27: BASSENS CMO 1 | E27: U14 F Brassages / 1 | G27: Aller
A28: 43120 | B28: 15H | C28: Domicile | D28: LEGE CAP FERRET US 1 | E28: U15 Regional 2 | F28: Phase 2 | G28: Aller
A29: 43121 | B29: 13H | C29: Extérieur | D29: ST SYMPHORIEN SC 2 | E29: Seniors Departemental 2 | F29: . | G29: Aller
A30: 43121 | B30: 15H | C30: Extérieur | D30: BERGERAC PERIGORD FC 2 | E30: Seniors Regional 1 | F30: Phase Unique | G30: Aller
A31: 43121 | B31: 15H | C31: Domicile | D31: ANGLET GENETS FOOT 3 | E31: Seniors Regional 4 | F31: Phase Unique | G31: Aller
A32: 43121 | B32: 15H | C32: Domicile | D32: MONTOISE ES/ST. MONT 1 | E32: Feminines Regional 2 | F32: Phase 2 | G32: Aller
A33: 43127 | B33: 19H30 | C33: Extérieur | D33: MARMANDE 47 FC 1 | E33: Seniors Regional 1 | F33: Phase Unique | G33: Retour
A34: 43127 | B34: 15H | C34: Domicile | D34: COTEAUX BORDELAIS 2 | E34: U15 Départemental 2 | F34: 1 | G34: Retour
A35: 43127 | B35: 15H | C35: Domicile | D35: BASSIN ARCACHON FC 1 | E35: U17 Regional 2 | F35: Phase Unique - Sud | G35: Retour
A36: 43127 | B36: 13H | C36: Domicile | D36: GIRONDE REOLE ENT 1 | E36: U18 Departemental 3 | F36: 1 | G36: Retour
A37: 43127 | B37: 15H | C37: Extérieur | D37: NAY VATH VIELHA ES 1 | E37: U19 Regional 2 - Sud | F37: Phase Unique | G37: Retour
A38: 43127 | B38: 15H | C38: Extérieur | D38: STADE MONTOIS 1 | E38: U15 Regional 2 | F38: Phase 2 | G38: Aller
A39: 43128 | B39: 15H | C39: Domicile | D39: MARCELLUS COCUMONT 1 | E39: Seniors Regional 4 | F39: Phase Unique | G39: Aller
A40: 43128 | B40: 15H | C40: Domicile | D40: MERIGNAC ARLAC FCE 2 | E40: Feminines Regional 2 | F40: Phase 2 | G40: Aller
...

Sheet Planning Affichage
A1: Dates | B1: Seniors Regional 1 | C1: Seniors Regional 4 | D1: Seniors Departemental 2 | E1: U19 Regional 2 - Sud | F1: U18 Departemental 3 | G1: U17 Regional 2 | H1: U16 Regional 1 | I1: U15 Regional 2 | J1: U15 Départemental 2 | K1: U13 Brassage Lfna | L1: U13 Bras Niveau 2 Division 2 | M1: U13 Bras Niveau 2 Division 1 | N1: U13 Bras Niveau 1 Division 2 | O1: U11 Niveau 1 Poule A | P1: U11 Niveau 1 Poule B | Q1: U11 Niveau 2 Poule A | R1: U11 Niveau 2 Poule A | S1: Feminines Regional 2 | T1: U17 F | U1: U14 F
A2: 43106 | B2: {=IF(ISERROR(MATCH($A2&B$1,dates&'LISTE MATCHS'!$E$2:$E$161,0)),"",INDEX(ADVERSAIRE,MATCH($A2&B$1,dates&'LISTE MATCHS'!$E$2:$E$161,0)))} | C2: {=IF(ISERROR(MATCH($A2&C$1,dates&'LISTE MATCHS'!$E$2:$E$161,0)),"",INDEX(ADVERSAIRE,MATCH($A2&C$1,dates&'LISTE MATCHS'!$E$2:$E$161,0)))} | D2: {=IF(ISERROR(MATCH($A2&D$1,dates&'LISTE MATCHS'!$E$2:$E$161,0)),"",INDEX(ADVERSAIRE,MATCH($A2&D$1,dates&'LISTE MATCHS'!$E$2:$E$161,0)))} | E2: {=IF(ISERROR(MATCH($A2&E$1,dates&'LISTE MATCHS'!$E$2:$E$161,0)),"",INDEX(ADVERSAIRE,MATCH($A2&E$1,dates&'LISTE MATCHS'!$E$2:$E$161,0)))} | F2: {=IF(ISERROR(MATCH($A2&F$1,dates&'LISTE MATCHS'!$E$2:$E$161,0)),"",INDEX(ADVERSAIRE,MATCH($A2&F$1,dates&'LISTE MATCHS'!$E$2:$E$161,0)))} -> BAZAS PATRONAGE 2 | G2: {=IF(ISERROR(MATCH($A2&G$1,dates&'LISTE MATCHS'!$E$2:$E$161,0)),"",INDEX(ADVERSAIRE,MATCH($A2&G$1,dates&'LISTE MATCHS'!$E$2:$E$161,0)))} | H2: {=IF(ISERROR(MATCH($A2&H$1,dates&'LISTE MATCHS'!$E$2:$E$161,0)),"",INDEX(ADVERSAIRE,MATCH($A2&H$1,dates&'LISTE MATCHS'!$E$2:$E$161,0)))} | I2: {=IF(ISERROR(MATCH($A2&I$1,dates&'LISTE MATCHS'!$E$2:$E$161,0)),"",INDEX(ADVERSAIRE,MATCH($A2&I$1,dates&'LISTE MATCHS'!$E$2:$E$161,0)))} | ... U2: {=IF(ISERROR(MATCH($A2&U$1,dates&'LISTE MATCHS'!$E$2:$E$161,0)),"",INDEX(ADVERSAIRE,MATCH($A2&U$1,dates&'LISTE MATCHS'!$E$2:$E$161,0)))} | W2: {=IF(ISERROR(MATCH($A2&B$1,dates&'LISTE MATCHS'!$E$2:$E$161,0)),"",INDEX(LEFT('LISTE MATCHS'!$C$2:$C$161,1),MATCH($A2&B$1,dates&'LISTE MATCHS'!$E$2:$E$161,0)))} | X2: {=IF(ISERROR(MATCH($A2&C$1,dates&'LISTE MATCHS'!$E$2:$E$161,0)),"",INDEX(LEFT('LISTE MATCHS'!$C$2:$C$161,1),MATCH($A2&C$1,dates&'LISTE MATCHS'!$E$2:$E$161,0)))} | Y2: {=IF(ISERROR(MATCH($A2&D$1,dates&'LISTE MATCHS'!$E$2:$E$161,0)),"",INDEX(LEFT('LISTE MATCHS'!$C$2:$C$161,1),MATCH($A2&D$1,dates&'LISTE MATCHS'!$E$2:$E$161,0)))} | Z2: {=IF(ISERROR(MATCH($A2&E$1,dates&'LISTE MATCHS'!$E$2:$E$161,0)),"",INDEX(LEFT('LISTE MATCHS'!$C$2:$C$161,1),MATCH($A2&E$1,dates&'LISTE MATCHS'!$E$2:$E$161,0)))} | AA2: {=IF(ISERROR(MATCH($A2&F$1,dates&'LISTE MATCHS'!$E$2:$E$161,0)),"",INDEX(LEFT('LISTE MATCHS'!$C$2:$C$161,1),MATCH($A2&F$1,dates&'LISTE MATCHS'!$E$2:$E$161,0)))} -> D | AB2: {=IF(ISERROR(MATCH($A2&G$1,dates&'LISTE MATCHS'!$E$2:$E$161,0)),"",INDEX(LEFT('LISTE MATCHS'!$C$2:$C$161,1),MATCH($A2&G$1,dates&'LISTE MATCHS'!$E$2:$E$161,0)))} | AC2: {=IF(ISERROR(MATCH($A2&H$1,dates&'LISTE MATCHS'!$E$2:$E$161,0)),"",INDEX(LEFT('LISTE MATCHS'!$C$2:$C$161,1),MATCH($A2&H$1,dates&'LISTE MATCHS'!$E$2:$E$161,0)))} | AD2: {=IF(ISERROR(MATCH($A2&I$1,dates&'LISTE MATCHS'!$E$2:$E$161,0)),"",INDEX(LEFT('LISTE MATCHS'!$C$2:$C$161,1),MATCH($A2&I$1,dates&'LISTE MATCHS'!$E$2:$E$161,0)))} | ... AP2: {=IF(ISERROR(MATCH($A2&U$1,dates&'LISTE MATCHS'!$E$2:$E$161,0)),"",INDEX(LEFT('LISTE MATCHS'!$C$2:$C$161,1),MATCH($A2&U$1,dates&'LISTE MATCHS'!$E$2:$E$161,0)))}
A3: 43107 | B3: {=IF(ISERROR(MATCH($A3&B$1,dates&'LISTE MATCHS'!$E$2:$E$161,0)),"",INDEX(ADVERSAIRE,MATCH($A3&B$1,dates&'LISTE MATCHS'!$E$2:$E$161,0)))} | C3: {=IF(ISERROR(MATCH($A3&C$1,dates&'LISTE MATCHS'!$E$2:$E$161,0)),"",INDEX(ADVERSAIRE,MATCH($A3&C$1,dates&'LISTE MATCHS'!$E$2:$E$161,0)))} | D3: {=IF(ISERROR(MATCH($A3&D$1,dates&'LISTE MATCHS'!$E$2:$E$161,0)),"",INDEX(ADVERSAIRE,MATCH($A3&D$1,dates&'LISTE MATCHS'!$E$2:$E$161,0)))} -> UZESTE E.C. 1 | E3: {=IF(ISERROR(MATCH($A3&E$1,dates&'LISTE MATCHS'!$E$2:$E$161,0)),"",INDEX(ADVERSAIRE,MATCH($A3&E$1,dates&'LISTE MATCHS'!$E$2:$E$161,0)))} | F3: {=IF(ISERROR(MATCH($A3&F$1,dates&'LISTE MATCHS'!$E$2:$E$161,0)),"",INDEX(ADVERSAIRE,MATCH($A3&F$1,dates&'LISTE MATCHS'!$E$2:$E$161,0)))} | G3: {=IF(ISERROR(MATCH($A3&G$1,dates&'LISTE MATCHS'!$E$2:$E$161,0)),"",INDEX(ADVERSAIRE,MATCH($A3&G$1,dates&'LISTE MATCHS'!$E$2:$E$161,0)))} | H3: {=IF(ISERROR(MATCH($A3&H$1,dates&'LISTE MATCHS'!$E$2:$E$161,0)),"",INDEX(ADVERSAIRE,MATCH($A3&H$1,dates&'LISTE MATCHS'!$E$2:$E$161,0)))} | I3: {=IF(ISERROR(MATCH($A3&I$1,dates&'LISTE MATCHS'!$E$2:$E$161,0)),"",INDEX(ADVERSAIRE,MATCH($A3&I$1,dates&'LISTE MATCHS'!$E$2:$E$161,0)))} | ... U3: {=IF(ISERROR(MATCH($A3&U$1,dates&'LISTE MATCHS'!$E$2:$E$161,0)),"",INDEX(ADVERSAIRE,MATCH($A3&U$1,dates&'LISTE MATCHS'!$E$2:$E$161,0)))} | W3: {=IF(ISERROR(MATCH($A3&B$1,dates&'LISTE MATCHS'!$E$2:$E$161,0)),"",INDEX(LEFT('LISTE MATCHS'!$C$2:$C$161,1),MATCH($A3&B$1,dates&'LISTE MATCHS'!$E$2:$E$161,0)))} | X3: {=IF(ISERROR(MATCH($A3&C$1,dates&'LISTE MATCHS'!$E$2:$E$161,0)),"",INDEX(LEFT('LISTE MATCHS'!$C$2:$C$161,1),MATCH($A3&C$1,dates&'LISTE MATCHS'!$E$2:$E$161,0)))} | Y3: {=IF(ISERROR(MATCH($A3&D$1,dates&'LISTE MATCHS'!$E$2:$E$161,0)),"",INDEX(LEFT('LISTE MATCHS'!$C$2:$C$161,1),MATCH($A3&D$1,dates&'LISTE MATCHS'!$E$2:$E$161,0)))} -> D | Z3: {=IF(ISERROR(MATCH($A3&E$1,dates&'LISTE MATCHS'!$E$2:$E$161,0)),"",INDEX(LEFT('LISTE MATCHS'!$C$2:$C$161,1),MATCH($A3&E$1,dates&'LISTE MATCHS'!$E$2:$E$161,0)))} | AA3: {=IF(ISERROR(MATCH($A3&F$1,dates&'LISTE MATCHS'!$E$2:$E$161,0)),"",INDEX(LEFT('LISTE MATCHS'!$C$2:$C$161,1),MATCH($A3&F$1,dates&'LISTE MATCHS'!$E$2:$E$161,0)))} | AB3: {=IF(ISERROR(MATCH($A3&G$1,dates&'LISTE MATCHS'!$E$2:$E$161,0)),"",INDEX(LEFT('LISTE MATCHS'!$C$2:$C$161,1),MATCH($A3&G$1,dates&'LISTE MATCHS'!$E$2:$E$161,0)))} | AC3: {=IF(ISERROR(MATCH($A3&H$1,dates&'LISTE MATCHS'!$E$2:$E$161,0)),"",INDEX(LEFT('LISTE MATCHS'!$C$2:$C$161,1),MATCH($A3&H$1,dates&'LISTE MATCHS'!$E$2:$E$161,0)))} | AD3: {=IF(ISERROR(MATCH($A3&I$1,dates&'LISTE MATCHS'!$E$2:$E$161,0)),"",INDEX(LEFT('LISTE MATCHS'!$C$2:$C$161,1),MATCH($A3&I$1,dates&'LISTE MATCHS'!$E$2:$E$161,0)))} | ... AP3: {=IF(ISERROR(MATCH($A3&U$1,dates&'LISTE MATCHS'!$E$2:$E$161,0)),"",INDEX(LEFT('LISTE MATCHS'!$C$2:$C$161,1),MATCH($A3&U$1,dates&'LISTE MATCHS'!$E$2:$E$161,0)))}
A4: 43113 | B4: {=IF(ISERROR(MATCH($A4&B$1,dates&'LISTE MATCHS'!$E$2:$E$161,0)),"",INDEX(ADVERSAIRE,MATCH($A4&B$1,dates&'LISTE MATCHS'!$E$2:$E$161,0)))} | C4: {=IF(ISERROR(MATCH($A4&C$1,dates&'LISTE MATCHS'!$E$2:$E$161,0)),"",INDEX(ADVERSAIRE,MATCH($A4&C$1,dates&'LISTE MATCHS'!$E$2:$E$161,0)))} -> STE HELENE CA 1 | D4: {=IF(ISERROR(MATCH($A4&D$1,dates&'LISTE MATCHS'!$E$2:$E$161,0)),"",INDEX(ADVERSAIRE,MATCH($A4&D$1,dates&'LISTE MATCHS'!$E$2:$E$161,0)))} | E4: {=IF(ISERROR(MATCH($A4&E$1,dates&'LISTE MATCHS'!$E$2:$E$161,0)),"",INDEX(ADVERSAIRE,MATCH($A4&E$1,dates&'LISTE MATCHS'!$E$2:$E$161,0)))} | F4: {=IF(ISERROR(MATCH($A4&F$1,dates&'LISTE MATCHS'!$E$2:$E$161,0)),"",INDEX(ADVERSAIRE,MATCH($A4&F$1,dates&'LISTE MATCHS'!$E$2:$E$161,0)))} | G4: {=IF(ISERROR(MATCH($A4&G$1,dates&'LISTE MATCHS'!$E$2:$E$161,0)),"",INDEX(ADVERSAIRE,MATCH($A4&G$1,dates&'LISTE MATCHS'!$E$2:$E$161,0)))} | H4: {=IF(ISERROR(MATCH($A4&H$1,dates&'LISTE MATCHS'!$E$2:$E$161,0)),"",INDEX(ADVERSAIRE,MATCH($A4&H$1,dates&'LISTE MATCHS'!$E$2:$E$161,0)))} -> LANGON FC 1 | I4: {=IF(ISERROR(MATCH($A4&I$1,dates&'LISTE MATCHS'!$E$2:$E$161,0)),"",INDEX(ADVERSAIRE,MATCH($A4&I$1,dates&'LISTE MATCHS'!$E$2:$E$161,0)))} | ... U4: {=IF(ISERROR(MATCH($A4&U$1,dates&'LISTE MATCHS'!$E$2:$E$161,0)),"",INDEX(ADVERSAIRE,MATCH($A4&U$1,dates&'LISTE MATCHS'!$E$2:$E$161,0)))} | W4: {=IF(ISERROR(MATCH($A4&B$1,dates&'LISTE MATCHS'!$E$2:$E$161,0)),"",INDEX(LEFT('LISTE MATCHS'!$C$2:$C$161,1),MATCH($A4&B$1,dates&'LISTE MATCHS'!$E$2:$E$161,0)))} | X4: {=IF(ISERROR(MATCH($A4&C$1,dates&'LISTE MATCHS'!$E$2:$E$161,0)),"",INDEX(LEFT('LISTE MATCHS'!$C$2:$C$161,1),MATCH($A4&C$1,dates&'LISTE MATCHS'!$E$2:$E$161,0)))} -> E | Y4: {=IF(ISERROR(MATCH($A4&D$1,dates&'LISTE MATCHS'!$E$2:$E$161,0)),"",INDEX(LEFT('LISTE MATCHS'!$C$2:$C$161,1),MATCH($A4&D$1,dates&'LISTE MATCHS'!$E$2:$E$161,0)))} | Z4: {=IF(ISERROR(MATCH($A4&E$1,dates&'LISTE MATCHS'!$E$2:$E$161,0)),"",INDEX(LEFT('LISTE MATCHS'!$C$2:$C$161,1),MATCH($A4&E$1,dates&'LISTE MATCHS'!$E$2:$E$161,0)))} | AA4: {=IF(ISERROR(MATCH($A4&F$1,dates&'LISTE MATCHS'!$E$2:$E$161,0)),"",INDEX(LEFT('LISTE MATCHS'!$C$2:$C$161,1),MATCH($A4&F$1,dates&'LISTE MATCHS'!$E$2:$E$161,0)))} | AB4: {=IF(ISERROR(MATCH($A4&G$1,dates&'LISTE MATCHS'!$E$2:$E$161,0)),"",INDEX(LEFT('LISTE MATCHS'!$C$2:$C$161,1),MATCH($A4&G$1,dates&'LISTE MATCHS'!$E$2:$E$161,0)))} | AC4: {=IF(ISERROR(MATCH($A4&H$1,dates&'LISTE MATCHS'!$E$2:$E$161,0)),"",INDEX(LEFT('LISTE MATCHS'!$C$2:$C$161,1),MATCH($A4&H$1,dates&'LISTE MATCHS'!$E$2:$E$161,0)))} -> E | AD4: {=IF(ISERROR(MATCH($A4&I$1,dates&'LISTE MATCHS'!$E$2:$E$161,0)),"",INDEX(LEFT('LISTE MATCHS'!$C$2:$C$161,1),MATCH($A4&I$1,dates&'LISTE MATCHS'!$E$2:$E$161,0)))} | ... AP4: {=IF(ISERROR(MATCH($A4&U$1,dates&'LISTE MATCHS'!$E$2:$E$161,0)),"",INDEX(LEFT('LISTE MATCHS'!$C$2:$C$161,1),MATCH($A4&U$1,dates&'LISTE MATCHS'!$E$2:$E$161,0)))}
A5: 43114 | B5: {=IF(ISERROR(MATCH($A5&B$1,dates&'LISTE MATCHS'!$E$2:$E$161,0)),"",INDEX(ADVERSAIRE,MATCH($A5&B$1,dates&'LISTE MATCHS'!$E$2:$E$161,0)))} -> BIARRITZ JEANNE ARC 1 | C5: {=IF(ISERROR(MATCH($A5&C$1,dates&'LISTE MATCHS'!$E$2:$E$161,0)),"",INDEX(ADVERSAIRE,MATCH($A5&C$1,dates&'LISTE MATCHS'!$E$2:$E$161,0)))} | D5: {=IF(ISERROR(MATCH($A5&D$1,dates&'LISTE MATCHS'!$E$2:$E$161,0)),"",INDEX(ADVERSAIRE,MATCH($A5&D$1,dates&'LISTE MATCHS'!$E$2:$E$161,0)))} -> BLEUETS MACARIENS 1 | E5: {=IF(ISERROR(MATCH($A5&E$1,dates&'LISTE MATCHS'!$E$2:$E$161,0)),"",INDEX(ADVERSAIRE,MATCH($A5&E$1,dates&'LISTE MATCHS'!$E$2:$E$161,0)))} | F5: {=IF(ISERROR(MATCH($A5&F$1,dates&'LISTE MATCHS'!$E$2:$E$161,0)),"",INDEX(ADVERSAIRE,MATCH($A5&F$1,dates&'LISTE MATCHS'!$E$2:$E$161,0)))} | G5: {=IF(ISERROR(MATCH($A5&G$1,dates&'LISTE MATCHS'!$E$2:$E$161,0)),"",INDEX(ADVERSAIRE,MATCH($A5&G$1,dates&'LISTE MATCHS'!$E$2:$E$161,0)))} | H5: {=IF(ISERROR(MATCH($A5&H$1,dates&'LISTE MATCHS'!$E$2:$E$161,0)),"",INDEX(ADVERSAIRE,MATCH($A5&H$1,dates&'LISTE MATCHS'!$E$2:$E$161,0)))} | I5: {=IF(ISERROR(MATCH($A5&I$1,dates&'LISTE MATCHS'!$E$2:$E$161,0)),"",INDEX(ADVERSAIRE,MATCH($A5&I$1,dates&'LISTE MATCHS'!$E$2:$E$161,0)))} | ... U5: {=IF(ISERROR(MATCH($A5&U$1,dates&'LISTE MATCHS'!$E$2:$E$161,0)),"",INDEX(ADVERSAIRE,MATCH($A5&U$1,dates&'LISTE MATCHS'!$E$2:$E$161,0)))} | W5: {=IF(ISERROR(MATCH($A5&B$1,dates&'LISTE MATCHS'!$E$2:$E$161,0)),"",INDEX(LEFT('LISTE MATCHS'!$C$2:$C$161,1),MATCH($A5&B$1,dates&'LISTE MATCHS'!$E$2:$E$161,0)))} -> D | X5: {=IF(ISERROR(MATCH($A5&C$1,dates&'LISTE MATCHS'!$E$2:$E$161,0)),"",INDEX(LEFT('LISTE MATCHS'!$C$2:$C$161,1),MATCH($A5&C$1,dates&'LISTE MATCHS'!$E$2:$E$161,0)))} | Y5: {=IF(ISERROR(MATCH($A5&D$1,dates&'LISTE MATCHS'!$E$2:$E$161,0)),"",INDEX(LEFT('LISTE MATCHS'!$C$2:$C$161,1),MATCH($A5&D$1,dates&'LISTE MATCHS'!$E$2:$E$161,0)))} -> D | Z5: {=IF(ISERROR(MATCH($A5&E$1,dates&'LISTE MATCHS'!$E$2:$E$161,0)),"",INDEX(LEFT('LISTE MATCHS'!$C$2:$C$161,1),MATCH($A5&E$1,dates&'LISTE MATCHS'!$E$2:$E$161,0)))} | AA5: {=IF(ISERROR(MATCH($A5&F$1,dates&'LISTE MATCHS'!$E$2:$E$161,0)),"",INDEX(LEFT('LISTE MATCHS'!$C$2:$C$161,1),MATCH($A5&F$1,dates&'LISTE MATCHS'!$E$2:$E$161,0)))} | AB5: {=IF(ISERROR(MATCH($A5&G$1,dates&'LISTE MATCHS'!$E$2:$E$161,0)),"",INDEX(LEFT('LISTE MATCHS'!$C$2:$C$161,1),MATCH($A5&G$1,dates&'LISTE MATCHS'!$E$2:$E$161,0)))} | AC5: {=IF(ISERROR(MATCH($A5&H$1,dates&'LISTE MATCHS'!$E$2:$E$161,0)),"",INDEX(LEFT('LISTE MATCHS'!$C$2:$C$161,1),MATCH($A5&H$1,dates&'LISTE MATCHS'!$E$2:$E$161,0)))} | AD5: {=IF(ISERROR(MATCH($A5&I$1,dates&'LISTE MATCHS'!$E$2:$E$161,0)),"",INDEX(LEFT('LISTE MATCHS'!$C$2:$C$161,1),MATCH($A5&I$1,dates&'LISTE MATCHS'!$E$2:$E$161,0)))} | ... AP5: {=IF(ISERROR(MATCH($A5&U$1,dates&'LISTE MATCHS'!$E$2:$E$161,0)),"",INDEX(LEFT('LISTE MATCHS'!$C$2:$C$161,1),MATCH($A5&U$1,dates&'LISTE MATCHS'!$E$2:$E$161,0)))}
A6: 43120 | B6: {=IF(ISERROR(MATCH($A6&B$1,dates&'LISTE MATCHS'!$E$2:$E$161,0)),"",INDEX(ADVERSAIRE,MATCH($A6&B$1,dates&'LISTE MATCHS'!$E$2:$E$161,0)))} | C6: {=IF(ISERROR(MATCH($A6&C$1,dates&'LISTE MATCHS'!$E$2:$E$161,0)),"",INDEX(ADVERSAIRE,MATCH($A6&C$1,dates&'LISTE MATCHS'!$E$2:$E$161,0)))} | D6: {=IF(ISERROR(MATCH($A6&D$1,dates&'LISTE MATCHS'!$E$2:$E$161,0)),"",INDEX(ADVERSAIRE,MATCH($A6&D$1,dates&'LISTE MATCHS'!$E$2:$E$161,0)))} | E6: {=IF(ISERROR(MATCH($A6&E$1,dates&'LISTE MATCHS'!$E$2:$E$161,0)),"",INDEX(ADVERSAIRE,MATCH($A6&E$1,dates&'LISTE MATCHS'!$E$2:$E$161,0)))} -> STADE MONTOIS 1 | F6: {=IF(ISERROR(MATCH($A6&F$1,dates&'LISTE MATCHS'!$E$2:$E$161,0)),"",INDEX(ADVERSAIRE,MATCH($A6&F$1,dates&'LISTE MATCHS'!$E$2:$E$161,0)))} -> BELIN BELIET ENT 2 | G6: {=IF(ISERROR(MATCH($A6&G$1,dates&'LISTE MATCHS'!$E$2:$E$161,0)),"",INDEX(ADVERSAIRE,MATCH($A6&G$1,dates&'LISTE MATCHS'!$E$2:$E$161,0)))} -> LANGON FC 1 | H6: {=IF(ISERROR(MATCH($A6&H$1,dates&'LISTE MATCHS'!$E$2:$E$161,0)),"",INDEX(ADVERSAIRE,MATCH($A6&H$1,dates&'LISTE MATCHS'!$E$2:$E$161,0)))} -> PAU FC 1 | I6: {=IF(ISERROR(MATCH($A6&I$1,dates&'LISTE MATCHS'!$E$2:$E$161,0)),"",INDEX(ADVERSAIRE,MATCH($A6&I$1,dates&'LISTE MATCHS'!$E$2:$E$161,0)))} -> LEGE CAP FERRET US 1 | ... U6: {=IF(ISERROR(MATCH($A6&U$1,dates&'LISTE MATCHS'!$E$2:$E$161,0)),"",INDEX(ADVERSAIRE,MATCH($A6&U$1,dates&'LISTE MATCHS'!$E$2:$E$161,0)))} | W6: {=IF(ISERROR(MATCH($A6&B$1,dates&'LISTE MATCHS'!$E$2:$E$161,0)),"",INDEX(LEFT('LISTE MATCHS'!$C$2:$C$161,1),MATCH($A6&B$1,dates&'LISTE MATCHS'!$E$2:$E$161,0)))} | X6: {=IF(ISERROR(MATCH($A6&C$1,dates&'LISTE MATCHS'!$E$2:$E$161,0)),"",INDEX(LEFT('LISTE MATCHS'!$C$2:$C$161,1),MATCH($A6&C$1,dates&'LISTE MATCHS'!$E$2:$E$161,0)))} | Y6: {=IF(ISERROR(MATCH($A6&D$1,dates&'LISTE MATCHS'!$E$2:$E$161,0)),"",INDEX(LEFT('LISTE MATCHS'!$C$2:$C$161,1),MATCH($A6&D$1,dates&'LISTE MATCHS'!$E$2:$E$161,0)))} | Z6: {=IF(ISERROR(MATCH($A6&E$1,dates&'LISTE MATCHS'!$E$2:$E$161,0)),"",INDEX(LEFT('LISTE MATCHS'!$C$2:$C$161,1),MATCH($A6&E$1,dates&'LISTE MATCHS'!$E$2:$E$161,0)))} -> E | AA6: {=IF(ISERROR(MATCH($A6&F$1,dates&'LISTE MATCHS'!$E$2:$E$161,0)),"",INDEX(LEFT('LISTE MATCHS'!$C$2:$C$161,1),MATCH($A6&F$1,dates&'LISTE MATCHS'!$E$2:$E$161,0)))} -> E | AB6: {=IF(ISERROR(MATCH($A6&G$1,dates&'LISTE MATCHS'!$E$2:$E$161,0)),"",INDEX(LEFT('LISTE MATCHS'!$C$2:$C$161,1),MATCH($A6&G$1,dates&'LISTE MATCHS'!$E$2:$E$161,0)))} -> D | AC6: {=IF(ISERROR(MATCH($A6&H$1,dates&'LISTE MATCHS'!$E$2:$E$161,0)),"",INDEX(LEFT('LISTE MATCHS'!$C$2:$C$161,1),MATCH($A6&H$1,dates&'LISTE MATCHS'!$E$2:$E$161,0)))} -> D | AD6: {=IF(ISERROR(MATCH($A6&I$1,dates&'LISTE MATCHS'!$E$2:$E$161,0)),"",INDEX(LEFT('LISTE MATCHS'!$C$2:$C$161,1),MATCH($A6&I$1,dates&'LISTE MATCHS'!$E$2:$E$161,0)))} -> D | ... AP6: {=IF(ISERROR(MATCH($A6&U$1,dates&'LISTE MATCHS'!$E$2:$E$161,0)),"",INDEX(LEFT('LISTE MATCHS'!$C$2:$C$161,1),MATCH($A6&U$1,dates&'LISTE MATCHS'!$E$2:$E$161,0)))}
A7: 43121 | B7: {=IF(ISERROR(MATCH($A7&B$1,dates&'LISTE MATCHS'!$E$2:$E$161,0)),"",INDEX(ADVERSAIRE,MATCH($A7&B$1,dates&'LISTE MATCHS'!$E$2:$E$161,0)))} -> BERGERAC PERIGORD FC 2 | C7: {=IF(ISERROR(MATCH($A7&C$1,dates&'LISTE MATCHS'!$E$2:$E$161,0)),"",INDEX(ADVERSAIRE,MATCH($A7&C$1,dates&'LISTE MATCHS'!$E$2:$E$161,0)))} -> ANGLET GENETS FOOT 3 | D7: {=IF(ISERROR(MATCH($A7&D$1,dates&'LISTE MATCHS'!$E$2:$E$161,0)),"",INDEX(ADVERSAIRE,MATCH($A7&D$1,dates&'LISTE MATCHS'!$E$2:$E$161,0)))} -> ST SYMPHORIEN SC 2 | E7: {=IF(ISERROR(MATCH($A7&E$1,dates&'LISTE MATCHS'!$E$2:$E$161,0)),"",INDEX(ADVERSAIRE,MATCH($A7&E$1,dates&'LISTE MATCHS'!$E$2:$E$161,0)))} | F7: {=IF(ISERROR(MATCH($A7&F$1,dates&'LISTE MATCHS'!$E$2:$E$161,0)),"",INDEX(ADVERSAIRE,MATCH($A7&F$1,dates&'LISTE MATCHS'!$E$2:$E$161,0)))} | G7: {=IF(ISERROR(MATCH($A7&G$1,dates&'LISTE MATCHS'!$E$2:$E$161,0)),"",INDEX(ADVERSAIRE,MATCH($A7&G$1,dates&'LISTE MATCHS'!$E$2:$E$161,0)))} | H7: {=IF(ISERROR(MATCH($A7&H$1,dates&'LISTE MATCHS'!$E$2:$E$161,0)),"",INDEX(ADVERSAIRE,MATCH($A7&H$1,dates&'LISTE MATCHS'!$E$2:$E$161,0)))} | I7: {=IF(ISERROR(MATCH($A7&I$1,dates&'LISTE MATCHS'!$E$2:$E$161,0)),"",INDEX(ADVERSAIRE,MATCH($A7&I$1,dates&'LISTE MATCHS'!$E$2:$E$161,0)))} | ... U7: {=IF(ISERROR(MATCH($A7&U$1,dates&'LISTE MATCHS'!$E$2:$E$161,0)),"",INDEX(ADVERSAIRE,MATCH($A7&U$1,dates&'LISTE MATCHS'!$E$2:$E$161,0)))} | W7: {=IF(ISERROR(MATCH($A7&B$1,dates&'LISTE MATCHS'!$E$2:$E$161,0)),"",INDEX(LEFT('LISTE MATCHS'!$C$2:$C$161,1),MATCH($A7&B$1,dates&'LISTE MATCHS'!$E$2:$E$161,0)))} -> E | X7: {=IF(ISERROR(MATCH($A7&C$1,dates&'LISTE MATCHS'!$E$2:$E$161,0)),"",INDEX(LEFT('LISTE MATCHS'!$C$2:$C$161,1),MATCH($A7&C$1,dates&'LISTE MATCHS'!$E$2:$E$161,0)))} -> D | Y7: {=IF(ISERROR(MATCH($A7&D$1,dates&'LISTE MATCHS'!$E$2:$E$161,0)),"",INDEX(LEFT('LISTE MATCHS'!$C$2:$C$161,1),MATCH($A7&D$1,dates&'LISTE MATCHS'!$E$2:$E$161,0)))} -> E | Z7: {=IF(ISERROR(MATCH($A7&E$1,dates&'LISTE MATCHS'!$E$2:$E$161,0)),"",INDEX(LEFT('LISTE MATCHS'!$C$2:$C$161,1),MATCH($A7&E$1,dates&'LISTE MATCHS'!$E$2:$E$161,0)))} | AA7: {=IF(ISERROR(MATCH($A7&F$1,dates&'LISTE MATCHS'!$E$2:$E$161,0)),"",INDEX(LEFT('LISTE MATCHS'!$C$2:$C$161,1),MATCH($A7&F$1,dates&'LISTE MATCHS'!$E$2:$E$161,0)))} | AB7: {=IF(ISERROR(MATCH($A7&G$1,dates&'LISTE MATCHS'!$E$2:$E$161,0)),"",INDEX(LEFT('LISTE MATCHS'!$C$2:$C$161,1),MATCH($A7&G$1,dates&'LISTE MATCHS'!$E$2:$E$161,0)))} | AC7: {=IF(ISERROR(MATCH($A7&H$1,dates&'LISTE MATCHS'!$E$2:$E$161,0)),"",INDEX(LEFT('LISTE MATCHS'!$C$2:$C$161,1),MATCH($A7&H$1,dates&'LISTE MATCHS'!$E$2:$E$161,0)))} | AD7: {=IF(ISERROR(MATCH($A7&I$1,dates&'LISTE MATCHS'!$E$2:$E$161,0)),"",INDEX(LEFT('LISTE MATCHS'!$C$2:$C$161,1),MATCH($A7&I$1,dates&'LISTE MATCHS'!$E$2:$E$161,0)))} | ... AP7: {=IF(ISERROR(MATCH($A7&U$1,dates&'LISTE MATCHS'!$E$2:$E$161,0)),"",INDEX(LEFT('LISTE MATCHS'!$C$2:$C$161,1),MATCH($A7&U$1,dates&'LISTE MATCHS'!$E$2:$E$161,0)))}
A8: 43127 | B8: {=IF(ISERROR(MATCH($A8&B$1,dates&'LISTE MATCHS'!$E$2:$E$161,0)),"",INDEX(ADVERSAIRE,MATCH($A8&B$1,dates&'LISTE MATCHS'!$E$2:$E$161,0)))} -> MARMANDE 47 FC 1 | C8: {=IF(ISERROR(MATCH($A8&C$1,dates&'LISTE MATCHS'!$E$2:$E$161,0)),"",INDEX(ADVERSAIRE,MATCH($A8&C$1,dates&'LISTE MATCHS'!$E$2:$E$161,0)))} | D8: {=IF(ISERROR(MATCH($A8&D$1,dates&'LISTE MATCHS'!$E$2:$E$161,0)),"",INDEX(ADVERSAIRE,MATCH($A8&D$1,dates&'LISTE MATCHS'!$E$2:$E$161,0)))} | E8: {=IF(ISERROR(MATCH($A8&E$1,dates&'LISTE MATCHS'!$E$2:$E$161,0)),"",INDEX(ADVERSAIRE,MATCH($A8&E$1,dates&'LISTE MATCHS'!$E$2:$E$161,0)))} -> NAY VATH VIELHA ES 1 | F8: {=IF(ISERROR(MATCH($A8&F$1,dates&'LISTE MATCHS'!$E$2:$E$161,0)),"",INDEX(ADVERSAIRE,MATCH($A8&F$1,dates&'LISTE MATCHS'!$E$2:$E$161,0)))} -> GIRONDE REOLE ENT 1 | G8: {=IF(ISERROR(MATCH($A8&G$1,dates&'LISTE MATCHS'!$E$2:$E$161,0)),"",INDEX(ADVERSAIRE,MATCH($A8&G$1,dates&'LISTE MATCHS'!$E$2:$E$161,0)))} -> BASSIN ARCACHON FC 1 | H8: {=IF(ISERROR(MATCH($A8&H$1,dates&'LISTE MATCHS'!$E$2:$E$161,0)),"",INDEX(ADVERSAIRE,MATCH($A8&H$1,dates&'LISTE MATCHS'!$E$2:$E$161,0)))} | I8: {=IF(ISERROR(MATCH($A8&I$1,dates&'LISTE MATCHS'!$E$2:$E$161,0)),"",INDEX(ADVERSAIRE,MATCH($A8&I$1,dates&'LISTE MATCHS'!$E$2:$E$161,0)))} -> STADE MONTOIS 1 | ... U8: {=IF(ISERROR(MATCH($A8&U$1,dates&'LISTE MATCHS'!$E$2:$E$161,0)),"",INDEX(ADVERSAIRE,MATCH($A8&U$1,dates&'LISTE MATCHS'!$E$2:$E$161,0)))} | W8: {=IF(ISERROR(MATCH($A8&B$1,dates&'LISTE MATCHS'!$E$2:$E$161,0)),"",INDEX(LEFT('LISTE MATCHS'!$C$2:$C$161,1),MATCH($A8&B$1,dates&'LISTE MATCHS'!$E$2:$E$161,0)))} -> E | X8: {=IF(ISERROR(MATCH($A8&C$1,dates&'LISTE MATCHS'!$E$2:$E$161,0)),"",INDEX(LEFT('LISTE MATCHS'!$C$2:$C$161,1),MATCH($A8&C$1,dates&'LISTE MATCHS'!$E$2:$E$161,0)))} | Y8: {=IF(ISERROR(MATCH($A8&D$1,dates&'LISTE MATCHS'!$E$2:$E$161,0)),"",INDEX(LEFT('LISTE MATCHS'!$C$2:$C$161,1),MATCH($A8&D$1,dates&'LISTE MATCHS'!$E$2:$E$161,0)))} | Z8: {=IF(ISERROR(MATCH($A8&E$1,dates&'LISTE MATCHS'!$E$2:$E$161,0)),"",INDEX(LEFT('LISTE MATCHS'!$C$2:$C$161,1),MATCH($A8&E$1,dates&'LISTE MATCHS'!$E$2:$E$161,0)))} -> E | AA8: {=IF(ISERROR(MATCH($A8&F$1,dates&'LISTE MATCHS'!$E$2:$E$161,0)),"",INDEX(LEFT('LISTE MATCHS'!$C$2:$C$161,1),MATCH($A8&F$1,dates&'LISTE MATCHS'!$E$2:$E$161,0)))} -> D | AB8: {=IF(ISERROR(MATCH($A8&G$1,dates&'LISTE MATCHS'!$E$2:$E$161,0)),"",INDEX(LEFT('LISTE MATCHS'!$C$2:$C$161,1),MATCH($A8&G$1,dates&'LISTE MATCHS'!$E$2:$E$161,0)))} -> D | AC8: {=IF(ISERROR(MATCH($A8&H$1,dates&'LISTE MATCHS'!$E$2:$E$161,0)),"",INDEX(LEFT('LISTE MATCHS'!$C$2:$C$161,1),MATCH($A8&H$1,dates&'LISTE MATCHS'!$E$2:$E$161,0)))} | AD8: {=IF(ISERROR(MATCH($A8&I$1,dates&'LISTE MATCHS'!$E$2:$E$161,0)),"",INDEX(LEFT('LISTE MATCHS'!$C$2:$C$161,1),MATCH($A8&I$1,dates&'LISTE MATCHS'!$E$2:$E$161,0)))} -> E | ... AP8: {=IF(ISERROR(MATCH($A8&U$1,dates&'LISTE MATCHS'!$E$2:$E$161,0)),"",INDEX(LEFT('LISTE MATCHS'!$C$2:$C$161,1),MATCH($A8&U$1,dates&'LISTE MATCHS'!$E$2:$E$161,0)))}
A9: 43128 | B9: {=IF(ISERROR(MATCH($A9&B$1,dates&'LISTE MATCHS'!$E$2:$E$161,0)),"",INDEX(ADVERSAIRE,MATCH($A9&B$1,dates&'LISTE MATCHS'!$E$2:$E$161,0)))} | C9: {=IF(ISERROR(MATCH($A9&C$1,dates&'LISTE MATCHS'!$E$2:$E$161,0)),"",INDEX(ADVERSAIRE,MATCH($A9&C$1,dates&'LISTE MATCHS'!$E$2:$E$161,0)))} -> MARCELLUS COCUMONT 1 | D9: {=IF(ISERROR(MATCH($A9&D$1,dates&'LISTE MATCHS'!$E$2:$E$161,0)),"",INDEX(ADVERSAIRE,MATCH($A9&D$1,dates&'LISTE MATCHS'!$E$2:$E$161,0)))} | E9: {=IF(ISERROR(MATCH($A9&E$1,dates&'LISTE MATCHS'!$E$2:$E$161,0)),"",INDEX(ADVERSAIRE,MATCH($A9&E$1,dates&'LISTE MATCHS'!$E$2:$E$161,0)))} | F9: {=IF(ISERROR(MATCH($A9&F$1,dates&'LISTE MATCHS'!$E$2:$E$161,0)),"",INDEX(ADVERSAIRE,MATCH($A9&F$1,dates&'LISTE MATCHS'!$E$2:$E$161,0)))} | G9: {=IF(ISERROR(MATCH($A9&G$1,dates&'LISTE MATCHS'!$E$2:$E$161,0)),"",INDEX(ADVERSAIRE,MATCH($A9&G$1,dates&'LISTE MATCHS'!$E$2:$E$161,0)))} | H9: {=IF(ISERROR(MATCH($A9&H$1,dates&'LISTE MATCHS'!$E$2:$E$161,0)),"",INDEX(ADVERSAIRE,MATCH($A9&H$1,dates&'LISTE MATCHS'!$E$2:$E$161,0)))} | I9: {=IF(ISERROR(MATCH($A9&I$1,dates&'LISTE MATCHS'!$E$2:$E$161,0)),"",INDEX(ADVERSAIRE,MATCH($A9&I$1,dates&'LISTE MATCHS'!$E$2:$E$161,0)))} | ... U9: {=IF(ISERROR(MATCH($A9&U$1,dates&'LISTE MATCHS'!$E$2:$E$161,0)),"",INDEX(ADVERSAIRE,MATCH($A9&U$1,dates&'LISTE MATCHS'!$E$2:$E$161,0)))} | W9: {=IF(ISERROR(MATCH($A9&B$1,dates&'LISTE MATCHS'!$E$2:$E$161,0)),"",INDEX(LEFT('LISTE MATCHS'!$C$2:$C$161,1),MATCH($A9&B$1,dates&'LISTE MATCHS'!$E$2:$E$161,0)))} | X9: {=IF(ISERROR(MATCH($A9&C$1,dates&'LISTE MATCHS'!$E$2:$E$161,0)),"",INDEX(LEFT('LISTE MATCHS'!$C$2:$C$161,1),MATCH($A9&C$1,dates&'LISTE MATCHS'!$E$2:$E$161,0)))} -> D | Y9: {=IF(ISERROR(MATCH($A9&D$1,dates&'LISTE MATCHS'!$E$2:$E$161,0)),"",INDEX(LEFT('LISTE MATCHS'!$C$2:$C$161,1),MATCH($A9&D$1,dates&'LISTE MATCHS'!$E$2:$E$161,0)))} | Z9: {=IF(ISERROR(MATCH($A9&E$1,dates&'LISTE MATCHS'!$E$2:$E$161,0)),"",INDEX(LEFT('LISTE MATCHS'!$C$2:$C$161,1),MATCH($A9&E$1,dates&'LISTE MATCHS'!$E$2:$E$161,0)))} | AA9: {=IF(ISERROR(MATCH($A9&F$1,dates&'LISTE MATCHS'!$E$2:$E$161,0)),"",INDEX(LEFT('LISTE MATCHS'!$C$2:$C$161,1),MATCH($A9&F$1,dates&'LISTE MATCHS'!$E$2:$E$161,0)))} | AB9: {=IF(ISERROR(MATCH($A9&G$1,dates&'LISTE MATCHS'!$E$2:$E$161,0)),"",INDEX(LEFT('LISTE MATCHS'!$C$2:$C$161,1),MATCH($A9&G$1,dates&'LISTE MATCHS'!$E$2:$E$161,0)))} | AC9: {=IF(ISERROR(MATCH($A9&H$1,dates&'LISTE MATCHS'!$E$2:$E$161,0)),"",INDEX(LEFT('LISTE MATCHS'!$C$2:$C$161,1),MATCH($A9&H$1,dates&'LISTE MATCHS'!$E$2:$E$161,0)))} | AD9: {=IF(ISERROR(MATCH($A9&I$1,dates&'LISTE MATCHS'!$E$2:$E$161,0)),"",INDEX(LEFT('LISTE MATCHS'!$C$2:$C$161,1),MATCH($A9&I$1,dates&'LISTE MATCHS'!$E$2:$E$161,0)))} | ... AP9: {=IF(ISERROR(MATCH($A9&U$1,dates&'LISTE MATCHS'!$E$2:$E$161,0)),"",INDEX(LEFT('LISTE MATCHS'!$C$2:$C$161,1),MATCH($A9&U$1,dates&'LISTE MATCHS'!$E$2:$E$161,0)))}
A10: 43134 | B10: {=IF(ISERROR(MATCH($A10&B$1,dates&'LISTE MATCHS'!$E$2:$E$161,0)),"",INDEX(ADVERSAIRE,MATCH($A10&B$1,dates&'LISTE MATCHS'!$E$2:$E$161,0)))} | C10: {=IF(ISERROR(MATCH($A10&C$1,dates&'LISTE MATCHS'!$E$2:$E$161,0)),"",INDEX(ADVERSAIRE,MATCH($A10&C$1,dates&'LISTE MATCHS'!$E$2:$E$161,0)))} -> USTARITZ Labourdins 1 | D10: {=IF(ISERROR(MATCH($A10&D$1,dates&'LISTE MATCHS'!$E$2:$E$161,0)),"",INDEX(ADVERSAIRE,MATCH($A10&D$1,dates&'LISTE MATCHS'!$E$2:$E$161,0)))} | E10: {=IF(ISERROR(MATCH($A10&E$1,dates&'LISTE MATCHS'!$E$2:$E$161,0)),"",INDEX(ADVERSAIRE,MATCH($A10&E$1,dates&'LISTE MATCHS'!$E$2:$E$161,0)))} -> USTARITZ LABOURDINS 1 | F10: {=IF(ISERROR(MATCH($A10&F$1,dates&'LISTE MATCHS'!$E$2:$E$161,0)),"",INDEX(ADVERSAIRE,MATCH($A10&F$1,dates&'LISTE MATCHS'!$E$2:$E$161,0)))} -> FRATERNELLE LANDIRAS 1 | G10: {=IF(ISERROR(MATCH($A10&G$1,dates&'LISTE MATCHS'!$E$2:$E$161,0)),"",INDEX(ADVERSAIRE,MATCH($A10&G$1,dates&'LISTE MATCHS'!$E$2:$E$161,0)))} -> MAZERES UZOS RONTIGN 1 | H10: {=IF(ISERROR(MATCH($A10&H$1,dates&'LISTE MATCHS'!$E$2:$E$161,0)),"",INDEX(ADVERSAIRE,MATCH($A10&H$1,dates&'LISTE MATCHS'!$E$2:$E$161,0)))} -> GRAVES FC 1 | I10: {=IF(ISERROR(MATCH($A10&I$1,dates&'LISTE MATCHS'!$E$2:$E$161,0)),"",INDEX(ADVERSAIRE,MATCH($A10&I$1,dates&'LISTE MATCHS'!$E$2:$E$161,0)))} -> BLANQUEFORTAISE ES 1 | ... U10: {=IF(ISERROR(MATCH($A10&U$1,dates&'LISTE MATCHS'!$E$2:$E$161,0)),"",INDEX(ADVERSAIRE,MATCH($A10&U$1,dates&'LISTE MATCHS'!$E$2:$E$161,0)))} | W10: {=IF(ISERROR(MATCH($A10&B$1,dates&'LISTE MATCHS'!$E$2:$E$161,0)),"",INDEX(LEFT('LISTE MATCHS'!$C$2:$C$161,1),MATCH($A10&B$1,dates&'LISTE MATCHS'!$E$2:$E$161,0)))} | X10: {=IF(ISERROR(MATCH($A10&C$1,dates&'LISTE MATCHS'!$E$2:$E$161,0)),"",INDEX(LEFT('LISTE MATCHS'!$C$2:$C$161,1),MATCH($A10&C$1,dates&'LISTE MATCHS'!$E$2:$E$161,0)))} -> E | Y10: {=IF(ISERROR(MATCH($A10&D$1,dates&'LISTE MATCHS'!$E$2:$E$161,0)),"",INDEX(LEFT('LISTE MATCHS'!$C$2:$C$161,1),MATCH($A10&D$1,dates&'LISTE MATCHS'!$E$2:$E$161,0)))} | Z10: {=IF(ISERROR(MATCH($A10&E$1,dates&'LISTE MATCHS'!$E$2:$E$161,0)),"",INDEX(LEFT('LISTE MATCHS'!$C$2:$C$161,1),MATCH($A10&E$1,dates&'LISTE MATCHS'!$E$2:$E$161,0)))} -> E | AA10: {=IF(ISERROR(MATCH($A10&F$1,dates&'LISTE MATCHS'!$E$2:$E$161,0)),"",INDEX(LEFT('LISTE MATCHS'!$C$2:$C$161,1),MATCH($A10&F$1,dates&'LISTE MATCHS'!$E$2:$E$161,0)))} -> E | AB10: {=IF(ISERROR(MATCH($A10&G$1,dates&'LISTE MATCHS'!$E$2:$E$161,0)),"",INDEX(LEFT('LISTE MATCHS'!$C$2:$C$161,1),MATCH($A10&G$1,dates&'LISTE MATCHS'!$E$2:$E$161,0)))} -> E | AC10: {=IF(ISERROR(MATCH($A10&H$1,dates&'LISTE MATCHS'!$E$2:$E$161,0)),"",INDEX(LEFT('LISTE MATCHS'!$C$2:$C$161,1),MATCH($A10&H$1,dates&'LISTE MATCHS'!$E$2:$E$161,0)))} -> E | AD10: {=IF(ISERROR(MATCH($A10&I$1,dates&'LISTE MATCHS'!$E$2:$E$161,0)),"",INDEX(LEFT('LISTE MATCHS'!$C$2:$C$161,1),MATCH($A10&I$1,dates&'LISTE MATCHS'!$E$2:$E$161,0)))} -> D | ... AP10: {=IF(ISERROR(MATCH($A10&U$1,dates&'LISTE MATCHS'!$E$2:$E$161,0)),"",INDEX(LEFT('LISTE MATCHS'!$C$2:$C$161,1),MATCH($A10&U$1,dates&'LISTE MATCHS'!$E$2:$E$161,0)))}
A11: 43135 | B11: {=IF(ISERROR(MATCH($A11&B$1,dates&'LISTE MATCHS'!$E$2:$E$161,0)),"",INDEX(ADVERSAIRE,MATCH($A11&B$1,dates&'LISTE MATCHS'!$E$2:$E$161,0)))} | C11: {=IF(ISERROR(MATCH($A11&C$1,dates&'LISTE MATCHS'!$E$2:$E$161,0)),"",INDEX(ADVERSAIRE,MATCH($A11&C$1,dates&'LISTE MATCHS'!$E$2:$E$161,0)))} | D11: {=IF(ISERROR(MATCH($A11&D$1,dates&'LISTE MATCHS'!$E$2:$E$161,0)),"",INDEX(ADVERSAIRE,MATCH($A11&D$1,dates&'LISTE MATCHS'!$E$2:$E$161,0)))} -> BARSAC PREIGNAC 1 | E11: {=IF(ISERROR(MATCH($A11&E$1,dates&'LISTE MATCHS'!$E$2:$E$161,0)),"",INDEX(ADVERSAIRE,MATCH($A11&E$1,dates&'LISTE MATCHS'!$E$2:$E$161,0)))} | F11: {=IF(ISERROR(MATCH($A11&F$1,dates&'LISTE MATCHS'!$E$2:$E$161,0)),"",INDEX(ADVERSAIRE,MATCH($A11&F$1,dates&'LISTE MATCHS'!$E$2:$E$161,0)))} | G11: {=IF(ISERROR(MATCH($A11&G$1,dates&'LISTE MATCHS'!$E$2:$E$161,0)),"",INDEX(ADVERSAIRE,MATCH($A11&G$1,dates&'LISTE MATCHS'!$E$2:$E$161,0)))} | H11: {=IF(ISERROR(MATCH($A11&H$1,dates&'LISTE MATCHS'!$E$2:$E$161,0)),"",INDEX(ADVERSAIRE,MATCH($A11&H$1,dates&'LISTE MATCHS'!$E$2:$E$161,0)))} | I11: {=IF(ISERROR(MATCH($A11&I$1,dates&'LISTE MATCHS'!$E$2:$E$161,0)),"",INDEX(ADVERSAIRE,MATCH($A11&I$1,dates&'LISTE MATCHS'!$E$2:$E$161,0)))} | ... U11: {=IF(ISERROR(MATCH($A11&U$1,dates&'LISTE MATCHS'!$E$2:$E$161,0)),"",INDEX(ADVERSAIRE,MATCH($A11&U$1,dates&'LISTE MATCHS'!$E$2:$E$161,0)))} | W11: {=IF(ISERROR(MATCH($A11&B$1,dates&'LISTE MATCHS'!$E$2:$E$161,0)),"",INDEX(LEFT('LISTE MATCHS'!$C$2:$C$161,1),MATCH($A11&B$1,dates&'LISTE MATCHS'!$E$2:$E$161,0)))} | X11: {=IF(ISERROR(MATCH($A11&C$1,dates&'LISTE MATCHS'!$E$2:$E$161,0)),"",INDEX(LEFT('LISTE MATCHS'!$C$2:$C$161,1),MATCH($A11&C$1,dates&'LISTE MATCHS'!$E$2:$E$161,0)))} | Y11: {=IF(ISERROR(MATCH($A11&D$1,dates&'LISTE MATCHS'!$E$2:$E$161,0)),"",INDEX(LEFT('LISTE MATCHS'!$C$2:$C$161,1),MATCH($A11&D$1,dates&'LISTE MATCHS'!$E$2:$E$161,0)))} -> D | Z11: {=IF(ISERROR(MATCH($A11&E$1,dates&'LISTE MATCHS'!$E$2:$E$161,0)),"",INDEX(LEFT('LISTE MATCHS'!$C$2:$C$161,1),MATCH($A11&E$1,dates&'LISTE MATCHS'!$E$2:$E$161,0)))} | AA11: {=IF(ISERROR(MATCH($A11&F$1,dates&'LISTE MATCHS'!$E$2:$E$161,0)),"",INDEX(LEFT('LISTE MATCHS'!$C$2:$C$161,1),MATCH($A11&F$1,dates&'LISTE MATCHS'!$E$2:$E$161,0)))} | AB11: {=IF(ISERROR(MATCH($A11&G$1,dates&'LISTE MATCHS'!$E$2:$E$161,0)),"",INDEX(LEFT('LISTE MATCHS'!$C$2:$C$161,1),MATCH($A11&G$1,dates&'LISTE MATCHS'!$E$2:$E$161,0)))} | AC11: {=IF(ISERROR(MATCH($A11&H$1,dates&'LISTE MATCHS'!$E$2:$E$161,0)),"",INDEX(LEFT('LISTE MATCHS'!$C$2:$C$161,1),MATCH($A11&H$1,dates&'LISTE MATCHS'!$E$2:$E$161,0)))} | AD11: {=IF(ISERROR(MATCH($A11&I$1,dates&'LISTE MATCHS'!$E$2:$E$161,0)),"",INDEX(LEFT('LISTE MATCHS'!$C$2:$C$161,1),MATCH($A11&I$1,dates&'LISTE MATCHS'!$E$2:$E$161,0)))} | ... AP11: {=IF(ISERROR(MATCH($A11&U$1,dates&'LISTE MATCHS'!$E$2:$E$161,0)),"",INDEX(LEFT('LISTE MATCHS'!$C$2:$C$161,1),MATCH($A11&U$1,dates&'LISTE MATCHS'!$E$2:$E$161,0)))}
A12: 43142 | B12: {=IF(ISERROR(MATCH($A12&B$1,dates&'LISTE MATCHS'!$E$2:$E$161,0)),"",INDEX(ADVERSAIRE,MATCH($A12&B$1,dates&'LISTE MATCHS'!$E$2:$E$161,0)))} -> LANGON FC 1 | C12: {=IF(ISERROR(MATCH($A12&C$1,dates&'LISTE MATCHS'!$E$2:$E$161,0)),"",INDEX(ADVERSAIRE,MATCH($A12&C$1,dates&'LISTE MATCHS'!$E$2:$E$161,0)))} -> BIGANOS FACTURE AS 1 | D12: {=IF(ISERROR(MATCH($A12&D$1,dates&'LISTE MATCHS'!$E$2:$E$161,0)),"",INDEX(ADVERSAIRE,MATCH($A12&D$1,dates&'LISTE MATCHS'!$E$2:$E$161,0)))} -> SAUVETERRE AS 1 | E12: {=IF(ISERROR(MATCH($A12&E$1,dates&'LISTE MATCHS'!$E$2:$E$161,0)),"",INDEX(ADVERSAIRE,MATCH($A12&E$1,dates&'LISTE MATCHS'!$E$2:$E$161,0)))} | F12: {=IF(ISERROR(MATCH($A12&F$1,dates&'LISTE MATCHS'!$E$2:$E$161,0)),"",INDEX(ADVERSAIRE,MATCH($A12&F$1,dates&'LISTE MATCHS'!$E$2:$E$161,0)))} | G12: {=IF(ISERROR(MATCH($A12&G$1,dates&'LISTE MATCHS'!$E$2:$E$161,0)),"",INDEX(ADVERSAIRE,MATCH($A12&G$1,dates&'LISTE MATCHS'!$E$2:$E$161,0)))} | H12: {=IF(ISERROR(MATCH($A12&H$1,dates&'LISTE MATCHS'!$E$2:$E$161,0)),"",INDEX(ADVERSAIRE,MATCH($A12&H$1,dates&'LISTE MATCHS'!$E$2:$E$161,0)))} | I12: {=IF(ISERROR(MATCH($A12&I$1,dates&'LISTE MATCHS'!$E$2:$E$161,0)),"",INDEX(ADVERSAIRE,MATCH($A12&I$1,dates&'LISTE MATCHS'!$E$2:$E$161,0)))} | ... U12: {=IF(ISERROR(MATCH($A12&U$1,dates&'LISTE MATCHS'!$E$2:$E$161,0)),"",INDEX(ADVERSAIRE,MATCH($A12&U$1,dates&'LISTE MATCHS'!$E$2:$E$161,0)))} | W12: {=IF(ISERROR(MATCH($A12&B$1,dates&'LISTE MATCHS'!$E$2:$E$161,0)),"",INDEX(LEFT('LISTE MATCHS'!$C$2:$C$161,1),MATCH($A12&B$1,dates&'LISTE MATCHS'!$E$2:$E$161,0)))} -> D | X12: {=IF(ISERROR(MATCH($A12&C$1,dates&'LISTE MATCHS'!$E$2:$E$161,0)),"",INDEX(LEFT('LISTE MATCHS'!$C$2:$C$161,1),MATCH($A12&C$1,dates&'LISTE MATCHS'!$E$2:$E$161,0)))} -> D | Y12: {=IF(ISERROR(MATCH($A12&D$1,dates&'LISTE MATCHS'!$E$2:$E$161,0)),"",INDEX(LEFT('LISTE MATCHS'!$C$2:$C$161,1),MATCH($A12&D$1,dates&'LISTE MATCHS'!$E$2:$E$161,0)))} -> E | Z12: {=IF(ISERROR(MATCH($A12&E$1,dates&'LISTE MATCHS'!$E$2:$E$161,0)),"",INDEX(LEFT('LISTE MATCHS'!$C$2:$C$161,1),MATCH($A12&E$1,dates&'LISTE MATCHS'!$E$2:$E$161,0)))} | AA12: {=IF(ISERROR(MATCH($A12&F$1,dates&'LISTE MATCHS'!$E$2:$E$161,0)),"",INDEX(LEFT('LISTE MATCHS'!$C$2:$C$161,1),MATCH($A12&F$1,dates&'LISTE MATCHS'!$E$2:$E$161,0)))} | AB12: {=IF(ISERROR(MATCH($A12&G$1,dates&'LISTE MATCHS'!$E$2:$E$161,0)),"",INDEX(LEFT('LISTE MATCHS'!$C$2:$C$161,1),MATCH($A12&G$1,dates&'LISTE MATCHS'!$E$2:$E$161,0)))} | AC12: {=IF(ISERROR(MATCH($A12&H$1,dates&'LISTE MATCHS'!$E$2:$E$161,0)),"",INDEX(LEFT('LISTE MATCHS'!$C$2:$C$161,1),MATCH($A12&H$1,dates&'LISTE MATCHS'!$E$2:$E$161,0)))} | AD12: {=IF(ISERROR(MATCH($A12&I$1,dates&'LISTE MATCHS'!$E$2:$E$161,0)),"",INDEX(LEFT('LISTE MATCHS'!$C$2:$C$161,1),MATCH($A12&I$1,dates&'LISTE MATCHS'!$E$2:$E$161,0)))} | ... AP12: {=IF(ISERROR(MATCH($A12&U$1,dates&'LISTE MATCHS'!$E$2:$E$161,0)),"",INDEX(LEFT('LISTE MATCHS'!$C$2:$C$161,1),MATCH($A12&U$1,dates&'LISTE MATCHS'!$E$2:$E$161,0)))}
A13: 43148 | B13: {=IF(ISERROR(MATCH($A13&B$1,dates&'LISTE MATCHS'!$E$2:$E$161,0)),"",INDEX(ADVERSAIRE,MATCH($A13&B$1,dates&'LISTE MATCHS'!$E$2:$E$161,0)))} -> VILLENAVE JEUNESSE 1 | C13: {=IF(ISERROR(MATCH($A13&C$1,dates&'LISTE MATCHS'!$E$2:$E$161,0)),"",INDEX(ADVERSAIRE,MATCH($A13&C$1,dates&'LISTE MATCHS'!$E$2:$E$161,0)))} | D13: {=IF(ISERROR(MATCH($A13&D$1,dates&'LISTE MATCHS'!$E$2:$E$161,0)),"",INDEX(ADVERSAIRE,MATCH($A13&D$1,dates&'LISTE MATCHS'!$E$2:$E$161,0)))} | E13: {=IF(ISERROR(MATCH($A13&E$1,dates&'LISTE MATCHS'!$E$2:$E$161,0)),"",INDEX(ADVERSAIRE,MATCH($A13&E$1,dates&'LISTE MATCHS'!$E$2:$E$161,0)))} | F13: {=IF(ISERROR(MATCH($A13&F$1,dates&'LISTE MATCHS'!$E$2:$E$161,0)),"",INDEX(ADVERSAIRE,MATCH($A13&F$1,dates&'LISTE MATCHS'!$E$2:$E$161,0)))} | G13: {=IF(ISERROR(MATCH($A13&G$1,dates&'LISTE MATCHS'!$E$2:$E$161,0)),"",INDEX(ADVERSAIRE,MATCH($A13&G$1,dates&'LISTE MATCHS'!$E$2:$E$161,0)))} | H13: {=IF(ISERROR(MATCH($A13&H$1,dates&'LISTE MATCHS'!$E$2:$E$161,0)),"",INDEX(ADVERSAIRE,MATCH($A13&H$1,dates&'LISTE MATCHS'!$E$2:$E$161,0)))} | I13: {=IF(ISERROR(MATCH($A13&I$1,dates&'LISTE MATCHS'!$E$2:$E$161,0)),"",INDEX(ADVERSAIRE,MATCH($A13&I$1,dates&'LISTE MATCHS'!$E$2:$E$161,0)))} | ... U13: {=IF(ISERROR(MATCH($A13&U$1,dates&'LISTE MATCHS'!$E$2:$E$161,0)),"",INDEX(ADVERSAIRE,MATCH($A13&U$1,dates&'LISTE MATCHS'!$E$2:$E$161,0)))} | W13: {=IF(ISERROR(MATCH($A13&B$1,dates&'LISTE MATCHS'!$E$2:$E$161,0)),"",INDEX(LEFT('LISTE MATCHS'!$C$2:$C$161,1),MATCH($A13&B$1,dates&'LISTE MATCHS'!$E$2:$E$161,0)))} -> E | X13: {=IF(ISERROR(MATCH($A13&C$1,dates&'LISTE MATCHS'!$E$2:$E$161,0)),"",INDEX(LEFT('LISTE MATCHS'!$C$2:$C$161,1),MATCH($A13&C$1,dates&'LISTE MATCHS'!$E$2:$E$161,0)))} | Y13: {=IF(ISERROR(MATCH($A13&D$1,dates&'LISTE MATCHS'!$E$2:$E$161,0)),"",INDEX(LEFT('LISTE MATCHS'!$C$2:$C$161,1),MATCH($A13&D$1,dates&'LISTE MATCHS'!$E$2:$E$161,0)))} | Z13: {=IF(ISERROR(MATCH($A13&E$1,dates&'LISTE MATCHS'!$E$2:$E$161,0)),"",INDEX(LEFT('LISTE MATCHS'!$C$2:$C$161,1),MATCH($A13&E$1,dates&'LISTE MATCHS'!$E$2:$E$161,0)))} | AA13: {=IF(ISERROR(MATCH($A13&F$1,dates&'LISTE MATCHS'!$E$2:$E$161,0)),"",INDEX(LEFT('LISTE MATCHS'!$C$2:$C$161,1),MATCH($A13&F$1,dates&'LISTE MATCHS'!$E$2:$E$161,0)))} | AB13: {=IF(ISERROR(MATCH($A13&G$1,dates&'LISTE MATCHS'!$E$2:$E$161,0)),"",INDEX(LEFT('LISTE MATCHS'!$C$2:$C$161,1),MATCH($A13&G$1,dates&'LISTE MATCHS'!$E$2:$E$161,0)))} | AC13: {=IF(ISERROR(MATCH($A13&H$1,dates&'LISTE MATCHS'!$E$2:$E$161,0)),"",INDEX(LEFT('LISTE MATCHS'!$C$2:$C$161,1),MATCH($A13&H$1,dates&'LISTE MATCHS'!$E$2:$E$161,0)))} | AD13: {=IF(ISERROR(MATCH($A13&I$1,dates&'LISTE MATCHS'!$E$2:$E$161,0)),"",INDEX(LEFT('LISTE MATCHS'!$C$2:$C$161,1),MATCH($A13&I$1,dates&'LISTE MATCHS'!$E$2:$E$161,0)))} | ... AP13: {=IF(ISERROR(MATCH($A13&U$1,dates&'LISTE MATCHS'!$E$2:$E$161,0)),"",INDEX(LEFT('LISTE MATCHS'!$C$2:$C$161,1),MATCH($A13&U$1,dates&'LISTE MATCHS'!$E$2:$E$161,0)))}
... A36: 43247 | B36: {=IF(ISERROR(MATCH($A36&B$1,dates&'LISTE MATCHS'!$E$2:$E$161,0)),"",INDEX(ADVERSAIRE,MATCH($A36&B$1,dates&'LISTE MATCHS'!$E$2:$E$161,0)))} | C36: {=IF(ISERROR(MATCH($A36&C$1,dates&'LISTE MATCHS'!$E$2:$E$161,0)),"",INDEX(ADVERSAIRE,MATCH($A36&C$1,dates&'LISTE MATCHS'!$E$2:$E$161,0)))} -> PORT STE MARIE FEUG. 1 | D36: {=IF(ISERROR(MATCH($A36&D$1,dates&'LISTE MATCHS'!$E$2:$E$161,0)),"",INDEX(ADVERSAIRE,MATCH($A36&D$1,dates&'LISTE MATCHS'!$E$2:$E$161,0)))} -> MONSEGUR SC 2 | E36: {=IF(ISERROR(MATCH($A36&E$1,dates&'LISTE MATCHS'!$E$2:$E$161,0)),"",INDEX(ADVERSAIRE,MATCH($A36&E$1,dates&'LISTE MATCHS'!$E$2:$E$161,0)))} | F36: {=IF(ISERROR(MATCH($A36&F$1,dates&'LISTE MATCHS'!$E$2:$E$161,0)),"",INDEX(ADVERSAIRE,MATCH($A36&F$1,dates&'LISTE MATCHS'!$E$2:$E$161,0)))} | G36: {=IF(ISERROR(MATCH($A36&G$1,dates&'LISTE MATCHS'!$E$2:$E$161,0)),"",INDEX(ADVERSAIRE,MATCH($A36&G$1,dates&'LISTE MATCHS'!$E$2:$E$161,0)))} | H36: {=IF(ISERROR(MATCH($A36&H$1,dates&'LISTE MATCHS'!$E$2:$E$161,0)),"",INDEX(ADVERSAIRE,MATCH($A36&H$1,dates&'LISTE MATCHS'!$E$2:$E$161,0)))} | I36: {=IF(ISERROR(MATCH($A36&I$1,dates&'LISTE MATCHS'!$E$2:$E$161,0)),"",INDEX(ADVERSAIRE,MATCH($A36&I$1,dates&'LISTE MATCHS'!$E$2:$E$161,0)))} | ... U36: {=IF(ISERROR(MATCH($A36&U$1,dates&'LISTE MATCHS'!$E$2:$E$161,0)),"",INDEX(ADVERSAIRE,MATCH($A36&U$1,dates&'LISTE MATCHS'!$E$2:$E$161,0)))} | W36: {=IF(ISERROR(MATCH($A36&B$1,dates&'LISTE MATCHS'!$E$2:$E$161,0)),"",INDEX(LEFT('LISTE MATCHS'!$C$2:$C$161,1),MATCH($A36&B$1,dates&'LISTE MATCHS'!$E$2:$E$161,0)))} | X36: {=IF(ISERROR(MATCH($A36&C$1,dates&'LISTE MATCHS'!$E$2:$E$161,0)),"",INDEX(LEFT('LISTE MATCHS'!$C$2:$C$161,1),MATCH($A36&C$1,dates&'LISTE MATCHS'!$E$2:$E$161,0)))} -> D | Y36: {=IF(ISERROR(MATCH($A36&D$1,dates&'LISTE MATCHS'!$E$2:$E$161,0)),"",INDEX(LEFT('LISTE MATCHS'!$C$2:$C$161,1),MATCH($A36&D$1,dates&'LISTE MATCHS'!$E$2:$E$161,0)))} -> E | Z36: {=IF(ISERROR(MATCH($A36&E$1,dates&'LISTE MATCHS'!$E$2:$E$161,0)),"",INDEX(LEFT('LISTE MATCHS'!$C$2:$C$161,1),MATCH($A36&E$1,dates&'LISTE MATCHS'!$E$2:$E$161,0)))} | AA36: {=IF(ISERROR(MATCH($A36&F$1,dates&'LISTE MATCHS'!$E$2:$E$161,0)),"",INDEX(LEFT('LISTE MATCHS'!$C$2:$C$161,1),MATCH($A36&F$1,dates&'LISTE MATCHS'!$E$2:$E$161,0)))} | AB36: {=IF(ISERROR(MATCH($A36&G$1,dates&'LISTE MATCHS'!$E$2:$E$161,0)),"",INDEX(LEFT('LISTE MATCHS'!$C$2:$C$161,1),MATCH($A36&G$1,dates&'LISTE MATCHS'!$E$2:$E$161,0)))} | AC36: {=IF(ISERROR(MATCH($A36&H$1,dates&'LISTE MATCHS'!$E$2:$E$161,0)),"",INDEX(LEFT('LISTE MATCHS'!$C$2:$C$161,1),MATCH($A36&H$1,dates&'LISTE MATCHS'!$E$2:$E$161,0)))} | AD36: {=IF(ISERROR(MATCH($A36&I$1,dates&'LISTE MATCHS'!$E$2:$E$161,0)),"",INDEX(LEFT('LISTE MATCHS'!$C$2:$C$161,1),MATCH($A36&I$1,dates&'LISTE MATCHS'!$E$2:$E$161,0)))} | ... AP36: {=IF(ISERROR(MATCH($A36&U$1,dates&'LISTE MATCHS'!$E$2:$E$161,0)),"",INDEX(LEFT('LISTE MATCHS'!$C$2:$C$161,1),MATCH($A36&U$1,dates&'LISTE MATCHS'!$E$2:$E$161,0)))}

Sheet Equipes
A1: Equipes
A2: Seniors Regional 1
A3: Seniors Regional 4
A4: Seniors Departemental 2
A5: U19 Regional 2 - Sud
A6: U18 Departemental 3
A7: U17 Regional 2
A8: U16 Regional 1
A9: U15 Regional 2
A10: U15 Départemental 2
A11: U13 Brassage Lfna
A12: U13 Bras Niveau 2 Division 2
... A21: U14 F Brassages / 1
