Workbook

Sheet 20171113 IDCC TROUVES
A1: SIRET (ou ridet, pseudo siret, Insee) | B1: ETAT
A2: 30243335400156 | B2: 0054
A3: 54206547900322 | B3: 0054
A4: 54206547900926 | B4: 0054
A5: 54206547900694 | B5: 0054
A6: 33848195500023 | B6: 0650
A7: 33848195500114 | B7: 0650
A8: 40296039700055 | B8: 1388
A9: 40296039700063 | B9: 1388
A10: 40296039700071 | B10: 1388
A11: 40296039700089 | B11: 1388
A12: 40296039700097 | B12: 1388
A13: 40296039700105 | B13: 1388
A14: 40296039700113 | B14: 1388
A15: 40296039700147 | B15: 1388
A16: 40296039700154 | B16: 1388
A17: 40296039700162 | B17: 1388
A18: 40296039700170 | B18: 1388
A19: 40296039700188 | B19: 1388
... A65: 47020333200213 | B65: 9999
A66: 48500939300052 | B66: PICT
A67: 50162374800032 | B67: 9999
A68: 60203644401322 | B68: 9999
A69: 60203644402346 | B69: 9999
A70: 60203644402742 | B70: 9999
A71: 60203644402783 | B71: 9999
A72: 60203644401462 | B72: 9999
A73: 60203644403211 | B73: 9999
A74: 60203644404227 | B74: 9999
A75: 60203644402791 | B75: 9999
A76: 79069685000011 | B76: 9999
A77: 35820091300046 | B77: 9999
A78: 35820091300095 | B78: 9999
... A183: 38088512900045 | B183: 9999

Sheet ss IDCC 
A1: SIRET (ou ridet, pseudo siret, Insee) | B1: IDCC? | C1: Code fédération | D1: Siren | E1: Exercice considéré | F1: LIB PHASE | G1: IDCC A RETENIR | H1: Adresse mail 1 | I1: Adresse mail 2
A2: 30243335400156 | B2: =IFERROR(INDEX('20171113 IDCC TROUVES'!$B$2:$B$183,MATCH(A2,'20171113 IDCC TROUVES'!$A$2:$A$183,0)),"") -> 0054 | C2: guichet unique | D2: 302433354 | E2: 2016 | F2: DAS AJUSTEES | G2: 0
A3: 38521863100542 | B3: =IFERROR(INDEX('20171113 IDCC TROUVES'!$B$2:$B$183,MATCH(A3,'20171113 IDCC TROUVES'!$A$2:$A$183,0)),"") | C3: guichet unique | D3: 385218631 | E3: 2016 | F3: DAS RECUES AVEC PERSONNEL | G3: 0
A4: 40853692800034 | B4: =IFERROR(INDEX('20171113 IDCC TROUVES'!$B$2:$B$183,MATCH(A4,'20171113 IDCC TROUVES'!$A$2:$A$183,0)),"") | C4: guichet unique | D4: 408536928 | E4: 2016 | F4: DAS RECUES AVEC PERSONNEL | G4: 0
A5: 47558043700055 | B5: =IFERROR(INDEX('20171113 IDCC TROUVES'!$B$2:$B$183,MATCH(A5,'20171113 IDCC TROUVES'!$A$2:$A$183,0)),"") | C5: guichet unique | D5: 475580437 | E5: 2016 | F5: DAS AJUSTEES | G5: 0
A6: 47558043700170 | B6: =IFERROR(INDEX('20171113 IDCC TROUVES'!$B$2:$B$183,MATCH(A6,'20171113 IDCC TROUVES'!$A$2:$A$183,0)),"") | C6: guichet unique | D6: 475580437 | E6: 2016 | F6: DAS AJUSTEES | G6: 0
A7: 47558043700246 | B7: =IFERROR(INDEX('20171113 IDCC TROUVES'!$B$2:$B$183,MATCH(A7,'20171113 IDCC TROUVES'!$A$2:$A$183,0)),"") | C7: guichet unique | D7: 475580437 | E7: 2016 | F7: DAS AJUSTEES | G7: 0
A8: 47558043700279 | B8: =IFERROR(INDEX('20171113 IDCC TROUVES'!$B$2:$B$183,MATCH(A8,'20171113 IDCC TROUVES'!$A$2:$A$183,0)),"") | C8: guichet unique | D8: 475580437 | E8: 2016 | F8: DAS AJUSTEES | G8: 0
A9: 47558043700287 | B9: =IFERROR(INDEX('20171113 IDCC TROUVES'!$B$2:$B$183,MATCH(A9,'20171113 IDCC TROUVES'!$A$2:$A$183,0)),"") | C9: guichet unique | D9: 475580437 | E9: 2016 | F9: DAS AJUSTEES | G9: 0
A10: 47558043700295 | B10: =IFERROR(INDEX('20171113 IDCC TROUVES'!$B$2:$B$183,MATCH(A10,'20171113 IDCC TROUVES'!$A$2:$A$183,0)),"") | C10: guichet unique | D10: 475580437 | E10: 2016 | F10: DAS AJUSTEES | G10: 0
A11: 47558043700436 | B11: =IFERROR(INDEX('20171113 IDCC TROUVES'!$B$2:$B$183,MATCH(A11,'20171113 IDCC TROUVES'!$A$2:$A$183,0)),"") | C11: guichet unique | D11: 475580437 | E11: 2016 | F11: DAS AJUSTEES | G11: 0
A12: 47558043700444 | B12: =IFERROR(INDEX('20171113 IDCC TROUVES'!$B$2:$B$183,MATCH(A12,'20171113 IDCC TROUVES'!$A$2:$A$183,0)),"") | C12: guichet unique | D12: 475580437 | E12: 2016 | F12: DAS AJUSTEES | G12: 0
A13: 47558043700477 | B13: =IFERROR(INDEX('20171113 IDCC TROUVES'!$B$2:$B$183,MATCH(A13,'20171113 IDCC TROUVES'!$A$2:$A$183,0)),"") | C13: guichet unique | D13: 475580437 | E13: 2016 | F13: DAS AJUSTEES | G13: 0
A14: 47558043700493 | B14: =IFERROR(INDEX('20171113 IDCC TROUVES'!$B$2:$B$183,MATCH(A14,'20171113 IDCC TROUVES'!$A$2:$A$183,0)),"") | C14: guichet unique | D14: 475580437 | E14: 2016 | F14: DAS AJUSTEES | G14: 0
A15: 47558043700550 | B15: =IFERROR(INDEX('20171113 IDCC TROUVES'!$B$2:$B$183,MATCH(A15,'20171113 IDCC TROUVES'!$A$2:$A$183,0)),"") | C15: guichet unique | D15: 475580437 | E15: 2016 | F15: DAS AJUSTEES | G15: 0
... A26: 47558043700451 | B26: =IFERROR(INDEX('20171113 IDCC TROUVES'!$B$2:$B$183,MATCH(A26,'20171113 IDCC TROUVES'!$A$2:$A$183,0)),"") | C26: guichet unique | D26: 475580437 | E26: 2016 | F26: DAS AJUSTEES | G26: 0
A27: 54206547900322 | B27: =IFERROR(INDEX('20171113 IDCC TROUVES'!$B$2:$B$183,MATCH(A27,'20171113 IDCC TROUVES'!$A$2:$A$183,0)),"") -> 0054
A28: 54206547900926 | B28: =IFERROR(INDEX('20171113 IDCC TROUVES'!$B$2:$B$183,MATCH(A28,'20171113 IDCC TROUVES'!$A$2:$A$183,0)),"") -> 0054
A29: 54206547900694 | B29: =IFERROR(INDEX('20171113 IDCC TROUVES'!$B$2:$B$183,MATCH(A29,'20171113 IDCC TROUVES'!$A$2:$A$183,0)),"") -> 0054
A30: 33848195500023 | B30: =IFERROR(INDEX('20171113 IDCC TROUVES'!$B$2:$B$183,MATCH(A30,'20171113 IDCC TROUVES'!$A$2:$A$183,0)),"") -> 0650
A31: 33848195500114 | B31: =IFERROR(INDEX('20171113 IDCC TROUVES'!$B$2:$B$183,MATCH(A31,'20171113 IDCC TROUVES'!$A$2:$A$183,0)),"") -> 0650
A32: 40296039700055 | B32: =IFERROR(INDEX('20171113 IDCC TROUVES'!$B$2:$B$183,MATCH(A32,'20171113 IDCC TROUVES'!$A$2:$A$183,0)),"") -> 1388
A33: 40296039700063 | B33: =IFERROR(INDEX('20171113 IDCC TROUVES'!$B$2:$B$183,MATCH(A33,'20171113 IDCC TROUVES'!$A$2:$A$183,0)),"") -> 1388
A34: 40296039700071 | B34: =IFERROR(INDEX('20171113 IDCC TROUVES'!$B$2:$B$183,MATCH(A34,'20171113 IDCC TROUVES'!$A$2:$A$183,0)),"") -> 1388
