Workbook

Sheet SYNTHESE
A1: Nb total de contrôles effectués :
B2: 41640 | C2: =DATE(YEAR(B2),MONTH(B2)+1,DAY(B2)) -> 41671 | D2: =DATE(YEAR(C2),MONTH(C2)+1,DAY(C2)) -> 41699 | E2: =DATE(YEAR(D2),MONTH(D2)+1,DAY(D2)) -> 41730 | F2: =DATE(YEAR(E2),MONTH(E2)+1,DAY(E2)) -> 41760 | G2: =DATE(YEAR(F2),MONTH(F2)+1,DAY(F2)) -> 41791 | H2: =DATE(YEAR(G2),MONTH(G2)+1,DAY(G2)) -> 41821 | I2: =DATE(YEAR(H2),MONTH(H2)+1,DAY(H2)) -> 41852 | J2: =DATE(YEAR(I2),MONTH(I2)+1,DAY(I2)) -> 41883 | ... M2: =DATE(YEAR(L2),MONTH(L2)+1,DAY(L2)) -> 41974 | N2: Cumul
A3: C1 | B3: =SUMPRODUCT((controleur_1!$G$5:$G$1000=$A3)*(MONTH(controleur_1!$C$5:$C$1000)=MONTH(B$2)))+SUMPRODUCT((controleur_2!$G$5:$G$1000=$A3)*(MONTH(controleur_2!$C$5:$C$1000)=MONTH(B$2)))+SUMPRODUCT((controleur_3!$G$5:$G$1000=$A3)*(MONTH(controleur_3!$C$5:$C$1000)=MONTH(B$2))) -> 3 | C3: =SUMPRODUCT((controleur_1!$G$5:$G$1000=$A3)*(MONTH(controleur_1!$C$5:$C$1000)=MONTH(C$2)))+SUMPRODUCT((controleur_2!$G$5:$G$1000=$A3)*(MONTH(controleur_2!$C$5:$C$1000)=MONTH(C$2)))+SUMPRODUCT((controleur_3!$G$5:$G$1000=$A3)*(MONTH(controleur_3!$C$5:$C$1000)=MONTH(C$2))) -> 0 | D3: =SUMPRODUCT((controleur_1!$G$5:$G$1000=$A3)*(MONTH(controleur_1!$C$5:$C$1000)=MONTH(D$2)))+SUMPRODUCT((controleur_2!$G$5:$G$1000=$A3)*(MONTH(controleur_2!$C$5:$C$1000)=MONTH(D$2)))+SUMPRODUCT((controleur_3!$G$5:$G$1000=$A3)*(MONTH(controleur_3!$C$5:$C$1000)=MONTH(D$2))) -> 0 | E3: =SUMPRODUCT((controleur_1!$G$5:$G$1000=$A3)*(MONTH(controleur_1!$C$5:$C$1000)=MONTH(E$2)))+SUMPRODUCT((controleur_2!$G$5:$G$1000=$A3)*(MONTH(controleur_2!$C$5:$C$1000)=MONTH(E$2)))+SUMPRODUCT((controleur_3!$G$5:$G$1000=$A3)*(MONTH(controleur_3!$C$5:$C$1000)=MONTH(E$2))) -> 0 | F3: =SUMPRODUCT((controleur_1!$G$5:$G$1000=$A3)*(MONTH(controleur_1!$C$5:$C$1000)=MONTH(F$2)))+SUMPRODUCT((controleur_2!$G$5:$G$1000=$A3)*(MONTH(controleur_2!$C$5:$C$1000)=MONTH(F$2)))+SUMPRODUCT((controleur_3!$G$5:$G$1000=$A3)*(MONTH(controleur_3!$C$5:$C$1000)=MONTH(F$2))) -> 0 | G3: =SUMPRODUCT((controleur_1!$G$5:$G$1000=$A3)*(MONTH(controleur_1!$C$5:$C$1000)=MONTH(G$2)))+SUMPRODUCT((controleur_2!$G$5:$G$1000=$A3)*(MONTH(controleur_2!$C$5:$C$1000)=MONTH(G$2)))+SUMPRODUCT((controleur_3!$G$5:$G$1000=$A3)*(MONTH(controleur_3!$C$5:$C$1000)=MONTH(G$2))) -> 0 | H3: =SUMPRODUCT((controleur_1!$G$5:$G$1000=$A3)*(MONTH(controleur_1!$C$5:$C$1000)=MONTH(H$2)))+SUMPRODUCT((controleur_2!$G$5:$G$1000=$A3)*(MONTH(controleur_2!$C$5:$C$1000)=MONTH(H$2)))+SUMPRODUCT((controleur_3!$G$5:$G$1000=$A3)*(MONTH(controleur_3!$C$5:$C$1000)=MONTH(H$2))) -> 0 | I3: =SUMPRODUCT((controleur_1!$G$5:$G$1000=$A3)*(MONTH(controleur_1!$C$5:$C$1000)=MONTH(I$2)))+SUMPRODUCT((controleur_2!$G$5:$G$1000=$A3)*(MONTH(controleur_2!$C$5:$C$1000)=MONTH(I$2)))+SUMPRODUCT((controleur_3!$G$5:$G$1000=$A3)*(MONTH(controleur_3!$C$5:$C$1000)=MONTH(I$2))) -> 0 | ... M3: =SUMPRODUCT((controleur_1!$G$5:$G$1000=$A3)*(MONTH(controleur_1!$C$5:$C$1000)=MONTH(M$2)))+SUMPRODUCT((controleur_2!$G$5:$G$1000=$A3)*(MONTH(controleur_2!$C$5:$C$1000)=MONTH(M$2)))+SUMPRODUCT((controleur_3!$G$5:$G$1000=$A3)*(MONTH(controleur_3!$C$5:$C$1000)=MONTH(M$2))) -> 0 | N3: =SUM(B3:M3) -> 39
A4: C2 | B4: =SUMPRODUCT((controleur_1!$G$5:$G$1000=$A4)*(MONTH(controleur_1!$C$5:$C$1000)=MONTH(B$2)))+SUMPRODUCT((controleur_2!$G$5:$G$1000=$A4)*(MONTH(controleur_2!$C$5:$C$1000)=MONTH(B$2)))+SUMPRODUCT((controleur_3!$G$5:$G$1000=$A4)*(MONTH(controleur_3!$C$5:$C$1000)=MONTH(B$2))) -> 3 | C4: =SUMPRODUCT((controleur_1!$G$5:$G$1000=$A4)*(MONTH(controleur_1!$C$5:$C$1000)=MONTH(C$2)))+SUMPRODUCT((controleur_2!$G$5:$G$1000=$A4)*(MONTH(controleur_2!$C$5:$C$1000)=MONTH(C$2)))+SUMPRODUCT((controleur_3!$G$5:$G$1000=$A4)*(MONTH(controleur_3!$C$5:$C$1000)=MONTH(C$2))) -> 0 | D4: =SUMPRODUCT((controleur_1!$G$5:$G$1000=$A4)*(MONTH(controleur_1!$C$5:$C$1000)=MONTH(D$2)))+SUMPRODUCT((controleur_2!$G$5:$G$1000=$A4)*(MONTH(controleur_2!$C$5:$C$1000)=MONTH(D$2)))+SUMPRODUCT((controleur_3!$G$5:$G$1000=$A4)*(MONTH(controleur_3!$C$5:$C$1000)=MONTH(D$2))) -> 0 | E4: =SUMPRODUCT((controleur_1!$G$5:$G$1000=$A4)*(MONTH(controleur_1!$C$5:$C$1000)=MONTH(E$2)))+SUMPRODUCT((controleur_2!$G$5:$G$1000=$A4)*(MONTH(controleur_2!$C$5:$C$1000)=MONTH(E$2)))+SUMPRODUCT((controleur_3!$G$5:$G$1000=$A4)*(MONTH(controleur_3!$C$5:$C$1000)=MONTH(E$2))) -> 0 | F4: =SUMPRODUCT((controleur_1!$G$5:$G$1000=$A4)*(MONTH(controleur_1!$C$5:$C$1000)=MONTH(F$2)))+SUMPRODUCT((controleur_2!$G$5:$G$1000=$A4)*(MONTH(controleur_2!$C$5:$C$1000)=MONTH(F$2)))+SUMPRODUCT((controleur_3!$G$5:$G$1000=$A4)*(MONTH(controleur_3!$C$5:$C$1000)=MONTH(F$2))) -> 0 | G4: =SUMPRODUCT((controleur_1!$G$5:$G$1000=$A4)*(MONTH(controleur_1!$C$5:$C$1000)=MONTH(G$2)))+SUMPRODUCT((controleur_2!$G$5:$G$1000=$A4)*(MONTH(controleur_2!$C$5:$C$1000)=MONTH(G$2)))+SUMPRODUCT((controleur_3!$G$5:$G$1000=$A4)*(MONTH(controleur_3!$C$5:$C$1000)=MONTH(G$2))) -> 0 | H4: =SUMPRODUCT((controleur_1!$G$5:$G$1000=$A4)*(MONTH(controleur_1!$C$5:$C$1000)=MONTH(H$2)))+SUMPRODUCT((controleur_2!$G$5:$G$1000=$A4)*(MONTH(controleur_2!$C$5:$C$1000)=MONTH(H$2)))+SUMPRODUCT((controleur_3!$G$5:$G$1000=$A4)*(MONTH(controleur_3!$C$5:$C$1000)=MONTH(H$2))) -> 0 | I4: =SUMPRODUCT((controleur_1!$G$5:$G$1000=$A4)*(MONTH(controleur_1!$C$5:$C$1000)=MONTH(I$2)))+SUMPRODUCT((controleur_2!$G$5:$G$1000=$A4)*(MONTH(controleur_2!$C$5:$C$1000)=MONTH(I$2)))+SUMPRODUCT((controleur_3!$G$5:$G$1000=$A4)*(MONTH(controleur_3!$C$5:$C$1000)=MONTH(I$2))) -> 0 | ... M4: =SUMPRODUCT((controleur_1!$G$5:$G$1000=$A4)*(MONTH(controleur_1!$C$5:$C$1000)=MONTH(M$2)))+SUMPRODUCT((controleur_2!$G$5:$G$1000=$A4)*(MONTH(controleur_2!$C$5:$C$1000)=MONTH(M$2)))+SUMPRODUCT((controleur_3!$G$5:$G$1000=$A4)*(MONTH(controleur_3!$C$5:$C$1000)=MONTH(M$2))) -> 0 | N4: =SUM(B4:M4) -> 39
A5: C3 | B5: =SUMPRODUCT((controleur_1!$G$5:$G$1000=$A5)*(MONTH(controleur_1!$C$5:$C$1000)=MONTH(B$2)))+SUMPRODUCT((controleur_2!$G$5:$G$1000=$A5)*(MONTH(controleur_2!$C$5:$C$1000)=MONTH(B$2)))+SUMPRODUCT((controleur_3!$G$5:$G$1000=$A5)*(MONTH(controleur_3!$C$5:$C$1000)=MONTH(B$2))) -> 3 | C5: =SUMPRODUCT((controleur_1!$G$5:$G$1000=$A5)*(MONTH(controleur_1!$C$5:$C$1000)=MONTH(C$2)))+SUMPRODUCT((controleur_2!$G$5:$G$1000=$A5)*(MONTH(controleur_2!$C$5:$C$1000)=MONTH(C$2)))+SUMPRODUCT((controleur_3!$G$5:$G$1000=$A5)*(MONTH(controleur_3!$C$5:$C$1000)=MONTH(C$2))) -> 0 | D5: =SUMPRODUCT((controleur_1!$G$5:$G$1000=$A5)*(MONTH(controleur_1!$C$5:$C$1000)=MONTH(D$2)))+SUMPRODUCT((controleur_2!$G$5:$G$1000=$A5)*(MONTH(controleur_2!$C$5:$C$1000)=MONTH(D$2)))+SUMPRODUCT((controleur_3!$G$5:$G$1000=$A5)*(MONTH(controleur_3!$C$5:$C$1000)=MONTH(D$2))) -> 0 | E5: =SUMPRODUCT((controleur_1!$G$5:$G$1000=$A5)*(MONTH(controleur_1!$C$5:$C$1000)=MONTH(E$2)))+SUMPRODUCT((controleur_2!$G$5:$G$1000=$A5)*(MONTH(controleur_2!$C$5:$C$1000)=MONTH(E$2)))+SUMPRODUCT((controleur_3!$G$5:$G$1000=$A5)*(MONTH(controleur_3!$C$5:$C$1000)=MONTH(E$2))) -> 0 | F5: =SUMPRODUCT((controleur_1!$G$5:$G$1000=$A5)*(MONTH(controleur_1!$C$5:$C$1000)=MONTH(F$2)))+SUMPRODUCT((controleur_2!$G$5:$G$1000=$A5)*(MONTH(controleur_2!$C$5:$C$1000)=MONTH(F$2)))+SUMPRODUCT((controleur_3!$G$5:$G$1000=$A5)*(MONTH(controleur_3!$C$5:$C$1000)=MONTH(F$2))) -> 0 | G5: =SUMPRODUCT((controleur_1!$G$5:$G$1000=$A5)*(MONTH(controleur_1!$C$5:$C$1000)=MONTH(G$2)))+SUMPRODUCT((controleur_2!$G$5:$G$1000=$A5)*(MONTH(controleur_2!$C$5:$C$1000)=MONTH(G$2)))+SUMPRODUCT((controleur_3!$G$5:$G$1000=$A5)*(MONTH(controleur_3!$C$5:$C$1000)=MONTH(G$2))) -> 0 | H5: =SUMPRODUCT((controleur_1!$G$5:$G$1000=$A5)*(MONTH(controleur_1!$C$5:$C$1000)=MONTH(H$2)))+SUMPRODUCT((controleur_2!$G$5:$G$1000=$A5)*(MONTH(controleur_2!$C$5:$C$1000)=MONTH(H$2)))+SUMPRODUCT((controleur_3!$G$5:$G$1000=$A5)*(MONTH(controleur_3!$C$5:$C$1000)=MONTH(H$2))) -> 0 | I5: =SUMPRODUCT((controleur_1!$G$5:$G$1000=$A5)*(MONTH(controleur_1!$C$5:$C$1000)=MONTH(I$2)))+SUMPRODUCT((controleur_2!$G$5:$G$1000=$A5)*(MONTH(controleur_2!$C$5:$C$1000)=MONTH(I$2)))+SUMPRODUCT((controleur_3!$G$5:$G$1000=$A5)*(MONTH(controleur_3!$C$5:$C$1000)=MONTH(I$2))) -> 0 | ... M5: =SUMPRODUCT((controleur_1!$G$5:$G$1000=$A5)*(MONTH(controleur_1!$C$5:$C$1000)=MONTH(M$2)))+SUMPRODUCT((controleur_2!$G$5:$G$1000=$A5)*(MONTH(controleur_2!$C$5:$C$1000)=MONTH(M$2)))+SUMPRODUCT((controleur_3!$G$5:$G$1000=$A5)*(MONTH(controleur_3!$C$5:$C$1000)=MONTH(M$2))) -> 0 | N5: =SUM(B5:M5) -> 39
A6: C4 | B6: =SUMPRODUCT((controleur_1!$G$5:$G$1000=$A6)*(MONTH(controleur_1!$C$5:$C$1000)=MONTH(B$2)))+SUMPRODUCT((controleur_2!$G$5:$G$1000=$A6)*(MONTH(controleur_2!$C$5:$C$1000)=MONTH(B$2)))+SUMPRODUCT((controleur_3!$G$5:$G$1000=$A6)*(MONTH(controleur_3!$C$5:$C$1000)=MONTH(B$2))) -> 3 | C6: =SUMPRODUCT((controleur_1!$G$5:$G$1000=$A6)*(MONTH(controleur_1!$C$5:$C$1000)=MONTH(C$2)))+SUMPRODUCT((controleur_2!$G$5:$G$1000=$A6)*(MONTH(controleur_2!$C$5:$C$1000)=MONTH(C$2)))+SUMPRODUCT((controleur_3!$G$5:$G$1000=$A6)*(MONTH(controleur_3!$C$5:$C$1000)=MONTH(C$2))) -> 0 | D6: =SUMPRODUCT((controleur_1!$G$5:$G$1000=$A6)*(MONTH(controleur_1!$C$5:$C$1000)=MONTH(D$2)))+SUMPRODUCT((controleur_2!$G$5:$G$1000=$A6)*(MONTH(controleur_2!$C$5:$C$1000)=MONTH(D$2)))+SUMPRODUCT((controleur_3!$G$5:$G$1000=$A6)*(MONTH(controleur_3!$C$5:$C$1000)=MONTH(D$2))) -> 0 | E6: =SUMPRODUCT((controleur_1!$G$5:$G$1000=$A6)*(MONTH(controleur_1!$C$5:$C$1000)=MONTH(E$2)))+SUMPRODUCT((controleur_2!$G$5:$G$1000=$A6)*(MONTH(controleur_2!$C$5:$C$1000)=MONTH(E$2)))+SUMPRODUCT((controleur_3!$G$5:$G$1000=$A6)*(MONTH(controleur_3!$C$5:$C$1000)=MONTH(E$2))) -> 0 | F6: =SUMPRODUCT((controleur_1!$G$5:$G$1000=$A6)*(MONTH(controleur_1!$C$5:$C$1000)=MONTH(F$2)))+SUMPRODUCT((controleur_2!$G$5:$G$1000=$A6)*(MONTH(controleur_2!$C$5:$C$1000)=MONTH(F$2)))+SUMPRODUCT((controleur_3!$G$5:$G$1000=$A6)*(MONTH(controleur_3!$C$5:$C$1000)=MONTH(F$2))) -> 0 | G6: =SUMPRODUCT((controleur_1!$G$5:$G$1000=$A6)*(MONTH(controleur_1!$C$5:$C$1000)=MONTH(G$2)))+SUMPRODUCT((controleur_2!$G$5:$G$1000=$A6)*(MONTH(controleur_2!$C$5:$C$1000)=MONTH(G$2)))+SUMPRODUCT((controleur_3!$G$5:$G$1000=$A6)*(MONTH(controleur_3!$C$5:$C$1000)=MONTH(G$2))) -> 0 | H6: =SUMPRODUCT((controleur_1!$G$5:$G$1000=$A6)*(MONTH(controleur_1!$C$5:$C$1000)=MONTH(H$2)))+SUMPRODUCT((controleur_2!$G$5:$G$1000=$A6)*(MONTH(controleur_2!$C$5:$C$1000)=MONTH(H$2)))+SUMPRODUCT((controleur_3!$G$5:$G$1000=$A6)*(MONTH(controleur_3!$C$5:$C$1000)=MONTH(H$2))) -> 0 | I6: =SUMPRODUCT((controleur_1!$G$5:$G$1000=$A6)*(MONTH(controleur_1!$C$5:$C$1000)=MONTH(I$2)))+SUMPRODUCT((controleur_2!$G$5:$G$1000=$A6)*(MONTH(controleur_2!$C$5:$C$1000)=MONTH(I$2)))+SUMPRODUCT((controleur_3!$G$5:$G$1000=$A6)*(MONTH(controleur_3!$C$5:$C$1000)=MONTH(I$2))) -> 0 | ... M6: =SUMPRODUCT((controleur_1!$G$5:$G$1000=$A6)*(MONTH(controleur_1!$C$5:$C$1000)=MONTH(M$2)))+SUMPRODUCT((controleur_2!$G$5:$G$1000=$A6)*(MONTH(controleur_2!$C$5:$C$1000)=MONTH(M$2)))+SUMPRODUCT((controleur_3!$G$5:$G$1000=$A6)*(MONTH(controleur_3!$C$5:$C$1000)=MONTH(M$2))) -> 0 | N6: =SUM(B6:M6) -> 39
A7: Total | B7: =SUM(B3:B6) -> 12 | C7: =SUM(C3:C6) -> 0 | D7: =SUM(D3:D6) -> 0 | E7: =SUM(E3:E6) -> 0 | F7: =SUM(F3:F6) -> 0 | G7: =SUM(G3:G6) -> 0 | H7: =SUM(H3:H6) -> 0 | I7: =SUM(I3:I6) -> 0 | ... M7: =SUM(M3:M6) -> 0 | N7: =SUM(B7:M7) -> 156
A9: Nb de DOSSIERS contrôlés par responsable d'équipe :
B10: 41640 | C10: =DATE(YEAR(B2),MONTH(B2)+1,DAY(B2)) -> 41671 | D10: =DATE(YEAR(C2),MONTH(C2)+1,DAY(C2)) -> 41699 | E10: =DATE(YEAR(D2),MONTH(D2)+1,DAY(D2)) -> 41730 | F10: =DATE(YEAR(E2),MONTH(E2)+1,DAY(E2)) -> 41760 | G10: =DATE(YEAR(F2),MONTH(F2)+1,DAY(F2)) -> 41791 | H10: =DATE(YEAR(G2),MONTH(G2)+1,DAY(G2)) -> 41821 | I10: =DATE(YEAR(H2),MONTH(H2)+1,DAY(H2)) -> 41852 | J10: =DATE(YEAR(I2),MONTH(I2)+1,DAY(I2)) -> 41883 | ... M10: =DATE(YEAR(L2),MONTH(L2)+1,DAY(L2)) -> 41974 | N10: Cumul
A11: controleur 1 | B11: =SUMPRODUCT((controleur_1!$B$5:$B$1000=$A11)*(MONTH(controleur_1!$C$5:$C$1000)=MONTH(B$2)))/COUNTA($A$3:$A$6) -> 1 | C11: =SUMPRODUCT((controleur_1!$B$5:$B$1000=$A11)*(MONTH(controleur_1!$C$5:$C$1000)=MONTH(C$2)))/COUNTA($A$3:$A$6) -> 0 | D11: =SUMPRODUCT((controleur_1!$B$5:$B$1000=$A11)*(MONTH(controleur_1!$C$5:$C$1000)=MONTH(D$2)))/COUNTA($A$3:$A$6) -> 0 | E11: =SUMPRODUCT((controleur_1!$B$5:$B$1000=$A11)*(MONTH(controleur_1!$C$5:$C$1000)=MONTH(E$2)))/COUNTA($A$3:$A$6) -> 0 | F11: =SUMPRODUCT((controleur_1!$B$5:$B$1000=$A11)*(MONTH(controleur_1!$C$5:$C$1000)=MONTH(F$2)))/COUNTA($A$3:$A$6) -> 0 | G11: =SUMPRODUCT((controleur_1!$B$5:$B$1000=$A11)*(MONTH(controleur_1!$C$5:$C$1000)=MONTH(G$2)))/COUNTA($A$3:$A$6) -> 0 | H11: =SUMPRODUCT((controleur_1!$B$5:$B$1000=$A11)*(MONTH(controleur_1!$C$5:$C$1000)=MONTH(H$2)))/COUNTA($A$3:$A$6) -> 0 | I11: =SUMPRODUCT((controleur_1!$B$5:$B$1000=$A11)*(MONTH(controleur_1!$C$5:$C$1000)=MONTH(I$2)))/COUNTA($A$3:$A$6) -> 0 | ... M11: =SUMPRODUCT((controleur_1!$B$5:$B$1000=$A11)*(MONTH(controleur_1!$C$5:$C$1000)=MONTH(M$2)))/COUNTA($A$3:$A$6) -> 0 | N11: =SUM(B11:M11) -> 14
A12: controleur 2 | B12: =SUMPRODUCT((controleur_2!$B$5:$B$1000=$A12)*(MONTH(controleur_2!$C$5:$C$1000)=MONTH(B$2)))/COUNTA($A$3:$A$6) -> 0 | C12: =SUMPRODUCT((controleur_2!$B$5:$B$1000=$A12)*(MONTH(controleur_2!$C$5:$C$1000)=MONTH(C$2)))/COUNTA($A$3:$A$6) -> 0 | D12: =SUMPRODUCT((controleur_2!$B$5:$B$1000=$A12)*(MONTH(controleur_2!$C$5:$C$1000)=MONTH(D$2)))/COUNTA($A$3:$A$6) -> 0 | E12: =SUMPRODUCT((controleur_2!$B$5:$B$1000=$A12)*(MONTH(controleur_2!$C$5:$C$1000)=MONTH(E$2)))/COUNTA($A$3:$A$6) -> 0 | F12: =SUMPRODUCT((controleur_2!$B$5:$B$1000=$A12)*(MONTH(controleur_2!$C$5:$C$1000)=MONTH(F$2)))/COUNTA($A$3:$A$6) -> 0 | G12: =SUMPRODUCT((controleur_2!$B$5:$B$1000=$A12)*(MONTH(controleur_2!$C$5:$C$1000)=MONTH(G$2)))/COUNTA($A$3:$A$6) -> 0 | H12: =SUMPRODUCT((controleur_2!$B$5:$B$1000=$A12)*(MONTH(controleur_2!$C$5:$C$1000)=MONTH(H$2)))/COUNTA($A$3:$A$6) -> 0 | I12: =SUMPRODUCT((controleur_2!$B$5:$B$1000=$A12)*(MONTH(controleur_2!$C$5:$C$1000)=MONTH(I$2)))/COUNTA($A$3:$A$6) -> 0 | ... M12: =SUMPRODUCT((controleur_2!$B$5:$B$1000=$A12)*(MONTH(controleur_2!$C$5:$C$1000)=MONTH(M$2)))/COUNTA($A$3:$A$6) -> 0 | N12: =SUM(B12:M12) -> 11
A13: controleur 3 | B13: =SUMPRODUCT((controleur_3!$B$5:$B$1000=$A13)*(MONTH(controleur_3!$C$5:$C$1000)=MONTH(B$2)))/COUNTA($A$3:$A$6) -> 0 | C13: =SUMPRODUCT((controleur_3!$B$5:$B$1000=$A13)*(MONTH(controleur_3!$C$5:$C$1000)=MONTH(C$2)))/COUNTA($A$3:$A$6) -> 0 | D13: =SUMPRODUCT((controleur_3!$B$5:$B$1000=$A13)*(MONTH(controleur_3!$C$5:$C$1000)=MONTH(D$2)))/COUNTA($A$3:$A$6) -> 0 | E13: =SUMPRODUCT((controleur_3!$B$5:$B$1000=$A13)*(MONTH(controleur_3!$C$5:$C$1000)=MONTH(E$2)))/COUNTA($A$3:$A$6) -> 0 | F13: =SUMPRODUCT((controleur_3!$B$5:$B$1000=$A13)*(MONTH(controleur_3!$C$5:$C$1000)=MONTH(F$2)))/COUNTA($A$3:$A$6) -> 0 | G13: =SUMPRODUCT((controleur_3!$B$5:$B$1000=$A13)*(MONTH(controleur_3!$C$5:$C$1000)=MONTH(G$2)))/COUNTA($A$3:$A$6) -> 0 | H13: =SUMPRODUCT((controleur_3!$B$5:$B$1000=$A13)*(MONTH(controleur_3!$C$5:$C$1000)=MONTH(H$2)))/COUNTA($A$3:$A$6) -> 0 | I13: =SUMPRODUCT((controleur_3!$B$5:$B$1000=$A13)*(MONTH(controleur_3!$C$5:$C$1000)=MONTH(I$2)))/COUNTA($A$3:$A$6) -> 0 | ... M13: =SUMPRODUCT((controleur_3!$B$5:$B$1000=$A13)*(MONTH(controleur_3!$C$5:$C$1000)=MONTH(M$2)))/COUNTA($A$3:$A$6) -> 0 | N13: =SUM(B13:M13) -> 12
A14: Total | B14: =SUM(B11:B13) -> 1 | C14: =SUM(C11:C13) -> 0 | D14: =SUM(D11:D13) -> 0 | E14: =SUM(E11:E13) -> 0 | F14: =SUM(F11:F13) -> 0 | G14: =SUM(G11:G13) -> 0 | H14: =SUM(H11:H13) -> 0 | I14: =SUM(I11:I13) -> 0 | ... N14: =SUM(N11:N13) -> 37
A16: CONTROLES | B16: KO
B17: 41640 | C17: =DATE(YEAR(B2),MONTH(B2)+1,DAY(B2)) -> 41671 | D17: =DATE(YEAR(C2),MONTH(C2)+1,DAY(C2)) -> 41699 | E17: =DATE(YEAR(D2),MONTH(D2)+1,DAY(D2)) -> 41730 | F17: =DATE(YEAR(E2),MONTH(E2)+1,DAY(E2)) -> 41760 | G17: =DATE(YEAR(F2),MONTH(F2)+1,DAY(F2)) -> 41791 | H17: =DATE(YEAR(G2),MONTH(G2)+1,DAY(G2)) -> 41821 | I17: =DATE(YEAR(H2),MONTH(H2)+1,DAY(H2)) -> 41852 | J17: =DATE(YEAR(I2),MONTH(I2)+1,DAY(I2)) -> 41883 | ... M17: =DATE(YEAR(L2),MONTH(L2)+1,DAY(L2)) -> 41974 | N17: Cumul
A18: C1 | B18: =SUMPRODUCT((controleur_1!$G$5:$G$1000=$A18)*(MONTH(controleur_1!$C$5:$C$1000)=MONTH(B$17)*(controleur_1!$H$5:$H$1000=$B$16)))+SUMPRODUCT((controleur_2!$G$5:$G$1000=$A18)*(MONTH(controleur_2!$C$5:$C$1000)=MONTH(B$17)*(controleur_2!$H$5:$H$1000=$B$16)))+SUMPRODUCT((controleur_3!$G$5:$G$1000=$A18)*(MONTH(controleur_3!$C$5:$C$1000)=MONTH(B$17)*(controleur_3!$H$5:$H$1000=$B$16))) -> 0 | C18: =SUMPRODUCT((controleur_1!$G$5:$G$1000=$A18)*(MONTH(controleur_1!$C$5:$C$1000)=MONTH(C$17)*(controleur_1!$H$5:$H$1000=$B$16)))+SUMPRODUCT((controleur_2!$G$5:$G$1000=$A18)*(MONTH(controleur_2!$C$5:$C$1000)=MONTH(C$17)*(controleur_2!$H$5:$H$1000=$B$16)))+SUMPRODUCT((controleur_3!$G$5:$G$1000=$A18)*(MONTH(controleur_3!$C$5:$C$1000)=MONTH(C$17)*(controleur_3!$H$5:$H$1000=$B$16))) -> 0 | D18: =SUMPRODUCT((controleur_1!$G$5:$G$1000=$A18)*(MONTH(controleur_1!$C$5:$C$1000)=MONTH(D$17)*(controleur_1!$H$5:$H$1000=$B$16)))+SUMPRODUCT((controleur_2!$G$5:$G$1000=$A18)*(MONTH(controleur_2!$C$5:$C$1000)=MONTH(D$17)*(controleur_2!$H$5:$H$1000=$B$16)))+SUMPRODUCT((controleur_3!$G$5:$G$1000=$A18)*(MONTH(controleur_3!$C$5:$C$1000)=MONTH(D$17)*(controleur_3!$H$5:$H$1000=$B$16))) -> 0 | E18: =SUMPRODUCT((controleur_1!$G$5:$G$1000=$A18)*(MONTH(controleur_1!$C$5:$C$1000)=MONTH(E$17)*(controleur_1!$H$5:$H$1000=$B$16)))+SUMPRODUCT((controleur_2!$G$5:$G$1000=$A18)*(MONTH(controleur_2!$C$5:$C$1000)=MONTH(E$17)*(controleur_2!$H$5:$H$1000=$B$16)))+SUMPRODUCT((controleur_3!$G$5:$G$1000=$A18)*(MONTH(controleur_3!$C$5:$C$1000)=MONTH(E$17)*(controleur_3!$H$5:$H$1000=$B$16))) -> 0 | F18: =SUMPRODUCT((controleur_1!$G$5:$G$1000=$A18)*(MONTH(controleur_1!$C$5:$C$1000)=MONTH(F$17)*(controleur_1!$H$5:$H$1000=$B$16)))+SUMPRODUCT((controleur_2!$G$5:$G$1000=$A18)*(MONTH(controleur_2!$C$5:$C$1000)=MONTH(F$17)*(controleur_2!$H$5:$H$1000=$B$16)))+SUMPRODUCT((controleur_3!$G$5:$G$1000=$A18)*(MONTH(controleur_3!$C$5:$C$1000)=MONTH(F$17)*(controleur_3!$H$5:$H$1000=$B$16))) -> 0 | G18: =SUMPRODUCT((controleur_1!$G$5:$G$1000=$A18)*(MONTH(controleur_1!$C$5:$C$1000)=MONTH(G$17)*(controleur_1!$H$5:$H$1000=$B$16)))+SUMPRODUCT((controleur_2!$G$5:$G$1000=$A18)*(MONTH(controleur_2!$C$5:$C$1000)=MONTH(G$17)*(controleur_2!$H$5:$H$1000=$B$16)))+SUMPRODUCT((controleur_3!$G$5:$G$1000=$A18)*(MONTH(controleur_3!$C$5:$C$1000)=MONTH(G$17)*(controleur_3!$H$5:$H$1000=$B$16))) -> 0 | H18: =SUMPRODUCT((controleur_1!$G$5:$G$1000=$A18)*(MONTH(controleur_1!$C$5:$C$1000)=MONTH(H$17)*(controleur_1!$H$5:$H$1000=$B$16)))+SUMPRODUCT((controleur_2!$G$5:$G$1000=$A18)*(MONTH(controleur_2!$C$5:$C$1000)=MONTH(H$17)*(controleur_2!$H$5:$H$1000=$B$16)))+SUMPRODUCT((controleur_3!$G$5:$G$1000=$A18)*(MONTH(controleur_3!$C$5:$C$1000)=MONTH(H$17)*(controleur_3!$H$5:$H$1000=$B$16))) -> 0 | I18: =SUMPRODUCT((controleur_1!$G$5:$G$1000=$A18)*(MONTH(controleur_1!$C$5:$C$1000)=MONTH(I$17)*(controleur_1!$H$5:$H$1000=$B$16)))+SUMPRODUCT((controleur_2!$G$5:$G$1000=$A18)*(MONTH(controleur_2!$C$5:$C$1000)=MONTH(I$17)*(controleur_2!$H$5:$H$1000=$B$16)))+SUMPRODUCT((controleur_3!$G$5:$G$1000=$A18)*(MONTH(controleur_3!$C$5:$C$1000)=MONTH(I$17)*(controleur_3!$H$5:$H$1000=$B$16))) -> 0 | ... M18: =SUMPRODUCT((controleur_1!$G$5:$G$1000=$A18)*(MONTH(controleur_1!$C$5:$C$1000)=MONTH(M$17)*(controleur_1!$H$5:$H$1000=$B$16)))+SUMPRODUCT((controleur_2!$G$5:$G$1000=$A18)*(MONTH(controleur_2!$C$5:$C$1000)=MONTH(M$17)*(controleur_2!$H$5:$H$1000=$B$16)))+SUMPRODUCT((controleur_3!$G$5:$G$1000=$A18)*(MONTH(controleur_3!$C$5:$C$1000)=MONTH(M$17)*(controleur_3!$H$5:$H$1000=$B$16))) -> 0 | N18: =SUM(B18:M18) -> 3
A19: C2 | B19: =SUMPRODUCT((controleur_1!$G$5:$G$1000=$A19)*(MONTH(controleur_1!$C$5:$C$1000)=MONTH(B$17)*(controleur_1!$H$5:$H$1000=$B$16)))+SUMPRODUCT((controleur_2!$G$5:$G$1000=$A19)*(MONTH(controleur_2!$C$5:$C$1000)=MONTH(B$17)*(controleur_2!$H$5:$H$1000=$B$16)))+SUMPRODUCT((controleur_3!$G$5:$G$1000=$A19)*(MONTH(controleur_3!$C$5:$C$1000)=MONTH(B$17)*(controleur_3!$H$5:$H$1000=$B$16))) -> 0 | C19: =SUMPRODUCT((controleur_1!$G$5:$G$1000=$A19)*(MONTH(controleur_1!$C$5:$C$1000)=MONTH(C$17)*(controleur_1!$H$5:$H$1000=$B$16)))+SUMPRODUCT((controleur_2!$G$5:$G$1000=$A19)*(MONTH(controleur_2!$C$5:$C$1000)=MONTH(C$17)*(controleur_2!$H$5:$H$1000=$B$16)))+SUMPRODUCT((controleur_3!$G$5:$G$1000=$A19)*(MONTH(controleur_3!$C$5:$C$1000)=MONTH(C$17)*(controleur_3!$H$5:$H$1000=$B$16))) -> 0 | D19: =SUMPRODUCT((controleur_1!$G$5:$G$1000=$A19)*(MONTH(controleur_1!$C$5:$C$1000)=MONTH(D$17)*(controleur_1!$H$5:$H$1000=$B$16)))+SUMPRODUCT((controleur_2!$G$5:$G$1000=$A19)*(MONTH(controleur_2!$C$5:$C$1000)=MONTH(D$17)*(controleur_2!$H$5:$H$1000=$B$16)))+SUMPRODUCT((controleur_3!$G$5:$G$1000=$A19)*(MONTH(controleur_3!$C$5:$C$1000)=MONTH(D$17)*(controleur_3!$H$5:$H$1000=$B$16))) -> 0 | E19: =SUMPRODUCT((controleur_1!$G$5:$G$1000=$A19)*(MONTH(controleur_1!$C$5:$C$1000)=MONTH(E$17)*(controleur_1!$H$5:$H$1000=$B$16)))+SUMPRODUCT((controleur_2!$G$5:$G$1000=$A19)*(MONTH(controleur_2!$C$5:$C$1000)=MONTH(E$17)*(controleur_2!$H$5:$H$1000=$B$16)))+SUMPRODUCT((controleur_3!$G$5:$G$1000=$A19)*(MONTH(controleur_3!$C$5:$C$1000)=MONTH(E$17)*(controleur_3!$H$5:$H$1000=$B$16))) -> 0 | F19: =SUMPRODUCT((controleur_1!$G$5:$G$1000=$A19)*(MONTH(controleur_1!$C$5:$C$1000)=MONTH(F$17)*(controleur_1!$H$5:$H$1000=$B$16)))+SUMPRODUCT((controleur_2!$G$5:$G$1000=$A19)*(MONTH(controleur_2!$C$5:$C$1000)=MONTH(F$17)*(controleur_2!$H$5:$H$1000=$B$16)))+SUMPRODUCT((controleur_3!$G$5:$G$1000=$A19)*(MONTH(controleur_3!$C$5:$C$1000)=MONTH(F$17)*(controleur_3!$H$5:$H$1000=$B$16))) -> 0 | G19: =SUMPRODUCT((controleur_1!$G$5:$G$1000=$A19)*(MONTH(controleur_1!$C$5:$C$1000)=MONTH(G$17)*(controleur_1!$H$5:$H$1000=$B$16)))+SUMPRODUCT((controleur_2!$G$5:$G$1000=$A19)*(MONTH(controleur_2!$C$5:$C$1000)=MONTH(G$17)*(controleur_2!$H$5:$H$1000=$B$16)))+SUMPRODUCT((controleur_3!$G$5:$G$1000=$A19)*(MONTH(controleur_3!$C$5:$C$1000)=MONTH(G$17)*(controleur_3!$H$5:$H$1000=$B$16))) -> 0 | H19: =SUMPRODUCT((controleur_1!$G$5:$G$1000=$A19)*(MONTH(controleur_1!$C$5:$C$1000)=MONTH(H$17)*(controleur_1!$H$5:$H$1000=$B$16)))+SUMPRODUCT((controleur_2!$G$5:$G$1000=$A19)*(MONTH(controleur_2!$C$5:$C$1000)=MONTH(H$17)*(controleur_2!$H$5:$H$1000=$B$16)))+SUMPRODUCT((controleur_3!$G$5:$G$1000=$A19)*(MONTH(controleur_3!$C$5:$C$1000)=MONTH(H$17)*(controleur_3!$H$5:$H$1000=$B$16))) -> 0 | I19: =SUMPRODUCT((controleur_1!$G$5:$G$1000=$A19)*(MONTH(controleur_1!$C$5:$C$1000)=MONTH(I$17)*(controleur_1!$H$5:$H$1000=$B$16)))+SUMPRODUCT((controleur_2!$G$5:$G$1000=$A19)*(MONTH(controleur_2!$C$5:$C$1000)=MONTH(I$17)*(controleur_2!$H$5:$H$1000=$B$16)))+SUMPRODUCT((controleur_3!$G$5:$G$1000=$A19)*(MONTH(controleur_3!$C$5:$C$1000)=MONTH(I$17)*(controleur_3!$H$5:$H$1000=$B$16))) -> 0 | ... M19: =SUMPRODUCT((controleur_1!$G$5:$G$1000=$A19)*(MONTH(controleur_1!$C$5:$C$1000)=MONTH(M$17)*(controleur_1!$H$5:$H$1000=$B$16)))+SUMPRODUCT((controleur_2!$G$5:$G$1000=$A19)*(MONTH(controleur_2!$C$5:$C$1000)=MONTH(M$17)*(controleur_2!$H$5:$H$1000=$B$16)))+SUMPRODUCT((controleur_3!$G$5:$G$1000=$A19)*(MONTH(controleur_3!$C$5:$C$1000)=MONTH(M$17)*(controleur_3!$H$5:$H$1000=$B$16))) -> 0 | N19: =SUM(B19:M19) -> 3
A20: C3 | B20: =SUMPRODUCT((controleur_1!$G$5:$G$1000=$A20)*(MONTH(controleur_1!$C$5:$C$1000)=MONTH(B$17)*(controleur_1!$H$5:$H$1000=$B$16)))+SUMPRODUCT((controleur_2!$G$5:$G$1000=$A20)*(MONTH(controleur_2!$C$5:$C$1000)=MONTH(B$17)*(controleur_2!$H$5:$H$1000=$B$16)))+SUMPRODUCT((controleur_3!$G$5:$G$1000=$A20)*(MONTH(controleur_3!$C$5:$C$1000)=MONTH(B$17)*(controleur_3!$H$5:$H$1000=$B$16))) -> 0 | C20: =SUMPRODUCT((controleur_1!$G$5:$G$1000=$A20)*(MONTH(controleur_1!$C$5:$C$1000)=MONTH(C$17)*(controleur_1!$H$5:$H$1000=$B$16)))+SUMPRODUCT((controleur_2!$G$5:$G$1000=$A20)*(MONTH(controleur_2!$C$5:$C$1000)=MONTH(C$17)*(controleur_2!$H$5:$H$1000=$B$16)))+SUMPRODUCT((controleur_3!$G$5:$G$1000=$A20)*(MONTH(controleur_3!$C$5:$C$1000)=MONTH(C$17)*(controleur_3!$H$5:$H$1000=$B$16))) -> 0 | D20: =SUMPRODUCT((controleur_1!$G$5:$G$1000=$A20)*(MONTH(controleur_1!$C$5:$C$1000)=MONTH(D$17)*(controleur_1!$H$5:$H$1000=$B$16)))+SUMPRODUCT((controleur_2!$G$5:$G$1000=$A20)*(MONTH(controleur_2!$C$5:$C$1000)=MONTH(D$17)*(controleur_2!$H$5:$H$1000=$B$16)))+SUMPRODUCT((controleur_3!$G$5:$G$1000=$A20)*(MONTH(controleur_3!$C$5:$C$1000)=MONTH(D$17)*(controleur_3!$H$5:$H$1000=$B$16))) -> 0 | E20: =SUMPRODUCT((controleur_1!$G$5:$G$1000=$A20)*(MONTH(controleur_1!$C$5:$C$1000)=MONTH(E$17)*(controleur_1!$H$5:$H$1000=$B$16)))+SUMPRODUCT((controleur_2!$G$5:$G$1000=$A20)*(MONTH(controleur_2!$C$5:$C$1000)=MONTH(E$17)*(controleur_2!$H$5:$H$1000=$B$16)))+SUMPRODUCT((controleur_3!$G$5:$G$1000=$A20)*(MONTH(controleur_3!$C$5:$C$1000)=MONTH(E$17)*(controleur_3!$H$5:$H$1000=$B$16))) -> 0 | F20: =SUMPRODUCT((controleur_1!$G$5:$G$1000=$A20)*(MONTH(controleur_1!$C$5:$C$1000)=MONTH(F$17)*(controleur_1!$H$5:$H$1000=$B$16)))+SUMPRODUCT((controleur_2!$G$5:$G$1000=$A20)*(MONTH(controleur_2!$C$5:$C$1000)=MONTH(F$17)*(controleur_2!$H$5:$H$1000=$B$16)))+SUMPRODUCT((controleur_3!$G$5:$G$1000=$A20)*(MONTH(controleur_3!$C$5:$C$1000)=MONTH(F$17)*(controleur_3!$H$5:$H$1000=$B$16))) -> 0 | G20: =SUMPRODUCT((controleur_1!$G$5:$G$1000=$A20)*(MONTH(controleur_1!$C$5:$C$1000)=MONTH(G$17)*(controleur_1!$H$5:$H$1000=$B$16)))+SUMPRODUCT((controleur_2!$G$5:$G$1000=$A20)*(MONTH(controleur_2!$C$5:$C$1000)=MONTH(G$17)*(controleur_2!$H$5:$H$1000=$B$16)))+SUMPRODUCT((controleur_3!$G$5:$G$1000=$A20)*(MONTH(controleur_3!$C$5:$C$1000)=MONTH(G$17)*(controleur_3!$H$5:$H$1000=$B$16))) -> 0 | H20: =SUMPRODUCT((controleur_1!$G$5:$G$1000=$A20)*(MONTH(controleur_1!$C$5:$C$1000)=MONTH(H$17)*(controleur_1!$H$5:$H$1000=$B$16)))+SUMPRODUCT((controleur_2!$G$5:$G$1000=$A20)*(MONTH(controleur_2!$C$5:$C$1000)=MONTH(H$17)*(controleur_2!$H$5:$H$1000=$B$16)))+SUMPRODUCT((controleur_3!$G$5:$G$1000=$A20)*(MONTH(controleur_3!$C$5:$C$1000)=MONTH(H$17)*(controleur_3!$H$5:$H$1000=$B$16))) -> 0 | I20: =SUMPRODUCT((controleur_1!$G$5:$G$1000=$A20)*(MONTH(controleur_1!$C$5:$C$1000)=MONTH(I$17)*(controleur_1!$H$5:$H$1000=$B$16)))+SUMPRODUCT((controleur_2!$G$5:$G$1000=$A20)*(MONTH(controleur_2!$C$5:$C$1000)=MONTH(I$17)*(controleur_2!$H$5:$H$1000=$B$16)))+SUMPRODUCT((controleur_3!$G$5:$G$1000=$A20)*(MONTH(controleur_3!$C$5:$C$1000)=MONTH(I$17)*(controleur_3!$H$5:$H$1000=$B$16))) -> 0 | ... M20: =SUMPRODUCT((controleur_1!$G$5:$G$1000=$A20)*(MONTH(controleur_1!$C$5:$C$1000)=MONTH(M$17)*(controleur_1!$H$5:$H$1000=$B$16)))+SUMPRODUCT((controleur_2!$G$5:$G$1000=$A20)*(MONTH(controleur_2!$C$5:$C$1000)=MONTH(M$17)*(controleur_2!$H$5:$H$1000=$B$16)))+SUMPRODUCT((controleur_3!$G$5:$G$1000=$A20)*(MONTH(controleur_3!$C$5:$C$1000)=MONTH(M$17)*(controleur_3!$H$5:$H$1000=$B$16))) -> 0 | N20: =SUM(B20:M20) -> 6
A21: C4 | B21: =SUMPRODUCT((controleur_1!$G$5:$G$1000=$A21)*(MONTH(controleur_1!$C$5:$C$1000)=MONTH(B$17)*(controleur_1!$H$5:$H$1000=$B$16)))+SUMPRODUCT((controleur_2!$G$5:$G$1000=$A21)*(MONTH(controleur_2!$C$5:$C$1000)=MONTH(B$17)*(controleur_2!$H$5:$H$1000=$B$16)))+SUMPRODUCT((controleur_3!$G$5:$G$1000=$A21)*(MONTH(controleur_3!$C$5:$C$1000)=MONTH(B$17)*(controleur_3!$H$5:$H$1000=$B$16))) -> 0 | C21: =SUMPRODUCT((controleur_1!$G$5:$G$1000=$A21)*(MONTH(controleur_1!$C$5:$C$1000)=MONTH(C$17)*(controleur_1!$H$5:$H$1000=$B$16)))+SUMPRODUCT((controleur_2!$G$5:$G$1000=$A21)*(MONTH(controleur_2!$C$5:$C$1000)=MONTH(C$17)*(controleur_2!$H$5:$H$1000=$B$16)))+SUMPRODUCT((controleur_3!$G$5:$G$1000=$A21)*(MONTH(controleur_3!$C$5:$C$1000)=MONTH(C$17)*(controleur_3!$H$5:$H$1000=$B$16))) -> 0 | D21: =SUMPRODUCT((controleur_1!$G$5:$G$1000=$A21)*(MONTH(controleur_1!$C$5:$C$1000)=MONTH(D$17)*(controleur_1!$H$5:$H$1000=$B$16)))+SUMPRODUCT((controleur_2!$G$5:$G$1000=$A21)*(MONTH(controleur_2!$C$5:$C$1000)=MONTH(D$17)*(controleur_2!$H$5:$H$1000=$B$16)))+SUMPRODUCT((controleur_3!$G$5:$G$1000=$A21)*(MONTH(controleur_3!$C$5:$C$1000)=MONTH(D$17)*(controleur_3!$H$5:$H$1000=$B$16))) -> 0 | E21: =SUMPRODUCT((controleur_1!$G$5:$G$1000=$A21)*(MONTH(controleur_1!$C$5:$C$1000)=MONTH(E$17)*(controleur_1!$H$5:$H$1000=$B$16)))+SUMPRODUCT((controleur_2!$G$5:$G$1000=$A21)*(MONTH(controleur_2!$C$5:$C$1000)=MONTH(E$17)*(controleur_2!$H$5:$H$1000=$B$16)))+SUMPRODUCT((controleur_3!$G$5:$G$1000=$A21)*(MONTH(controleur_3!$C$5:$C$1000)=MONTH(E$17)*(controleur_3!$H$5:$H$1000=$B$16))) -> 0 | F21: =SUMPRODUCT((controleur_1!$G$5:$G$1000=$A21)*(MONTH(controleur_1!$C$5:$C$1000)=MONTH(F$17)*(controleur_1!$H$5:$H$1000=$B$16)))+SUMPRODUCT((controleur_2!$G$5:$G$1000=$A21)*(MONTH(controleur_2!$C$5:$C$1000)=MONTH(F$17)*(controleur_2!$H$5:$H$1000=$B$16)))+SUMPRODUCT((controleur_3!$G$5:$G$1000=$A21)*(MONTH(controleur_3!$C$5:$C$1000)=MONTH(F$17)*(controleur_3!$H$5:$H$1000=$B$16))) -> 0 | G21: =SUMPRODUCT((controleur_1!$G$5:$G$1000=$A21)*(MONTH(controleur_1!$C$5:$C$1000)=MONTH(G$17)*(controleur_1!$H$5:$H$1000=$B$16)))+SUMPRODUCT((controleur_2!$G$5:$G$1000=$A21)*(MONTH(controleur_2!$C$5:$C$1000)=MONTH(G$17)*(controleur_2!$H$5:$H$1000=$B$16)))+SUMPRODUCT((controleur_3!$G$5:$G$1000=$A21)*(MONTH(controleur_3!$C$5:$C$1000)=MONTH(G$17)*(controleur_3!$H$5:$H$1000=$B$16))) -> 0 | H21: =SUMPRODUCT((controleur_1!$G$5:$G$1000=$A21)*(MONTH(controleur_1!$C$5:$C$1000)=MONTH(H$17)*(controleur_1!$H$5:$H$1000=$B$16)))+SUMPRODUCT((controleur_2!$G$5:$G$1000=$A21)*(MONTH(controleur_2!$C$5:$C$1000)=MONTH(H$17)*(controleur_2!$H$5:$H$1000=$B$16)))+SUMPRODUCT((controleur_3!$G$5:$G$1000=$A21)*(MONTH(controleur_3!$C$5:$C$1000)=MONTH(H$17)*(controleur_3!$H$5:$H$1000=$B$16))) -> 0 | I21: =SUMPRODUCT((controleur_1!$G$5:$G$1000=$A21)*(MONTH(controleur_1!$C$5:$C$1000)=MONTH(I$17)*(controleur_1!$H$5:$H$1000=$B$16)))+SUMPRODUCT((controleur_2!$G$5:$G$1000=$A21)*(MONTH(controleur_2!$C$5:$C$1000)=MONTH(I$17)*(controleur_2!$H$5:$H$1000=$B$16)))+SUMPRODUCT((controleur_3!$G$5:$G$1000=$A21)*(MONTH(controleur_3!$C$5:$C$1000)=MONTH(I$17)*(controleur_3!$H$5:$H$1000=$B$16))) -> 0 | ... M21: =SUMPRODUCT((controleur_1!$G$5:$G$1000=$A21)*(MONTH(controleur_1!$C$5:$C$1000)=MONTH(M$17)*(controleur_1!$H$5:$H$1000=$B$16)))+SUMPRODUCT((controleur_2!$G$5:$G$1000=$A21)*(MONTH(controleur_2!$C$5:$C$1000)=MONTH(M$17)*(controleur_2!$H$5:$H$1000=$B$16)))+SUMPRODUCT((controleur_3!$G$5:$G$1000=$A21)*(MONTH(controleur_3!$C$5:$C$1000)=MONTH(M$17)*(controleur_3!$H$5:$H$1000=$B$16))) -> 0 | N21: =SUM(B21:M21) -> 3
A22: Total | B22: =SUM(B18:B21) -> 0 | C22: =SUM(C18:C21) -> 0 | D22: =SUM(D18:D21) -> 0 | E22: =SUM(E18:E21) -> 0 | F22: =SUM(F18:F21) -> 0 | G22: =SUM(G18:G21) -> 0 | H22: =SUM(H18:H21) -> 0 | I22: =SUM(I18:I21) -> 0 | ... M22: =SUM(M18:M21) -> 0 | N22: =SUM(B22:M22) -> 15
A23: % | B23: =B22/B7 -> 0 | C23: =C22/C7 -> #DIV/0! | D23: =D22/D7 -> #DIV/0! | E23: =E22/E7 -> #DIV/0! | F23: =F22/F7 -> #DIV/0! | G23: =G22/G7 -> #DIV/0! | H23: =H22/H7 -> #DIV/0! | I23: =I22/I7 -> #DIV/0! | ... N23: =N22/N7 -> 0.096153846
A24: NB DE DOSSIERS | B24: =B22/COUNTA($A$3:$A$6) -> 0 | C24: =C22/COUNTA($A$3:$A$6) -> 0 | D24: =D22/COUNTA($A$3:$A$6) -> 0 | E24: =E22/COUNTA($A$3:$A$6) -> 0 | F24: =F22/COUNTA($A$3:$A$6) -> 0 | G24: =G22/COUNTA($A$3:$A$6) -> 0 | H24: =H22/COUNTA($A$3:$A$6) -> 0 | I24: =I22/COUNTA($A$3:$A$6) -> 0 | ... M24: =M22/COUNTA($A$3:$A$6) -> 0 | N24: =SUM(B24:M24) -> 3.75
A26: CONTROLES | B26: OK
B27: 41640 | C27: =DATE(YEAR(B27),MONTH(B27)+1,DAY(B27)) -> 41671 | D27: =DATE(YEAR(C27),MONTH(C27)+1,DAY(C27)) -> 41699 | E27: =DATE(YEAR(D27),MONTH(D27)+1,DAY(D27)) -> 41730 | F27: =DATE(YEAR(E27),MONTH(E27)+1,DAY(E27)) -> 41760 | G27: =DATE(YEAR(F27),MONTH(F27)+1,DAY(F27)) -> 41791 | H27: =DATE(YEAR(G27),MONTH(G27)+1,DAY(G27)) -> 41821 | I27: =DATE(YEAR(H27),MONTH(H27)+1,DAY(H27)) -> 41852 | J27: =DATE(YEAR(I27),MONTH(I27)+1,DAY(I27)) -> 41883 | ... M27: =DATE(YEAR(L27),MONTH(L27)+1,DAY(L27)) -> 41974 | N27: Cumul
A28: C1 | B28: =SUMPRODUCT((controleur_1!$G$5:$G$1000=$A28)*(MONTH(controleur_1!$C$5:$C$1000)=MONTH(B$27)*(controleur_1!$H$5:$H$1000=$B$26)))+SUMPRODUCT((controleur_2!$G$5:$G$1000=$A28)*(MONTH(controleur_2!$C$5:$C$1000)=MONTH(B$27)*(controleur_2!$H$5:$H$1000=$B$26)))+SUMPRODUCT((controleur_3!$G$5:$G$1000=$A28)*(MONTH(controleur_3!$C$5:$C$1000)=MONTH(B$27)*(controleur_3!$H$5:$H$1000=$B$26))) -> 0 | C28: =SUMPRODUCT((controleur_1!$G$5:$G$1000=$A28)*(MONTH(controleur_1!$C$5:$C$1000)=MONTH(C$27)*(controleur_1!$H$5:$H$1000=$B$26)))+SUMPRODUCT((controleur_2!$G$5:$G$1000=$A28)*(MONTH(controleur_2!$C$5:$C$1000)=MONTH(C$27)*(controleur_2!$H$5:$H$1000=$B$26)))+SUMPRODUCT((controleur_3!$G$5:$G$1000=$A28)*(MONTH(controleur_3!$C$5:$C$1000)=MONTH(C$27)*(controleur_3!$H$5:$H$1000=$B$26))) -> 0 | D28: =SUMPRODUCT((controleur_1!$G$5:$G$1000=$A28)*(MONTH(controleur_1!$C$5:$C$1000)=MONTH(D$27)*(controleur_1!$H$5:$H$1000=$B$26)))+SUMPRODUCT((controleur_2!$G$5:$G$1000=$A28)*(MONTH(controleur_2!$C$5:$C$1000)=MONTH(D$27)*(controleur_2!$H$5:$H$1000=$B$26)))+SUMPRODUCT((controleur_3!$G$5:$G$1000=$A28)*(MONTH(controleur_3!$C$5:$C$1000)=MONTH(D$27)*(controleur_3!$H$5:$H$1000=$B$26))) -> 0 | E28: =SUMPRODUCT((controleur_1!$G$5:$G$1000=$A28)*(MONTH(controleur_1!$C$5:$C$1000)=MONTH(E$27)*(controleur_1!$H$5:$H$1000=$B$26)))+SUMPRODUCT((controleur_2!$G$5:$G$1000=$A28)*(MONTH(controleur_2!$C$5:$C$1000)=MONTH(E$27)*(controleur_2!$H$5:$H$1000=$B$26)))+SUMPRODUCT((controleur_3!$G$5:$G$1000=$A28)*(MONTH(controleur_3!$C$5:$C$1000)=MONTH(E$27)*(controleur_3!$H$5:$H$1000=$B$26))) -> 0 | F28: =SUMPRODUCT((controleur_1!$G$5:$G$1000=$A28)*(MONTH(controleur_1!$C$5:$C$1000)=MONTH(F$27)*(controleur_1!$H$5:$H$1000=$B$26)))+SUMPRODUCT((controleur_2!$G$5:$G$1000=$A28)*(MONTH(controleur_2!$C$5:$C$1000)=MONTH(F$27)*(controleur_2!$H$5:$H$1000=$B$26)))+SUMPRODUCT((controleur_3!$G$5:$G$1000=$A28)*(MONTH(controleur_3!$C$5:$C$1000)=MONTH(F$27)*(controleur_3!$H$5:$H$1000=$B$26))) -> 0 | G28: =SUMPRODUCT((controleur_1!$G$5:$G$1000=$A28)*(MONTH(controleur_1!$C$5:$C$1000)=MONTH(G$27)*(controleur_1!$H$5:$H$1000=$B$26)))+SUMPRODUCT((controleur_2!$G$5:$G$1000=$A28)*(MONTH(controleur_2!$C$5:$C$1000)=MONTH(G$27)*(controleur_2!$H$5:$H$1000=$B$26)))+SUMPRODUCT((controleur_3!$G$5:$G$1000=$A28)*(MONTH(controleur_3!$C$5:$C$1000)=MONTH(G$27)*(controleur_3!$H$5:$H$1000=$B$26))) -> 0 | H28: =SUMPRODUCT((controleur_1!$G$5:$G$1000=$A28)*(MONTH(controleur_1!$C$5:$C$1000)=MONTH(H$27)*(controleur_1!$H$5:$H$1000=$B$26)))+SUMPRODUCT((controleur_2!$G$5:$G$1000=$A28)*(MONTH(controleur_2!$C$5:$C$1000)=MONTH(H$27)*(controleur_2!$H$5:$H$1000=$B$26)))+SUMPRODUCT((controleur_3!$G$5:$G$1000=$A28)*(MONTH(controleur_3!$C$5:$C$1000)=MONTH(H$27)*(controleur_3!$H$5:$H$1000=$B$26))) -> 0 | I28: =SUMPRODUCT((controleur_1!$G$5:$G$1000=$A28)*(MONTH(controleur_1!$C$5:$C$1000)=MONTH(I$27)*(controleur_1!$H$5:$H$1000=$B$26)))+SUMPRODUCT((controleur_2!$G$5:$G$1000=$A28)*(MONTH(controleur_2!$C$5:$C$1000)=MONTH(I$27)*(controleur_2!$H$5:$H$1000=$B$26)))+SUMPRODUCT((controleur_3!$G$5:$G$1000=$A28)*(MONTH(controleur_3!$C$5:$C$1000)=MONTH(I$27)*(controleur_3!$H$5:$H$1000=$B$26))) -> 0 | ... M28: =SUMPRODUCT((controleur_1!$G$5:$G$1000=$A28)*(MONTH(controleur_1!$C$5:$C$1000)=MONTH(M$27)*(controleur_1!$H$5:$H$1000=$B$26)))+SUMPRODUCT((controleur_2!$G$5:$G$1000=$A28)*(MONTH(controleur_2!$C$5:$C$1000)=MONTH(M$27)*(controleur_2!$H$5:$H$1000=$B$26)))+SUMPRODUCT((controleur_3!$G$5:$G$1000=$A28)*(MONTH(controleur_3!$C$5:$C$1000)=MONTH(M$27)*(controleur_3!$H$5:$H$1000=$B$26))) -> 0 | N28: =SUM(B28:M28) -> 33
A29: C2 | B29: =SUMPRODUCT((controleur_1!$G$5:$G$1000=$A29)*(MONTH(controleur_1!$C$5:$C$1000)=MONTH(B$27)*(controleur_1!$H$5:$H$1000=$B$26)))+SUMPRODUCT((controleur_2!$G$5:$G$1000=$A29)*(MONTH(controleur_2!$C$5:$C$1000)=MONTH(B$27)*(controleur_2!$H$5:$H$1000=$B$26)))+SUMPRODUCT((controleur_3!$G$5:$G$1000=$A29)*(MONTH(controleur_3!$C$5:$C$1000)=MONTH(B$27)*(controleur_3!$H$5:$H$1000=$B$26))) -> 0 | C29: =SUMPRODUCT((controleur_1!$G$5:$G$1000=$A29)*(MONTH(controleur_1!$C$5:$C$1000)=MONTH(C$27)*(controleur_1!$H$5:$H$1000=$B$26)))+SUMPRODUCT((controleur_2!$G$5:$G$1000=$A29)*(MONTH(controleur_2!$C$5:$C$1000)=MONTH(C$27)*(controleur_2!$H$5:$H$1000=$B$26)))+SUMPRODUCT((controleur_3!$G$5:$G$1000=$A29)*(MONTH(controleur_3!$C$5:$C$1000)=MONTH(C$27)*(controleur_3!$H$5:$H$1000=$B$26))) -> 0 | D29: =SUMPRODUCT((controleur_1!$G$5:$G$1000=$A29)*(MONTH(controleur_1!$C$5:$C$1000)=MONTH(D$27)*(controleur_1!$H$5:$H$1000=$B$26)))+SUMPRODUCT((controleur_2!$G$5:$G$1000=$A29)*(MONTH(controleur_2!$C$5:$C$1000)=MONTH(D$27)*(controleur_2!$H$5:$H$1000=$B$26)))+SUMPRODUCT((controleur_3!$G$5:$G$1000=$A29)*(MONTH(controleur_3!$C$5:$C$1000)=MONTH(D$27)*(controleur_3!$H$5:$H$1000=$B$26))) -> 0 | E29: =SUMPRODUCT((controleur_1!$G$5:$G$1000=$A29)*(MONTH(controleur_1!$C$5:$C$1000)=MONTH(E$27)*(controleur_1!$H$5:$H$1000=$B$26)))+SUMPRODUCT((controleur_2!$G$5:$G$1000=$A29)*(MONTH(controleur_2!$C$5:$C$1000)=MONTH(E$27)*(controleur_2!$H$5:$H$1000=$B$26)))+SUMPRODUCT((controleur_3!$G$5:$G$1000=$A29)*(MONTH(controleur_3!$C$5:$C$1000)=MONTH(E$27)*(controleur_3!$H$5:$H$1000=$B$26))) -> 0 | F29: =SUMPRODUCT((controleur_1!$G$5:$G$1000=$A29)*(MONTH(controleur_1!$C$5:$C$1000)=MONTH(F$27)*(controleur_1!$H$5:$H$1000=$B$26)))+SUMPRODUCT((controleur_2!$G$5:$G$1000=$A29)*(MONTH(controleur_2!$C$5:$C$1000)=MONTH(F$27)*(controleur_2!$H$5:$H$1000=$B$26)))+SUMPRODUCT((controleur_3!$G$5:$G$1000=$A29)*(MONTH(controleur_3!$C$5:$C$1000)=MONTH(F$27)*(controleur_3!$H$5:$H$1000=$B$26))) -> 0 | G29: =SUMPRODUCT((controleur_1!$G$5:$G$1000=$A29)*(MONTH(controleur_1!$C$5:$C$1000)=MONTH(G$27)*(controleur_1!$H$5:$H$1000=$B$26)))+SUMPRODUCT((controleur_2!$G$5:$G$1000=$A29)*(MONTH(controleur_2!$C$5:$C$1000)=MONTH(G$27)*(controleur_2!$H$5:$H$1000=$B$26)))+SUMPRODUCT((controleur_3!$G$5:$G$1000=$A29)*(MONTH(controleur_3!$C$5:$C$1000)=MONTH(G$27)*(controleur_3!$H$5:$H$1000=$B$26))) -> 0 | H29: =SUMPRODUCT((controleur_1!$G$5:$G$1000=$A29)*(MONTH(controleur_1!$C$5:$C$1000)=MONTH(H$27)*(controleur_1!$H$5:$H$1000=$B$26)))+SUMPRODUCT((controleur_2!$G$5:$G$1000=$A29)*(MONTH(controleur_2!$C$5:$C$1000)=MONTH(H$27)*(controleur_2!$H$5:$H$1000=$B$26)))+SUMPRODUCT((controleur_3!$G$5:$G$1000=$A29)*(MONTH(controleur_3!$C$5:$C$1000)=MONTH(H$27)*(controleur_3!$H$5:$H$1000=$B$26))) -> 0 | I29: =SUMPRODUCT((controleur_1!$G$5:$G$1000=$A29)*(MONTH(controleur_1!$C$5:$C$1000)=MONTH(I$27)*(controleur_1!$H$5:$H$1000=$B$26)))+SUMPRODUCT((controleur_2!$G$5:$G$1000=$A29)*(MONTH(controleur_2!$C$5:$C$1000)=MONTH(I$27)*(controleur_2!$H$5:$H$1000=$B$26)))+SUMPRODUCT((controleur_3!$G$5:$G$1000=$A29)*(MONTH(controleur_3!$C$5:$C$1000)=MONTH(I$27)*(controleur_3!$H$5:$H$1000=$B$26))) -> 0 | ... M29: =SUMPRODUCT((controleur_1!$G$5:$G$1000=$A29)*(MONTH(controleur_1!$C$5:$C$1000)=MONTH(M$27)*(controleur_1!$H$5:$H$1000=$B$26)))+SUMPRODUCT((controleur_2!$G$5:$G$1000=$A29)*(MONTH(controleur_2!$C$5:$C$1000)=MONTH(M$27)*(controleur_2!$H$5:$H$1000=$B$26)))+SUMPRODUCT((controleur_3!$G$5:$G$1000=$A29)*(MONTH(controleur_3!$C$5:$C$1000)=MONTH(M$27)*(controleur_3!$H$5:$H$1000=$B$26))) -> 0 | N29: =SUM(B29:M29) -> 15
A30: C3 | B30: =SUMPRODUCT((controleur_1!$G$5:$G$1000=$A30)*(MONTH(controleur_1!$C$5:$C$1000)=MONTH(B$27)*(controleur_1!$H$5:$H$1000=$B$26)))+SUMPRODUCT((controleur_2!$G$5:$G$1000=$A30)*(MONTH(controleur_2!$C$5:$C$1000)=MONTH(B$27)*(controleur_2!$H$5:$H$1000=$B$26)))+SUMPRODUCT((controleur_3!$G$5:$G$1000=$A30)*(MONTH(controleur_3!$C$5:$C$1000)=MONTH(B$27)*(controleur_3!$H$5:$H$1000=$B$26))) -> 0 | C30: =SUMPRODUCT((controleur_1!$G$5:$G$1000=$A30)*(MONTH(controleur_1!$C$5:$C$1000)=MONTH(C$27)*(controleur_1!$H$5:$H$1000=$B$26)))+SUMPRODUCT((controleur_2!$G$5:$G$1000=$A30)*(MONTH(controleur_2!$C$5:$C$1000)=MONTH(C$27)*(controleur_2!$H$5:$H$1000=$B$26)))+SUMPRODUCT((controleur_3!$G$5:$G$1000=$A30)*(MONTH(controleur_3!$C$5:$C$1000)=MONTH(C$27)*(controleur_3!$H$5:$H$1000=$B$26))) -> 0 | D30: =SUMPRODUCT((controleur_1!$G$5:$G$1000=$A30)*(MONTH(controleur_1!$C$5:$C$1000)=MONTH(D$27)*(controleur_1!$H$5:$H$1000=$B$26)))+SUMPRODUCT((controleur_2!$G$5:$G$1000=$A30)*(MONTH(controleur_2!$C$5:$C$1000)=MONTH(D$27)*(controleur_2!$H$5:$H$1000=$B$26)))+SUMPRODUCT((controleur_3!$G$5:$G$1000=$A30)*(MONTH(controleur_3!$C$5:$C$1000)=MONTH(D$27)*(controleur_3!$H$5:$H$1000=$B$26))) -> 0 | E30: =SUMPRODUCT((controleur_1!$G$5:$G$1000=$A30)*(MONTH(controleur_1!$C$5:$C$1000)=MONTH(E$27)*(controleur_1!$H$5:$H$1000=$B$26)))+SUMPRODUCT((controleur_2!$G$5:$G$1000=$A30)*(MONTH(controleur_2!$C$5:$C$1000)=MONTH(E$27)*(controleur_2!$H$5:$H$1000=$B$26)))+SUMPRODUCT((controleur_3!$G$5:$G$1000=$A30)*(MONTH(controleur_3!$C$5:$C$1000)=MONTH(E$27)*(controleur_3!$H$5:$H$1000=$B$26))) -> 0 | F30: =SUMPRODUCT((controleur_1!$G$5:$G$1000=$A30)*(MONTH(controleur_1!$C$5:$C$1000)=MONTH(F$27)*(controleur_1!$H$5:$H$1000=$B$26)))+SUMPRODUCT((controleur_2!$G$5:$G$1000=$A30)*(MONTH(controleur_2!$C$5:$C$1000)=MONTH(F$27)*(controleur_2!$H$5:$H$1000=$B$26)))+SUMPRODUCT((controleur_3!$G$5:$G$1000=$A30)*(MONTH(controleur_3!$C$5:$C$1000)=MONTH(F$27)*(controleur_3!$H$5:$H$1000=$B$26))) -> 0 | G30: =SUMPRODUCT((controleur_1!$G$5:$G$1000=$A30)*(MONTH(controleur_1!$C$5:$C$1000)=MONTH(G$27)*(controleur_1!$H$5:$H$1000=$B$26)))+SUMPRODUCT((controleur_2!$G$5:$G$1000=$A30)*(MONTH(controleur_2!$C$5:$C$1000)=MONTH(G$27)*(controleur_2!$H$5:$H$1000=$B$26)))+SUMPRODUCT((controleur_3!$G$5:$G$1000=$A30)*(MONTH(controleur_3!$C$5:$C$1000)=MONTH(G$27)*(controleur_3!$H$5:$H$1000=$B$26))) -> 0 | H30: =SUMPRODUCT((controleur_1!$G$5:$G$1000=$A30)*(MONTH(controleur_1!$C$5:$C$1000)=MONTH(H$27)*(controleur_1!$H$5:$H$1000=$B$26)))+SUMPRODUCT((controleur_2!$G$5:$G$1000=$A30)*(MONTH(controleur_2!$C$5:$C$1000)=MONTH(H$27)*(controleur_2!$H$5:$H$1000=$B$26)))+SUMPRODUCT((controleur_3!$G$5:$G$1000=$A30)*(MONTH(controleur_3!$C$5:$C$1000)=MONTH(H$27)*(controleur_3!$H$5:$H$1000=$B$26))) -> 0 | I30: =SUMPRODUCT((controleur_1!$G$5:$G$1000=$A30)*(MONTH(controleur_1!$C$5:$C$1000)=MONTH(I$27)*(controleur_1!$H$5:$H$1000=$B$26)))+SUMPRODUCT((controleur_2!$G$5:$G$1000=$A30)*(MONTH(controleur_2!$C$5:$C$1000)=MONTH(I$27)*(controleur_2!$H$5:$H$1000=$B$26)))+SUMPRODUCT((controleur_3!$G$5:$G$1000=$A30)*(MONTH(controleur_3!$C$5:$C$1000)=MONTH(I$27)*(controleur_3!$H$5:$H$1000=$B$26))) -> 0 | ... M30: =SUMPRODUCT((controleur_1!$G$5:$G$1000=$A30)*(MONTH(controleur_1!$C$5:$C$1000)=MONTH(M$27)*(controleur_1!$H$5:$H$1000=$B$26)))+SUMPRODUCT((controleur_2!$G$5:$G$1000=$A30)*(MONTH(controleur_2!$C$5:$C$1000)=MONTH(M$27)*(controleur_2!$H$5:$H$1000=$B$26)))+SUMPRODUCT((controleur_3!$G$5:$G$1000=$A30)*(MONTH(controleur_3!$C$5:$C$1000)=MONTH(M$27)*(controleur_3!$H$5:$H$1000=$B$26))) -> 0 | N30: =SUM(B30:M30) -> 30
A31: C4 | B31: =SUMPRODUCT((controleur_1!$G$5:$G$1000=$A31)*(MONTH(controleur_1!$C$5:$C$1000)=MONTH(B$27)*(controleur_1!$H$5:$H$1000=$B$26)))+SUMPRODUCT((controleur_2!$G$5:$G$1000=$A31)*(MONTH(controleur_2!$C$5:$C$1000)=MONTH(B$27)*(controleur_2!$H$5:$H$1000=$B$26)))+SUMPRODUCT((controleur_3!$G$5:$G$1000=$A31)*(MONTH(controleur_3!$C$5:$C$1000)=MONTH(B$27)*(controleur_3!$H$5:$H$1000=$B$26))) -> 0 | C31: =SUMPRODUCT((controleur_1!$G$5:$G$1000=$A31)*(MONTH(controleur_1!$C$5:$C$1000)=MONTH(C$27)*(controleur_1!$H$5:$H$1000=$B$26)))+SUMPRODUCT((controleur_2!$G$5:$G$1000=$A31)*(MONTH(controleur_2!$C$5:$C$1000)=MONTH(C$27)*(controleur_2!$H$5:$H$1000=$B$26)))+SUMPRODUCT((controleur_3!$G$5:$G$1000=$A31)*(MONTH(controleur_3!$C$5:$C$1000)=MONTH(C$27)*(controleur_3!$H$5:$H$1000=$B$26))) -> 0 | D31: =SUMPRODUCT((controleur_1!$G$5:$G$1000=$A31)*(MONTH(controleur_1!$C$5:$C$1000)=MONTH(D$27)*(controleur_1!$H$5:$H$1000=$B$26)))+SUMPRODUCT((controleur_2!$G$5:$G$1000=$A31)*(MONTH(controleur_2!$C$5:$C$1000)=MONTH(D$27)*(controleur_2!$H$5:$H$1000=$B$26)))+SUMPRODUCT((controleur_3!$G$5:$G$1000=$A31)*(MONTH(controleur_3!$C$5:$C$1000)=MONTH(D$27)*(controleur_3!$H$5:$H$1000=$B$26))) -> 0 | E31: =SUMPRODUCT((controleur_1!$G$5:$G$1000=$A31)*(MONTH(controleur_1!$C$5:$C$1000)=MONTH(E$27)*(controleur_1!$H$5:$H$1000=$B$26)))+SUMPRODUCT((controleur_2!$G$5:$G$1000=$A31)*(MONTH(controleur_2!$C$5:$C$1000)=MONTH(E$27)*(controleur_2!$H$5:$H$1000=$B$26)))+SUMPRODUCT((controleur_3!$G$5:$G$1000=$A31)*(MONTH(controleur_3!$C$5:$C$1000)=MONTH(E$27)*(controleur_3!$H$5:$H$1000=$B$26))) -> 0 | F31: =SUMPRODUCT((controleur_1!$G$5:$G$1000=$A31)*(MONTH(controleur_1!$C$5:$C$1000)=MONTH(F$27)*(controleur_1!$H$5:$H$1000=$B$26)))+SUMPRODUCT((controleur_2!$G$5:$G$1000=$A31)*(MONTH(controleur_2!$C$5:$C$1000)=MONTH(F$27)*(controleur_2!$H$5:$H$1000=$B$26)))+SUMPRODUCT((controleur_3!$G$5:$G$1000=$A31)*(MONTH(controleur_3!$C$5:$C$1000)=MONTH(F$27)*(controleur_3!$H$5:$H$1000=$B$26))) -> 0 | G31: =SUMPRODUCT((controleur_1!$G$5:$G$1000=$A31)*(MONTH(controleur_1!$C$5:$C$1000)=MONTH(G$27)*(controleur_1!$H$5:$H$1000=$B$26)))+SUMPRODUCT((controleur_2!$G$5:$G$1000=$A31)*(MONTH(controleur_2!$C$5:$C$1000)=MONTH(G$27)*(controleur_2!$H$5:$H$1000=$B$26)))+SUMPRODUCT((controleur_3!$G$5:$G$1000=$A31)*(MONTH(controleur_3!$C$5:$C$1000)=MONTH(G$27)*(controleur_3!$H$5:$H$1000=$B$26))) -> 0 | H31: =SUMPRODUCT((controleur_1!$G$5:$G$1000=$A31)*(MONTH(controleur_1!$C$5:$C$1000)=MONTH(H$27)*(controleur_1!$H$5:$H$1000=$B$26)))+SUMPRODUCT((controleur_2!$G$5:$G$1000=$A31)*(MONTH(controleur_2!$C$5:$C$1000)=MONTH(H$27)*(controleur_2!$H$5:$H$1000=$B$26)))+SUMPRODUCT((controleur_3!$G$5:$G$1000=$A31)*(MONTH(controleur_3!$C$5:$C$1000)=MONTH(H$27)*(controleur_3!$H$5:$H$1000=$B$26))) -> 0 | I31: =SUMPRODUCT((controleur_1!$G$5:$G$1000=$A31)*(MONTH(controleur_1!$C$5:$C$1000)=MONTH(I$27)*(controleur_1!$H$5:$H$1000=$B$26)))+SUMPRODUCT((controleur_2!$G$5:$G$1000=$A31)*(MONTH(controleur_2!$C$5:$C$1000)=MONTH(I$27)*(controleur_2!$H$5:$H$1000=$B$26)))+SUMPRODUCT((controleur_3!$G$5:$G$1000=$A31)*(MONTH(controleur_3!$C$5:$C$1000)=MONTH(I$27)*(controleur_3!$H$5:$H$1000=$B$26))) -> 0 | ... M31: =SUMPRODUCT((controleur_1!$G$5:$G$1000=$A31)*(MONTH(controleur_1!$C$5:$C$1000)=MONTH(M$27)*(controleur_1!$H$5:$H$1000=$B$26)))+SUMPRODUCT((controleur_2!$G$5:$G$1000=$A31)*(MONTH(controleur_2!$C$5:$C$1000)=MONTH(M$27)*(controleur_2!$H$5:$H$1000=$B$26)))+SUMPRODUCT((controleur_3!$G$5:$G$1000=$A31)*(MONTH(controleur_3!$C$5:$C$1000)=MONTH(M$27)*(controleur_3!$H$5:$H$1000=$B$26))) -> 0 | N31: =SUM(B31:M31) -> 33
A32: Total | B32: =SUM(B28:B31) -> 0 | C32: =SUM(C28:C31) -> 0 | D32: =SUM(D28:D31) -> 0 | E32: =SUM(E28:E31) -> 0 | F32: =SUM(F28:F31) -> 0 | G32: =SUM(G28:G31) -> 0 | H32: =SUM(H28:H31) -> 0 | I32: =SUM(I28:I31) -> 0 | ... M32: =SUM(M28:M31) -> 0 | N32: =SUM(B32:M32) -> 111
A33: % | B33: =B32/B7 -> 0 | C33: =C32/C7 -> #DIV/0! | D33: =D32/D7 -> #DIV/0! | E33: =E32/E7 -> #DIV/0! | F33: =F32/F7 -> #DIV/0! | G33: =G32/G7 -> #DIV/0! | H33: =H32/H7 -> #DIV/0! | I33: =I32/I7 -> #DIV/0! | ... N33: =N32/N7 -> 0.71153846
A34: NB DE DOSSIERS | B34: =B32/COUNTA($A$3:$A$6) -> 0 | C34: =C32/COUNTA($A$3:$A$6) -> 0 | D34: =D32/COUNTA($A$3:$A$6) -> 0 | E34: =E32/COUNTA($A$3:$A$6) -> 0 | F34: =F32/COUNTA($A$3:$A$6) -> 0 | G34: =G32/COUNTA($A$3:$A$6) -> 0 | H34: =H32/COUNTA($A$3:$A$6) -> 0 | I34: =I32/COUNTA($A$3:$A$6) -> 0 | ... M34: =M32/COUNTA($A$3:$A$6) -> 0 | N34: =SUM(B34:M34) -> 27.75
A36: CONTROLES | B36: N/A
B37: 41640 | C37: =DATE(YEAR(B37),MONTH(B37)+1,DAY(B37)) -> 41671 | D37: =DATE(YEAR(C37),MONTH(C37)+1,DAY(C37)) -> 41699 | E37: =DATE(YEAR(D37),MONTH(D37)+1,DAY(D37)) -> 41730 | F37: =DATE(YEAR(E37),MONTH(E37)+1,DAY(E37)) -> 41760 | G37: =DATE(YEAR(F37),MONTH(F37)+1,DAY(F37)) -> 41791 | H37: =DATE(YEAR(G37),MONTH(G37)+1,DAY(G37)) -> 41821 | I37: =DATE(YEAR(H37),MONTH(H37)+1,DAY(H37)) -> 41852 | J37: =DATE(YEAR(I37),MONTH(I37)+1,DAY(I37)) -> 41883 | ... M37: =DATE(YEAR(L37),MONTH(L37)+1,DAY(L37)) -> 41974 | N37: Cumul
A38: C1 | B38: =SUMPRODUCT((controleur_1!$G$5:$G$1000=$A38)*(MONTH(controleur_1!$C$5:$C$1000)=MONTH(B$17)*(controleur_1!$H$5:$H$1000=$B$36)))+SUMPRODUCT((controleur_2!$G$5:$G$1000=$A38)*(MONTH(controleur_2!$C$5:$C$1000)=MONTH(B$17)*(controleur_2!$H$5:$H$1000=$B$36)))+SUMPRODUCT((controleur_3!$G$5:$G$1000=$A38)*(MONTH(controleur_3!$C$5:$C$1000)=MONTH(B$17)*(controleur_3!$H$5:$H$1000=$B$36))) -> 3 | C38: =SUMPRODUCT((controleur_1!$G$5:$G$1000=$A38)*(MONTH(controleur_1!$C$5:$C$1000)=MONTH(C$17)*(controleur_1!$H$5:$H$1000=$B$36)))+SUMPRODUCT((controleur_2!$G$5:$G$1000=$A38)*(MONTH(controleur_2!$C$5:$C$1000)=MONTH(C$17)*(controleur_2!$H$5:$H$1000=$B$36)))+SUMPRODUCT((controleur_3!$G$5:$G$1000=$A38)*(MONTH(controleur_3!$C$5:$C$1000)=MONTH(C$17)*(controleur_3!$H$5:$H$1000=$B$36))) -> 0 | D38: =SUMPRODUCT((controleur_1!$G$5:$G$1000=$A38)*(MONTH(controleur_1!$C$5:$C$1000)=MONTH(D$17)*(controleur_1!$H$5:$H$1000=$B$36)))+SUMPRODUCT((controleur_2!$G$5:$G$1000=$A38)*(MONTH(controleur_2!$C$5:$C$1000)=MONTH(D$17)*(controleur_2!$H$5:$H$1000=$B$36)))+SUMPRODUCT((controleur_3!$G$5:$G$1000=$A38)*(MONTH(controleur_3!$C$5:$C$1000)=MONTH(D$17)*(controleur_3!$H$5:$H$1000=$B$36))) -> 0 | E38: =SUMPRODUCT((controleur_1!$G$5:$G$1000=$A38)*(MONTH(controleur_1!$C$5:$C$1000)=MONTH(E$17)*(controleur_1!$H$5:$H$1000=$B$36)))+SUMPRODUCT((controleur_2!$G$5:$G$1000=$A38)*(MONTH(controleur_2!$C$5:$C$1000)=MONTH(E$17)*(controleur_2!$H$5:$H$1000=$B$36)))+SUMPRODUCT((controleur_3!$G$5:$G$1000=$A38)*(MONTH(controleur_3!$C$5:$C$1000)=MONTH(E$17)*(controleur_3!$H$5:$H$1000=$B$36))) -> 0 | F38: =SUMPRODUCT((controleur_1!$G$5:$G$1000=$A38)*(MONTH(controleur_1!$C$5:$C$1000)=MONTH(F$17)*(controleur_1!$H$5:$H$1000=$B$36)))+SUMPRODUCT((controleur_2!$G$5:$G$1000=$A38)*(MONTH(controleur_2!$C$5:$C$1000)=MONTH(F$17)*(controleur_2!$H$5:$H$1000=$B$36)))+SUMPRODUCT((controleur_3!$G$5:$G$1000=$A38)*(MONTH(controleur_3!$C$5:$C$1000)=MONTH(F$17)*(controleur_3!$H$5:$H$1000=$B$36))) -> 0 | G38: =SUMPRODUCT((controleur_1!$G$5:$G$1000=$A38)*(MONTH(controleur_1!$C$5:$C$1000)=MONTH(G$17)*(controleur_1!$H$5:$H$1000=$B$36)))+SUMPRODUCT((controleur_2!$G$5:$G$1000=$A38)*(MONTH(controleur_2!$C$5:$C$1000)=MONTH(G$17)*(controleur_2!$H$5:$H$1000=$B$36)))+SUMPRODUCT((controleur_3!$G$5:$G$1000=$A38)*(MONTH(controleur_3!$C$5:$C$1000)=MONTH(G$17)*(controleur_3!$H$5:$H$1000=$B$36))) -> 0 | H38: =SUMPRODUCT((controleur_1!$G$5:$G$1000=$A38)*(MONTH(controleur_1!$C$5:$C$1000)=MONTH(H$17)*(controleur_1!$H$5:$H$1000=$B$36)))+SUMPRODUCT((controleur_2!$G$5:$G$1000=$A38)*(MONTH(controleur_2!$C$5:$C$1000)=MONTH(H$17)*(controleur_2!$H$5:$H$1000=$B$36)))+SUMPRODUCT((controleur_3!$G$5:$G$1000=$A38)*(MONTH(controleur_3!$C$5:$C$1000)=MONTH(H$17)*(controleur_3!$H$5:$H$1000=$B$36))) -> 0 | I38: =SUMPRODUCT((controleur_1!$G$5:$G$1000=$A38)*(MONTH(controleur_1!$C$5:$C$1000)=MONTH(I$17)*(controleur_1!$H$5:$H$1000=$B$36)))+SUMPRODUCT((controleur_2!$G$5:$G$1000=$A38)*(MONTH(controleur_2!$C$5:$C$1000)=MONTH(I$17)*(controleur_2!$H$5:$H$1000=$B$36)))+SUMPRODUCT((controleur_3!$G$5:$G$1000=$A38)*(MONTH(controleur_3!$C$5:$C$1000)=MONTH(I$17)*(controleur_3!$H$5:$H$1000=$B$36))) -> 0 | ... M38: =SUMPRODUCT((controleur_1!$G$5:$G$1000=$A38)*(MONTH(controleur_1!$C$5:$C$1000)=MONTH(M$17)*(controleur_1!$H$5:$H$1000=$B$36)))+SUMPRODUCT((controleur_2!$G$5:$G$1000=$A38)*(MONTH(controleur_2!$C$5:$C$1000)=MONTH(M$17)*(controleur_2!$H$5:$H$1000=$B$36)))+SUMPRODUCT((controleur_3!$G$5:$G$1000=$A38)*(MONTH(controleur_3!$C$5:$C$1000)=MONTH(M$17)*(controleur_3!$H$5:$H$1000=$B$36))) -> 0 | N38: =SUM(B38:M38) -> 3
A39: C2 | B39: =SUMPRODUCT((controleur_1!$G$5:$G$1000=$A39)*(MONTH(controleur_1!$C$5:$C$1000)=MONTH(B$17)*(controleur_1!$H$5:$H$1000=$B$36)))+SUMPRODUCT((controleur_2!$G$5:$G$1000=$A39)*(MONTH(controleur_2!$C$5:$C$1000)=MONTH(B$17)*(controleur_2!$H$5:$H$1000=$B$36)))+SUMPRODUCT((controleur_3!$G$5:$G$1000=$A39)*(MONTH(controleur_3!$C$5:$C$1000)=MONTH(B$17)*(controleur_3!$H$5:$H$1000=$B$36))) -> 3 | C39: =SUMPRODUCT((controleur_1!$G$5:$G$1000=$A39)*(MONTH(controleur_1!$C$5:$C$1000)=MONTH(C$17)*(controleur_1!$H$5:$H$1000=$B$36)))+SUMPRODUCT((controleur_2!$G$5:$G$1000=$A39)*(MONTH(controleur_2!$C$5:$C$1000)=MONTH(C$17)*(controleur_2!$H$5:$H$1000=$B$36)))+SUMPRODUCT((controleur_3!$G$5:$G$1000=$A39)*(MONTH(controleur_3!$C$5:$C$1000)=MONTH(C$17)*(controleur_3!$H$5:$H$1000=$B$36))) -> 0 | D39: =SUMPRODUCT((controleur_1!$G$5:$G$1000=$A39)*(MONTH(controleur_1!$C$5:$C$1000)=MONTH(D$17)*(controleur_1!$H$5:$H$1000=$B$36)))+SUMPRODUCT((controleur_2!$G$5:$G$1000=$A39)*(MONTH(controleur_2!$C$5:$C$1000)=MONTH(D$17)*(controleur_2!$H$5:$H$1000=$B$36)))+SUMPRODUCT((controleur_3!$G$5:$G$1000=$A39)*(MONTH(controleur_3!$C$5:$C$1000)=MONTH(D$17)*(controleur_3!$H$5:$H$1000=$B$36))) -> 0 | E39: =SUMPRODUCT((controleur_1!$G$5:$G$1000=$A39)*(MONTH(controleur_1!$C$5:$C$1000)=MONTH(E$17)*(controleur_1!$H$5:$H$1000=$B$36)))+SUMPRODUCT((controleur_2!$G$5:$G$1000=$A39)*(MONTH(controleur_2!$C$5:$C$1000)=MONTH(E$17)*(controleur_2!$H$5:$H$1000=$B$36)))+SUMPRODUCT((controleur_3!$G$5:$G$1000=$A39)*(MONTH(controleur_3!$C$5:$C$1000)=MONTH(E$17)*(controleur_3!$H$5:$H$1000=$B$36))) -> 0 | F39: =SUMPRODUCT((controleur_1!$G$5:$G$1000=$A39)*(MONTH(controleur_1!$C$5:$C$1000)=MONTH(F$17)*(controleur_1!$H$5:$H$1000=$B$36)))+SUMPRODUCT((controleur_2!$G$5:$G$1000=$A39)*(MONTH(controleur_2!$C$5:$C$1000)=MONTH(F$17)*(controleur_2!$H$5:$H$1000=$B$36)))+SUMPRODUCT((controleur_3!$G$5:$G$1000=$A39)*(MONTH(controleur_3!$C$5:$C$1000)=MONTH(F$17)*(controleur_3!$H$5:$H$1000=$B$36))) -> 0 | G39: =SUMPRODUCT((controleur_1!$G$5:$G$1000=$A39)*(MONTH(controleur_1!$C$5:$C$1000)=MONTH(G$17)*(controleur_1!$H$5:$H$1000=$B$36)))+SUMPRODUCT((controleur_2!$G$5:$G$1000=$A39)*(MONTH(controleur_2!$C$5:$C$1000)=MONTH(G$17)*(controleur_2!$H$5:$H$1000=$B$36)))+SUMPRODUCT((controleur_3!$G$5:$G$1000=$A39)*(MONTH(controleur_3!$C$5:$C$1000)=MONTH(G$17)*(controleur_3!$H$5:$H$1000=$B$36))) -> 0 | H39: =SUMPRODUCT((controleur_1!$G$5:$G$1000=$A39)*(MONTH(controleur_1!$C$5:$C$1000)=MONTH(H$17)*(controleur_1!$H$5:$H$1000=$B$36)))+SUMPRODUCT((controleur_2!$G$5:$G$1000=$A39)*(MONTH(controleur_2!$C$5:$C$1000)=MONTH(H$17)*(controleur_2!$H$5:$H$1000=$B$36)))+SUMPRODUCT((controleur_3!$G$5:$G$1000=$A39)*(MONTH(controleur_3!$C$5:$C$1000)=MONTH(H$17)*(controleur_3!$H$5:$H$1000=$B$36))) -> 0 | I39: =SUMPRODUCT((controleur_1!$G$5:$G$1000=$A39)*(MONTH(controleur_1!$C$5:$C$1000)=MONTH(I$17)*(controleur_1!$H$5:$H$1000=$B$36)))+SUMPRODUCT((controleur_2!$G$5:$G$1000=$A39)*(MONTH(controleur_2!$C$5:$C$1000)=MONTH(I$17)*(controleur_2!$H$5:$H$1000=$B$36)))+SUMPRODUCT((controleur_3!$G$5:$G$1000=$A39)*(MONTH(controleur_3!$C$5:$C$1000)=MONTH(I$17)*(controleur_3!$H$5:$H$1000=$B$36))) -> 0 | ... M39: =SUMPRODUCT((controleur_1!$G$5:$G$1000=$A39)*(MONTH(controleur_1!$C$5:$C$1000)=MONTH(M$17)*(controleur_1!$H$5:$H$1000=$B$36)))+SUMPRODUCT((controleur_2!$G$5:$G$1000=$A39)*(MONTH(controleur_2!$C$5:$C$1000)=MONTH(M$17)*(controleur_2!$H$5:$H$1000=$B$36)))+SUMPRODUCT((controleur_3!$G$5:$G$1000=$A39)*(MONTH(controleur_3!$C$5:$C$1000)=MONTH(M$17)*(controleur_3!$H$5:$H$1000=$B$36))) -> 0 | N39: =SUM(B39:M39) -> 21
A40: C3 | B40: =SUMPRODUCT((controleur_1!$G$5:$G$1000=$A40)*(MONTH(controleur_1!$C$5:$C$1000)=MONTH(B$17)*(controleur_1!$H$5:$H$1000=$B$36)))+SUMPRODUCT((controleur_2!$G$5:$G$1000=$A40)*(MONTH(controleur_2!$C$5:$C$1000)=MONTH(B$17)*(controleur_2!$H$5:$H$1000=$B$36)))+SUMPRODUCT((controleur_3!$G$5:$G$1000=$A40)*(MONTH(controleur_3!$C$5:$C$1000)=MONTH(B$17)*(controleur_3!$H$5:$H$1000=$B$36))) -> 3 | C40: =SUMPRODUCT((controleur_1!$G$5:$G$1000=$A40)*(MONTH(controleur_1!$C$5:$C$1000)=MONTH(C$17)*(controleur_1!$H$5:$H$1000=$B$36)))+SUMPRODUCT((controleur_2!$G$5:$G$1000=$A40)*(MONTH(controleur_2!$C$5:$C$1000)=MONTH(C$17)*(controleur_2!$H$5:$H$1000=$B$36)))+SUMPRODUCT((controleur_3!$G$5:$G$1000=$A40)*(MONTH(controleur_3!$C$5:$C$1000)=MONTH(C$17)*(controleur_3!$H$5:$H$1000=$B$36))) -> 0 | D40: =SUMPRODUCT((controleur_1!$G$5:$G$1000=$A40)*(MONTH(controleur_1!$C$5:$C$1000)=MONTH(D$17)*(controleur_1!$H$5:$H$1000=$B$36)))+SUMPRODUCT((controleur_2!$G$5:$G$1000=$A40)*(MONTH(controleur_2!$C$5:$C$1000)=MONTH(D$17)*(controleur_2!$H$5:$H$1000=$B$36)))+SUMPRODUCT((controleur_3!$G$5:$G$1000=$A40)*(MONTH(controleur_3!$C$5:$C$1000)=MONTH(D$17)*(controleur_3!$H$5:$H$1000=$B$36))) -> 0 | E40: =SUMPRODUCT((controleur_1!$G$5:$G$1000=$A40)*(MONTH(controleur_1!$C$5:$C$1000)=MONTH(E$17)*(controleur_1!$H$5:$H$1000=$B$36)))+SUMPRODUCT((controleur_2!$G$5:$G$1000=$A40)*(MONTH(controleur_2!$C$5:$C$1000)=MONTH(E$17)*(controleur_2!$H$5:$H$1000=$B$36)))+SUMPRODUCT((controleur_3!$G$5:$G$1000=$A40)*(MONTH(controleur_3!$C$5:$C$1000)=MONTH(E$17)*(controleur_3!$H$5:$H$1000=$B$36))) -> 0 | F40: =SUMPRODUCT((controleur_1!$G$5:$G$1000=$A40)*(MONTH(controleur_1!$C$5:$C$1000)=MONTH(F$17)*(controleur_1!$H$5:$H$1000=$B$36)))+SUMPRODUCT((controleur_2!$G$5:$G$1000=$A40)*(MONTH(controleur_2!$C$5:$C$1000)=MONTH(F$17)*(controleur_2!$H$5:$H$1000=$B$36)))+SUMPRODUCT((controleur_3!$G$5:$G$1000=$A40)*(MONTH(controleur_3!$C$5:$C$1000)=MONTH(F$17)*(controleur_3!$H$5:$H$1000=$B$36))) -> 0 | G40: =SUMPRODUCT((controleur_1!$G$5:$G$1000=$A40)*(MONTH(controleur_1!$C$5:$C$1000)=MONTH(G$17)*(controleur_1!$H$5:$H$1000=$B$36)))+SUMPRODUCT((controleur_2!$G$5:$G$1000=$A40)*(MONTH(controleur_2!$C$5:$C$1000)=MONTH(G$17)*(controleur_2!$H$5:$H$1000=$B$36)))+SUMPRODUCT((controleur_3!$G$5:$G$1000=$A40)*(MONTH(controleur_3!$C$5:$C$1000)=MONTH(G$17)*(controleur_3!$H$5:$H$1000=$B$36))) -> 0 | H40: =SUMPRODUCT((controleur_1!$G$5:$G$1000=$A40)*(MONTH(controleur_1!$C$5:$C$1000)=MONTH(H$17)*(controleur_1!$H$5:$H$1000=$B$36)))+SUMPRODUCT((controleur_2!$G$5:$G$1000=$A40)*(MONTH(controleur_2!$C$5:$C$1000)=MONTH(H$17)*(controleur_2!$H$5:$H$1000=$B$36)))+SUMPRODUCT((controleur_3!$G$5:$G$1000=$A40)*(MONTH(controleur_3!$C$5:$C$1000)=MONTH(H$17)*(controleur_3!$H$5:$H$1000=$B$36))) -> 0 | I40: =SUMPRODUCT((controleur_1!$G$5:$G$1000=$A40)*(MONTH(controleur_1!$C$5:$C$1000)=MONTH(I$17)*(controleur_1!$H$5:$H$1000=$B$36)))+SUMPRODUCT((controleur_2!$G$5:$G$1000=$A40)*(MONTH(controleur_2!$C$5:$C$1000)=MONTH(I$17)*(controleur_2!$H$5:$H$1000=$B$36)))+SUMPRODUCT((controleur_3!$G$5:$G$1000=$A40)*(MONTH(controleur_3!$C$5:$C$1000)=MONTH(I$17)*(controleur_3!$H$5:$H$1000=$B$36))) -> 0 | ... M40: =SUMPRODUCT((controleur_1!$G$5:$G$1000=$A40)*(MONTH(controleur_1!$C$5:$C$1000)=MONTH(M$17)*(controleur_1!$H$5:$H$1000=$B$36)))+SUMPRODUCT((controleur_2!$G$5:$G$1000=$A40)*(MONTH(controleur_2!$C$5:$C$1000)=MONTH(M$17)*(controleur_2!$H$5:$H$1000=$B$36)))+SUMPRODUCT((controleur_3!$G$5:$G$1000=$A40)*(MONTH(controleur_3!$C$5:$C$1000)=MONTH(M$17)*(controleur_3!$H$5:$H$1000=$B$36))) -> 0 | N40: =SUM(B40:M40) -> 3
