Workbook

Sheet SYNTHESE
A1: Nb total de contrôles effectués :
B2: 41640 | C2: =DATE(YEAR(B2),MONTH(B2)+1,DAY(B2)) -> 41671 | D2: =DATE(YEAR(C2),MONTH(C2)+1,DAY(C2)) -> 41699 | E2: =DATE(YEAR(D2),MONTH(D2)+1,DAY(D2)) -> 41730 | F2: =DATE(YEAR(E2),MONTH(E2)+1,DAY(E2)) -> 41760 | G2: =DATE(YEAR(F2),MONTH(F2)+1,DAY(F2)) -> 41791 | H2: =DATE(YEAR(G2),MONTH(G2)+1,DAY(G2)) -> 41821 | I2: =DATE(YEAR(H2),MONTH(H2)+1,DAY(H2)) -> 41852 | J2: =DATE(YEAR(I2),MONTH(I2)+1,DAY(I2)) -> 41883 | ... M2: =DATE(YEAR(L2),MONTH(L2)+1,DAY(L2)) -> 41974 | N2: Cumul
A3: C1 | B3: =SUMPRODUCT((controleur_1!$G$5:$G$1000=$A3)*(MONTH(controleur_1!$C$5:$C$1000)=MONTH(B$2)))+SUMPRODUCT((controleur_2!$G$5:$G$1000=$A3)*(MONTH(controleur_2!$C$5:$C$1000)=MONTH(B$2)))+SUMPRODUCT((controleur_3!$G$5:$G$1000=$A3)*(MONTH(controleur_3!$C$5:$C$1000)=MONTH(B$2))) -> 3 | C3: =SUMPRODUCT((controleur_1!$G$5:$G$1000=$A3)*(MONTH(controleur_1!$C$5:$C$1000)=MONTH(C$2)))+SUMPRODUCT((controleur_2!$G$5:$G$1000=$A3)*(MONTH(controleur_2!$C$5:$C$1000)=MONTH(C$2)))+SUMPRODUCT((controleur_3!$G$5:$G$1000=$A3)*(MONTH(controleur_3!$C$5:$C$1000)=MONTH(C$2))) -> 0 | D3: =SUMPRODUCT((controleur_1!$G$5:$G$1000=$A3)*(MONTH(controleur_1!$C$5:$C$1000)=MONTH(D$2)))+SUMPRODUCT((controleur_2!$G$5:$G$1000=$A3)*(MONTH(controleur_2!$C$5:$C$1000)=MONTH(D$2)))+SUMPRODUCT((controleur_3!$G$5:$G$1000=$A3)*(MONTH(controleur_3!$C$5:$C$1000)=MONTH(D$2))) -> 0 | E3: =SUMPRODUCT((controleur_1!$G$5:$G$1000=$A3)*(MONTH(controleur_1!$C$5:$C$1000)=MONTH(E$2)))+SUMPRODUCT((controleur_2!$G$5:$G$1000=$A3)*(MONTH(controleur_2!$C$5:$C$1000)=MONTH(E$2)))+SUMPRODUCT((controleur_3!$G$5:$G$1000=$A3)*(MONTH(controleur_3!$C$5:$C$1000)=MONTH(E$2))) -> 0 | F3: =SUMPRODUCT((controleur_1!$G$5:$G$1000=$A3)*(MONTH(controleur_1!$C$5:$C$1000)=MONTH(F$2)))+SUMPRODUCT((controleur_2!$G$5:$G$1000=$A3)*(MONTH(controleur_2!$C$5:$C$1000)=MONTH(F$2)))+SUMPRODUCT((controleur_3!$G$5:$G$1000=$A3)*(MONTH(controleur_3!$C$5:$C$1000)=MONTH(F$2))) -> 0 | G3: =SUMPRODUCT((controleur_1!$G$5:$G$1000=$A3)*(MONTH(controleur_1!$C$5:$C$1000)=MONTH(G$2)))+SUMPRODUCT((controleur_2!$G$5:$G$1000=$A3)*(MONTH(controleur_2!$C$5:$C$1000)=MONTH(G$2)))+SUMPRODUCT((controleur_3!$G$5:$G$1000=$A3)*(MONTH(controleur_3!$C$5:$C$1000)=MONTH(G$2))) -> 0 | H3: =SUMPRODUCT((controleur_1!$G$5:$G$1000=$A3)*(MONTH(controleur_1!$C$5:$C$1000)=MONTH(H$2)))+SUMPRODUCT((controleur_2!$G$5:$G$1000=$A3)*(MONTH(controleur_2!$C$5:$C$1000)=MONTH(H$2)))+SUMPRODUCT((controleur_3!$G$5:$G$1000=$A3)*(MONTH(controleur_3!$C$5:$C$1000)=MONTH(H$2))) -> 0 | I3: =SUMPRODUCT((controleur_1!$G$5:$G$1000=$A3)*(MONTH(controleur_1!$C$5:$C$1000)=MONTH(I$2)))+SUMPRODUCT((controleur_2!$G$5:$G$1000=$A3)*(MONTH(controleur_2!$C$5:$C$1000)=MONTH(I$2)))+SUMPRODUCT((controleur_3!$G$5:$G$1000=$A3)*(MONTH(controleur_3!$C$5:$C$1000)=MONTH(I$2))) -> 0 | ... M3: =SUMPRODUCT((controleur_1!$G$5:$G$1000=$A3)*(MONTH(controleur_1!$C$5:$C$1000)=MONTH(M$2)))+SUMPRODUCT((controleur_2!$G$5:$G$1000=$A3)*(MONTH(controleur_2!$C$5:$C$1000)=MONTH(M$2)))+SUMPRODUCT((controleur_3!$G$5:$G$1000=$A3)*(MONTH(controleur_3!$C$5:$C$1000)=MONTH(M$2))) -> 0 | N3: =SUM(B3:M3) -> 39
A4: C2 | B4: =SUMPRODUCT((controleur_1!$G$5:$G$1000=$A4)*(MONTH(controleur_1!$C$5:$C$1000)=MONTH(B$2)))+SUMPRODUCT((controleur_2!$G$5:$G$1000=$A4)*(MONTH(controleur_2!$C$5:$C$1000)=MONTH(B$2)))+SUMPRODUCT((controleur_3!$G$5:$G$1000=$A4)*(MONTH(controleur_3!$C$5:$C$1000)=MONTH(B$2))) -> 3 | C4: =SUMPRODUCT((controleur_1!$G$5:$G$1000=$A4)*(MONTH(controleur_1!$C$5:$C$1000)=MONTH(C$2)))+SUMPRODUCT((controleur_2!$G$5:$G$1000=$A4)*(MONTH(controleur_2!$C$5:$C$1000)=MONTH(C$2)))+SUMPRODUCT((controleur_3!$G$5:$G$1000=$A4)*(MONTH(controleur_3!$C$5:$C$1000)=MONTH(C$2))) -> 0 | D4: =SUMPRODUCT((controleur_1!$G$5:$G$1000=$A4)*(MONTH(controleur_1!$C$5:$C$1000)=MONTH(D$2)))+SUMPRODUCT((controleur_2!$G$5:$G$1000=$A4)*(MONTH(controleur_2!$C$5:$C$1000)=MONTH(D$2)))+SUMPRODUCT((controleur_3!$G$5:$G$1000=$A4)*(MONTH(controleur_3!$C$5:$C$1000)=MONTH(D$2))) -> 0 | E4: =SUMPRODUCT((controleur_1!$G$5:$G$1000=$A4)*(MONTH(controleur_1!$C$5:$C$1000)=MONTH(E$2)))+SUMPRODUCT((controleur_2!$G$5:$G$1000=$A4)*(MONTH(controleur_2!$C$5:$C$1000)=MONTH(E$2)))+SUMPRODUCT((controleur_3!$G$5:$G$1000=$A4)*(MONTH(controleur_3!$C$5:$C$1000)=MONTH(E$2))) -> 0 | F4: =SUMPRODUCT((controleur_1!$G$5:$G$1000=$A4)*(MONTH(controleur_1!$C$5:$C$1000)=MONTH(F$2)))+SUMPRODUCT((controleur_2!$G$5:$G$1000=$A4)*(MONTH(controleur_2!$C$5:$C$1000)=MONTH(F$2)))+SUMPRODUCT((controleur_3!$G$5:$G$1000=$A4)*(MONTH(controleur_3!$C$5:$C$1000)=MONTH(F$2))) -> 0 | G4: =SUMPRODUCT((controleur_1!$G$5:$G$1000=$A4)*(MONTH(controleur_1!$C$5:$C$1000)=MONTH(G$2)))+SUMPRODUCT((controleur_2!$G$5:$G$1000=$A4)*(MONTH(controleur_2!$C$5:$C$1000)=MONTH(G$2)))+SUMPRODUCT((controleur_3!$G$5:$G$1000=$A4)*(MONTH(controleur_3!$C$5:$C$1000)=MONTH(G$2))) -> 0 | H4: =SUMPRODUCT((controleur_1!$G$5:$G$1000=$A4)*(MONTH(controleur_1!$C$5:$C$1000)=MONTH(H$2)))+SUMPRODUCT((controleur_2!$G$5:$G$1000=$A4)*(MONTH(controleur_2!$C$5:$C$1000)=MONTH(H$2)))+SUMPRODUCT((controleur_3!$G$5:$G$1000=$A4)*(MONTH(controleur_3!$C$5:$C$1000)=MONTH(H$2))) -> 0 | I4: =SUMPRODUCT((controleur_1!$G$5:$G$1000=$A4)*(MONTH(controleur_1!$C$5:$C$1000)=MONTH(I$2)))+SUMPRODUCT((controleur_2!$G$5:$G$1000=$A4)*(MONTH(controleur_2!$C$5:$C$1000)=MONTH(I$2)))+SUMPRODUCT((controleur_3!$G$5:$G$1000=$A4)*(MONTH(controleur_3!$C$5:$C$1000)=MONTH(I$2))) -> 0 | ... M4: =SUMPRODUCT((controleur_1!$G$5:$G$1000=$A4)*(MONTH(controleur_1!$C$5:$C$1000)=MONTH(M$2)))+SUMPRODUCT((controleur_2!$G$5:$G$1000=$A4)*(MONTH(controleur_2!$C$5:$C$1000)=MONTH(M$2)))+SUMPRODUCT((controleur_3!$G$5:$G$1000=$A4)*(MONTH(controleur_3!$C$5:$C$1000)=MONTH(M$2))) -> 0 | N4: =SUM(B4:M4) -> 39
A5: C3 | B5: =SUMPRODUCT((controleur_1!$G$5:$G$1000=$A5)*(MONTH(controleur_1!$C$5:$C$1000)=MONTH(B$2)))+SUMPRODUCT((controleur_2!$G$5:$G$1000=$A5)*(MONTH(controleur_2!$C$5:$C$1000)=MONTH(B$2)))+SUMPRODUCT((controleur_3!$G$5:$G$1000=$A5)*(MONTH(controleur_3!$C$5:$C$1000)=MONTH(B$2))) -> 3 | C5: =SUMPRODUCT((controleur_1!$G$5:$G$1000=$A5)*(MONTH(controleur_1!$C$5:$C$1000)=MONTH(C$2)))+SUMPRODUCT((controleur_2!$G$5:$G$1000=$A5)*(MONTH(controleur_2!$C$5:$C$1000)=MONTH(C$2)))+SUMPRODUCT((controleur_3!$G$5:$G$1000=$A5)*(MONTH(controleur_3!$C$5:$C$1000)=MONTH(C$2))) -> 0 | D5: =SUMPRODUCT((controleur_1!$G$5:$G$1000=$A5)*(MONTH(controleur_1!$C$5:$C$1000)=MONTH(D$2)))+SUMPRODUCT((controleur_2!$G$5:$G$1000=$A5)*(MONTH(controleur_2!$C$5:$C$1000)=MONTH(D$2)))+SUMPRODUCT((controleur_3!$G$5:$G$1000=$A5)*(MONTH(controleur_3!$C$5:$C$1000)=MONTH(D$2))) -> 0 | E5: =SUMPRODUCT((controleur_1!$G$5:$G$1000=$A5)*(MONTH(controleur_1!$C$5:$C$1000)=MONTH(E$2)))+SUMPRODUCT((controleur_2!$G$5:$G$1000=$A5)*(MONTH(controleur_2!$C$5:$C$1000)=MONTH(E$2)))+SUMPRODUCT((controleur_3!$G$5:$G$1000=$A5)*(MONTH(controleur_3!$C$5:$C$1000)=MONTH(E$2))) -> 0 | F5: =SUMPRODUCT((controleur_1!$G$5:$G$1000=$A5)*(MONTH(controleur_1!$C$5:$C$1000)=MONTH(F$2)))+SUMPRODUCT((controleur_2!$G$5:$G$1000=$A5)*(MONTH(controleur_2!$C$5:$C$1000)=MONTH(F$2)))+SUMPRODUCT((controleur_3!$G$5:$G$1000=$A5)*(MONTH(controleur_3!$C$5:$C$1000)=MONTH(F$2))) -> 0 | G5: =SUMPRODUCT((controleur_1!$G$5:$G$1000=$A5)*(MONTH(controleur_1!$C$5:$C$1000)=MONTH(G$2)))+SUMPRODUCT((controleur_2!$G$5:$G$1000=$A5)*(MONTH(controleur_2!$C$5:$C$1000)=MONTH(G$2)))+SUMPRODUCT((controleur_3!$G$5:$G$1000=$A5)*(MONTH(controleur_3!$C$5:$C$1000)=MONTH(G$2))) -> 0 | H5: =SUMPRODUCT((controleur_1!$G$5:$G$1000=$A5)*(MONTH(controleur_1!$C$5:$C$1000)=MONTH(H$2)))+SUMPRODUCT((controleur_2!$G$5:$G$1000=$A5)*(MONTH(controleur_2!$C$5:$C$1000)=MONTH(H$2)))+SUMPRODUCT((controleur_3!$G$5:$G$1000=$A5)*(MONTH(controleur_3!$C$5:$C$1000)=MONTH(H$2))) -> 0 | I5: =SUMPRODUCT((controleur_1!$G$5:$G$1000=$A5)*(MONTH(controleur_1!$C$5:$C$1000)=MONTH(I$2)))+SUMPRODUCT((controleur_2!$G$5:$G$1000=$A5)*(MONTH(controleur_2!$C$5:$C$1000)=MONTH(I$2)))+SUMPRODUCT((controleur_3!$G$5:$G$1000=$A5)*(MONTH(controleur_3!$C$5:$C$1000)=MONTH(I$2))) -> 0 | ... M5: =SUMPRODUCT((controleur_1!$G$5:$G$1000=$A5)*(MONTH(controleur_1!$C$5:$C$1000)=MONTH(M$2)))+SUMPRODUCT((controleur_2!$G$5:$G$1000=$A5)*(MONTH(controleur_2!$C$5:$C$1000)=MONTH(M$2)))+SUMPRODUCT((controleur_3!$G$5:$G$1000=$A5)*(MONTH(controleur_3!$C$5:$C$1000)=MONTH(M$2))) -> 0 | N5: =SUM(B5:M5) -> 39
A6: C4 | B6: =SUMPRODUCT((controleur_1!$G$5:$G$1000=$A6)*(MONTH(controleur_1!$C$5:$C$1000)=MONTH(B$2)))+SUMPRODUCT((controleur_2!$G$5:$G$1000=$A6)*(MONTH(controleur_2!$C$5:$C$1000)=MONTH(B$2)))+SUMPRODUCT((controleur_3!$G$5:$G$1000=$A6)*(MONTH(controleur_3!$C$5:$C$1000)=MONTH(B$2))) -> 3 | C6: =SUMPRODUCT((controleur_1!$G$5:$G$1000=$A6)*(MONTH(controleur_1!$C$5:$C$1000)=MONTH(C$2)))+SUMPRODUCT((controleur_2!$G$5:$G$1000=$A6)*(MONTH(controleur_2!$C$5:$C$1000)=MONTH(C$2)))+SUMPRODUCT((controleur_3!$G$5:$G$1000=$A6)*(MONTH(controleur_3!$C$5:$C$1000)=MONTH(C$2))) -> 0 | D6: =SUMPRODUCT((controleur_1!$G$5:$G$1000=$A6)*(MONTH(controleur_1!$C$5:$C$1000)=MONTH(D$2)))+SUMPRODUCT((controleur_2!$G$5:$G$1000=$A6)*(MONTH(controleur_2!$C$5:$C$1000)=MONTH(D$2)))+SUMPRODUCT((controleur_3!$G$5:$G$1000=$A6)*(MONTH(controleur_3!$C$5:$C$1000)=MONTH(D$2))) -> 0 | E6: =SUMPRODUCT((controleur_1!$G$5:$G$1000=$A6)*(MONTH(controleur_1!$C$5:$C$1000)=MONTH(E$2)))+SUMPRODUCT((controleur_2!$G$5:$G$1000=$A6)*(MONTH(controleur_2!$C$5:$C$1000)=MONTH(E$2)))+SUMPRODUCT((controleur_3!$G$5:$G$1000=$A6)*(MONTH(controleur_3!$C$5:$C$1000)=MONTH(E$2))) -> 0 | F6: =SUMPRODUCT((controleur_1!$G$5:$G$1000=$A6)*(MONTH(controleur_1!$C$5:$C$1000)=MONTH(F$2)))+SUMPRODUCT((controleur_2!$G$5:$G$1000=$A6)*(MONTH(controleur_2!$C$5:$C$1000)=MONTH(F$2)))+SUMPRODUCT((controleur_3!$G$5:$G$1000=$A6)*(MONTH(controleur_3!$C$5:$C$1000)=MONTH(F$2))) -> 0 | G6: =SUMPRODUCT((controleur_1!$G$5:$G$1000=$A6)*(MONTH(controleur_1!$C$5:$C$1000)=MONTH(G$2)))+SUMPRODUCT((controleur_2!$G$5:$G$1000=$A6)*(MONTH(controleur_2!$C$5:$C$1000)=MONTH(G$2)))+SUMPRODUCT((controleur_3!$G$5:$G$1000=$A6)*(MONTH(controleur_3!$C$5:$C$1000)=MONTH(G$2))) -> 0 | H6: =SUMPRODUCT((controleur_1!$G$5:$G$1000=$A6)*(MONTH(controleur_1!$C$5:$C$1000)=MONTH(H$2)))+SUMPRODUCT((controleur_2!$G$5:$G$1000=$A6)*(MONTH(controleur_2!$C$5:$C$1000)=MONTH(H$2)))+SUMPRODUCT((controleur_3!$G$5:$G$1000=$A6)*(MONTH(controleur_3!$C$5:$C$1000)=MONTH(H$2))) -> 0 | I6: =SUMPRODUCT((controleur_1!$G$5:$G$1000=$A6)*(MONTH(controleur_1!$C$5:$C$1000)=MONTH(I$2)))+SUMPRODUCT((controleur_2!$G$5:$G$1000=$A6)*(MONTH(controleur_2!$C$5:$C$1000)=MONTH(I$2)))+SUMPRODUCT((controleur_3!$G$5:$G$1000=$A6)*(MONTH(controleur_3!$C$5:$C$1000)=MONTH(I$2))) -> 0 | ... M6: =SUMPRODUCT((controleur_1!$G$5:$G$1000=$A6)*(MONTH(controleur_1!$C$5:$C$1000)=MONTH(M$2)))+SUMPRODUCT((controleur_2!$G$5:$G$1000=$A6)*(MONTH(controleur_2!$C$5:$C$1000)=MONTH(M$2)))+SUMPRODUCT((controleur_3!$G$5:$G$1000=$A6)*(MONTH(controleur_3!$C$5:$C$1000)=MONTH(M$2))) -> 0 | N6: =SUM(B6:M6) -> 39
A7: Total | B7: =SUM(B3:B6) -> 12 | C7: =SUM(C3:C6) -> 0 | D7: =SUM(D3:D6) -> 0 | E7: =SUM(E3:E6) -> 0 | F7: =SUM(F3:F6) -> 0 | G7: =SUM(G3:G6) -> 0 | H7: =SUM(H3:H6) -> 0 | I7: =SUM(I3:I6) -> 0 | ... M7: =SUM(M3:M6) -> 0 | N7: =SUM(B7:M7) -> 156
A9: Nb de DOSSIERS contrôlés par responsable d'équipe :
B10: 41640 | C10: =DATE(YEAR(B2),MONTH(B2)+1,DAY(B2)) -> 41671 | D10: =DATE(YEAR(C2),MONTH(C2)+1,DAY(C2)) -> 41699 | E10: =DATE(YEAR(D2),MONTH(D2)+1,DAY(D2)) -> 41730 | F10: =DATE(YEAR(E2),MONTH(E2)+1,DAY(E2)) -> 41760 | G10: =DATE(YEAR(F2),MONTH(F2)+1,DAY(F2)) -> 41791 | H10: =DATE(YEAR(G2),MONTH(G2)+1,DAY(G2)) -> 41821 | I10: =DATE(YEAR(H2),MONTH(H2)+1,DAY(H2)) -> 41852 | J10: =DATE(YEAR(I2),MONTH(I2)+1,DAY(I2)) -> 41883 | ... M10: =DATE(YEAR(L2),MONTH(L2)+1,DAY(L2)) -> 41974 | N10: Cumul
A11: controleur 1 | B11: =SUMPRODUCT((controleur_1!$B$5:$B$1000=$A11)*(MONTH(controleur_1!$C$5:$C$1000)=MONTH(B$2)))/COUNTA($A$3:$A$6) -> 1 | C11: =SUMPRODUCT((controleur_1!$B$5:$B$1000=$A11)*(MONTH(controleur_1!$C$5:$C$1000)=MONTH(C$2)))/COUNTA($A$3:$A$6) -> 0 | D11: =SUMPRODUCT((controleur_1!$B$5:$B$1000=$A11)*(MONTH(controleur_1!$C$5:$C$1000)=MONTH(D$2)))/COUNTA($A$3:$A$6) -> 0 | E11: =SUMPRODUCT((controleur_1!$B$5:$B$1000=$A11)*(MONTH(controleur_1!$C$5:$C$1000)=MONTH(E$2)))/COUNTA($A$3:$A$6) -> 0 | F11: =SUMPRODUCT((controleur_1!$B$5:$B$1000=$A11)*(MONTH(controleur_1!$C$5:$C$1000)=MONTH(F$2)))/COUNTA($A$3:$A$6) -> 0 | G11: =SUMPRODUCT((controleur_1!$B$5:$B$1000=$A11)*(MONTH(controleur_1!$C$5:$C$1000)=MONTH(G$2)))/COUNTA($A$3:$A$6) -> 0 | H11: =SUMPRODUCT((controleur_1!$B$5:$B$1000=$A11)*(MONTH(controleur_1!$C$5:$C$1000)=MONTH(H$2)))/COUNTA($A$3:$A$6) -> 0 | I11: =SUMPRODUCT((controleur_1!$B$5:$B$1000=$A11)*(MONTH(controleur_1!$C$5:$C$1000)=MONTH(I$2)))/COUNTA($A$3:$A$6) -> 0 | ... M11: =SUMPRODUCT((controleur_1!$B$5:$B$1000=$A11)*(MONTH(controleur_1!$C$5:$C$1000)=MONTH(M$2)))/COUNTA($A$3:$A$6) -> 0 | N11: =SUM(B11:M11) -> 14
A12: controleur 2 | B12: =SUMPRODUCT((controleur_2!$B$5:$B$1000=$A12)*(MONTH(controleur_2!$C$5:$C$1000)=MONTH(B$2)))/COUNTA($A$3:$A$6) -> 0 | C12: =SUMPRODUCT((controleur_2!$B$5:$B$1000=$A12)*(MONTH(controleur_2!$C$5:$C$1000)=MONTH(C$2)))/COUNTA($A$3:$A$6) -> 0 | D12: =SUMPRODUCT((controleur_2!$B$5:$B$1000=$A12)*(MONTH(controleur_2!$C$5:$C$1000)=MONTH(D$2)))/COUNTA($A$3:$A$6) -> 0 | E12: =SUMPRODUCT((controleur_2!$B$5:$B$1000=$A12)*(MONTH(controleur_2!$C$5:$C$1000)=MONTH(E$2)))/COUNTA($A$3:$A$6) -> 0 | F12: =SUMPRODUCT((controleur_2!$B$5:$B$1000=$A12)*(MONTH(controleur_2!$C$5:$C$1000)=MONTH(F$2)))/COUNTA($A$3:$A$6) -> 0 | G12: =SUMPRODUCT((controleur_2!$B$5:$B$1000=$A12)*(MONTH(controleur_2!$C$5:$C$1000)=MONTH(G$2)))/COUNTA($A$3:$A$6) -> 0 | H12: =SUMPRODUCT((controleur_2!$B$5:$B$1000=$A12)*(MONTH(controleur_2!$C$5:$C$1000)=MONTH(H$2)))/COUNTA($A$3:$A$6) -> 0 | I12: =SUMPRODUCT((controleur_2!$B$5:$B$1000=$A12)*(MONTH(controleur_2!$C$5:$C$1000)=MONTH(I$2)))/COUNTA($A$3:$A$6) -> 0 | ... M12: =SUMPRODUCT((controleur_2!$B$5:$B$1000=$A12)*(MONTH(controleur_2!$C$5:$C$1000)=MONTH(M$2)))/COUNTA($A$3:$A$6) -> 0 | N12: =SUM(B12:M12) -> 11
A13: controleur 3 | B13: =SUMPRODUCT((controleur_3!$B$5:$B$1000=$A13)*(MONTH(controleur_3!$C$5:$C$1000)=MONTH(B$2)))/COUNTA($A$3:$A$6) -> 0 | C13: =SUMPRODUCT((controleur_3!$B$5:$B$1000=$A13)*(MONTH(controleur_3!$C$5:$C$1000)=MONTH(C$2)))/COUNTA($A$3:$A$6) -> 0 | D13: =SUMPRODUCT((controleur_3!$B$5:$B$1000=$A13)*(MONTH(controleur_3!$C$5:$C$1000)=MONTH(D$2)))/COUNTA($A$3:$A$6) -> 0 | E13: =SUMPRODUCT((controleur_3!$B$5:$B$1000=$A13)*(MONTH(controleur_3!$C$5:$C$1000)=MONTH(E$2)))/COUNTA($A$3:$A$6) -> 0 | F13: =SUMPRODUCT((controleur_3!$B$5:$B$1000=$A13)*(MONTH(controleur_3!$C$5:$C$1000)=MONTH(F$2)))/COUNTA($A$3:$A$6) -> 0 | G13: =SUMPRODUCT((controleur_3!$B$5:$B$1000=$A13)*(MONTH(controleur_3!$C$5:$C$1000)=MONTH(G$2)))/COUNTA($A$3:$A$6) -> 0 | H13: =SUMPRODUCT((controleur_3!$B$5:$B$1000=$A13)*(MONTH(controleur_3!$C$5:$C$1000)=MONTH(H$2)))/COUNTA($A$3:$A$6) -> 0 | I13: =SUMPRODUCT((controleur_3!$B$5:$B$1000=$A13)*(MONTH(controleur_3!$C$5:$C$1000)=MONTH(I$2)))/COUNTA($A$3:$A$6) -> 0 | ... M13: =SUMPRODUCT((controleur_3!$B$5:$B$1000=$A13)*(MONTH(controleur_3!$C$5:$C$1000)=MONTH(M$2)))/COUNTA($A$3:$A$6) -> 0 | N13: =SUM(B13:M13) -> 12
A14: Total | B14: =SUM(B11:B13) -> 1 | C14: =SUM(C11:C13) -> 0 | D14: =SUM(D11:D13) -> 0 | E14: =SUM(E11:E13) -> 0 | F14: =SUM(F11:F13) -> 0 | G14: =SUM(G11:G13) -> 0 | H14: =SUM(H11:H13) -> 0 | I14: =SUM(I11:I13) -> 0 | ... N14: =SUM(N11:N13) -> 37
A16: CONTROLES | B16: KO
B17: 41640 | C17: =DATE(YEAR(B2),MONTH(B2)+1,DAY(B2)) -> 41671 | D17: =DATE(YEAR(C2),MONTH(C2)+1,DAY(C2)) -> 41699 | E17: =DATE(YEAR(D2),MONTH(D2)+1,DAY(D2)) -> 41730 | F17: =DATE(YEAR(E2),MONTH(E2)+1,DAY(E2)) -> 41760 | G17: =DATE(YEAR(F2),MONTH(F2)+1,DAY(F2)) -> 41791 | H17: =DATE(YEAR(G2),MONTH(G2)+1,DAY(G2)) -> 41821 | I17: =DATE(YEAR(H2),MONTH(H2)+1,DAY(H2)) -> 41852 | J17: =DATE(YEAR(I2),MONTH(I2)+1,DAY(I2)) -> 41883 | ... M17: =DATE(YEAR(L2),MONTH(L2)+1,DAY(L2)) -> 41974 | N17: Cumul
A18: C1 | B18: =SUMPRODUCT((controleur_1!$G$5:$G$1000=$A18)*(MONTH(controleur_1!$C$5:$C$1000)=MONTH(B$17)*(controleur_1!$H$5:$H$1000=$B$16)))+SUMPRODUCT((controleur_2!$G$5:$G$1000=$A18)*(MONTH(controleur_2!$C$5:$C$1000)=MONTH(B$17)*(controleur_2!$H$5:$H$1000=$B$16)))+SUMPRODUCT((controleur_3!$G$5:$G$1000=$A18)*(MONTH(controleur_3!$C$5:$C$1000)=MONTH(B$17)*(controleur_3!$H$5:$H$1000=$B$16))) -> 0 | C18: =SUMPRODUCT((controleur_1!$G$5:$G$1000=$A18)*(MONTH(controleur_1!$C$5:$C$1000)=MONTH(C$17)*(controleur_1!$H$5:$H$1000=$B$16)))+SUMPRODUCT((controleur_2!$G$5:$G$1000=$A18)*(MONTH(controleur_2!$C$5:$C$1000)=MONTH(C$17)*(controleur_2!$H$5:$H$1000=$B$16)))+SUMPRODUCT((controleur_3!$G$5:$G$1000=$A18)*(MONTH(controleur_3!$C$5:$C$1000)=MONTH(C$17)*(controleur_3!$H$5:$H$1000=$B$16))) -> 0 | D18: =SUMPRODUCT((controleur_1!$G$5:$G$1000=$A18)*(MONTH(controleur_1!$C$5:$C$1000)=MONTH(D$17)*(controleur_1!$H$5:$H$1000=$B$16)))+SUMPRODUCT((controleur_2!$G$5:$G$1000=$A18)*(MONTH(controleur_2!$C$5:$C$1000)=MONTH(D$17)*(controleur_2!$H$5:$H$1000=$B$16)))+SUMPRODUCT((controleur_3!$G$5:$G$1000=$A18)*(MONTH(controleur_3!$C$5:$C$1000)=MONTH(D$17)*(controleur_3!$H$5:$H$1000=$B$16))) -> 0 | E18: =SUMPRODUCT((controleur_1!$G$5:$G$1000=$A18)*(MONTH(controleur_1!$C$5:$C$1000)=MONTH(E$17)*(controleur_1!$H$5:$H$1000=$B$16)))+SUMPRODUCT((controleur_2!$G$5:$G$1000=$A18)*(MONTH(controleur_2!$C$5:$C$1000)=MONTH(E$17)*(controleur_2!$H$5:$H$1000=$B$16)))+SUMPRODUCT((controleur_3!$G$5:$G$1000=$A18)*(MONTH(controleur_3!$C$5:$C$1000)=MONTH(E$17)*(controleur_3!$H$5:$H$1000=$B$16))) -> 0 | F18: =SUMPRODUCT((controleur_1!$G$5:$G$1000=$A18)*(MONTH(controleur_1!$C$5:$C$1000)=MONTH(F$17)*(controleur_1!$H$5:$H$1000=$B$16)))+SUMPRODUCT((controleur_2!$G$5:$G$1000=$A18)*(MONTH(controleur_2!$C$5:$C$1000)=MONTH(F$17)*(controleur_2!$H$5:$H$1000=$B$16)))+SUMPRODUCT((controleur_3!$G$5:$G$1000=$A18)*(MONTH(controleur_3!$C$5:$C$1000)=MONTH(F$17)*(controleur_3!$H$5:$H$1000=$B$16))) -> 0 | G18: =SUMPRODUCT((controleur_1!$G$5:$G$1000=$A18)*(MONTH(controleur_1!$C$5:$C$1000)=MONTH(G$17)*(controleur_1!$H$5:$H$1000=$B$16)))+SUMPRODUCT((controleur_2!$G$5:$G$1000=$A18)*(MONTH(controleur_2!$C$5:$C$1000)=MONTH(G$17)*(controleur_2!$H$5:$H$1000=$B$16)))+SUMPRODUCT((controleur_3!$G$5:$G$1000=$A18)*(MONTH(controleur_3!$C$5:$C$1000)=MONTH(G$17)*(controleur_3!$H$5:$H$1000=$B$16))) -> 0 | H18: =SUMPRODUCT((controleur_1!$G$5:$G$1000=$A18)*(MONTH(controleur_1!$C$5:$C$1000)=MONTH(H$17)*(controleur_1!$H$5:$H$1000=$B$16)))+SUMPRODUCT((controleur_2!$G$5:$G$1000=$A18)*(MONTH(controleur_2!$C$5:$C$1000)=MONTH(H$17)*(controleur_2!$H$5:$H$1000=$B$16)))+SUMPRODUCT((controleur_3!$G$5:$G$1000=$A18)*(MONTH(controleur_3!$C$5:$C$1000)=MONTH(H$17)*(controleur_3!$H$5:$H$1000=$B$16))) -> 0 | I18: =SUMPRODUCT((controleur_1!$G$5:$G$1000=$A18)*(MONTH(controleur_1!$C$5:$C$1000)=MONTH(I$17)*(controleur_1!$H$5:$H$1000=$B$16)))+SUMPRODUCT((controleur_2!$G$5:$G$1000=$A18)*(MONTH(controleur_2!$C$5:$C$1000)=MONTH(I$17)*(controleur_2!$H$5:$H$1000=$B$16)))+SUMPRODUCT((controleur_3!$G$5:$G$1000=$A18)*(MONTH(controleur_3!$C$5:$C$1000)=MONTH(I$17)*(controleur_3!$H$5:$H$1000=$B$16))) -> 0 | ... M18: =SUMPRODUCT((controleur_1!$G$5:$G$1000=$A18)*(MONTH(controleur_1!$C$5:$C$1000)=MONTH(M$17)*(controleur_1!$H$5:$H$1000=$B$16)))+SUMPRODUCT((controleur_2!$G$5:$G$1000=$A18)*(MONTH(controleur_2!$C$5:$C$1000)=MONTH(M$17)*(controleur_2!$H$5:$H$1000=$B$16)))+SUMPRODUCT((controleur_3!$G$5:$G$1000=$A18)*(MONTH(controleur_3!$C$5:$C$1000)=MONTH(M$17)*(controleur_3!$H$5:$H$1000=$B$16))) -> 0 | N18: =SUM(B18:M18) -> 3
A19: C2 | B19: =SUMPRODUCT((controleur_1!$G$5:$G$1000=$A19)*(MONTH(controleur_1!$C$5:$C$1000)=MONTH(B$17)*(controleur_1!$H$5:$H$1000=$B$16)))+SUMPRODUCT((controleur_2!$G$5:$G$1000=$A19)*(MONTH(controleur_2!$C$5:$C$1000)=MONTH(B$17)*(controleur_2!$H$5:$H$1000=$B$16)))+SUMPRODUCT((controleur_3!$G$5:$G$1000=$A19)*(MONTH(controleur_3!$C$5:$C$1000)=MONTH(B$17)*(controleur_3!$H$5:$H$1000=$B$16))) -> 0 | C19: =SUMPRODUCT((controleur_1!$G$5:$G$1000=$A19)*(MONTH(controleur_1!$C$5:$C$1000)=MONTH(C$17)*(controleur_1!$H$5:$H$1000=$B$16)))+SUMPRODUCT((controleur_2!$G$5:$G$1000=$A19)*(MONTH(controleur_2!$C$5:$C$1000)=MONTH(C$17)*(controleur_2!$H$5:$H$1000=$B$16)))+SUMPRODUCT((controleur_3!$G$5:$G$1000=$A19)*(MONTH(controleur_3!$C$5:$C$1000)=MONTH(C$17)*(controleur_3!$H$5:$H$1000=$B$16))) -> 0 | D19: =SUMPRODUCT((controleur_1!$G$5:$G$1000=$A19)*(MONTH(controleur_1!$C$5:$C$1000)=MONTH(D$17)*(controleur_1!$H$5:$H$1000=$B$16)))+SUMPRODUCT((controleur_2!$G$5:$G$1000=$A19)*(MONTH(controleur_2!$C$5:$C$1000)=MONTH(D$17)*(controleur_2!$H$5:$H$1000=$B$16)))+SUMPRODUCT((controleur_3!$G$5:$G$1000=$A19)*(MONTH(controleur_3!$C$5:$C$1000)=MONTH(D$17)*(controleur_3!$H$5:$H$1000=$B$16))) -> 0 | E19: =SUMPRODUCT((controleur_1!$G$5:$G$1000=$A19)*(MONTH(controleur_1!$C$5:$C$1000)=MONTH(E$17)*(controleur_1!$H$5:$H$1000=$B$16)))+SUMPRODUCT((controleur_2!$G$5:$G$1000=$A19)*(MONTH(controleur_2!$C$5:$C$1000)=MONTH(E$17)*(controleur_2!$H$5:$H$1000=$B$16)))+SUMPRODUCT((controleur_3!$G$5:$G$1000=$A19)*(MONTH(controleur_3!$C$5:$C$1000)=MONTH(E$17)*(controleur_3!$H$5:$H$1000=$B$16))) -> 0 | F19: =SUMPRODUCT((controleur_1!$G$5:$G$1000=$A19)*(MONTH(controleur_1!$C$5:$C$1000)=MONTH(F$17)*(controleur_1!$H$5:$H$1000=$B$16)))+SUMPRODUCT((controleur_2!$G$5:$G$1000=$A19)*(MONTH(controleur_2!$C$5:$C$1000)=MONTH(F$17)*(controleur_2!$H$5:$H$1000=$B$16)))+SUMPRODUCT((controleur_3!$G$5:$G$1000=$A19)*(MONTH(controleur_3!$C$5:$C$1000)=MONTH(F$17)*(controleur_3!$H$5:$H$1000=$B$16))) -> 0 | G19: =SUMPRODUCT((controleur_1!$G$5:$G$1000=$A19)*(MONTH(controleur_1!$C$5:$C$1000)=MONTH(G$17)*(controleur_1!$H$5:$H$1000=$B$16)))+SUMPRODUCT((controleur_2!$G$5:$G$1000=$A19)*(MONTH(controleur_2!$C$5:$C$1000)=MONTH(G$17)*(controleur_2!$H$5:$H$1000=$B$16)))+SUMPRODUCT((controleur_3!$G$5:$G$1000=$A19)*(MONTH(controleur_3!$C$5:$C$1000)=MONTH(G$17)*(controleur_3!$H$5:$H$1000=$B$16))) -> 0 | H19: =SUMPRODUCT((controleur_1!$G$5:$G$1000=$A19)*(MONTH(controleur_1!$C$5:$C$1000)=MONTH(H$17)*(controleur_1!$H$5:$H$1000=$B$16)))+SUMPRODUCT((controleur_2!$G$5:$G$1000=$A19)*(MONTH(controleur_2!$C$5:$C$1000)=MONTH(H$17)*(controleur_2!$H$5:$H$1000=$B$16)))+SUMPRODUCT((controleur_3!$G$5:$G$1000=$A19)*(MONTH(controleur_3!$C$5:$C$1000)=MONTH(H$17)*(controleur_3!$H$5:$H$1000=$B$16))) -> 0 | I19: =SUMPRODUCT((controleur_1!$G$5:$G$1000=$A19)*(MONTH(controleur_1!$C$5:$C$1000)=MONTH(I$17)*(controleur_1!$H$5:$H$1000=$B$16)))+SUMPRODUCT((controleur_2!$G$5:$G$1000=$A19)*(MONTH(controleur_2!$C$5:$C$1000)=MONTH(I$17)*(controleur_2!$H$5:$H$1000=$B$16)))+SUMPRODUCT((controleur_3!$G$5:$G$1000=$A19)*(MONTH(controleur_3!$C$5:$C$1000)=MONTH(I$17)*(controleur_3!$H$5:$H$1000=$B$16))) -> 0 | ... M19: =SUMPRODUCT((controleur_1!$G$5:$G$1000=$A19)*(MONTH(controleur_1!$C$5:$C$1000)=MONTH(M$17)*(controleur_1!$H$5:$H$1000=$B$16)))+SUMPRODUCT((controleur_2!$G$5:$G$1000=$A19)*(MONTH(controleur_2!$C$5:$C$1000)=MONTH(M$17)*(controleur_2!$H$5:$H$1000=$B$16)))+SUMPRODUCT((controleur_3!$G$5:$G$1000=$A19)*(MONTH(controleur_3!$C$5:$C$1000)=MONTH(M$17)*(controleur_3!$H$5:$H$1000=$B$16))) -> 0 | N19: =SUM(B19:M19) -> 3
A20: C3 | B20: =SUMPRODUCT((controleur_1!$G$5:$G$1000=$A20)*(MONTH(controleur_1!$C$5:$C$1000)=MONTH(B$17)*(controleur_1!$H$5:$H$1000=$B$16)))+SUMPRODUCT((controleur_2!$G$5:$G$1000=$A20)*(MONTH(controleur_2!$C$5:$C$1000)=MONTH(B$17)*(controleur_2!$H$5:$H$1000=$B$16)))+SUMPRODUCT((controleur_3!$G$5:$G$1000=$A20)*(MONTH(controleur_3!$C$5:$C$1000)=MONTH(B$17)*(controleur_3!$H$5:$H$1000=$B$16))) -> 0 | C20: =SUMPRODUCT((controleur_1!$G$5:$G$1000=$A20)*(MONTH(controleur_1!$C$5:$C$1000)=MONTH(C$17)*(controleur_1!$H$5:$H$1000=$B$16)))+SUMPRODUCT((controleur_2!$G$5:$G$1000=$A20)*(MONTH(controleur_2!$C$5:$C$1000)=MONTH(C$17)*(controleur_2!$H$5:$H$1000=$B$16)))+SUMPRODUCT((controleur_3!$G$5:$G$1000=$A20)*(MONTH(controleur_3!$C$5:$C$1000)=MONTH(C$17)*(controleur_3!$H$5:$H$1000=$B$16))) -> 0 | D20: =SUMPRODUCT((controleur_1!$G$5:$G$1000=$A20)*(MONTH(controleur_1!$C$5:$C$1000)=MONTH(D$17)*(controleur_1!$H$5:$H$1000=$B$16)))+SUMPRODUCT((controleur_2!$G$5:$G$1000=$A20)*(MONTH(controleur_2!$C$5:$C$1000)=MONTH(D$17)*(controleur_2!$H$5:$H$1000=$B$16)))+SUMPRODUCT((controleur_3!$G$5:$G$1000=$A20)*(MONTH(controleur_3!$C$5:$C$1000)=MONTH(D$17)*(controleur_3!$H$5:$H$1000=$B$16))) -> 0 | E20: =SUMPRODUCT((controleur_1!$G$5:$G$1000=$A20)*(MONTH(controleur_1!$C$5:$C$1000)=MONTH(E$17)*(controleur_1!$H$5:$H$1000=$B$16)))+SUMPRODUCT((controleur_2!$G$5:$G$1000=$A20)*(MONTH(controleur_2!$C$5:$C$1000)=MONTH(E$17)*(controleur_2!$H$5:$H$1000=$B$16)))+SUMPRODUCT((controleur_3!$G$5:$G$1000=$A20)*(MONTH(controleur_3!$C$5:$C$1000)=MONTH(E$17)*(controleur_3!$H$5:$H$1000=$B$16))) -> 0 | F20: =SUMPRODUCT((controleur_1!$G$5:$G$1000=$A20)*(MONTH(controleur_1!$C$5:$C$1000)=MONTH(F$17)*(controleur_1!$H$5:$H$1000=$B$16)))+SUMPRODUCT((controleur_2!$G$5:$G$1000=$A20)*(MONTH(controleur_2!$C$5:$C$1000)=MONTH(F$17)*(controleur_2!$H$5:$H$1000=$B$16)))+SUMPRODUCT((controleur_3!$G$5:$G$1000=$A20)*(MONTH(controleur_3!$C$5:$C$1000)=MONTH(F$17)*(controleur_3!$H$5:$H$1000=$B$16))) -> 0 | G20: =SUMPRODUCT((controleur_1!$G$5:$G$1000=$A20)*(MONTH(controleur_1!$C$5:$C$1000)=MONTH(G$17)*(controleur_1!$H$5:$H$1000=$B$16)))+SUMPRODUCT((controleur_2!$G$5:$G$1000=$A20)*(MONTH(controleur_2!$C$5:$C$1000)=MONTH(G$17)*(controleur_2!$H$5:$H$1000=$B$16)))+SUMPRODUCT((controleur_3!$G$5:$G$1000=$A20)*(MONTH(controleur_3!$C$5:$C$1000)=MONTH(G$17)*(controleur_3!$H$5:$H$1000=$B$16))) -> 0 | H20: =SUMPRODUCT((controleur_1!$G$5:$G$1000=$A20)*(MONTH(controleur_1!$C$5:$C$1000)=MONTH(H$17)*(controleur_1!$H$5:$H$1000=$B$16)))+SUMPRODUCT((controleur_2!$G$5:$G$1000=$A20)*(MONTH(controleur_2!$C$5:$C$1000)=MONTH(H$17)*(controleur_2!$H$5:$H$1000=$B$16)))+SUMPRODUCT((controleur_3!$G$5:$G$1000=$A20)*(MONTH(controleur_3!$C$5:$C$1000)=MONTH(H$17)*(controleur_3!$H$5:$H$1000=$B$16))) -> 0 | I20: =SUMPRODUCT((controleur_1!$G$5:$G$1000=$A20)*(MONTH(controleur_1!$C$5:$C$1000)=MONTH(I$17)*(controleur_1!$H$5:$H$1000=$B$16)))+SUMPRODUCT((controleur_2!$G$5:$G$1000=$A20)*(MONTH(controleur_2!$C$5:$C$1000)=MONTH(I$17)*(controleur_2!$H$5:$H$1000=$B$16)))+SUMPRODUCT((controleur_3!$G$5:$G$1000=$A20)*(MONTH(controleur_3!$C$5:$C$1000)=MONTH(I$17)*(controleur_3!$H$5:$H$1000=$B$16))) -> 0 | ... M20: =SUMPRODUCT((controleur_1!$G$5:$G$1000=$A20)*(MONTH(controleur_1!$C$5:$C$1000)=MONTH(M$17)*(controleur_1!$H$5:$H$1000=$B$16)))+SUMPRODUCT((controleur_2!$G$5:$G$1000=$A20)*(MONTH(controleur_2!$C$5:$C$1000)=MONTH(M$17)*(controleur_2!$H$5:$H$1000=$B$16)))+SUMPRODUCT((controleur_3!$G$5:$G$1000=$A20)*(MONTH(controleur_3!$C$5:$C$1000)=MONTH(M$17)*(controleur_3!$H$5:$H$1000=$B$16))) -> 0 | N20: =SUM(B20:M20) -> 6
A21: C4 | B21: =SUMPRODUCT((controleur_1!$G$5:$G$1000=$A21)*(MONTH(controleur_1!$C$5:$C$1000)=MONTH(B$17)*(controleur_1!$H$5:$H$1000=$B$16)))+SUMPRODUCT((controleur_2!$G$5:$G$1000=$A21)*(MONTH(controleur_2!$C$5:$C$1000)=MONTH(B$17)*(controleur_2!$H$5:$H$1000=$B$16)))+SUMPRODUCT((controleur_3!$G$5:$G$1000=$A21)*(MONTH(controleur_3!$C$5:$C$1000)=MONTH(B$17)*(controleur_3!$H$5:$H$1000=$B$16))) -> 0 | C21: =SUMPRODUCT((controleur_1!$G$5:$G$1000=$A21)*(MONTH(controleur_1!$C$5:$C$1000)=MONTH(C$17)*(controleur_1!$H$5:$H$1000=$B$16)))+SUMPRODUCT((controleur_2!$G$5:$G$1000=$A21)*(MONTH(controleur_2!$C$5:$C$1000)=MONTH(C$17)*(controleur_2!$H$5:$H$1000=$B$16)))+SUMPRODUCT((controleur_3!$G$5:$G$1000=$A21)*(MONTH(controleur_3!$C$5:$C$1000)=MONTH(C$17)*(controleur_3!$H$5:$H$1000=$B$16))) -> 0 | D21: =SUMPRODUCT((controleur_1!$G$5:$G$1000=$A21)*(MONTH(controleur_1!$C$5:$C$1000)=MONTH(D$17)*(controleur_1!$H$5:$H$1000=$B$16)))+SUMPRODUCT((controleur_2!$G$5:$G$1000=$A21)*(MONTH(controleur_2!$C$5:$C$1000)=MONTH(D$17)*(controleur_2!$H$5:$H$1000=$B$16)))+SUMPRODUCT((controleur_3!$G$5:$G$1000=$A21)*(MONTH(controleur_3!$C$5:$C$1000)=MONTH(D$17)*(controleur_3!$H$5:$H$1000=$B$16))) -> 0 | E21: =SUMPRODUCT((controleur_1!$G$5:$G$1000=$A21)*(MONTH(controleur_1!$C$5:$C$1000)=MONTH(E$17)*(controleur_1!$H$5:$H$1000=$B$16)))+SUMPRODUCT((controleur_2!$G$5:$G$1000=$A21)*(MONTH(controleur_2!$C$5:$C$1000)=MONTH(E$17)*(controleur_2!$H$5:$H$1000=$B$16)))+SUMPRODUCT((controleur_3!$G$5:$G$1000=$A21)*(MONTH(controleur_3!$C$5:$C$1000)=MONTH(E$17)*(controleur_3!$H$5:$H$1000=$B$16))) -> 0 | F21: =SUMPRODUCT((controleur_1!$G$5:$G$1000=$A21)*(MONTH(controleur_1!$C$5:$C$1000)=MONTH(F$17)*(controleur_1!$H$5:$H$1000=$B$16)))+SUMPRODUCT((controleur_2!$G$5:$G$1000=$A21)*(MONTH(controleur_2!$C$5:$C$1000)=MONTH(F$17)*(controleur_2!$H$5:$H$1000=$B$16)))+SUMPRODUCT((controleur_3!$G$5:$G$1000=$A21)*(MONTH(controleur_3!$C$5:$C$1000)=MONTH(F$17)*(controleur_3!$H$5:$H$1000=$B$16))) -> 0 | G21: =SUMPRODUCT((controleur_1!$G$5:$G$1000=$A21)*(MONTH(controleur_1!$C$5:$C$1000)=MONTH(G$17)*(controleur_1!$H$5:$H$1000=$B$16)))+SUMPRODUCT((controleur_2!$G$5:$G$1000=$A21)*(MONTH(controleur_2!$C$5:$C$1000)=MONTH(G$17)*(controleur_2!$H$5:$H$1000=$B$16)))+SUMPRODUCT((controleur_3!$G$5:$G$1000=$A21)*(MONTH(controleur_3!$C$5:$C$1000)=MONTH(G$17)*(controleur_3!$H$5:$H$1000=$B$16))) -> 0 | H21: =SUMPRODUCT((controleur_1!$G$5:$G$1000=$A21)*(MONTH(controleur_1!$C$5:$C$1000)=MONTH(H$17)*(controleur_1!$H$5:$H$1000=$B$16)))+SUMPRODUCT((controleur_2!$G$5:$G$1000=$A21)*(MONTH(controleur_2!$C$5:$C$1000)=MONTH(H$17)*(controleur_2!$H$5:$H$1000=$B$16)))+SUMPRODUCT((controleur_3!$G$5:$G$1000=$A21)*(MONTH(controleur_3!$C$5:$C$1000)=MONTH(H$17)*(controleur_3!$H$5:$H$1000=$B$16))) -> 0 | I21: =SUMPRODUCT((controleur_1!$G$5:$G$1000=$A21)*(MONTH(controleur_1!$C$5:$C$1000)=MONTH(I$17)*(controleur_1!$H$5:$H$1000=$B$16)))+SUMPRODUCT((controleur_2!$G$5:$G$1000=$A21)*(MONTH(controleur_2!$C$5:$C$1000)=MONTH(I$17)*(controleur_2!$H$5:$H$1000=$B$16)))+SUMPRODUCT((controleur_3!$G$5:$G$1000=$A21)*(MONTH(controleur_3!$C$5:$C$1000)=MONTH(I$17)*(controleur_3!$H$5:$H$1000=$B$16))) -> 0 | ... M21: =SUMPRODUCT((controleur_1!$G$5:$G$1000=$A21)*(MONTH(controleur_1!$C$5:$C$1000)=MONTH(M$17)*(controleur_1!$H$5:$H$1000=$B$16)))+SUMPRODUCT((controleur_2!$G$5:$G$1000=$A21)*(MONTH(controleur_2!$C$5:$C$1000)=MONTH(M$17)*(controleur_2!$H$5:$H$1000=$B$16)))+SUMPRODUCT((controleur_3!$G$5:$G$1000=$A21)*(MONTH(controleur_3!$C$5:$C$1000)=MONTH(M$17)*(controleur_3!$H$5:$H$1000=$B$16))) -> 0 | N21: =SUM(B21:M21) -> 3
A22: Total | B22: =SUM(B18:B21) -> 0 | C22: =SUM(C18:C21) -> 0 | D22: =SUM(D18:D21) -> 0 | E22: =SUM(E18:E21) -> 0 | F22: =SUM(F18:F21) -> 0 | G22: =SUM(G18:G21) -> 0 | H22: =SUM(H18:H21) -> 0 | I22: =SUM(I18:I21) -> 0 | ... M22: =SUM(M18:M21) -> 0 | N22: =SUM(B22:M22) -> 15
A23: % | B23: =B22/B7 -> 0 | C23: =C22/C7 -> #DIV/0! | D23: =D22/D7 -> #DIV/0! | E23: =E22/E7 -> #DIV/0! | F23: =F22/F7 -> #DIV/0! | G23: =G22/G7 -> #DIV/0! | H23: =H22/H7 -> #DIV/0! | I23: =I22/I7 -> #DIV/0! | ... N23: =N22/N7 -> 0.096153846
A24: NB DE DOSSIERS | B24: =B22/COUNTA($A$3:$A$6) -> 0 | C24: =C22/COUNTA($A$3:$A$6) -> 0 | D24: =D22/COUNTA($A$3:$A$6) -> 0 | E24: =E22/COUNTA($A$3:$A$6) -> 0 | F24: =F22/COUNTA($A$3:$A$6) -> 0 | G24: =G22/COUNTA($A$3:$A$6) -> 0 | H24: =H22/COUNTA($A$3:$A$6) -> 0 | I24: =I22/COUNTA($A$3:$A$6) -> 0 | ... M24: =M22/COUNTA($A$3:$A$6) -> 0 | N24: =SUM(B24:M24) -> 3.75
A26: CONTROLES | B26: OK
B27: 41640 | C27: =DATE(YEAR(B27),MONTH(B27)+1,DAY(B27)) -> 41671 | D27: =DATE(YEAR(C27),MONTH(C27)+1,DAY(C27)) -> 41699 | E27: =DATE(YEAR(D27),MONTH(D27)+1,DAY(D27)) -> 41730 | F27: =DATE(YEAR(E27),MONTH(E27)+1,DAY(E27)) -> 41760 | G27: =DATE(YEAR(F27),MONTH(F27)+1,DAY(F27)) -> 41791 | H27: =DATE(YEAR(G27),MONTH(G27)+1,DAY(G27)) -> 41821 | I27: =DATE(YEAR(H27),MONTH(H27)+1,DAY(H27)) -> 41852 | J27: =DATE(YEAR(I27),MONTH(I27)+1,DAY(I27)) -> 41883 | ... M27: =DATE(YEAR(L27),MONTH(L27)+1,DAY(L27)) -> 41974 | N27: Cumul
A28: C1 | B28: =SUMPRODUCT((controleur_1!$G$5:$G$1000=$A28)*(MONTH(controleur_1!$C$5:$C$1000)=MONTH(B$27)*(controleur_1!$H$5:$H$1000=$B$26)))+SUMPRODUCT((controleur_2!$G$5:$G$1000=$A28)*(MONTH(controleur_2!$C$5:$C$1000)=MONTH(B$27)*(controleur_2!$H$5:$H$1000=$B$26)))+SUMPRODUCT((controleur_3!$G$5:$G$1000=$A28)*(MONTH(controleur_3!$C$5:$C$1000)=MONTH(B$27)*(controleur_3!$H$5:$H$1000=$B$26))) -> 0 | C28: =SUMPRODUCT((controleur_1!$G$5:$G$1000=$A28)*(MONTH(controleur_1!$C$5:$C$1000)=MONTH(C$27)*(controleur_1!$H$5:$H$1000=$B$26)))+SUMPRODUCT((controleur_2!$G$5:$G$1000=$A28)*(MONTH(controleur_2!$C$5:$C$1000)=MONTH(C$27)*(controleur_2!$H$5:$H$1000=$B$26)))+SUMPRODUCT((controleur_3!$G$5:$G$1000=$A28)*(MONTH(controleur_3!$C$5:$C$1000)=MONTH(C$27)*(controleur_3!$H$5:$H$1000=$B$26))) -> 0 | D28: =SUMPRODUCT((controleur_1!$G$5:$G$1000=$A28)*(MONTH(controleur_1!$C$5:$C$1000)=MONTH(D$27)*(controleur_1!$H$5:$H$1000=$B$26)))+SUMPRODUCT((controleur_2!$G$5:$G$1000=$A28)*(MONTH(controleur_2!$C$5:$C$1000)=MONTH(D$27)*(controleur_2!$H$5:$H$1000=$B$26)))+SUMPRODUCT((controleur_3!$G$5:$G$1000=$A28)*(MONTH(controleur_3!$C$5:$C$1000)=MONTH(D$27)*(controleur_3!$H$5:$H$1000=$B$26))) -> 0 | E28: =SUMPRODUCT((controleur_1!$G$5:$G$1000=$A28)*(MONTH(controleur_1!$C$5:$C$1000)=MONTH(E$27)*(controleur_1!$H$5:$H$1000=$B$26)))+SUMPRODUCT((controleur_2!$G$5:$G$1000=$A28)*(MONTH(controleur_2!$C$5:$C$1000)=MONTH(E$27)*(controleur_2!$H$5:$H$1000=$B$26)))+SUMPRODUCT((controleur_3!$G$5:$G$1000=$A28)*(MONTH(controleur_3!$C$5:$C$1000)=MONTH(E$27)*(controleur_3!$H$5:$H$1000=$B$26))) -> 0 | F28: =SUMPRODUCT((controleur_1!$G$5:$G$1000=$A28)*(MONTH(controleur_1!$C$5:$C$1000)=MONTH(F$27)*(controleur_1!$H$5:$H$1000=$B$26)))+SUMPRODUCT((controleur_2!$G$5:$G$1000=$A28)*(MONTH(controleur_2!$C$5:$C$1000)=MONTH(F$27)*(controleur_2!$H$5:$H$1000=$B$26)))+SUMPRODUCT((controleur_3!$G$5:$G$1000=$A28)*(MONTH(controleur_3!$C$5:$C$1000)=MONTH(F$27)*(controleur_3!$H$5:$H$1000=$B$26))) -> 0 | G28: =SUMPRODUCT((controleur_1!$G$5:$G$1000=$A28)*(MONTH(controleur_1!$C$5:$C$1000)=MONTH(G$27)*(controleur_1!$H$5:$H$1000=$B$26)))+SUMPRODUCT((controleur_2!$G$5:$G$1000=$A28)*(MONTH(controleur_2!$C$5:$C$1000)=MONTH(G$27)*(controleur_2!$H$5:$H$1000=$B$26)))+SUMPRODUCT((controleur_3!$G$5:$G$1000=$A28)*(MONTH(controleur_3!$C$5:$C$1000)=MONTH(G$27)*(controleur_3!$H$5:$H$1000=$B$26))) -> 0 | H28: =SUMPRODUCT((controleur_1!$G$5:$G$1000=$A28)*(MONTH(controleur_1!$C$5:$C$1000)=MONTH(H$27)*(controleur_1!$H$5:$H$1000=$B$26)))+SUMPRODUCT((controleur_2!$G$5:$G$1000=$A28)*(MONTH(controleur_2!$C$5:$C$1000)=MONTH(H$27)*(controleur_2!$H$5:$H$1000=$B$26)))+SUMPRODUCT((controleur_3!$G$5:$G$1000=$A28)*(MONTH(controleur_3!$C$5:$C$1000)=MONTH(H$27)*(controleur_3!$H$5:$H$1000=$B$26))) -> 0 | I28: =SUMPRODUCT((controleur_1!$G$5:$G$1000=$A28)*(MONTH(controleur_1!$C$5:$C$1000)=MONTH(I$27)*(controleur_1!$H$5:$H$1000=$B$26)))+SUMPRODUCT((controleur_2!$G$5:$G$1000=$A28)*(MONTH(controleur_2!$C$5:$C$1000)=MONTH(I$27)*(controleur_2!$H$5:$H$1000=$B$26)))+SUMPRODUCT((controleur_3!$G$5:$G$1000=$A28)*(MONTH(controleur_3!$C$5:$C$1000)=MONTH(I$27)*(controleur_3!$H$5:$H$1000=$B$26))) -> 0 | ... M28: =SUMPRODUCT((controleur_1!$G$5:$G$1000=$A28)*(MONTH(controleur_1!$C$5:$C$1000)=MONTH(M$27)*(controleur_1!$H$5:$H$1000=$B$26)))+SUMPRODUCT((controleur_2!$G$5:$G$1000=$A28)*(MONTH(controleur_2!$C$5:$C$1000)=MONTH(M$27)*(controleur_2!$H$5:$H$1000=$B$26)))+SUMPRODUCT((controleur_3!$G$5:$G$1000=$A28)*(MONTH(controleur_3!$C$5:$C$1000)=MONTH(M$27)*(controleur_3!$H$5:$H$1000=$B$26))) -> 0 | N28: =SUM(B28:M28) -> 33
A29: C2 | B29: =SUMPRODUCT((controleur_1!$G$5:$G$1000=$A29)*(MONTH(controleur_1!$C$5:$C$1000)=MONTH(B$27)*(controleur_1!$H$5:$H$1000=$B$26)))+SUMPRODUCT((controleur_2!$G$5:$G$1000=$A29)*(MONTH(controleur_2!$C$5:$C$1000)=MONTH(B$27)*(controleur_2!$H$5:$H$1000=$B$26)))+SUMPRODUCT((controleur_3!$G$5:$G$1000=$A29)*(MONTH(controleur_3!$C$5:$C$1000)=MONTH(B$27)*(controleur_3!$H$5:$H$1000=$B$26))) -> 0 | C29: =SUMPRODUCT((controleur_1!$G$5:$G$1000=$A29)*(MONTH(controleur_1!$C$5:$C$1000)=MONTH(C$27)*(controleur_1!$H$5:$H$1000=$B$26)))+SUMPRODUCT((controleur_2!$G$5:$G$1000=$A29)*(MONTH(controleur_2!$C$5:$C$1000)=MONTH(C$27)*(controleur_2!$H$5:$H$1000=$B$26)))+SUMPRODUCT((controleur_3!$G$5:$G$1000=$A29)*(MONTH(controleur_3!$C$5:$C$1000)=MONTH(C$27)*(controleur_3!$H$5:$H$1000=$B$26))) -> 0 | D29: =SUMPRODUCT((controleur_1!$G$5:$G$1000=$A29)*(MONTH(controleur_1!$C$5:$C$1000)=MONTH(D$27)*(controleur_1!$H$5:$H$1000=$B$26)))+SUMPRODUCT((controleur_2!$G$5:$G$1000=$A29)*(MONTH(controleur_2!$C$5:$C$1000)=MONTH(D$27)*(controleur_2!$H$5:$H$1000=$B$26)))+SUMPRODUCT((controleur_3!$G$5:$G$1000=$A29)*(MONTH(controleur_3!$C$5:$C$1000)=MONTH(D$27)*(controleur_3!$H$5:$H$1000=$B$26))) -> 0 | E29: =SUMPRODUCT((controleur_1!$G$5:$G$1000=$A29)*(MONTH(controleur_1!$C$5:$C$1000)=MONTH(E$27)*(controleur_1!$H$5:$H$1000=$B$26)))+SUMPRODUCT((controleur_2!$G$5:$G$1000=$A29)*(MONTH(controleur_2!$C$5:$C$1000)=MONTH(E$27)*(controleur_2!$H$5:$H$1000=$B$26)))+SUMPRODUCT((controleur_3!$G$5:$G$1000=$A29)*(MONTH(controleur_3!$C$5:$C$1000)=MONTH(E$27)*(controleur_3!$H$5:$H$1000=$B$26))) -> 0 | F29: =SUMPRODUCT((controleur_1!$G$5:$G$1000=$A29)*(MONTH(controleur_1!$C$5:$C$1000)=MONTH(F$27)*(controleur_1!$H$5:$H$1000=$B$26)))+SUMPRODUCT((controleur_2!$G$5:$G$1000=$A29)*(MONTH(controleur_2!$C$5:$C$1000)=MONTH(F$27)*(controleur_2!$H$5:$H$1000=$B$26)))+SUMPRODUCT((controleur_3!$G$5:$G$1000=$A29)*(MONTH(controleur_3!$C$5:$C$1000)=MONTH(F$27)*(controleur_3!$H$5:$H$1000=$B$26))) -> 0 | G29: =SUMPRODUCT((controleur_1!$G$5:$G$1000=$A29)*(MONTH(controleur_1!$C$5:$C$1000)=MONTH(G$27)*(controleur_1!$H$5:$H$1000=$B$26)))+SUMPRODUCT((controleur_2!$G$5:$G$1000=$A29)*(MONTH(controleur_2!$C$5:$C$1000)=MONTH(G$27)*(controleur_2!$H$5:$H$1000=$B$26)))+SUMPRODUCT((controleur_3!$G$5:$G$1000=$A29)*(MONTH(controleur_3!$C$5:$C$1000)=MONTH(G$27)*(controleur_3!$H$5:$H$1000=$B$26))) -> 0 | H29: =SUMPRODUCT((controleur_1!$G$5:$G$1000=$A29)*(MONTH(controleur_1!$C$5:$C$1000)=MONTH(H$27)*(controleur_1!$H$5:$H$1000=$B$26)))+SUMPRODUCT((controleur_2!$G$5:$G$1000=$A29)*(MONTH(controleur_2!$C$5:$C$1000)=MONTH(H$27)*(controleur_2!$H$5:$H$1000=$B$26)))+SUMPRODUCT((controleur_3!$G$5:$G$1000=$A29)*(MONTH(controleur_3!$C$5:$C$1000)=MONTH(H$27)*(controleur_3!$H$5:$H$1000=$B$26))) -> 0 | I29: =SUMPRODUCT((controleur_1!$G$5:$G$1000=$A29)*(MONTH(controleur_1!$C$5:$C$1000)=MONTH(I$27)*(controleur_1!$H$5:$H$1000=$B$26)))+SUMPRODUCT((controleur_2!$G$5:$G$1000=$A29)*(MONTH(controleur_2!$C$5:$C$1000)=MONTH(I$27)*(controleur_2!$H$5:$H$1000=$B$26)))+SUMPRODUCT((controleur_3!$G$5:$G$1000=$A29)*(MONTH(controleur_3!$C$5:$C$1000)=MONTH(I$27)*(controleur_3!$H$5:$H$1000=$B$26))) -> 0 | ... M29: =SUMPRODUCT((controleur_1!$G$5:$G$1000=$A29)*(MONTH(controleur_1!$C$5:$C$1000)=MONTH(M$27)*(controleur_1!$H$5:$H$1000=$B$26)))+SUMPRODUCT((controleur_2!$G$5:$G$1000=$A29)*(MONTH(controleur_2!$C$5:$C$1000)=MONTH(M$27)*(controleur_2!$H$5:$H$1000=$B$26)))+SUMPRODUCT((controleur_3!$G$5:$G$1000=$A29)*(MONTH(controleur_3!$C$5:$C$1000)=MONTH(M$27)*(controleur_3!$H$5:$H$1000=$B$26))) -> 0 | N29: =SUM(B29:M29) -> 15
A30: C3 | B30: =SUMPRODUCT((controleur_1!$G$5:$G$1000=$A30)*(MONTH(controleur_1!$C$5:$C$1000)=MONTH(B$27)*(controleur_1!$H$5:$H$1000=$B$26)))+SUMPRODUCT((controleur_2!$G$5:$G$1000=$A30)*(MONTH(controleur_2!$C$5:$C$1000)=MONTH(B$27)*(controleur_2!$H$5:$H$1000=$B$26)))+SUMPRODUCT((controleur_3!$G$5:$G$1000=$A30)*(MONTH(controleur_3!$C$5:$C$1000)=MONTH(B$27)*(controleur_3!$H$5:$H$1000=$B$26))) -> 0 | C30: =SUMPRODUCT((controleur_1!$G$5:$G$1000=$A30)*(MONTH(controleur_1!$C$5:$C$1000)=MONTH(C$27)*(controleur_1!$H$5:$H$1000=$B$26)))+SUMPRODUCT((controleur_2!$G$5:$G$1000=$A30)*(MONTH(controleur_2!$C$5:$C$1000)=MONTH(C$27)*(controleur_2!$H$5:$H$1000=$B$26)))+SUMPRODUCT((controleur_3!$G$5:$G$1000=$A30)*(MONTH(controleur_3!$C$5:$C$1000)=MONTH(C$27)*(controleur_3!$H$5:$H$1000=$B$26))) -> 0 | D30: =SUMPRODUCT((controleur_1!$G$5:$G$1000=$A30)*(MONTH(controleur_1!$C$5:$C$1000)=MONTH(D$27)*(controleur_1!$H$5:$H$1000=$B$26)))+SUMPRODUCT((controleur_2!$G$5:$G$1000=$A30)*(MONTH(controleur_2!$C$5:$C$1000)=MONTH(D$27)*(controleur_2!$H$5:$H$1000=$B$26)))+SUMPRODUCT((controleur_3!$G$5:$G$1000=$A30)*(MONTH(controleur_3!$C$5:$C$1000)=MONTH(D$27)*(controleur_3!$H$5:$H$1000=$B$26))) -> 0 | E30: =SUMPRODUCT((controleur_1!$G$5:$G$1000=$A30)*(MONTH(controleur_1!$C$5:$C$1000)=MONTH(E$27)*(controleur_1!$H$5:$H$1000=$B$26)))+SUMPRODUCT((controleur_2!$G$5:$G$1000=$A30)*(MONTH(controleur_2!$C$5:$C$1000)=MONTH(E$27)*(controleur_2!$H$5:$H$1000=$B$26)))+SUMPRODUCT((controleur_3!$G$5:$G$1000=$A30)*(MONTH(controleur_3!$C$5:$C$1000)=MONTH(E$27)*(controleur_3!$H$5:$H$1000=$B$26))) -> 0 | F30: =SUMPRODUCT((controleur_1!$G$5:$G$1000=$A30)*(MONTH(controleur_1!$C$5:$C$1000)=MONTH(F$27)*(controleur_1!$H$5:$H$1000=$B$26)))+SUMPRODUCT((controleur_2!$G$5:$G$1000=$A30)*(MONTH(controleur_2!$C$5:$C$1000)=MONTH(F$27)*(controleur_2!$H$5:$H$1000=$B$26)))+SUMPRODUCT((controleur_3!$G$5:$G$1000=$A30)*(MONTH(controleur_3!$C$5:$C$1000)=MONTH(F$27)*(controleur_3!$H$5:$H$1000=$B$26))) -> 0 | G30: =SUMPRODUCT((controleur_1!$G$5:$G$1000=$A30)*(MONTH(controleur_1!$C$5:$C$1000)=MONTH(G$27)*(controleur_1!$H$5:$H$1000=$B$26)))+SUMPRODUCT((controleur_2!$G$5:$G$1000=$A30)*(MONTH(controleur_2!$C$5:$C$1000)=MONTH(G$27)*(controleur_2!$H$5:$H$1000=$B$26)))+SUMPRODUCT((controleur_3!$G$5:$G$1000=$A30)*(MONTH(controleur_3!$C$5:$C$1000)=MONTH(G$27)*(controleur_3!$H$5:$H$1000=$B$26))) -> 0 | H30: =SUMPRODUCT((controleur_1!$G$5:$G$1000=$A30)*(MONTH(controleur_1!$C$5:$C$1000)=MONTH(H$27)*(controleur_1!$H$5:$H$1000=$B$26)))+SUMPRODUCT((controleur_2!$G$5:$G$1000=$A30)*(MONTH(controleur_2!$C$5:$C$1000)=MONTH(H$27)*(controleur_2!$H$5:$H$1000=$B$26)))+SUMPRODUCT((controleur_3!$G$5:$G$1000=$A30)*(MONTH(controleur_3!$C$5:$C$1000)=MONTH(H$27)*(controleur_3!$H$5:$H$1000=$B$26))) -> 0 | I30: =SUMPRODUCT((controleur_1!$G$5:$G$1000=$A30)*(MONTH(controleur_1!$C$5:$C$1000)=MONTH(I$27)*(controleur_1!$H$5:$H$1000=$B$26)))+SUMPRODUCT((controleur_2!$G$5:$G$1000=$A30)*(MONTH(controleur_2!$C$5:$C$1000)=MONTH(I$27)*(controleur_2!$H$5:$H$1000=$B$26)))+SUMPRODUCT((controleur_3!$G$5:$G$1000=$A30)*(MONTH(controleur_3!$C$5:$C$1000)=MONTH(I$27)*(controleur_3!$H$5:$H$1000=$B$26))) -> 0 | ... M30: =SUMPRODUCT((controleur_1!$G$5:$G$1000=$A30)*(MONTH(controleur_1!$C$5:$C$1000)=MONTH(M$27)*(controleur_1!$H$5:$H$1000=$B$26)))+SUMPRODUCT((controleur_2!$G$5:$G$1000=$A30)*(MONTH(controleur_2!$C$5:$C$1000)=MONTH(M$27)*(controleur_2!$H$5:$H$1000=$B$26)))+SUMPRODUCT((controleur_3!$G$5:$G$1000=$A30)*(MONTH(controleur_3!$C$5:$C$1000)=MONTH(M$27)*(controleur_3!$H$5:$H$1000=$B$26))) -> 0 | N30: =SUM(B30:M30) -> 30
A31: C4 | B31: =SUMPRODUCT((controleur_1!$G$5:$G$1000=$A31)*(MONTH(controleur_1!$C$5:$C$1000)=MONTH(B$27)*(controleur_1!$H$5:$H$1000=$B$26)))+SUMPRODUCT((controleur_2!$G$5:$G$1000=$A31)*(MONTH(controleur_2!$C$5:$C$1000)=MONTH(B$27)*(controleur_2!$H$5:$H$1000=$B$26)))+SUMPRODUCT((controleur_3!$G$5:$G$1000=$A31)*(MONTH(controleur_3!$C$5:$C$1000)=MONTH(B$27)*(controleur_3!$H$5:$H$1000=$B$26))) -> 0 | C31: =SUMPRODUCT((controleur_1!$G$5:$G$1000=$A31)*(MONTH(controleur_1!$C$5:$C$1000)=MONTH(C$27)*(controleur_1!$H$5:$H$1000=$B$26)))+SUMPRODUCT((controleur_2!$G$5:$G$1000=$A31)*(MONTH(controleur_2!$C$5:$C$1000)=MONTH(C$27)*(controleur_2!$H$5:$H$1000=$B$26)))+SUMPRODUCT((controleur_3!$G$5:$G$1000=$A31)*(MONTH(controleur_3!$C$5:$C$1000)=MONTH(C$27)*(controleur_3!$H$5:$H$1000=$B$26))) -> 0 | D31: =SUMPRODUCT((controleur_1!$G$5:$G$1000=$A31)*(MONTH(controleur_1!$C$5:$C$1000)=MONTH(D$27)*(controleur_1!$H$5:$H$1000=$B$26)))+SUMPRODUCT((controleur_2!$G$5:$G$1000=$A31)*(MONTH(controleur_2!$C$5:$C$1000)=MONTH(D$27)*(controleur_2!$H$5:$H$1000=$B$26)))+SUMPRODUCT((controleur_3!$G$5:$G$1000=$A31)*(MONTH(controleur_3!$C$5:$C$1000)=MONTH(D$27)*(controleur_3!$H$5:$H$1000=$B$26))) -> 0 | E31: =SUMPRODUCT((controleur_1!$G$5:$G$1000=$A31)*(MONTH(controleur_1!$C$5:$C$1000)=MONTH(E$27)*(controleur_1!$H$5:$H$1000=$B$26)))+SUMPRODUCT((controleur_2!$G$5:$G$1000=$A31)*(MONTH(controleur_2!$C$5:$C$1000)=MONTH(E$27)*(controleur_2!$H$5:$H$1000=$B$26)))+SUMPRODUCT((controleur_3!$G$5:$G$1000=$A31)*(MONTH(controleur_3!$C$5:$C$1000)=MONTH(E$27)*(controleur_3!$H$5:$H$1000=$B$26))) -> 0 | F31: =SUMPRODUCT((controleur_1!$G$5:$G$1000=$A31)*(MONTH(controleur_1!$C$5:$C$1000)=MONTH(F$27)*(controleur_1!$H$5:$H$1000=$B$26)))+SUMPRODUCT((controleur_2!$G$5:$G$1000=$A31)*(MONTH(controleur_2!$C$5:$C$1000)=MONTH(F$27)*(controleur_2!$H$5:$H$1000=$B$26)))+SUMPRODUCT((controleur_3!$G$5:$G$1000=$A31)*(MONTH(controleur_3!$C$5:$C$1000)=MONTH(F$27)*(controleur_3!$H$5:$H$1000=$B$26))) -> 0 | G31: =SUMPRODUCT((controleur_1!$G$5:$G$1000=$A31)*(MONTH(controleur_1!$C$5:$C$1000)=MONTH(G$27)*(controleur_1!$H$5:$H$1000=$B$26)))+SUMPRODUCT((controleur_2!$G$5:$G$1000=$A31)*(MONTH(controleur_2!$C$5:$C$1000)=MONTH(G$27)*(controleur_2!$H$5:$H$1000=$B$26)))+SUMPRODUCT((controleur_3!$G$5:$G$1000=$A31)*(MONTH(controleur_3!$C$5:$C$1000)=MONTH(G$27)*(controleur_3!$H$5:$H$1000=$B$26))) -> 0 | H31: =SUMPRODUCT((controleur_1!$G$5:$G$1000=$A31)*(MONTH(controleur_1!$C$5:$C$1000)=MONTH(H$27)*(controleur_1!$H$5:$H$1000=$B$26)))+SUMPRODUCT((controleur_2!$G$5:$G$1000=$A31)*(MONTH(controleur_2!$C$5:$C$1000)=MONTH(H$27)*(controleur_2!$H$5:$H$1000=$B$26)))+SUMPRODUCT((controleur_3!$G$5:$G$1000=$A31)*(MONTH(controleur_3!$C$5:$C$1000)=MONTH(H$27)*(controleur_3!$H$5:$H$1000=$B$26))) -> 0 | I31: =SUMPRODUCT((controleur_1!$G$5:$G$1000=$A31)*(MONTH(controleur_1!$C$5:$C$1000)=MONTH(I$27)*(controleur_1!$H$5:$H$1000=$B$26)))+SUMPRODUCT((controleur_2!$G$5:$G$1000=$A31)*(MONTH(controleur_2!$C$5:$C$1000)=MONTH(I$27)*(controleur_2!$H$5:$H$1000=$B$26)))+SUMPRODUCT((controleur_3!$G$5:$G$1000=$A31)*(MONTH(controleur_3!$C$5:$C$1000)=MONTH(I$27)*(controleur_3!$H$5:$H$1000=$B$26))) -> 0 | ... M31: =SUMPRODUCT((controleur_1!$G$5:$G$1000=$A31)*(MONTH(controleur_1!$C$5:$C$1000)=MONTH(M$27)*(controleur_1!$H$5:$H$1000=$B$26)))+SUMPRODUCT((controleur_2!$G$5:$G$1000=$A31)*(MONTH(controleur_2!$C$5:$C$1000)=MONTH(M$27)*(controleur_2!$H$5:$H$1000=$B$26)))+SUMPRODUCT((controleur_3!$G$5:$G$1000=$A31)*(MONTH(controleur_3!$C$5:$C$1000)=MONTH(M$27)*(controleur_3!$H$5:$H$1000=$B$26))) -> 0 | N31: =SUM(B31:M31) -> 33
A32: Total | B32: =SUM(B28:B31) -> 0 | C32: =SUM(C28:C31) -> 0 | D32: =SUM(D28:D31) -> 0 | E32: =SUM(E28:E31) -> 0 | F32: =SUM(F28:F31) -> 0 | G32: =SUM(G28:G31) -> 0 | H32: =SUM(H28:H31) -> 0 | I32: =SUM(I28:I31) -> 0 | ... M32: =SUM(M28:M31) -> 0 | N32: =SUM(B32:M32) -> 111
A33: % | B33: =B32/B7 -> 0 | C33: =C32/C7 -> #DIV/0! | D33: =D32/D7 -> #DIV/0! | E33: =E32/E7 -> #DIV/0! | F33: =F32/F7 -> #DIV/0! | G33: =G32/G7 -> #DIV/0! | H33: =H32/H7 -> #DIV/0! | I33: =I32/I7 -> #DIV/0! | ... N33: =N32/N7 -> 0.71153846
A34: NB DE DOSSIERS | B34: =B32/COUNTA($A$3:$A$6) -> 0 | C34: =C32/COUNTA($A$3:$A$6) -> 0 | D34: =D32/COUNTA($A$3:$A$6) -> 0 | E34: =E32/COUNTA($A$3:$A$6) -> 0 | F34: =F32/COUNTA($A$3:$A$6) -> 0 | G34: =G32/COUNTA($A$3:$A$6) -> 0 | H34: =H32/COUNTA($A$3:$A$6) -> 0 | I34: =I32/COUNTA($A$3:$A$6) -> 0 | ... M34: =M32/COUNTA($A$3:$A$6) -> 0 | N34: =SUM(B34:M34) -> 27.75
A36: CONTROLES | B36: N/A
B37: 41640 | C37: =DATE(YEAR(B37),MONTH(B37)+1,DAY(B37)) -> 41671 | D37: =DATE(YEAR(C37),MONTH(C37)+1,DAY(C37)) -> 41699 | E37: =DATE(YEAR(D37),MONTH(D37)+1,DAY(D37)) -> 41730 | F37: =DATE(YEAR(E37),MONTH(E37)+1,DAY(E37)) -> 41760 | G37: =DATE(YEAR(F37),MONTH(F37)+1,DAY(F37)) -> 41791 | H37: =DATE(YEAR(G37),MONTH(G37)+1,DAY(G37)) -> 41821 | I37: =DATE(YEAR(H37),MONTH(H37)+1,DAY(H37)) -> 41852 | J37: =DATE(YEAR(I37),MONTH(I37)+1,DAY(I37)) -> 41883 | ... M37: =DATE(YEAR(L37),MONTH(L37)+1,DAY(L37)) -> 41974 | N37: Cumul
A38: C1 | B38: =SUMPRODUCT((controleur_1!$G$5:$G$1000=$A38)*(MONTH(controleur_1!$C$5:$C$1000)=MONTH(B$17)*(controleur_1!$H$5:$H$1000=$B$36)))+SUMPRODUCT((controleur_2!$G$5:$G$1000=$A38)*(MONTH(controleur_2!$C$5:$C$1000)=MONTH(B$17)*(controleur_2!$H$5:$H$1000=$B$36)))+SUMPRODUCT((controleur_3!$G$5:$G$1000=$A38)*(MONTH(controleur_3!$C$5:$C$1000)=MONTH(B$17)*(controleur_3!$H$5:$H$1000=$B$36))) -> 3 | C38: =SUMPRODUCT((controleur_1!$G$5:$G$1000=$A38)*(MONTH(controleur_1!$C$5:$C$1000)=MONTH(C$17)*(controleur_1!$H$5:$H$1000=$B$36)))+SUMPRODUCT((controleur_2!$G$5:$G$1000=$A38)*(MONTH(controleur_2!$C$5:$C$1000)=MONTH(C$17)*(controleur_2!$H$5:$H$1000=$B$36)))+SUMPRODUCT((controleur_3!$G$5:$G$1000=$A38)*(MONTH(controleur_3!$C$5:$C$1000)=MONTH(C$17)*(controleur_3!$H$5:$H$1000=$B$36))) -> 0 | D38: =SUMPRODUCT((controleur_1!$G$5:$G$1000=$A38)*(MONTH(controleur_1!$C$5:$C$1000)=MONTH(D$17)*(controleur_1!$H$5:$H$1000=$B$36)))+SUMPRODUCT((controleur_2!$G$5:$G$1000=$A38)*(MONTH(controleur_2!$C$5:$C$1000)=MONTH(D$17)*(controleur_2!$H$5:$H$1000=$B$36)))+SUMPRODUCT((controleur_3!$G$5:$G$1000=$A38)*(MONTH(controleur_3!$C$5:$C$1000)=MONTH(D$17)*(controleur_3!$H$5:$H$1000=$B$36))) -> 0 | E38: =SUMPRODUCT((controleur_1!$G$5:$G$1000=$A38)*(MONTH(controleur_1!$C$5:$C$1000)=MONTH(E$17)*(controleur_1!$H$5:$H$1000=$B$36)))+SUMPRODUCT((controleur_2!$G$5:$G$1000=$A38)*(MONTH(controleur_2!$C$5:$C$1000)=MONTH(E$17)*(controleur_2!$H$5:$H$1000=$B$36)))+SUMPRODUCT((controleur_3!$G$5:$G$1000=$A38)*(MONTH(controleur_3!$C$5:$C$1000)=MONTH(E$17)*(controleur_3!$H$5:$H$1000=$B$36))) -> 0 | F38: =SUMPRODUCT((controleur_1!$G$5:$G$1000=$A38)*(MONTH(controleur_1!$C$5:$C$1000)=MONTH(F$17)*(controleur_1!$H$5:$H$1000=$B$36)))+SUMPRODUCT((controleur_2!$G$5:$G$1000=$A38)*(MONTH(controleur_2!$C$5:$C$1000)=MONTH(F$17)*(controleur_2!$H$5:$H$1000=$B$36)))+SUMPRODUCT((controleur_3!$G$5:$G$1000=$A38)*(MONTH(controleur_3!$C$5:$C$1000)=MONTH(F$17)*(controleur_3!$H$5:$H$1000=$B$36))) -> 0 | G38: =SUMPRODUCT((controleur_1!$G$5:$G$1000=$A38)*(MONTH(controleur_1!$C$5:$C$1000)=MONTH(G$17)*(controleur_1!$H$5:$H$1000=$B$36)))+SUMPRODUCT((controleur_2!$G$5:$G$1000=$A38)*(MONTH(controleur_2!$C$5:$C$1000)=MONTH(G$17)*(controleur_2!$H$5:$H$1000=$B$36)))+SUMPRODUCT((controleur_3!$G$5:$G$1000=$A38)*(MONTH(controleur_3!$C$5:$C$1000)=MONTH(G$17)*(controleur_3!$H$5:$H$1000=$B$36))) -> 0 | H38: =SUMPRODUCT((controleur_1!$G$5:$G$1000=$A38)*(MONTH(controleur_1!$C$5:$C$1000)=MONTH(H$17)*(controleur_1!$H$5:$H$1000=$B$36)))+SUMPRODUCT((controleur_2!$G$5:$G$1000=$A38)*(MONTH(controleur_2!$C$5:$C$1000)=MONTH(H$17)*(controleur_2!$H$5:$H$1000=$B$36)))+SUMPRODUCT((controleur_3!$G$5:$G$1000=$A38)*(MONTH(controleur_3!$C$5:$C$1000)=MONTH(H$17)*(controleur_3!$H$5:$H$1000=$B$36))) -> 0 | I38: =SUMPRODUCT((controleur_1!$G$5:$G$1000=$A38)*(MONTH(controleur_1!$C$5:$C$1000)=MONTH(I$17)*(controleur_1!$H$5:$H$1000=$B$36)))+SUMPRODUCT((controleur_2!$G$5:$G$1000=$A38)*(MONTH(controleur_2!$C$5:$C$1000)=MONTH(I$17)*(controleur_2!$H$5:$H$1000=$B$36)))+SUMPRODUCT((controleur_3!$G$5:$G$1000=$A38)*(MONTH(controleur_3!$C$5:$C$1000)=MONTH(I$17)*(controleur_3!$H$5:$H$1000=$B$36))) -> 0 | ... M38: =SUMPRODUCT((controleur_1!$G$5:$G$1000=$A38)*(MONTH(controleur_1!$C$5:$C$1000)=MONTH(M$17)*(controleur_1!$H$5:$H$1000=$B$36)))+SUMPRODUCT((controleur_2!$G$5:$G$1000=$A38)*(MONTH(controleur_2!$C$5:$C$1000)=MONTH(M$17)*(controleur_2!$H$5:$H$1000=$B$36)))+SUMPRODUCT((controleur_3!$G$5:$G$1000=$A38)*(MONTH(controleur_3!$C$5:$C$1000)=MONTH(M$17)*(controleur_3!$H$5:$H$1000=$B$36))) -> 0 | N38: =SUM(B38:M38) -> 3
A39: C2 | B39: =SUMPRODUCT((controleur_1!$G$5:$G$1000=$A39)*(MONTH(controleur_1!$C$5:$C$1000)=MONTH(B$17)*(controleur_1!$H$5:$H$1000=$B$36)))+SUMPRODUCT((controleur_2!$G$5:$G$1000=$A39)*(MONTH(controleur_2!$C$5:$C$1000)=MONTH(B$17)*(controleur_2!$H$5:$H$1000=$B$36)))+SUMPRODUCT((controleur_3!$G$5:$G$1000=$A39)*(MONTH(controleur_3!$C$5:$C$1000)=MONTH(B$17)*(controleur_3!$H$5:$H$1000=$B$36))) -> 3 | C39: =SUMPRODUCT((controleur_1!$G$5:$G$1000=$A39)*(MONTH(controleur_1!$C$5:$C$1000)=MONTH(C$17)*(controleur_1!$H$5:$H$1000=$B$36)))+SUMPRODUCT((controleur_2!$G$5:$G$1000=$A39)*(MONTH(controleur_2!$C$5:$C$1000)=MONTH(C$17)*(controleur_2!$H$5:$H$1000=$B$36)))+SUMPRODUCT((controleur_3!$G$5:$G$1000=$A39)*(MONTH(controleur_3!$C$5:$C$1000)=MONTH(C$17)*(controleur_3!$H$5:$H$1000=$B$36))) -> 0 | D39: =SUMPRODUCT((controleur_1!$G$5:$G$1000=$A39)*(MONTH(controleur_1!$C$5:$C$1000)=MONTH(D$17)*(controleur_1!$H$5:$H$1000=$B$36)))+SUMPRODUCT((controleur_2!$G$5:$G$1000=$A39)*(MONTH(controleur_2!$C$5:$C$1000)=MONTH(D$17)*(controleur_2!$H$5:$H$1000=$B$36)))+SUMPRODUCT((controleur_3!$G$5:$G$1000=$A39)*(MONTH(controleur_3!$C$5:$C$1000)=MONTH(D$17)*(controleur_3!$H$5:$H$1000=$B$36))) -> 0 | E39: =SUMPRODUCT((controleur_1!$G$5:$G$1000=$A39)*(MONTH(controleur_1!$C$5:$C$1000)=MONTH(E$17)*(controleur_1!$H$5:$H$1000=$B$36)))+SUMPRODUCT((controleur_2!$G$5:$G$1000=$A39)*(MONTH(controleur_2!$C$5:$C$1000)=MONTH(E$17)*(controleur_2!$H$5:$H$1000=$B$36)))+SUMPRODUCT((controleur_3!$G$5:$G$1000=$A39)*(MONTH(controleur_3!$C$5:$C$1000)=MONTH(E$17)*(controleur_3!$H$5:$H$1000=$B$36))) -> 0 | F39: =SUMPRODUCT((controleur_1!$G$5:$G$1000=$A39)*(MONTH(controleur_1!$C$5:$C$1000)=MONTH(F$17)*(controleur_1!$H$5:$H$1000=$B$36)))+SUMPRODUCT((controleur_2!$G$5:$G$1000=$A39)*(MONTH(controleur_2!$C$5:$C$1000)=MONTH(F$17)*(controleur_2!$H$5:$H$1000=$B$36)))+SUMPRODUCT((controleur_3!$G$5:$G$1000=$A39)*(MONTH(controleur_3!$C$5:$C$1000)=MONTH(F$17)*(controleur_3!$H$5:$H$1000=$B$36))) -> 0 | G39: =SUMPRODUCT((controleur_1!$G$5:$G$1000=$A39)*(MONTH(controleur_1!$C$5:$C$1000)=MONTH(G$17)*(controleur_1!$H$5:$H$1000=$B$36)))+SUMPRODUCT((controleur_2!$G$5:$G$1000=$A39)*(MONTH(controleur_2!$C$5:$C$1000)=MONTH(G$17)*(controleur_2!$H$5:$H$1000=$B$36)))+SUMPRODUCT((controleur_3!$G$5:$G$1000=$A39)*(MONTH(controleur_3!$C$5:$C$1000)=MONTH(G$17)*(controleur_3!$H$5:$H$1000=$B$36))) -> 0 | H39: =SUMPRODUCT((controleur_1!$G$5:$G$1000=$A39)*(MONTH(controleur_1!$C$5:$C$1000)=MONTH(H$17)*(controleur_1!$H$5:$H$1000=$B$36)))+SUMPRODUCT((controleur_2!$G$5:$G$1000=$A39)*(MONTH(controleur_2!$C$5:$C$1000)=MONTH(H$17)*(controleur_2!$H$5:$H$1000=$B$36)))+SUMPRODUCT((controleur_3!$G$5:$G$1000=$A39)*(MONTH(controleur_3!$C$5:$C$1000)=MONTH(H$17)*(controleur_3!$H$5:$H$1000=$B$36))) -> 0 | I39: =SUMPRODUCT((controleur_1!$G$5:$G$1000=$A39)*(MONTH(controleur_1!$C$5:$C$1000)=MONTH(I$17)*(controleur_1!$H$5:$H$1000=$B$36)))+SUMPRODUCT((controleur_2!$G$5:$G$1000=$A39)*(MONTH(controleur_2!$C$5:$C$1000)=MONTH(I$17)*(controleur_2!$H$5:$H$1000=$B$36)))+SUMPRODUCT((controleur_3!$G$5:$G$1000=$A39)*(MONTH(controleur_3!$C$5:$C$1000)=MONTH(I$17)*(controleur_3!$H$5:$H$1000=$B$36))) -> 0 | ... M39: =SUMPRODUCT((controleur_1!$G$5:$G$1000=$A39)*(MONTH(controleur_1!$C$5:$C$1000)=MONTH(M$17)*(controleur_1!$H$5:$H$1000=$B$36)))+SUMPRODUCT((controleur_2!$G$5:$G$1000=$A39)*(MONTH(controleur_2!$C$5:$C$1000)=MONTH(M$17)*(controleur_2!$H$5:$H$1000=$B$36)))+SUMPRODUCT((controleur_3!$G$5:$G$1000=$A39)*(MONTH(controleur_3!$C$5:$C$1000)=MONTH(M$17)*(controleur_3!$H$5:$H$1000=$B$36))) -> 0 | N39: =SUM(B39:M39) -> 21
A40: C3 | B40: =SUMPRODUCT((controleur_1!$G$5:$G$1000=$A40)*(MONTH(controleur_1!$C$5:$C$1000)=MONTH(B$17)*(controleur_1!$H$5:$H$1000=$B$36)))+SUMPRODUCT((controleur_2!$G$5:$G$1000=$A40)*(MONTH(controleur_2!$C$5:$C$1000)=MONTH(B$17)*(controleur_2!$H$5:$H$1000=$B$36)))+SUMPRODUCT((controleur_3!$G$5:$G$1000=$A40)*(MONTH(controleur_3!$C$5:$C$1000)=MONTH(B$17)*(controleur_3!$H$5:$H$1000=$B$36))) -> 3 | C40: =SUMPRODUCT((controleur_1!$G$5:$G$1000=$A40)*(MONTH(controleur_1!$C$5:$C$1000)=MONTH(C$17)*(controleur_1!$H$5:$H$1000=$B$36)))+SUMPRODUCT((controleur_2!$G$5:$G$1000=$A40)*(MONTH(controleur_2!$C$5:$C$1000)=MONTH(C$17)*(controleur_2!$H$5:$H$1000=$B$36)))+SUMPRODUCT((controleur_3!$G$5:$G$1000=$A40)*(MONTH(controleur_3!$C$5:$C$1000)=MONTH(C$17)*(controleur_3!$H$5:$H$1000=$B$36))) -> 0 | D40: =SUMPRODUCT((controleur_1!$G$5:$G$1000=$A40)*(MONTH(controleur_1!$C$5:$C$1000)=MONTH(D$17)*(controleur_1!$H$5:$H$1000=$B$36)))+SUMPRODUCT((controleur_2!$G$5:$G$1000=$A40)*(MONTH(controleur_2!$C$5:$C$1000)=MONTH(D$17)*(controleur_2!$H$5:$H$1000=$B$36)))+SUMPRODUCT((controleur_3!$G$5:$G$1000=$A40)*(MONTH(controleur_3!$C$5:$C$1000)=MONTH(D$17)*(controleur_3!$H$5:$H$1000=$B$36))) -> 0 | E40: =SUMPRODUCT((controleur_1!$G$5:$G$1000=$A40)*(MONTH(controleur_1!$C$5:$C$1000)=MONTH(E$17)*(controleur_1!$H$5:$H$1000=$B$36)))+SUMPRODUCT((controleur_2!$G$5:$G$1000=$A40)*(MONTH(controleur_2!$C$5:$C$1000)=MONTH(E$17)*(controleur_2!$H$5:$H$1000=$B$36)))+SUMPRODUCT((controleur_3!$G$5:$G$1000=$A40)*(MONTH(controleur_3!$C$5:$C$1000)=MONTH(E$17)*(controleur_3!$H$5:$H$1000=$B$36))) -> 0 | F40: =SUMPRODUCT((controleur_1!$G$5:$G$1000=$A40)*(MONTH(controleur_1!$C$5:$C$1000)=MONTH(F$17)*(controleur_1!$H$5:$H$1000=$B$36)))+SUMPRODUCT((controleur_2!$G$5:$G$1000=$A40)*(MONTH(controleur_2!$C$5:$C$1000)=MONTH(F$17)*(controleur_2!$H$5:$H$1000=$B$36)))+SUMPRODUCT((controleur_3!$G$5:$G$1000=$A40)*(MONTH(controleur_3!$C$5:$C$1000)=MONTH(F$17)*(controleur_3!$H$5:$H$1000=$B$36))) -> 0 | G40: =SUMPRODUCT((controleur_1!$G$5:$G$1000=$A40)*(MONTH(controleur_1!$C$5:$C$1000)=MONTH(G$17)*(controleur_1!$H$5:$H$1000=$B$36)))+SUMPRODUCT((controleur_2!$G$5:$G$1000=$A40)*(MONTH(controleur_2!$C$5:$C$1000)=MONTH(G$17)*(controleur_2!$H$5:$H$1000=$B$36)))+SUMPRODUCT((controleur_3!$G$5:$G$1000=$A40)*(MONTH(controleur_3!$C$5:$C$1000)=MONTH(G$17)*(controleur_3!$H$5:$H$1000=$B$36))) -> 0 | H40: =SUMPRODUCT((controleur_1!$G$5:$G$1000=$A40)*(MONTH(controleur_1!$C$5:$C$1000)=MONTH(H$17)*(controleur_1!$H$5:$H$1000=$B$36)))+SUMPRODUCT((controleur_2!$G$5:$G$1000=$A40)*(MONTH(controleur_2!$C$5:$C$1000)=MONTH(H$17)*(controleur_2!$H$5:$H$1000=$B$36)))+SUMPRODUCT((controleur_3!$G$5:$G$1000=$A40)*(MONTH(controleur_3!$C$5:$C$1000)=MONTH(H$17)*(controleur_3!$H$5:$H$1000=$B$36))) -> 0 | I40: =SUMPRODUCT((controleur_1!$G$5:$G$1000=$A40)*(MONTH(controleur_1!$C$5:$C$1000)=MONTH(I$17)*(controleur_1!$H$5:$H$1000=$B$36)))+SUMPRODUCT((controleur_2!$G$5:$G$1000=$A40)*(MONTH(controleur_2!$C$5:$C$1000)=MONTH(I$17)*(controleur_2!$H$5:$H$1000=$B$36)))+SUMPRODUCT((controleur_3!$G$5:$G$1000=$A40)*(MONTH(controleur_3!$C$5:$C$1000)=MONTH(I$17)*(controleur_3!$H$5:$H$1000=$B$36))) -> 0 | ... M40: =SUMPRODUCT((controleur_1!$G$5:$G$1000=$A40)*(MONTH(controleur_1!$C$5:$C$1000)=MONTH(M$17)*(controleur_1!$H$5:$H$1000=$B$36)))+SUMPRODUCT((controleur_2!$G$5:$G$1000=$A40)*(MONTH(controleur_2!$C$5:$C$1000)=MONTH(M$17)*(controleur_2!$H$5:$H$1000=$B$36)))+SUMPRODUCT((controleur_3!$G$5:$G$1000=$A40)*(MONTH(controleur_3!$C$5:$C$1000)=MONTH(M$17)*(controleur_3!$H$5:$H$1000=$B$36))) -> 0 | N40: =SUM(B40:M40) -> 3
A41: C4 | B41: =SUMPRODUCT((controleur_1!$G$5:$G$1000=$A41)*(MONTH(controleur_1!$C$5:$C$1000)=MONTH(B$17)*(controleur_1!$H$5:$H$1000=$B$36)))+SUMPRODUCT((controleur_2!$G$5:$G$1000=$A41)*(MONTH(controleur_2!$C$5:$C$1000)=MONTH(B$17)*(controleur_2!$H$5:$H$1000=$B$36)))+SUMPRODUCT((controleur_3!$G$5:$G$1000=$A41)*(MONTH(controleur_3!$C$5:$C$1000)=MONTH(B$17)*(controleur_3!$H$5:$H$1000=$B$36))) -> 3 | C41: =SUMPRODUCT((controleur_1!$G$5:$G$1000=$A41)*(MONTH(controleur_1!$C$5:$C$1000)=MONTH(C$17)*(controleur_1!$H$5:$H$1000=$B$36)))+SUMPRODUCT((controleur_2!$G$5:$G$1000=$A41)*(MONTH(controleur_2!$C$5:$C$1000)=MONTH(C$17)*(controleur_2!$H$5:$H$1000=$B$36)))+SUMPRODUCT((controleur_3!$G$5:$G$1000=$A41)*(MONTH(controleur_3!$C$5:$C$1000)=MONTH(C$17)*(controleur_3!$H$5:$H$1000=$B$36))) -> 0 | D41: =SUMPRODUCT((controleur_1!$G$5:$G$1000=$A41)*(MONTH(controleur_1!$C$5:$C$1000)=MONTH(D$17)*(controleur_1!$H$5:$H$1000=$B$36)))+SUMPRODUCT((controleur_2!$G$5:$G$1000=$A41)*(MONTH(controleur_2!$C$5:$C$1000)=MONTH(D$17)*(controleur_2!$H$5:$H$1000=$B$36)))+SUMPRODUCT((controleur_3!$G$5:$G$1000=$A41)*(MONTH(controleur_3!$C$5:$C$1000)=MONTH(D$17)*(controleur_3!$H$5:$H$1000=$B$36))) -> 0 | E41: =SUMPRODUCT((controleur_1!$G$5:$G$1000=$A41)*(MONTH(controleur_1!$C$5:$C$1000)=MONTH(E$17)*(controleur_1!$H$5:$H$1000=$B$36)))+SUMPRODUCT((controleur_2!$G$5:$G$1000=$A41)*(MONTH(controleur_2!$C$5:$C$1000)=MONTH(E$17)*(controleur_2!$H$5:$H$1000=$B$36)))+SUMPRODUCT((controleur_3!$G$5:$G$1000=$A41)*(MONTH(controleur_3!$C$5:$C$1000)=MONTH(E$17)*(controleur_3!$H$5:$H$1000=$B$36))) -> 0 | F41: =SUMPRODUCT((controleur_1!$G$5:$G$1000=$A41)*(MONTH(controleur_1!$C$5:$C$1000)=MONTH(F$17)*(controleur_1!$H$5:$H$1000=$B$36)))+SUMPRODUCT((controleur_2!$G$5:$G$1000=$A41)*(MONTH(controleur_2!$C$5:$C$1000)=MONTH(F$17)*(controleur_2!$H$5:$H$1000=$B$36)))+SUMPRODUCT((controleur_3!$G$5:$G$1000=$A41)*(MONTH(controleur_3!$C$5:$C$1000)=MONTH(F$17)*(controleur_3!$H$5:$H$1000=$B$36))) -> 0 | G41: =SUMPRODUCT((controleur_1!$G$5:$G$1000=$A41)*(MONTH(controleur_1!$C$5:$C$1000)=MONTH(G$17)*(controleur_1!$H$5:$H$1000=$B$36)))+SUMPRODUCT((controleur_2!$G$5:$G$1000=$A41)*(MONTH(controleur_2!$C$5:$C$1000)=MONTH(G$17)*(controleur_2!$H$5:$H$1000=$B$36)))+SUMPRODUCT((controleur_3!$G$5:$G$1000=$A41)*(MONTH(controleur_3!$C$5:$C$1000)=MONTH(G$17)*(controleur_3!$H$5:$H$1000=$B$36))) -> 0 | H41: =SUMPRODUCT((controleur_1!$G$5:$G$1000=$A41)*(MONTH(controleur_1!$C$5:$C$1000)=MONTH(H$17)*(controleur_1!$H$5:$H$1000=$B$36)))+SUMPRODUCT((controleur_2!$G$5:$G$1000=$A41)*(MONTH(controleur_2!$C$5:$C$1000)=MONTH(H$17)*(controleur_2!$H$5:$H$1000=$B$36)))+SUMPRODUCT((controleur_3!$G$5:$G$1000=$A41)*(MONTH(controleur_3!$C$5:$C$1000)=MONTH(H$17)*(controleur_3!$H$5:$H$1000=$B$36))) -> 0 | I41: =SUMPRODUCT((controleur_1!$G$5:$G$1000=$A41)*(MONTH(controleur_1!$C$5:$C$1000)=MONTH(I$17)*(controleur_1!$H$5:$H$1000=$B$36)))+SUMPRODUCT((controleur_2!$G$5:$G$1000=$A41)*(MONTH(controleur_2!$C$5:$C$1000)=MONTH(I$17)*(controleur_2!$H$5:$H$1000=$B$36)))+SUMPRODUCT((controleur_3!$G$5:$G$1000=$A41)*(MONTH(controleur_3!$C$5:$C$1000)=MONTH(I$17)*(controleur_3!$H$5:$H$1000=$B$36))) -> 0 | ... M41: =SUMPRODUCT((controleur_1!$G$5:$G$1000=$A41)*(MONTH(controleur_1!$C$5:$C$1000)=MONTH(M$17)*(controleur_1!$H$5:$H$1000=$B$36)))+SUMPRODUCT((controleur_2!$G$5:$G$1000=$A41)*(MONTH(controleur_2!$C$5:$C$1000)=MONTH(M$17)*(controleur_2!$H$5:$H$1000=$B$36)))+SUMPRODUCT((controleur_3!$G$5:$G$1000=$A41)*(MONTH(controleur_3!$C$5:$C$1000)=MONTH(M$17)*(controleur_3!$H$5:$H$1000=$B$36))) -> 0 | N41: =SUM(B41:M41) -> 3
A42: Total | B42: =SUM(B38:B41) -> 12 | C42: =SUM(C38:C41) -> 0 | D42: =SUM(D38:D41) -> 0 | E42: =SUM(E38:E41) -> 0 | F42: =SUM(F38:F41) -> 0 | G42: =SUM(G38:G41) -> 0 | H42: =SUM(H38:H41) -> 0 | I42: =SUM(I38:I41) -> 0 | ... M42: =SUM(M38:M41) -> 0 | N42: =SUM(B42:M42) -> 30
A43: % | B43: =B42/B7 -> 1 | C43: =C42/C7 -> #DIV/0! | D43: =D42/D7 -> #DIV/0! | E43: =E42/E7 -> #DIV/0! | F43: =F42/F7 -> #DIV/0! | G43: =G42/G7 -> #DIV/0! | H43: =H42/H7 -> #DIV/0! | I43: =I42/I7 -> #DIV/0! | ... N43: =N42/N7 -> 0.19230769
A46: Nb de contrôles par user : | B46: KO
B47: Janvier | C47: Février | D47: Mars | E47: Avril | F47: Mai | G47: Juin | H47: Juillet | I47: Août | J47: Septembre | K47: Octobre | L47: Novembre | M47: Décembre | N47: Cumul
A48: U7MAA1 | B48: =SUMPRODUCT((controleur_1!$F$5:$F$1000=$A48)*(MONTH(controleur_1!$C$5:$C$1000)=MONTH(B$17)*(controleur_1!$H$5:$H$1000=$B$46)))+SUMPRODUCT((controleur_2!$F$5:$F$1000=$A48)*(MONTH(controleur_2!$C$5:$C$1000)=MONTH(B$17)*(controleur_2!$H$5:$H$1000=$B$46)))+SUMPRODUCT((controleur_3!$F$5:$F$1000=$A48)*(MONTH(controleur_3!$C$5:$C$1000)=MONTH(B$17)*(controleur_3!$H$5:$H$1000=$B$46))) -> 0 | C48: =SUMPRODUCT((controleur_1!$F$5:$F$1000=$A48)*(MONTH(controleur_1!$C$5:$C$1000)=MONTH(C$17)*(controleur_1!$H$5:$H$1000=$B$46)))+SUMPRODUCT((controleur_2!$F$5:$F$1000=$A48)*(MONTH(controleur_2!$C$5:$C$1000)=MONTH(C$17)*(controleur_2!$H$5:$H$1000=$B$46)))+SUMPRODUCT((controleur_3!$F$5:$F$1000=$A48)*(MONTH(controleur_3!$C$5:$C$1000)=MONTH(C$17)*(controleur_3!$H$5:$H$1000=$B$46))) -> 0 | D48: =SUMPRODUCT((controleur_1!$F$5:$F$1000=$A48)*(MONTH(controleur_1!$C$5:$C$1000)=MONTH(D$17)*(controleur_1!$H$5:$H$1000=$B$46)))+SUMPRODUCT((controleur_2!$F$5:$F$1000=$A48)*(MONTH(controleur_2!$C$5:$C$1000)=MONTH(D$17)*(controleur_2!$H$5:$H$1000=$B$46)))+SUMPRODUCT((controleur_3!$F$5:$F$1000=$A48)*(MONTH(controleur_3!$C$5:$C$1000)=MONTH(D$17)*(controleur_3!$H$5:$H$1000=$B$46))) -> 0 | E48: =SUMPRODUCT((controleur_1!$F$5:$F$1000=$A48)*(MONTH(controleur_1!$C$5:$C$1000)=MONTH(E$17)*(controleur_1!$H$5:$H$1000=$B$46)))+SUMPRODUCT((controleur_2!$F$5:$F$1000=$A48)*(MONTH(controleur_2!$C$5:$C$1000)=MONTH(E$17)*(controleur_2!$H$5:$H$1000=$B$46)))+SUMPRODUCT((controleur_3!$F$5:$F$1000=$A48)*(MONTH(controleur_3!$C$5:$C$1000)=MONTH(E$17)*(controleur_3!$H$5:$H$1000=$B$46))) -> 0 | F48: =SUMPRODUCT((controleur_1!$F$5:$F$1000=$A48)*(MONTH(controleur_1!$C$5:$C$1000)=MONTH(F$17)*(controleur_1!$H$5:$H$1000=$B$46)))+SUMPRODUCT((controleur_2!$F$5:$F$1000=$A48)*(MONTH(controleur_2!$C$5:$C$1000)=MONTH(F$17)*(controleur_2!$H$5:$H$1000=$B$46)))+SUMPRODUCT((controleur_3!$F$5:$F$1000=$A48)*(MONTH(controleur_3!$C$5:$C$1000)=MONTH(F$17)*(controleur_3!$H$5:$H$1000=$B$46))) -> 0 | G48: =SUMPRODUCT((controleur_1!$F$5:$F$1000=$A48)*(MONTH(controleur_1!$C$5:$C$1000)=MONTH(G$17)*(controleur_1!$H$5:$H$1000=$B$46)))+SUMPRODUCT((controleur_2!$F$5:$F$1000=$A48)*(MONTH(controleur_2!$C$5:$C$1000)=MONTH(G$17)*(controleur_2!$H$5:$H$1000=$B$46)))+SUMPRODUCT((controleur_3!$F$5:$F$1000=$A48)*(MONTH(controleur_3!$C$5:$C$1000)=MONTH(G$17)*(controleur_3!$H$5:$H$1000=$B$46))) -> 0 | H48: =SUMPRODUCT((controleur_1!$F$5:$F$1000=$A48)*(MONTH(controleur_1!$C$5:$C$1000)=MONTH(H$17)*(controleur_1!$H$5:$H$1000=$B$46)))+SUMPRODUCT((controleur_2!$F$5:$F$1000=$A48)*(MONTH(controleur_2!$C$5:$C$1000)=MONTH(H$17)*(controleur_2!$H$5:$H$1000=$B$46)))+SUMPRODUCT((controleur_3!$F$5:$F$1000=$A48)*(MONTH(controleur_3!$C$5:$C$1000)=MONTH(H$17)*(controleur_3!$H$5:$H$1000=$B$46))) -> 0 | I48: =SUMPRODUCT((controleur_1!$F$5:$F$1000=$A48)*(MONTH(controleur_1!$C$5:$C$1000)=MONTH(I$17)*(controleur_1!$H$5:$H$1000=$B$46)))+SUMPRODUCT((controleur_2!$F$5:$F$1000=$A48)*(MONTH(controleur_2!$C$5:$C$1000)=MONTH(I$17)*(controleur_2!$H$5:$H$1000=$B$46)))+SUMPRODUCT((controleur_3!$F$5:$F$1000=$A48)*(MONTH(controleur_3!$C$5:$C$1000)=MONTH(I$17)*(controleur_3!$H$5:$H$1000=$B$46))) -> 0 | ... M48: =SUMPRODUCT((controleur_1!$F$5:$F$1000=$A48)*(MONTH(controleur_1!$C$5:$C$1000)=MONTH(M$17)*(controleur_1!$H$5:$H$1000=$B$46)))+SUMPRODUCT((controleur_2!$F$5:$F$1000=$A48)*(MONTH(controleur_2!$C$5:$C$1000)=MONTH(M$17)*(controleur_2!$H$5:$H$1000=$B$46)))+SUMPRODUCT((controleur_3!$F$5:$F$1000=$A48)*(MONTH(controleur_3!$C$5:$C$1000)=MONTH(M$17)*(controleur_3!$H$5:$H$1000=$B$46))) -> 0 | N48: =SUM(B48:M48) -> 4
A49: BOI | B49: =SUMPRODUCT((controleur_1!$F$5:$F$1000=$A49)*(MONTH(controleur_1!$C$5:$C$1000)=MONTH(B$17)*(controleur_1!$H$5:$H$1000=$B$46)))+SUMPRODUCT((controleur_2!$F$5:$F$1000=$A49)*(MONTH(controleur_2!$C$5:$C$1000)=MONTH(B$17)*(controleur_2!$H$5:$H$1000=$B$46)))+SUMPRODUCT((controleur_3!$F$5:$F$1000=$A49)*(MONTH(controleur_3!$C$5:$C$1000)=MONTH(B$17)*(controleur_3!$H$5:$H$1000=$B$46))) -> 0 | C49: =SUMPRODUCT((controleur_1!$F$5:$F$1000=$A49)*(MONTH(controleur_1!$C$5:$C$1000)=MONTH(C$17)*(controleur_1!$H$5:$H$1000=$B$46)))+SUMPRODUCT((controleur_2!$F$5:$F$1000=$A49)*(MONTH(controleur_2!$C$5:$C$1000)=MONTH(C$17)*(controleur_2!$H$5:$H$1000=$B$46)))+SUMPRODUCT((controleur_3!$F$5:$F$1000=$A49)*(MONTH(controleur_3!$C$5:$C$1000)=MONTH(C$17)*(controleur_3!$H$5:$H$1000=$B$46))) -> 0 | D49: =SUMPRODUCT((controleur_1!$F$5:$F$1000=$A49)*(MONTH(controleur_1!$C$5:$C$1000)=MONTH(D$17)*(controleur_1!$H$5:$H$1000=$B$46)))+SUMPRODUCT((controleur_2!$F$5:$F$1000=$A49)*(MONTH(controleur_2!$C$5:$C$1000)=MONTH(D$17)*(controleur_2!$H$5:$H$1000=$B$46)))+SUMPRODUCT((controleur_3!$F$5:$F$1000=$A49)*(MONTH(controleur_3!$C$5:$C$1000)=MONTH(D$17)*(controleur_3!$H$5:$H$1000=$B$46))) -> 0 | E49: =SUMPRODUCT((controleur_1!$F$5:$F$1000=$A49)*(MONTH(controleur_1!$C$5:$C$1000)=MONTH(E$17)*(controleur_1!$H$5:$H$1000=$B$46)))+SUMPRODUCT((controleur_2!$F$5:$F$1000=$A49)*(MONTH(controleur_2!$C$5:$C$1000)=MONTH(E$17)*(controleur_2!$H$5:$H$1000=$B$46)))+SUMPRODUCT((controleur_3!$F$5:$F$1000=$A49)*(MONTH(controleur_3!$C$5:$C$1000)=MONTH(E$17)*(controleur_3!$H$5:$H$1000=$B$46))) -> 0 | F49: =SUMPRODUCT((controleur_1!$F$5:$F$1000=$A49)*(MONTH(controleur_1!$C$5:$C$1000)=MONTH(F$17)*(controleur_1!$H$5:$H$1000=$B$46)))+SUMPRODUCT((controleur_2!$F$5:$F$1000=$A49)*(MONTH(controleur_2!$C$5:$C$1000)=MONTH(F$17)*(controleur_2!$H$5:$H$1000=$B$46)))+SUMPRODUCT((controleur_3!$F$5:$F$1000=$A49)*(MONTH(controleur_3!$C$5:$C$1000)=MONTH(F$17)*(controleur_3!$H$5:$H$1000=$B$46))) -> 0 | G49: =SUMPRODUCT((controleur_1!$F$5:$F$1000=$A49)*(MONTH(controleur_1!$C$5:$C$1000)=MONTH(G$17)*(controleur_1!$H$5:$H$1000=$B$46)))+SUMPRODUCT((controleur_2!$F$5:$F$1000=$A49)*(MONTH(controleur_2!$C$5:$C$1000)=MONTH(G$17)*(controleur_2!$H$5:$H$1000=$B$46)))+SUMPRODUCT((controleur_3!$F$5:$F$1000=$A49)*(MONTH(controleur_3!$C$5:$C$1000)=MONTH(G$17)*(controleur_3!$H$5:$H$1000=$B$46))) -> 0 | H49: =SUMPRODUCT((controleur_1!$F$5:$F$1000=$A49)*(MONTH(controleur_1!$C$5:$C$1000)=MONTH(H$17)*(controleur_1!$H$5:$H$1000=$B$46)))+SUMPRODUCT((controleur_2!$F$5:$F$1000=$A49)*(MONTH(controleur_2!$C$5:$C$1000)=MONTH(H$17)*(controleur_2!$H$5:$H$1000=$B$46)))+SUMPRODUCT((controleur_3!$F$5:$F$1000=$A49)*(MONTH(controleur_3!$C$5:$C$1000)=MONTH(H$17)*(controleur_3!$H$5:$H$1000=$B$46))) -> 0 | I49: =SUMPRODUCT((controleur_1!$F$5:$F$1000=$A49)*(MONTH(controleur_1!$C$5:$C$1000)=MONTH(I$17)*(controleur_1!$H$5:$H$1000=$B$46)))+SUMPRODUCT((controleur_2!$F$5:$F$1000=$A49)*(MONTH(controleur_2!$C$5:$C$1000)=MONTH(I$17)*(controleur_2!$H$5:$H$1000=$B$46)))+SUMPRODUCT((controleur_3!$F$5:$F$1000=$A49)*(MONTH(controleur_3!$C$5:$C$1000)=MONTH(I$17)*(controleur_3!$H$5:$H$1000=$B$46))) -> 0 | ... M49: =SUMPRODUCT((controleur_1!$F$5:$F$1000=$A49)*(MONTH(controleur_1!$C$5:$C$1000)=MONTH(M$17)*(controleur_1!$H$5:$H$1000=$B$46)))+SUMPRODUCT((controleur_2!$F$5:$F$1000=$A49)*(MONTH(controleur_2!$C$5:$C$1000)=MONTH(M$17)*(controleur_2!$H$5:$H$1000=$B$46)))+SUMPRODUCT((controleur_3!$F$5:$F$1000=$A49)*(MONTH(controleur_3!$C$5:$C$1000)=MONTH(M$17)*(controleur_3!$H$5:$H$1000=$B$46))) -> 0 | N49: =SUM(B49:M49) -> 0
A50: BUF | B50: =SUMPRODUCT((controleur_1!$F$5:$F$1000=$A50)*(MONTH(controleur_1!$C$5:$C$1000)=MONTH(B$17)*(controleur_1!$H$5:$H$1000=$B$46)))+SUMPRODUCT((controleur_2!$F$5:$F$1000=$A50)*(MONTH(controleur_2!$C$5:$C$1000)=MONTH(B$17)*(controleur_2!$H$5:$H$1000=$B$46)))+SUMPRODUCT((controleur_3!$F$5:$F$1000=$A50)*(MONTH(controleur_3!$C$5:$C$1000)=MONTH(B$17)*(controleur_3!$H$5:$H$1000=$B$46))) -> 0 | C50: =SUMPRODUCT((controleur_1!$F$5:$F$1000=$A50)*(MONTH(controleur_1!$C$5:$C$1000)=MONTH(C$17)*(controleur_1!$H$5:$H$1000=$B$46)))+SUMPRODUCT((controleur_2!$F$5:$F$1000=$A50)*(MONTH(controleur_2!$C$5:$C$1000)=MONTH(C$17)*(controleur_2!$H$5:$H$1000=$B$46)))+SUMPRODUCT((controleur_3!$F$5:$F$1000=$A50)*(MONTH(controleur_3!$C$5:$C$1000)=MONTH(C$17)*(controleur_3!$H$5:$H$1000=$B$46))) -> 0 | D50: =SUMPRODUCT((controleur_1!$F$5:$F$1000=$A50)*(MONTH(controleur_1!$C$5:$C$1000)=MONTH(D$17)*(controleur_1!$H$5:$H$1000=$B$46)))+SUMPRODUCT((controleur_2!$F$5:$F$1000=$A50)*(MONTH(controleur_2!$C$5:$C$1000)=MONTH(D$17)*(controleur_2!$H$5:$H$1000=$B$46)))+SUMPRODUCT((controleur_3!$F$5:$F$1000=$A50)*(MONTH(controleur_3!$C$5:$C$1000)=MONTH(D$17)*(controleur_3!$H$5:$H$1000=$B$46))) -> 0 | E50: =SUMPRODUCT((controleur_1!$F$5:$F$1000=$A50)*(MONTH(controleur_1!$C$5:$C$1000)=MONTH(E$17)*(controleur_1!$H$5:$H$1000=$B$46)))+SUMPRODUCT((controleur_2!$F$5:$F$1000=$A50)*(MONTH(controleur_2!$C$5:$C$1000)=MONTH(E$17)*(controleur_2!$H$5:$H$1000=$B$46)))+SUMPRODUCT((controleur_3!$F$5:$F$1000=$A50)*(MONTH(controleur_3!$C$5:$C$1000)=MONTH(E$17)*(controleur_3!$H$5:$H$1000=$B$46))) -> 0 | F50: =SUMPRODUCT((controleur_1!$F$5:$F$1000=$A50)*(MONTH(controleur_1!$C$5:$C$1000)=MONTH(F$17)*(controleur_1!$H$5:$H$1000=$B$46)))+SUMPRODUCT((controleur_2!$F$5:$F$1000=$A50)*(MONTH(controleur_2!$C$5:$C$1000)=MONTH(F$17)*(controleur_2!$H$5:$H$1000=$B$46)))+SUMPRODUCT((controleur_3!$F$5:$F$1000=$A50)*(MONTH(controleur_3!$C$5:$C$1000)=MONTH(F$17)*(controleur_3!$H$5:$H$1000=$B$46))) -> 0 | G50: =SUMPRODUCT((controleur_1!$F$5:$F$1000=$A50)*(MONTH(controleur_1!$C$5:$C$1000)=MONTH(G$17)*(controleur_1!$H$5:$H$1000=$B$46)))+SUMPRODUCT((controleur_2!$F$5:$F$1000=$A50)*(MONTH(controleur_2!$C$5:$C$1000)=MONTH(G$17)*(controleur_2!$H$5:$H$1000=$B$46)))+SUMPRODUCT((controleur_3!$F$5:$F$1000=$A50)*(MONTH(controleur_3!$C$5:$C$1000)=MONTH(G$17)*(controleur_3!$H$5:$H$1000=$B$46))) -> 0 | H50: =SUMPRODUCT((controleur_1!$F$5:$F$1000=$A50)*(MONTH(controleur_1!$C$5:$C$1000)=MONTH(H$17)*(controleur_1!$H$5:$H$1000=$B$46)))+SUMPRODUCT((controleur_2!$F$5:$F$1000=$A50)*(MONTH(controleur_2!$C$5:$C$1000)=MONTH(H$17)*(controleur_2!$H$5:$H$1000=$B$46)))+SUMPRODUCT((controleur_3!$F$5:$F$1000=$A50)*(MONTH(controleur_3!$C$5:$C$1000)=MONTH(H$17)*(controleur_3!$H$5:$H$1000=$B$46))) -> 0 | I50: =SUMPRODUCT((controleur_1!$F$5:$F$1000=$A50)*(MONTH(controleur_1!$C$5:$C$1000)=MONTH(I$17)*(controleur_1!$H$5:$H$1000=$B$46)))+SUMPRODUCT((controleur_2!$F$5:$F$1000=$A50)*(MONTH(controleur_2!$C$5:$C$1000)=MONTH(I$17)*(controleur_2!$H$5:$H$1000=$B$46)))+SUMPRODUCT((controleur_3!$F$5:$F$1000=$A50)*(MONTH(controleur_3!$C$5:$C$1000)=MONTH(I$17)*(controleur_3!$H$5:$H$1000=$B$46))) -> 0 | ... M50: =SUMPRODUCT((controleur_1!$F$5:$F$1000=$A50)*(MONTH(controleur_1!$C$5:$C$1000)=MONTH(M$17)*(controleur_1!$H$5:$H$1000=$B$46)))+SUMPRODUCT((controleur_2!$F$5:$F$1000=$A50)*(MONTH(controleur_2!$C$5:$C$1000)=MONTH(M$17)*(controleur_2!$H$5:$H$1000=$B$46)))+SUMPRODUCT((controleur_3!$F$5:$F$1000=$A50)*(MONTH(controleur_3!$C$5:$C$1000)=MONTH(M$17)*(controleur_3!$H$5:$H$1000=$B$46))) -> 0 | N50: =SUM(B50:M50) -> 0
A51: LUE | B51: =SUMPRODUCT((controleur_1!$F$5:$F$1000=$A51)*(MONTH(controleur_1!$C$5:$C$1000)=MONTH(B$17)*(controleur_1!$H$5:$H$1000=$B$46)))+SUMPRODUCT((controleur_2!$F$5:$F$1000=$A51)*(MONTH(controleur_2!$C$5:$C$1000)=MONTH(B$17)*(controleur_2!$H$5:$H$1000=$B$46)))+SUMPRODUCT((controleur_3!$F$5:$F$1000=$A51)*(MONTH(controleur_3!$C$5:$C$1000)=MONTH(B$17)*(controleur_3!$H$5:$H$1000=$B$46))) -> 0 | C51: =SUMPRODUCT((controleur_1!$F$5:$F$1000=$A51)*(MONTH(controleur_1!$C$5:$C$1000)=MONTH(C$17)*(controleur_1!$H$5:$H$1000=$B$46)))+SUMPRODUCT((controleur_2!$F$5:$F$1000=$A51)*(MONTH(controleur_2!$C$5:$C$1000)=MONTH(C$17)*(controleur_2!$H$5:$H$1000=$B$46)))+SUMPRODUCT((controleur_3!$F$5:$F$1000=$A51)*(MONTH(controleur_3!$C$5:$C$1000)=MONTH(C$17)*(controleur_3!$H$5:$H$1000=$B$46))) -> 0 | D51: =SUMPRODUCT((controleur_1!$F$5:$F$1000=$A51)*(MONTH(controleur_1!$C$5:$C$1000)=MONTH(D$17)*(controleur_1!$H$5:$H$1000=$B$46)))+SUMPRODUCT((controleur_2!$F$5:$F$1000=$A51)*(MONTH(controleur_2!$C$5:$C$1000)=MONTH(D$17)*(controleur_2!$H$5:$H$1000=$B$46)))+SUMPRODUCT((controleur_3!$F$5:$F$1000=$A51)*(MONTH(controleur_3!$C$5:$C$1000)=MONTH(D$17)*(controleur_3!$H$5:$H$1000=$B$46))) -> 0 | E51: =SUMPRODUCT((controleur_1!$F$5:$F$1000=$A51)*(MONTH(controleur_1!$C$5:$C$1000)=MONTH(E$17)*(controleur_1!$H$5:$H$1000=$B$46)))+SUMPRODUCT((controleur_2!$F$5:$F$1000=$A51)*(MONTH(controleur_2!$C$5:$C$1000)=MONTH(E$17)*(controleur_2!$H$5:$H$1000=$B$46)))+SUMPRODUCT((controleur_3!$F$5:$F$1000=$A51)*(MONTH(controleur_3!$C$5:$C$1000)=MONTH(E$17)*(controleur_3!$H$5:$H$1000=$B$46))) -> 0 | F51: =SUMPRODUCT((controleur_1!$F$5:$F$1000=$A51)*(MONTH(controleur_1!$C$5:$C$1000)=MONTH(F$17)*(controleur_1!$H$5:$H$1000=$B$46)))+SUMPRODUCT((controleur_2!$F$5:$F$1000=$A51)*(MONTH(controleur_2!$C$5:$C$1000)=MONTH(F$17)*(controleur_2!$H$5:$H$1000=$B$46)))+SUMPRODUCT((controleur_3!$F$5:$F$1000=$A51)*(MONTH(controleur_3!$C$5:$C$1000)=MONTH(F$17)*(controleur_3!$H$5:$H$1000=$B$46))) -> 0 | G51: =SUMPRODUCT((controleur_1!$F$5:$F$1000=$A51)*(MONTH(controleur_1!$C$5:$C$1000)=MONTH(G$17)*(controleur_1!$H$5:$H$1000=$B$46)))+SUMPRODUCT((controleur_2!$F$5:$F$1000=$A51)*(MONTH(controleur_2!$C$5:$C$1000)=MONTH(G$17)*(controleur_2!$H$5:$H$1000=$B$46)))+SUMPRODUCT((controleur_3!$F$5:$F$1000=$A51)*(MONTH(controleur_3!$C$5:$C$1000)=MONTH(G$17)*(controleur_3!$H$5:$H$1000=$B$46))) -> 0 | H51: =SUMPRODUCT((controleur_1!$F$5:$F$1000=$A51)*(MONTH(controleur_1!$C$5:$C$1000)=MONTH(H$17)*(controleur_1!$H$5:$H$1000=$B$46)))+SUMPRODUCT((controleur_2!$F$5:$F$1000=$A51)*(MONTH(controleur_2!$C$5:$C$1000)=MONTH(H$17)*(controleur_2!$H$5:$H$1000=$B$46)))+SUMPRODUCT((controleur_3!$F$5:$F$1000=$A51)*(MONTH(controleur_3!$C$5:$C$1000)=MONTH(H$17)*(controleur_3!$H$5:$H$1000=$B$46))) -> 0 | I51: =SUMPRODUCT((controleur_1!$F$5:$F$1000=$A51)*(MONTH(controleur_1!$C$5:$C$1000)=MONTH(I$17)*(controleur_1!$H$5:$H$1000=$B$46)))+SUMPRODUCT((controleur_2!$F$5:$F$1000=$A51)*(MONTH(controleur_2!$C$5:$C$1000)=MONTH(I$17)*(controleur_2!$H$5:$H$1000=$B$46)))+SUMPRODUCT((controleur_3!$F$5:$F$1000=$A51)*(MONTH(controleur_3!$C$5:$C$1000)=MONTH(I$17)*(controleur_3!$H$5:$H$1000=$B$46))) -> 0 | ... M51: =SUMPRODUCT((controleur_1!$F$5:$F$1000=$A51)*(MONTH(controleur_1!$C$5:$C$1000)=MONTH(M$17)*(controleur_1!$H$5:$H$1000=$B$46)))+SUMPRODUCT((controleur_2!$F$5:$F$1000=$A51)*(MONTH(controleur_2!$C$5:$C$1000)=MONTH(M$17)*(controleur_2!$H$5:$H$1000=$B$46)))+SUMPRODUCT((controleur_3!$F$5:$F$1000=$A51)*(MONTH(controleur_3!$C$5:$C$1000)=MONTH(M$17)*(controleur_3!$H$5:$H$1000=$B$46))) -> 0 | N51: =SUM(B51:M51) -> 0
A52: BFJ | B52: =SUMPRODUCT((controleur_1!$F$5:$F$1000=$A52)*(MONTH(controleur_1!$C$5:$C$1000)=MONTH(B$17)*(controleur_1!$H$5:$H$1000=$B$46)))+SUMPRODUCT((controleur_2!$F$5:$F$1000=$A52)*(MONTH(controleur_2!$C$5:$C$1000)=MONTH(B$17)*(controleur_2!$H$5:$H$1000=$B$46)))+SUMPRODUCT((controleur_3!$F$5:$F$1000=$A52)*(MONTH(controleur_3!$C$5:$C$1000)=MONTH(B$17)*(controleur_3!$H$5:$H$1000=$B$46))) -> 0 | C52: =SUMPRODUCT((controleur_1!$F$5:$F$1000=$A52)*(MONTH(controleur_1!$C$5:$C$1000)=MONTH(C$17)*(controleur_1!$H$5:$H$1000=$B$46)))+SUMPRODUCT((controleur_2!$F$5:$F$1000=$A52)*(MONTH(controleur_2!$C$5:$C$1000)=MONTH(C$17)*(controleur_2!$H$5:$H$1000=$B$46)))+SUMPRODUCT((controleur_3!$F$5:$F$1000=$A52)*(MONTH(controleur_3!$C$5:$C$1000)=MONTH(C$17)*(controleur_3!$H$5:$H$1000=$B$46))) -> 0 | D52: =SUMPRODUCT((controleur_1!$F$5:$F$1000=$A52)*(MONTH(controleur_1!$C$5:$C$1000)=MONTH(D$17)*(controleur_1!$H$5:$H$1000=$B$46)))+SUMPRODUCT((controleur_2!$F$5:$F$1000=$A52)*(MONTH(controleur_2!$C$5:$C$1000)=MONTH(D$17)*(controleur_2!$H$5:$H$1000=$B$46)))+SUMPRODUCT((controleur_3!$F$5:$F$1000=$A52)*(MONTH(controleur_3!$C$5:$C$1000)=MONTH(D$17)*(controleur_3!$H$5:$H$1000=$B$46))) -> 0 | E52: =SUMPRODUCT((controleur_1!$F$5:$F$1000=$A52)*(MONTH(controleur_1!$C$5:$C$1000)=MONTH(E$17)*(controleur_1!$H$5:$H$1000=$B$46)))+SUMPRODUCT((controleur_2!$F$5:$F$1000=$A52)*(MONTH(controleur_2!$C$5:$C$1000)=MONTH(E$17)*(controleur_2!$H$5:$H$1000=$B$46)))+SUMPRODUCT((controleur_3!$F$5:$F$1000=$A52)*(MONTH(controleur_3!$C$5:$C$1000)=MONTH(E$17)*(controleur_3!$H$5:$H$1000=$B$46))) -> 0 | F52: =SUMPRODUCT((controleur_1!$F$5:$F$1000=$A52)*(MONTH(controleur_1!$C$5:$C$1000)=MONTH(F$17)*(controleur_1!$H$5:$H$1000=$B$46)))+SUMPRODUCT((controleur_2!$F$5:$F$1000=$A52)*(MONTH(controleur_2!$C$5:$C$1000)=MONTH(F$17)*(controleur_2!$H$5:$H$1000=$B$46)))+SUMPRODUCT((controleur_3!$F$5:$F$1000=$A52)*(MONTH(controleur_3!$C$5:$C$1000)=MONTH(F$17)*(controleur_3!$H$5:$H$1000=$B$46))) -> 0 | G52: =SUMPRODUCT((controleur_1!$F$5:$F$1000=$A52)*(MONTH(controleur_1!$C$5:$C$1000)=MONTH(G$17)*(controleur_1!$H$5:$H$1000=$B$46)))+SUMPRODUCT((controleur_2!$F$5:$F$1000=$A52)*(MONTH(controleur_2!$C$5:$C$1000)=MONTH(G$17)*(controleur_2!$H$5:$H$1000=$B$46)))+SUMPRODUCT((controleur_3!$F$5:$F$1000=$A52)*(MONTH(controleur_3!$C$5:$C$1000)=MONTH(G$17)*(controleur_3!$H$5:$H$1000=$B$46))) -> 0 | H52: =SUMPRODUCT((controleur_1!$F$5:$F$1000=$A52)*(MONTH(controleur_1!$C$5:$C$1000)=MONTH(H$17)*(controleur_1!$H$5:$H$1000=$B$46)))+SUMPRODUCT((controleur_2!$F$5:$F$1000=$A52)*(MONTH(controleur_2!$C$5:$C$1000)=MONTH(H$17)*(controleur_2!$H$5:$H$1000=$B$46)))+SUMPRODUCT((controleur_3!$F$5:$F$1000=$A52)*(MONTH(controleur_3!$C$5:$C$1000)=MONTH(H$17)*(controleur_3!$H$5:$H$1000=$B$46))) -> 0 | I52: =SUMPRODUCT((controleur_1!$F$5:$F$1000=$A52)*(MONTH(controleur_1!$C$5:$C$1000)=MONTH(I$17)*(controleur_1!$H$5:$H$1000=$B$46)))+SUMPRODUCT((controleur_2!$F$5:$F$1000=$A52)*(MONTH(controleur_2!$C$5:$C$1000)=MONTH(I$17)*(controleur_2!$H$5:$H$1000=$B$46)))+SUMPRODUCT((controleur_3!$F$5:$F$1000=$A52)*(MONTH(controleur_3!$C$5:$C$1000)=MONTH(I$17)*(controleur_3!$H$5:$H$1000=$B$46))) -> 0 | ... M52: =SUMPRODUCT((controleur_1!$F$5:$F$1000=$A52)*(MONTH(controleur_1!$C$5:$C$1000)=MONTH(M$17)*(controleur_1!$H$5:$H$1000=$B$46)))+SUMPRODUCT((controleur_2!$F$5:$F$1000=$A52)*(MONTH(controleur_2!$C$5:$C$1000)=MONTH(M$17)*(controleur_2!$H$5:$H$1000=$B$46)))+SUMPRODUCT((controleur_3!$F$5:$F$1000=$A52)*(MONTH(controleur_3!$C$5:$C$1000)=MONTH(M$17)*(controleur_3!$H$5:$H$1000=$B$46))) -> 0 | N52: =SUM(B52:M52) -> 0
A53: AGA | B53: =SUMPRODUCT((controleur_1!$F$5:$F$1000=$A53)*(MONTH(controleur_1!$C$5:$C$1000)=MONTH(B$17)*(controleur_1!$H$5:$H$1000=$B$46)))+SUMPRODUCT((controleur_2!$F$5:$F$1000=$A53)*(MONTH(controleur_2!$C$5:$C$1000)=MONTH(B$17)*(controleur_2!$H$5:$H$1000=$B$46)))+SUMPRODUCT((controleur_3!$F$5:$F$1000=$A53)*(MONTH(controleur_3!$C$5:$C$1000)=MONTH(B$17)*(controleur_3!$H$5:$H$1000=$B$46))) -> 0 | C53: =SUMPRODUCT((controleur_1!$F$5:$F$1000=$A53)*(MONTH(controleur_1!$C$5:$C$1000)=MONTH(C$17)*(controleur_1!$H$5:$H$1000=$B$46)))+SUMPRODUCT((controleur_2!$F$5:$F$1000=$A53)*(MONTH(controleur_2!$C$5:$C$1000)=MONTH(C$17)*(controleur_2!$H$5:$H$1000=$B$46)))+SUMPRODUCT((controleur_3!$F$5:$F$1000=$A53)*(MONTH(controleur_3!$C$5:$C$1000)=MONTH(C$17)*(controleur_3!$H$5:$H$1000=$B$46))) -> 0 | D53: =SUMPRODUCT((controleur_1!$F$5:$F$1000=$A53)*(MONTH(controleur_1!$C$5:$C$1000)=MONTH(D$17)*(controleur_1!$H$5:$H$1000=$B$46)))+SUMPRODUCT((controleur_2!$F$5:$F$1000=$A53)*(MONTH(controleur_2!$C$5:$C$1000)=MONTH(D$17)*(controleur_2!$H$5:$H$1000=$B$46)))+SUMPRODUCT((controleur_3!$F$5:$F$1000=$A53)*(MONTH(controleur_3!$C$5:$C$1000)=MONTH(D$17)*(controleur_3!$H$5:$H$1000=$B$46))) -> 0 | E53: =SUMPRODUCT((controleur_1!$F$5:$F$1000=$A53)*(MONTH(controleur_1!$C$5:$C$1000)=MONTH(E$17)*(controleur_1!$H$5:$H$1000=$B$46)))+SUMPRODUCT((controleur_2!$F$5:$F$1000=$A53)*(MONTH(controleur_2!$C$5:$C$1000)=MONTH(E$17)*(controleur_2!$H$5:$H$1000=$B$46)))+SUMPRODUCT((controleur_3!$F$5:$F$1000=$A53)*(MONTH(controleur_3!$C$5:$C$1000)=MONTH(E$17)*(controleur_3!$H$5:$H$1000=$B$46))) -> 0 | F53: =SUMPRODUCT((controleur_1!$F$5:$F$1000=$A53)*(MONTH(controleur_1!$C$5:$C$1000)=MONTH(F$17)*(controleur_1!$H$5:$H$1000=$B$46)))+SUMPRODUCT((controleur_2!$F$5:$F$1000=$A53)*(MONTH(controleur_2!$C$5:$C$1000)=MONTH(F$17)*(controleur_2!$H$5:$H$1000=$B$46)))+SUMPRODUCT((controleur_3!$F$5:$F$1000=$A53)*(MONTH(controleur_3!$C$5:$C$1000)=MONTH(F$17)*(controleur_3!$H$5:$H$1000=$B$46))) -> 0 | G53: =SUMPRODUCT((controleur_1!$F$5:$F$1000=$A53)*(MONTH(controleur_1!$C$5:$C$1000)=MONTH(G$17)*(controleur_1!$H$5:$H$1000=$B$46)))+SUMPRODUCT((controleur_2!$F$5:$F$1000=$A53)*(MONTH(controleur_2!$C$5:$C$1000)=MONTH(G$17)*(controleur_2!$H$5:$H$1000=$B$46)))+SUMPRODUCT((controleur_3!$F$5:$F$1000=$A53)*(MONTH(controleur_3!$C$5:$C$1000)=MONTH(G$17)*(controleur_3!$H$5:$H$1000=$B$46))) -> 0 | H53: =SUMPRODUCT((controleur_1!$F$5:$F$1000=$A53)*(MONTH(controleur_1!$C$5:$C$1000)=MONTH(H$17)*(controleur_1!$H$5:$H$1000=$B$46)))+SUMPRODUCT((controleur_2!$F$5:$F$1000=$A53)*(MONTH(controleur_2!$C$5:$C$1000)=MONTH(H$17)*(controleur_2!$H$5:$H$1000=$B$46)))+SUMPRODUCT((controleur_3!$F$5:$F$1000=$A53)*(MONTH(controleur_3!$C$5:$C$1000)=MONTH(H$17)*(controleur_3!$H$5:$H$1000=$B$46))) -> 0 | I53: =SUMPRODUCT((controleur_1!$F$5:$F$1000=$A53)*(MONTH(controleur_1!$C$5:$C$1000)=MONTH(I$17)*(controleur_1!$H$5:$H$1000=$B$46)))+SUMPRODUCT((controleur_2!$F$5:$F$1000=$A53)*(MONTH(controleur_2!$C$5:$C$1000)=MONTH(I$17)*(controleur_2!$H$5:$H$1000=$B$46)))+SUMPRODUCT((controleur_3!$F$5:$F$1000=$A53)*(MONTH(controleur_3!$C$5:$C$1000)=MONTH(I$17)*(controleur_3!$H$5:$H$1000=$B$46))) -> 0 | ... M53: =SUMPRODUCT((controleur_1!$F$5:$F$1000=$A53)*(MONTH(controleur_1!$C$5:$C$1000)=MONTH(M$17)*(controleur_1!$H$5:$H$1000=$B$46)))+SUMPRODUCT((controleur_2!$F$5:$F$1000=$A53)*(MONTH(controleur_2!$C$5:$C$1000)=MONTH(M$17)*(controleur_2!$H$5:$H$1000=$B$46)))+SUMPRODUCT((controleur_3!$F$5:$F$1000=$A53)*(MONTH(controleur_3!$C$5:$C$1000)=MONTH(M$17)*(controleur_3!$H$5:$H$1000=$B$46))) -> 0 | N53: =SUM(B53:M53) -> 0
A54: ELG | B54: =SUMPRODUCT((controleur_1!$F$5:$F$1000=$A54)*(MONTH(controleur_1!$C$5:$C$1000)=MONTH(B$17)*(controleur_1!$H$5:$H$1000=$B$46)))+SUMPRODUCT((controleur_2!$F$5:$F$1000=$A54)*(MONTH(controleur_2!$C$5:$C$1000)=MONTH(B$17)*(controleur_2!$H$5:$H$1000=$B$46)))+SUMPRODUCT((controleur_3!$F$5:$F$1000=$A54)*(MONTH(controleur_3!$C$5:$C$1000)=MONTH(B$17)*(controleur_3!$H$5:$H$1000=$B$46))) -> 0 | C54: =SUMPRODUCT((controleur_1!$F$5:$F$1000=$A54)*(MONTH(controleur_1!$C$5:$C$1000)=MONTH(C$17)*(controleur_1!$H$5:$H$1000=$B$46)))+SUMPRODUCT((controleur_2!$F$5:$F$1000=$A54)*(MONTH(controleur_2!$C$5:$C$1000)=MONTH(C$17)*(controleur_2!$H$5:$H$1000=$B$46)))+SUMPRODUCT((controleur_3!$F$5:$F$1000=$A54)*(MONTH(controleur_3!$C$5:$C$1000)=MONTH(C$17)*(controleur_3!$H$5:$H$1000=$B$46))) -> 0 | D54: =SUMPRODUCT((controleur_1!$F$5:$F$1000=$A54)*(MONTH(controleur_1!$C$5:$C$1000)=MONTH(D$17)*(controleur_1!$H$5:$H$1000=$B$46)))+SUMPRODUCT((controleur_2!$F$5:$F$1000=$A54)*(MONTH(controleur_2!$C$5:$C$1000)=MONTH(D$17)*(controleur_2!$H$5:$H$1000=$B$46)))+SUMPRODUCT((controleur_3!$F$5:$F$1000=$A54)*(MONTH(controleur_3!$C$5:$C$1000)=MONTH(D$17)*(controleur_3!$H$5:$H$1000=$B$46))) -> 0 | E54: =SUMPRODUCT((controleur_1!$F$5:$F$1000=$A54)*(MONTH(controleur_1!$C$5:$C$1000)=MONTH(E$17)*(controleur_1!$H$5:$H$1000=$B$46)))+SUMPRODUCT((controleur_2!$F$5:$F$1000=$A54)*(MONTH(controleur_2!$C$5:$C$1000)=MONTH(E$17)*(controleur_2!$H$5:$H$1000=$B$46)))+SUMPRODUCT((controleur_3!$F$5:$F$1000=$A54)*(MONTH(controleur_3!$C$5:$C$1000)=MONTH(E$17)*(controleur_3!$H$5:$H$1000=$B$46))) -> 0 | F54: =SUMPRODUCT((controleur_1!$F$5:$F$1000=$A54)*(MONTH(controleur_1!$C$5:$C$1000)=MONTH(F$17)*(controleur_1!$H$5:$H$1000=$B$46)))+SUMPRODUCT((controleur_2!$F$5:$F$1000=$A54)*(MONTH(controleur_2!$C$5:$C$1000)=MONTH(F$17)*(controleur_2!$H$5:$H$1000=$B$46)))+SUMPRODUCT((controleur_3!$F$5:$F$1000=$A54)*(MONTH(controleur_3!$C$5:$C$1000)=MONTH(F$17)*(controleur_3!$H$5:$H$1000=$B$46))) -> 0 | G54: =SUMPRODUCT((controleur_1!$F$5:$F$1000=$A54)*(MONTH(controleur_1!$C$5:$C$1000)=MONTH(G$17)*(controleur_1!$H$5:$H$1000=$B$46)))+SUMPRODUCT((controleur_2!$F$5:$F$1000=$A54)*(MONTH(controleur_2!$C$5:$C$1000)=MONTH(G$17)*(controleur_2!$H$5:$H$1000=$B$46)))+SUMPRODUCT((controleur_3!$F$5:$F$1000=$A54)*(MONTH(controleur_3!$C$5:$C$1000)=MONTH(G$17)*(controleur_3!$H$5:$H$1000=$B$46))) -> 0 | H54: =SUMPRODUCT((controleur_1!$F$5:$F$1000=$A54)*(MONTH(controleur_1!$C$5:$C$1000)=MONTH(H$17)*(controleur_1!$H$5:$H$1000=$B$46)))+SUMPRODUCT((controleur_2!$F$5:$F$1000=$A54)*(MONTH(controleur_2!$C$5:$C$1000)=MONTH(H$17)*(controleur_2!$H$5:$H$1000=$B$46)))+SUMPRODUCT((controleur_3!$F$5:$F$1000=$A54)*(MONTH(controleur_3!$C$5:$C$1000)=MONTH(H$17)*(controleur_3!$H$5:$H$1000=$B$46))) -> 0 | I54: =SUMPRODUCT((controleur_1!$F$5:$F$1000=$A54)*(MONTH(controleur_1!$C$5:$C$1000)=MONTH(I$17)*(controleur_1!$H$5:$H$1000=$B$46)))+SUMPRODUCT((controleur_2!$F$5:$F$1000=$A54)*(MONTH(controleur_2!$C$5:$C$1000)=MONTH(I$17)*(controleur_2!$H$5:$H$1000=$B$46)))+SUMPRODUCT((controleur_3!$F$5:$F$1000=$A54)*(MONTH(controleur_3!$C$5:$C$1000)=MONTH(I$17)*(controleur_3!$H$5:$H$1000=$B$46))) -> 0 | ... M54: =SUMPRODUCT((controleur_1!$F$5:$F$1000=$A54)*(MONTH(controleur_1!$C$5:$C$1000)=MONTH(M$17)*(controleur_1!$H$5:$H$1000=$B$46)))+SUMPRODUCT((controleur_2!$F$5:$F$1000=$A54)*(MONTH(controleur_2!$C$5:$C$1000)=MONTH(M$17)*(controleur_2!$H$5:$H$1000=$B$46)))+SUMPRODUCT((controleur_3!$F$5:$F$1000=$A54)*(MONTH(controleur_3!$C$5:$C$1000)=MONTH(M$17)*(controleur_3!$H$5:$H$1000=$B$46))) -> 0 | N54: =SUM(B54:M54) -> 0
A55: RUJ | B55: =SUMPRODUCT((controleur_1!$F$5:$F$1000=$A55)*(MONTH(controleur_1!$C$5:$C$1000)=MONTH(B$17)*(controleur_1!$H$5:$H$1000=$B$46)))+SUMPRODUCT((controleur_2!$F$5:$F$1000=$A55)*(MONTH(controleur_2!$C$5:$C$1000)=MONTH(B$17)*(controleur_2!$H$5:$H$1000=$B$46)))+SUMPRODUCT((controleur_3!$F$5:$F$1000=$A55)*(MONTH(controleur_3!$C$5:$C$1000)=MONTH(B$17)*(controleur_3!$H$5:$H$1000=$B$46))) -> 0 | C55: =SUMPRODUCT((controleur_1!$F$5:$F$1000=$A55)*(MONTH(controleur_1!$C$5:$C$1000)=MONTH(C$17)*(controleur_1!$H$5:$H$1000=$B$46)))+SUMPRODUCT((controleur_2!$F$5:$F$1000=$A55)*(MONTH(controleur_2!$C$5:$C$1000)=MONTH(C$17)*(controleur_2!$H$5:$H$1000=$B$46)))+SUMPRODUCT((controleur_3!$F$5:$F$1000=$A55)*(MONTH(controleur_3!$C$5:$C$1000)=MONTH(C$17)*(controleur_3!$H$5:$H$1000=$B$46))) -> 0 | D55: =SUMPRODUCT((controleur_1!$F$5:$F$1000=$A55)*(MONTH(controleur_1!$C$5:$C$1000)=MONTH(D$17)*(controleur_1!$H$5:$H$1000=$B$46)))+SUMPRODUCT((controleur_2!$F$5:$F$1000=$A55)*(MONTH(controleur_2!$C$5:$C$1000)=MONTH(D$17)*(controleur_2!$H$5:$H$1000=$B$46)))+SUMPRODUCT((controleur_3!$F$5:$F$1000=$A55)*(MONTH(controleur_3!$C$5:$C$1000)=MONTH(D$17)*(controleur_3!$H$5:$H$1000=$B$46))) -> 0 | E55: =SUMPRODUCT((controleur_1!$F$5:$F$1000=$A55)*(MONTH(controleur_1!$C$5:$C$1000)=MONTH(E$17)*(controleur_1!$H$5:$H$1000=$B$46)))+SUMPRODUCT((controleur_2!$F$5:$F$1000=$A55)*(MONTH(controleur_2!$C$5:$C$1000)=MONTH(E$17)*(controleur_2!$H$5:$H$1000=$B$46)))+SUMPRODUCT((controleur_3!$F$5:$F$1000=$A55)*(MONTH(controleur_3!$C$5:$C$1000)=MONTH(E$17)*(controleur_3!$H$5:$H$1000=$B$46))) -> 0 | F55: =SUMPRODUCT((controleur_1!$F$5:$F$1000=$A55)*(MONTH(controleur_1!$C$5:$C$1000)=MONTH(F$17)*(controleur_1!$H$5:$H$1000=$B$46)))+SUMPRODUCT((controleur_2!$F$5:$F$1000=$A55)*(MONTH(controleur_2!$C$5:$C$1000)=MONTH(F$17)*(controleur_2!$H$5:$H$1000=$B$46)))+SUMPRODUCT((controleur_3!$F$5:$F$1000=$A55)*(MONTH(controleur_3!$C$5:$C$1000)=MONTH(F$17)*(controleur_3!$H$5:$H$1000=$B$46))) -> 0 | G55: =SUMPRODUCT((controleur_1!$F$5:$F$1000=$A55)*(MONTH(controleur_1!$C$5:$C$1000)=MONTH(G$17)*(controleur_1!$H$5:$H$1000=$B$46)))+SUMPRODUCT((controleur_2!$F$5:$F$1000=$A55)*(MONTH(controleur_2!$C$5:$C$1000)=MONTH(G$17)*(controleur_2!$H$5:$H$1000=$B$46)))+SUMPRODUCT((controleur_3!$F$5:$F$1000=$A55)*(MONTH(controleur_3!$C$5:$C$1000)=MONTH(G$17)*(controleur_3!$H$5:$H$1000=$B$46))) -> 0 | H55: =SUMPRODUCT((controleur_1!$F$5:$F$1000=$A55)*(MONTH(controleur_1!$C$5:$C$1000)=MONTH(H$17)*(controleur_1!$H$5:$H$1000=$B$46)))+SUMPRODUCT((controleur_2!$F$5:$F$1000=$A55)*(MONTH(controleur_2!$C$5:$C$1000)=MONTH(H$17)*(controleur_2!$H$5:$H$1000=$B$46)))+SUMPRODUCT((controleur_3!$F$5:$F$1000=$A55)*(MONTH(controleur_3!$C$5:$C$1000)=MONTH(H$17)*(controleur_3!$H$5:$H$1000=$B$46))) -> 0 | I55: =SUMPRODUCT((controleur_1!$F$5:$F$1000=$A55)*(MONTH(controleur_1!$C$5:$C$1000)=MONTH(I$17)*(controleur_1!$H$5:$H$1000=$B$46)))+SUMPRODUCT((controleur_2!$F$5:$F$1000=$A55)*(MONTH(controleur_2!$C$5:$C$1000)=MONTH(I$17)*(controleur_2!$H$5:$H$1000=$B$46)))+SUMPRODUCT((controleur_3!$F$5:$F$1000=$A55)*(MONTH(controleur_3!$C$5:$C$1000)=MONTH(I$17)*(controleur_3!$H$5:$H$1000=$B$46))) -> 0 | ... M55: =SUMPRODUCT((controleur_1!$F$5:$F$1000=$A55)*(MONTH(controleur_1!$C$5:$C$1000)=MONTH(M$17)*(controleur_1!$H$5:$H$1000=$B$46)))+SUMPRODUCT((controleur_2!$F$5:$F$1000=$A55)*(MONTH(controleur_2!$C$5:$C$1000)=MONTH(M$17)*(controleur_2!$H$5:$H$1000=$B$46)))+SUMPRODUCT((controleur_3!$F$5:$F$1000=$A55)*(MONTH(controleur_3!$C$5:$C$1000)=MONTH(M$17)*(controleur_3!$H$5:$H$1000=$B$46))) -> 0 | N55: =SUM(B55:M55) -> 0
A56: JRF | B56: =SUMPRODUCT((controleur_1!$F$5:$F$1000=$A56)*(MONTH(controleur_1!$C$5:$C$1000)=MONTH(B$17)*(controleur_1!$H$5:$H$1000=$B$46)))+SUMPRODUCT((controleur_2!$F$5:$F$1000=$A56)*(MONTH(controleur_2!$C$5:$C$1000)=MONTH(B$17)*(controleur_2!$H$5:$H$1000=$B$46)))+SUMPRODUCT((controleur_3!$F$5:$F$1000=$A56)*(MONTH(controleur_3!$C$5:$C$1000)=MONTH(B$17)*(controleur_3!$H$5:$H$1000=$B$46))) -> 0 | C56: =SUMPRODUCT((controleur_1!$F$5:$F$1000=$A56)*(MONTH(controleur_1!$C$5:$C$1000)=MONTH(C$17)*(controleur_1!$H$5:$H$1000=$B$46)))+SUMPRODUCT((controleur_2!$F$5:$F$1000=$A56)*(MONTH(controleur_2!$C$5:$C$1000)=MONTH(C$17)*(controleur_2!$H$5:$H$1000=$B$46)))+SUMPRODUCT((controleur_3!$F$5:$F$1000=$A56)*(MONTH(controleur_3!$C$5:$C$1000)=MONTH(C$17)*(controleur_3!$H$5:$H$1000=$B$46))) -> 0 | D56: =SUMPRODUCT((controleur_1!$F$5:$F$1000=$A56)*(MONTH(controleur_1!$C$5:$C$1000)=MONTH(D$17)*(controleur_1!$H$5:$H$1000=$B$46)))+SUMPRODUCT((controleur_2!$F$5:$F$1000=$A56)*(MONTH(controleur_2!$C$5:$C$1000)=MONTH(D$17)*(controleur_2!$H$5:$H$1000=$B$46)))+SUMPRODUCT((controleur_3!$F$5:$F$1000=$A56)*(MONTH(controleur_3!$C$5:$C$1000)=MONTH(D$17)*(controleur_3!$H$5:$H$1000=$B$46))) -> 0 | E56: =SUMPRODUCT((controleur_1!$F$5:$F$1000=$A56)*(MONTH(controleur_1!$C$5:$C$1000)=MONTH(E$17)*(controleur_1!$H$5:$H$1000=$B$46)))+SUMPRODUCT((controleur_2!$F$5:$F$1000=$A56)*(MONTH(controleur_2!$C$5:$C$1000)=MONTH(E$17)*(controleur_2!$H$5:$H$1000=$B$46)))+SUMPRODUCT((controleur_3!$F$5:$F$1000=$A56)*(MONTH(controleur_3!$C$5:$C$1000)=MONTH(E$17)*(controleur_3!$H$5:$H$1000=$B$46))) -> 0 | F56: =SUMPRODUCT((controleur_1!$F$5:$F$1000=$A56)*(MONTH(controleur_1!$C$5:$C$1000)=MONTH(F$17)*(controleur_1!$H$5:$H$1000=$B$46)))+SUMPRODUCT((controleur_2!$F$5:$F$1000=$A56)*(MONTH(controleur_2!$C$5:$C$1000)=MONTH(F$17)*(controleur_2!$H$5:$H$1000=$B$46)))+SUMPRODUCT((controleur_3!$F$5:$F$1000=$A56)*(MONTH(controleur_3!$C$5:$C$1000)=MONTH(F$17)*(controleur_3!$H$5:$H$1000=$B$46))) -> 0 | G56: =SUMPRODUCT((controleur_1!$F$5:$F$1000=$A56)*(MONTH(controleur_1!$C$5:$C$1000)=MONTH(G$17)*(controleur_1!$H$5:$H$1000=$B$46)))+SUMPRODUCT((controleur_2!$F$5:$F$1000=$A56)*(MONTH(controleur_2!$C$5:$C$1000)=MONTH(G$17)*(controleur_2!$H$5:$H$1000=$B$46)))+SUMPRODUCT((controleur_3!$F$5:$F$1000=$A56)*(MONTH(controleur_3!$C$5:$C$1000)=MONTH(G$17)*(controleur_3!$H$5:$H$1000=$B$46))) -> 0 | H56: =SUMPRODUCT((controleur_1!$F$5:$F$1000=$A56)*(MONTH(controleur_1!$C$5:$C$1000)=MONTH(H$17)*(controleur_1!$H$5:$H$1000=$B$46)))+SUMPRODUCT((controleur_2!$F$5:$F$1000=$A56)*(MONTH(controleur_2!$C$5:$C$1000)=MONTH(H$17)*(controleur_2!$H$5:$H$1000=$B$46)))+SUMPRODUCT((controleur_3!$F$5:$F$1000=$A56)*(MONTH(controleur_3!$C$5:$C$1000)=MONTH(H$17)*(controleur_3!$H$5:$H$1000=$B$46))) -> 0 | I56: =SUMPRODUCT((controleur_1!$F$5:$F$1000=$A56)*(MONTH(controleur_1!$C$5:$C$1000)=MONTH(I$17)*(controleur_1!$H$5:$H$1000=$B$46)))+SUMPRODUCT((controleur_2!$F$5:$F$1000=$A56)*(MONTH(controleur_2!$C$5:$C$1000)=MONTH(I$17)*(controleur_2!$H$5:$H$1000=$B$46)))+SUMPRODUCT((controleur_3!$F$5:$F$1000=$A56)*(MONTH(controleur_3!$C$5:$C$1000)=MONTH(I$17)*(controleur_3!$H$5:$H$1000=$B$46))) -> 0 | ... M56: =SUMPRODUCT((controleur_1!$F$5:$F$1000=$A56)*(MONTH(controleur_1!$C$5:$C$1000)=MONTH(M$17)*(controleur_1!$H$5:$H$1000=$B$46)))+SUMPRODUCT((controleur_2!$F$5:$F$1000=$A56)*(MONTH(controleur_2!$C$5:$C$1000)=MONTH(M$17)*(controleur_2!$H$5:$H$1000=$B$46)))+SUMPRODUCT((controleur_3!$F$5:$F$1000=$A56)*(MONTH(controleur_3!$C$5:$C$1000)=MONTH(M$17)*(controleur_3!$H$5:$H$1000=$B$46))) -> 0 | N56: =SUM(B56:M56) -> 0
A57: ARZ | B57: =SUMPRODUCT((controleur_1!$F$5:$F$1000=$A57)*(MONTH(controleur_1!$C$5:$C$1000)=MONTH(B$17)*(controleur_1!$H$5:$H$1000=$B$46)))+SUMPRODUCT((controleur_2!$F$5:$F$1000=$A57)*(MONTH(controleur_2!$C$5:$C$1000)=MONTH(B$17)*(controleur_2!$H$5:$H$1000=$B$46)))+SUMPRODUCT((controleur_3!$F$5:$F$1000=$A57)*(MONTH(controleur_3!$C$5:$C$1000)=MONTH(B$17)*(controleur_3!$H$5:$H$1000=$B$46))) -> 0 | C57: =SUMPRODUCT((controleur_1!$F$5:$F$1000=$A57)*(MONTH(controleur_1!$C$5:$C$1000)=MONTH(C$17)*(controleur_1!$H$5:$H$1000=$B$46)))+SUMPRODUCT((controleur_2!$F$5:$F$1000=$A57)*(MONTH(controleur_2!$C$5:$C$1000)=MONTH(C$17)*(controleur_2!$H$5:$H$1000=$B$46)))+SUMPRODUCT((controleur_3!$F$5:$F$1000=$A57)*(MONTH(controleur_3!$C$5:$C$1000)=MONTH(C$17)*(controleur_3!$H$5:$H$1000=$B$46))) -> 0 | D57: =SUMPRODUCT((controleur_1!$F$5:$F$1000=$A57)*(MONTH(controleur_1!$C$5:$C$1000)=MONTH(D$17)*(controleur_1!$H$5:$H$1000=$B$46)))+SUMPRODUCT((controleur_2!$F$5:$F$1000=$A57)*(MONTH(controleur_2!$C$5:$C$1000)=MONTH(D$17)*(controleur_2!$H$5:$H$1000=$B$46)))+SUMPRODUCT((controleur_3!$F$5:$F$1000=$A57)*(MONTH(controleur_3!$C$5:$C$1000)=MONTH(D$17)*(controleur_3!$H$5:$H$1000=$B$46))) -> 0 | E57: =SUMPRODUCT((controleur_1!$F$5:$F$1000=$A57)*(MONTH(controleur_1!$C$5:$C$1000)=MONTH(E$17)*(controleur_1!$H$5:$H$1000=$B$46)))+SUMPRODUCT((controleur_2!$F$5:$F$1000=$A57)*(MONTH(controleur_2!$C$5:$C$1000)=MONTH(E$17)*(controleur_2!$H$5:$H$1000=$B$46)))+SUMPRODUCT((controleur_3!$F$5:$F$1000=$A57)*(MONTH(controleur_3!$C$5:$C$1000)=MONTH(E$17)*(controleur_3!$H$5:$H$1000=$B$46))) -> 0 | F57: =SUMPRODUCT((controleur_1!$F$5:$F$1000=$A57)*(MONTH(controleur_1!$C$5:$C$1000)=MONTH(F$17)*(controleur_1!$H$5:$H$1000=$B$46)))+SUMPRODUCT((controleur_2!$F$5:$F$1000=$A57)*(MONTH(controleur_2!$C$5:$C$1000)=MONTH(F$17)*(controleur_2!$H$5:$H$1000=$B$46)))+SUMPRODUCT((controleur_3!$F$5:$F$1000=$A57)*(MONTH(controleur_3!$C$5:$C$1000)=MONTH(F$17)*(controleur_3!$H$5:$H$1000=$B$46))) -> 0 | G57: =SUMPRODUCT((controleur_1!$F$5:$F$1000=$A57)*(MONTH(controleur_1!$C$5:$C$1000)=MONTH(G$17)*(controleur_1!$H$5:$H$1000=$B$46)))+SUMPRODUCT((controleur_2!$F$5:$F$1000=$A57)*(MONTH(controleur_2!$C$5:$C$1000)=MONTH(G$17)*(controleur_2!$H$5:$H$1000=$B$46)))+SUMPRODUCT((controleur_3!$F$5:$F$1000=$A57)*(MONTH(controleur_3!$C$5:$C$1000)=MONTH(G$17)*(controleur_3!$H$5:$H$1000=$B$46))) -> 0 | H57: =SUMPRODUCT((controleur_1!$F$5:$F$1000=$A57)*(MONTH(controleur_1!$C$5:$C$1000)=MONTH(H$17)*(controleur_1!$H$5:$H$1000=$B$46)))+SUMPRODUCT((controleur_2!$F$5:$F$1000=$A57)*(MONTH(controleur_2!$C$5:$C$1000)=MONTH(H$17)*(controleur_2!$H$5:$H$1000=$B$46)))+SUMPRODUCT((controleur_3!$F$5:$F$1000=$A57)*(MONTH(controleur_3!$C$5:$C$1000)=MONTH(H$17)*(controleur_3!$H$5:$H$1000=$B$46))) -> 0 | I57: =SUMPRODUCT((controleur_1!$F$5:$F$1000=$A57)*(MONTH(controleur_1!$C$5:$C$1000)=MONTH(I$17)*(controleur_1!$H$5:$H$1000=$B$46)))+SUMPRODUCT((controleur_2!$F$5:$F$1000=$A57)*(MONTH(controleur_2!$C$5:$C$1000)=MONTH(I$17)*(controleur_2!$H$5:$H$1000=$B$46)))+SUMPRODUCT((controleur_3!$F$5:$F$1000=$A57)*(MONTH(controleur_3!$C$5:$C$1000)=MONTH(I$17)*(controleur_3!$H$5:$H$1000=$B$46))) -> 0 | ... M57: =SUMPRODUCT((controleur_1!$F$5:$F$1000=$A57)*(MONTH(controleur_1!$C$5:$C$1000)=MONTH(M$17)*(controleur_1!$H$5:$H$1000=$B$46)))+SUMPRODUCT((controleur_2!$F$5:$F$1000=$A57)*(MONTH(controleur_2!$C$5:$C$1000)=MONTH(M$17)*(controleur_2!$H$5:$H$1000=$B$46)))+SUMPRODUCT((controleur_3!$F$5:$F$1000=$A57)*(MONTH(controleur_3!$C$5:$C$1000)=MONTH(M$17)*(controleur_3!$H$5:$H$1000=$B$46))) -> 0 | N57: =SUM(B57:M57) -> 0
A58: DRD | B58: =SUMPRODUCT((controleur_1!$F$5:$F$1000=$A58)*(MONTH(controleur_1!$C$5:$C$1000)=MONTH(B$17)*(controleur_1!$H$5:$H$1000=$B$46)))+SUMPRODUCT((controleur_2!$F$5:$F$1000=$A58)*(MONTH(controleur_2!$C$5:$C$1000)=MONTH(B$17)*(controleur_2!$H$5:$H$1000=$B$46)))+SUMPRODUCT((controleur_3!$F$5:$F$1000=$A58)*(MONTH(controleur_3!$C$5:$C$1000)=MONTH(B$17)*(controleur_3!$H$5:$H$1000=$B$46))) -> 0 | C58: =SUMPRODUCT((controleur_1!$F$5:$F$1000=$A58)*(MONTH(controleur_1!$C$5:$C$1000)=MONTH(C$17)*(controleur_1!$H$5:$H$1000=$B$46)))+SUMPRODUCT((controleur_2!$F$5:$F$1000=$A58)*(MONTH(controleur_2!$C$5:$C$1000)=MONTH(C$17)*(controleur_2!$H$5:$H$1000=$B$46)))+SUMPRODUCT((controleur_3!$F$5:$F$1000=$A58)*(MONTH(controleur_3!$C$5:$C$1000)=MONTH(C$17)*(controleur_3!$H$5:$H$1000=$B$46))) -> 0 | D58: =SUMPRODUCT((controleur_1!$F$5:$F$1000=$A58)*(MONTH(controleur_1!$C$5:$C$1000)=MONTH(D$17)*(controleur_1!$H$5:$H$1000=$B$46)))+SUMPRODUCT((controleur_2!$F$5:$F$1000=$A58)*(MONTH(controleur_2!$C$5:$C$1000)=MONTH(D$17)*(controleur_2!$H$5:$H$1000=$B$46)))+SUMPRODUCT((controleur_3!$F$5:$F$1000=$A58)*(MONTH(controleur_3!$C$5:$C$1000)=MONTH(D$17)*(controleur_3!$H$5:$H$1000=$B$46))) -> 0 | E58: =SUMPRODUCT((controleur_1!$F$5:$F$1000=$A58)*(MONTH(controleur_1!$C$5:$C$1000)=MONTH(E$17)*(controleur_1!$H$5:$H$1000=$B$46)))+SUMPRODUCT((controleur_2!$F$5:$F$1000=$A58)*(MONTH(controleur_2!$C$5:$C$1000)=MONTH(E$17)*(controleur_2!$H$5:$H$1000=$B$46)))+SUMPRODUCT((controleur_3!$F$5:$F$1000=$A58)*(MONTH(controleur_3!$C$5:$C$1000)=MONTH(E$17)*(controleur_3!$H$5:$H$1000=$B$46))) -> 0 | F58: =SUMPRODUCT((controleur_1!$F$5:$F$1000=$A58)*(MONTH(controleur_1!$C$5:$C$1000)=MONTH(F$17)*(controleur_1!$H$5:$H$1000=$B$46)))+SUMPRODUCT((controleur_2!$F$5:$F$1000=$A58)*(MONTH(controleur_2!$C$5:$C$1000)=MONTH(F$17)*(controleur_2!$H$5:$H$1000=$B$46)))+SUMPRODUCT((controleur_3!$F$5:$F$1000=$A58)*(MONTH(controleur_3!$C$5:$C$1000)=MONTH(F$17)*(controleur_3!$H$5:$H$1000=$B$46))) -> 0 | G58: =SUMPRODUCT((controleur_1!$F$5:$F$1000=$A58)*(MONTH(controleur_1!$C$5:$C$1000)=MONTH(G$17)*(controleur_1!$H$5:$H$1000=$B$46)))+SUMPRODUCT((controleur_2!$F$5:$F$1000=$A58)*(MONTH(controleur_2!$C$5:$C$1000)=MONTH(G$17)*(controleur_2!$H$5:$H$1000=$B$46)))+SUMPRODUCT((controleur_3!$F$5:$F$1000=$A58)*(MONTH(controleur_3!$C$5:$C$1000)=MONTH(G$17)*(controleur_3!$H$5:$H$1000=$B$46))) -> 0 | H58: =SUMPRODUCT((controleur_1!$F$5:$F$1000=$A58)*(MONTH(controleur_1!$C$5:$C$1000)=MONTH(H$17)*(controleur_1!$H$5:$H$1000=$B$46)))+SUMPRODUCT((controleur_2!$F$5:$F$1000=$A58)*(MONTH(controleur_2!$C$5:$C$1000)=MONTH(H$17)*(controleur_2!$H$5:$H$1000=$B$46)))+SUMPRODUCT((controleur_3!$F$5:$F$1000=$A58)*(MONTH(controleur_3!$C$5:$C$1000)=MONTH(H$17)*(controleur_3!$H$5:$H$1000=$B$46))) -> 0 | I58: =SUMPRODUCT((controleur_1!$F$5:$F$1000=$A58)*(MONTH(controleur_1!$C$5:$C$1000)=MONTH(I$17)*(controleur_1!$H$5:$H$1000=$B$46)))+SUMPRODUCT((controleur_2!$F$5:$F$1000=$A58)*(MONTH(controleur_2!$C$5:$C$1000)=MONTH(I$17)*(controleur_2!$H$5:$H$1000=$B$46)))+SUMPRODUCT((controleur_3!$F$5:$F$1000=$A58)*(MONTH(controleur_3!$C$5:$C$1000)=MONTH(I$17)*(controleur_3!$H$5:$H$1000=$B$46))) -> 0 | ... M58: =SUMPRODUCT((controleur_1!$F$5:$F$1000=$A58)*(MONTH(controleur_1!$C$5:$C$1000)=MONTH(M$17)*(controleur_1!$H$5:$H$1000=$B$46)))+SUMPRODUCT((controleur_2!$F$5:$F$1000=$A58)*(MONTH(controleur_2!$C$5:$C$1000)=MONTH(M$17)*(controleur_2!$H$5:$H$1000=$B$46)))+SUMPRODUCT((controleur_3!$F$5:$F$1000=$A58)*(MONTH(controleur_3!$C$5:$C$1000)=MONTH(M$17)*(controleur_3!$H$5:$H$1000=$B$46))) -> 0 | N58: =SUM(B58:M58) -> 0
A59: EQS | B59: =SUMPRODUCT((controleur_1!$F$5:$F$1000=$A59)*(MONTH(controleur_1!$C$5:$C$1000)=MONTH(B$17)*(controleur_1!$H$5:$H$1000=$B$46)))+SUMPRODUCT((controleur_2!$F$5:$F$1000=$A59)*(MONTH(controleur_2!$C$5:$C$1000)=MONTH(B$17)*(controleur_2!$H$5:$H$1000=$B$46)))+SUMPRODUCT((controleur_3!$F$5:$F$1000=$A59)*(MONTH(controleur_3!$C$5:$C$1000)=MONTH(B$17)*(controleur_3!$H$5:$H$1000=$B$46))) -> 0 | C59: =SUMPRODUCT((controleur_1!$F$5:$F$1000=$A59)*(MONTH(controleur_1!$C$5:$C$1000)=MONTH(C$17)*(controleur_1!$H$5:$H$1000=$B$46)))+SUMPRODUCT((controleur_2!$F$5:$F$1000=$A59)*(MONTH(controleur_2!$C$5:$C$1000)=MONTH(C$17)*(controleur_2!$H$5:$H$1000=$B$46)))+SUMPRODUCT((controleur_3!$F$5:$F$1000=$A59)*(MONTH(controleur_3!$C$5:$C$1000)=MONTH(C$17)*(controleur_3!$H$5:$H$1000=$B$46))) -> 0 | D59: =SUMPRODUCT((controleur_1!$F$5:$F$1000=$A59)*(MONTH(controleur_1!$C$5:$C$1000)=MONTH(D$17)*(controleur_1!$H$5:$H$1000=$B$46)))+SUMPRODUCT((controleur_2!$F$5:$F$1000=$A59)*(MONTH(controleur_2!$C$5:$C$1000)=MONTH(D$17)*(controleur_2!$H$5:$H$1000=$B$46)))+SUMPRODUCT((controleur_3!$F$5:$F$1000=$A59)*(MONTH(controleur_3!$C$5:$C$1000)=MONTH(D$17)*(controleur_3!$H$5:$H$1000=$B$46))) -> 0 | E59: =SUMPRODUCT((controleur_1!$F$5:$F$1000=$A59)*(MONTH(controleur_1!$C$5:$C$1000)=MONTH(E$17)*(controleur_1!$H$5:$H$1000=$B$46)))+SUMPRODUCT((controleur_2!$F$5:$F$1000=$A59)*(MONTH(controleur_2!$C$5:$C$1000)=MONTH(E$17)*(controleur_2!$H$5:$H$1000=$B$46)))+SUMPRODUCT((controleur_3!$F$5:$F$1000=$A59)*(MONTH(controleur_3!$C$5:$C$1000)=MONTH(E$17)*(controleur_3!$H$5:$H$1000=$B$46))) -> 0 | F59: =SUMPRODUCT((controleur_1!$F$5:$F$1000=$A59)*(MONTH(controleur_1!$C$5:$C$1000)=MONTH(F$17)*(controleur_1!$H$5:$H$1000=$B$46)))+SUMPRODUCT((controleur_2!$F$5:$F$1000=$A59)*(MONTH(controleur_2!$C$5:$C$1000)=MONTH(F$17)*(controleur_2!$H$5:$H$1000=$B$46)))+SUMPRODUCT((controleur_3!$F$5:$F$1000=$A59)*(MONTH(controleur_3!$C$5:$C$1000)=MONTH(F$17)*(controleur_3!$H$5:$H$1000=$B$46))) -> 0 | G59: =SUMPRODUCT((controleur_1!$F$5:$F$1000=$A59)*(MONTH(controleur_1!$C$5:$C$1000)=MONTH(G$17)*(controleur_1!$H$5:$H$1000=$B$46)))+SUMPRODUCT((controleur_2!$F$5:$F$1000=$A59)*(MONTH(controleur_2!$C$5:$C$1000)=MONTH(G$17)*(controleur_2!$H$5:$H$1000=$B$46)))+SUMPRODUCT((controleur_3!$F$5:$F$1000=$A59)*(MONTH(controleur_3!$C$5:$C$1000)=MONTH(G$17)*(controleur_3!$H$5:$H$1000=$B$46))) -> 0 | H59: =SUMPRODUCT((controleur_1!$F$5:$F$1000=$A59)*(MONTH(controleur_1!$C$5:$C$1000)=MONTH(H$17)*(controleur_1!$H$5:$H$1000=$B$46)))+SUMPRODUCT((controleur_2!$F$5:$F$1000=$A59)*(MONTH(controleur_2!$C$5:$C$1000)=MONTH(H$17)*(controleur_2!$H$5:$H$1000=$B$46)))+SUMPRODUCT((controleur_3!$F$5:$F$1000=$A59)*(MONTH(controleur_3!$C$5:$C$1000)=MONTH(H$17)*(controleur_3!$H$5:$H$1000=$B$46))) -> 0 | I59: =SUMPRODUCT((controleur_1!$F$5:$F$1000=$A59)*(MONTH(controleur_1!$C$5:$C$1000)=MONTH(I$17)*(controleur_1!$H$5:$H$1000=$B$46)))+SUMPRODUCT((controleur_2!$F$5:$F$1000=$A59)*(MONTH(controleur_2!$C$5:$C$1000)=MONTH(I$17)*(controleur_2!$H$5:$H$1000=$B$46)))+SUMPRODUCT((controleur_3!$F$5:$F$1000=$A59)*(MONTH(controleur_3!$C$5:$C$1000)=MONTH(I$17)*(controleur_3!$H$5:$H$1000=$B$46))) -> 0 | ... M59: =SUMPRODUCT((controleur_1!$F$5:$F$1000=$A59)*(MONTH(controleur_1!$C$5:$C$1000)=MONTH(M$17)*(controleur_1!$H$5:$H$1000=$B$46)))+SUMPRODUCT((controleur_2!$F$5:$F$1000=$A59)*(MONTH(controleur_2!$C$5:$C$1000)=MONTH(M$17)*(controleur_2!$H$5:$H$1000=$B$46)))+SUMPRODUCT((controleur_3!$F$5:$F$1000=$A59)*(MONTH(controleur_3!$C$5:$C$1000)=MONTH(M$17)*(controleur_3!$H$5:$H$1000=$B$46))) -> 0 | N59: =SUM(B59:M59) -> 0
... A219: UCGI091 | B219: =SUMPRODUCT((controleur_1!$F$5:$F$1000=$A219)*(MONTH(controleur_1!$C$5:$C$1000)=MONTH(B$17)*(controleur_1!$H$5:$H$1000=$B$46)))+SUMPRODUCT((controleur_2!$F$5:$F$1000=$A219)*(MONTH(controleur_2!$C$5:$C$1000)=MONTH(B$17)*(controleur_2!$H$5:$H$1000=$B$46)))+SUMPRODUCT((controleur_3!$F$5:$F$1000=$A219)*(MONTH(controleur_3!$C$5:$C$1000)=MONTH(B$17)*(controleur_3!$H$5:$H$1000=$B$46))) -> 0 | C219: =SUMPRODUCT((controleur_1!$F$5:$F$1000=$A219)*(MONTH(controleur_1!$C$5:$C$1000)=MONTH(C$17)*(controleur_1!$H$5:$H$1000=$B$46)))+SUMPRODUCT((controleur_2!$F$5:$F$1000=$A219)*(MONTH(controleur_2!$C$5:$C$1000)=MONTH(C$17)*(controleur_2!$H$5:$H$1000=$B$46)))+SUMPRODUCT((controleur_3!$F$5:$F$1000=$A219)*(MONTH(controleur_3!$C$5:$C$1000)=MONTH(C$17)*(controleur_3!$H$5:$H$1000=$B$46))) -> 0 | D219: =SUMPRODUCT((controleur_1!$F$5:$F$1000=$A219)*(MONTH(controleur_1!$C$5:$C$1000)=MONTH(D$17)*(controleur_1!$H$5:$H$1000=$B$46)))+SUMPRODUCT((controleur_2!$F$5:$F$1000=$A219)*(MONTH(controleur_2!$C$5:$C$1000)=MONTH(D$17)*(controleur_2!$H$5:$H$1000=$B$46)))+SUMPRODUCT((controleur_3!$F$5:$F$1000=$A219)*(MONTH(controleur_3!$C$5:$C$1000)=MONTH(D$17)*(controleur_3!$H$5:$H$1000=$B$46))) -> 0 | E219: =SUMPRODUCT((controleur_1!$F$5:$F$1000=$A219)*(MONTH(controleur_1!$C$5:$C$1000)=MONTH(E$17)*(controleur_1!$H$5:$H$1000=$B$46)))+SUMPRODUCT((controleur_2!$F$5:$F$1000=$A219)*(MONTH(controleur_2!$C$5:$C$1000)=MONTH(E$17)*(controleur_2!$H$5:$H$1000=$B$46)))+SUMPRODUCT((controleur_3!$F$5:$F$1000=$A219)*(MONTH(controleur_3!$C$5:$C$1000)=MONTH(E$17)*(controleur_3!$H$5:$H$1000=$B$46))) -> 0 | F219: =SUMPRODUCT((controleur_1!$F$5:$F$1000=$A219)*(MONTH(controleur_1!$C$5:$C$1000)=MONTH(F$17)*(controleur_1!$H$5:$H$1000=$B$46)))+SUMPRODUCT((controleur_2!$F$5:$F$1000=$A219)*(MONTH(controleur_2!$C$5:$C$1000)=MONTH(F$17)*(controleur_2!$H$5:$H$1000=$B$46)))+SUMPRODUCT((controleur_3!$F$5:$F$1000=$A219)*(MONTH(controleur_3!$C$5:$C$1000)=MONTH(F$17)*(controleur_3!$H$5:$H$1000=$B$46))) -> 0 | G219: =SUMPRODUCT((controleur_1!$F$5:$F$1000=$A219)*(MONTH(controleur_1!$C$5:$C$1000)=MONTH(G$17)*(controleur_1!$H$5:$H$1000=$B$46)))+SUMPRODUCT((controleur_2!$F$5:$F$1000=$A219)*(MONTH(controleur_2!$C$5:$C$1000)=MONTH(G$17)*(controleur_2!$H$5:$H$1000=$B$46)))+SUMPRODUCT((controleur_3!$F$5:$F$1000=$A219)*(MONTH(controleur_3!$C$5:$C$1000)=MONTH(G$17)*(controleur_3!$H$5:$H$1000=$B$46))) -> 0 | H219: =SUMPRODUCT((controleur_1!$F$5:$F$1000=$A219)*(MONTH(controleur_1!$C$5:$C$1000)=MONTH(H$17)*(controleur_1!$H$5:$H$1000=$B$46)))+SUMPRODUCT((controleur_2!$F$5:$F$1000=$A219)*(MONTH(controleur_2!$C$5:$C$1000)=MONTH(H$17)*(controleur_2!$H$5:$H$1000=$B$46)))+SUMPRODUCT((controleur_3!$F$5:$F$1000=$A219)*(MONTH(controleur_3!$C$5:$C$1000)=MONTH(H$17)*(controleur_3!$H$5:$H$1000=$B$46))) -> 0 | I219: =SUMPRODUCT((controleur_1!$F$5:$F$1000=$A219)*(MONTH(controleur_1!$C$5:$C$1000)=MONTH(I$17)*(controleur_1!$H$5:$H$1000=$B$46)))+SUMPRODUCT((controleur_2!$F$5:$F$1000=$A219)*(MONTH(controleur_2!$C$5:$C$1000)=MONTH(I$17)*(controleur_2!$H$5:$H$1000=$B$46)))+SUMPRODUCT((controleur_3!$F$5:$F$1000=$A219)*(MONTH(controleur_3!$C$5:$C$1000)=MONTH(I$17)*(controleur_3!$H$5:$H$1000=$B$46))) -> 0 | ... M219: =SUMPRODUCT((controleur_1!$F$5:$F$1000=$A219)*(MONTH(controleur_1!$C$5:$C$1000)=MONTH(M$17)*(controleur_1!$H$5:$H$1000=$B$46)))+SUMPRODUCT((controleur_2!$F$5:$F$1000=$A219)*(MONTH(controleur_2!$C$5:$C$1000)=MONTH(M$17)*(controleur_2!$H$5:$H$1000=$B$46)))+SUMPRODUCT((controleur_3!$F$5:$F$1000=$A219)*(MONTH(controleur_3!$C$5:$C$1000)=MONTH(M$17)*(controleur_3!$H$5:$H$1000=$B$46))) -> 0 | N219: =SUM(B219:M219) -> 0

Sheet debut

Sheet controleur_1
A2: TABLEAU DE SUIVI DES POINTS DE CONTRÔLÉS | P2: Listes déroulantes
A4: Site | B4: Nom du contrôleur | C4: Date du contrôle | D4: NIR | E4: Date de traitement dans le SI | F4: USER du gestionnaire ayant traité le dossier contrôlé | G4: Points de contrôle effectué | H4: OK / KO ou N/A | I4: Dossier corrigé OUI / NON | J4: Commentaire ( seulement pour les contrôles KO ) | P4: Site | Q4: processus | R4: points | S4: corrigé | T4: Controleurs
A5: CLICHY | B5: controleur 1 | C5: 41892 | D5: 154037511031356 | E5: 41892 | F5: HOK | G5: C1 | H5: OK | P5: Clichy | Q5: ADHESIONS | R5: 1 | S5: oui | T5: autre
A6: CLICHY | B6: controleur 1 | C6: 41892 | D6: 154037511031356 | E6: 41892 | F6: HOK | G6: C2 | H6: N/A | P6: Nantes | Q6: MODIFICATIONS | R6: 2 | S6: non | T6: F.Romieux
A7: CLICHY | B7: controleur 1 | C7: 41892 | D7: 154037511031356 | E7: 41892 | F7: HOK | G7: C3 | H7: OK | P7: St Quentin | Q7: DECES en FS | R7: 3 | T7: L. Faisan
A8: CLICHY | B8: controleur 1 | C8: 41892 | D8: 154037511031356 | E8: 41892 | F8: HOK | G8: C4 | H8: OK | Q8: RESILIATIONS | R8: 4 | T8: S. Lagadec
A9: CLICHY | B9: controleur 1 | C9: 41892 | D9: 179096748257243 | E9: 41892 | F9: HOK | G9: C1 | H9: OK | Q9: COTISATIONS | R9: 5 | T9: L. Vincent
A10: CLICHY | B10: controleur 1 | C10: 37144 | D10: 179096748257243 | E10: 41892 | F10: HOK | G10: C2 | H10: N/A | Q10: PRESTATION PREVOYANCE | R10: 6 | T10: V. Basa
A11: CLICHY | B11: controleur 1 | C11: 41892 | D11: 179096748257243 | E11: 41892 | F11: HOK | G11: C3 | H11: OK | Q11: REMBOURSEMENT COT | R11: 7 | T11: L. Guillemin
A12: CLICHY | B12: controleur 1 | C12: 41892 | D12: 179096748257243 | E12: 41892 | F12: HOK | G12: C4 | H12: OK | Q12: SOLLICITATIONS CLIENTS | T12: A. Lapierre
A13: CLICHY | B13: controleur 1 | C13: 41892 | D13: 277081422003806 | E13: 41892 | F13: HOK | G13: C1 | H13: OK | Q13: DIVERS | T13: J. Grosseau
A14: CLICHY | B14: controleur 1 | C14: 41892 | D14: 277081422003806 | E14: 41892 | F14: HOK | G14: C2 | H14: N/A | T14: T. Nicollas
A15: CLICHY | B15: controleur 1 | C15: 41892 | D15: 277081422003806 | E15: 41892 | F15: HOK | G15: C3 | H15: OK | T15: A. Mauget
A16: CLICHY | B16: controleur 1 | C16: 41892 | D16: 277081422003806 | E16: 41892 | F16: HOK | G16: C4 | H16: OK | T16: F. Laury
A17: CLICHY | B17: controleur 1 | C17: 41892 | D17: 252044932822197 | E17: 41892 | F17: RIV | G17: C1 | H17: OK | T17: S.Lallouet
A18: CLICHY | B18: controleur 1 | C18: 41892 | D18: 252044932822197 | E18: 41892 | F18: RIV | G18: C2 | H18: N/A | T18: N. Goujon
A19: CLICHY | B19: controleur 1 | C19: 41892 | D19: 252044932822197 | E19: 41892 | F19: RIV | G19: C3 | H19: OK | T19: M-A Coudanne
A20: CLICHY | B20: controleur 1 | C20: 41892 | D20: 252044932822197 | E20: 41892 | F20: RIV | G20: C4 | H20: OK | T20: K. Baud
A21: CLICHY | B21: controleur 1 | C21: 41892 | D21: 288083854407622 | E21: 41892 | F21: RIV | G21: C1 | H21: OK | T21: S. Gollain
A22: CLICHY | B22: controleur 1 | C22: 41892 | D22: 288083854407622 | E22: 41892 | F22: RIV | G22: C2 | H22: N/A | T22: P. Delvert
A23: CLICHY | B23: controleur 1 | C23: 41892 | D23: 288083854407622 | E23: 41892 | F23: RIV | G23: C3 | H23: OK | T23: *
A24: CLICHY | B24: controleur 1 | C24: 41892 | D24: 288083854407622 | E24: 41892 | F24: RIV | G24: C4 | H24: OK
A25: CLICHY | B25: controleur 1 | C25: 41892 | D25: 254085014729359 | E25: 41892 | F25: RIV | G25: C1 | H25: OK
A26: CLICHY | B26: controleur 1 | C26: 41892 | D26: 254085014729359 | E26: 41892 | F26: RIV | G26: C2 | H26: OK
A27: CLICHY | B27: controleur 1 | C27: 41892 | D27: 254085014729359 | E27: 41892 | F27: RIV | G27: C3 | H27: KO | I27: OUI | J27: CHAMPS "COMPTE JOINT" ET "NOM COTITULAIRE" ERRONES
A28: CLICHY | B28: controleur 1 | C28: 41892 | D28: 254085014729359 | E28: 41892 | F28: RIV | G28: C4 | H28: OK
A29: CLICHY | B29: controleur 1 | C29: 41892 | D29: 266112808504983 | E29: 41892 | F29: RIV | G29: C1 | H29: OK
A30: CLICHY | B30: controleur 1 | C30: 41892 | D30: 266112808504983 | E30: 41892 | F30: RIV | G30: C2 | H30: N/A
A31: CLICHY | B31: controleur 1 | C31: 41892 | D31: 266112808504983 | E31: 41892 | F31: RIV | G31: C3 | H31: OK
A32: CLICHY | B32: controleur 1 | C32: 41892 | D32: 266112808504983 | E32: 41892 | F32: RIV | G32: C4 | H32: OK
A33: CLICHY | B33: controleur 1 | C33: 41892 | D33: 150088503203660 | E33: 41892 | F33: RIV | G33: C1 | H33: OK
A34: CLICHY | B34: controleur 1 | C34: 41892 | D34: 150088503203660 | E34: 41892 | F34: RIV | G34: C2 | H34: OK
A35: CLICHY | B35: controleur 1 | C35: 41892 | D35: 150088503203660 | E35: 41892 | F35: RIV | G35: C3 | H35: OK
A36: CLICHY | B36: controleur 1 | C36: 41892 | D36: 150088503203660 | E36: 41892 | F36: RIV | G36: C4 | H36: OK
A37: CLICHY | B37: controleur 1 | C37: 41892 | D37: 284108902401779 | E37: 41892 | F37: RIV | G37: C1 | H37: OK
A38: CLICHY | B38: controleur 1 | C38: 41892 | D38: 284108902401779 | E38: 41892 | F38: RIV | G38: C2 | H38: OK
A39: CLICHY | B39: controleur 1 | C39: 41892 | D39: 284108902401779 | E39: 41892 | F39: RIV | G39: C3 | H39: OK
... A60: CLICHY | B60: controleur 1 | C60: 41670 | D60: 133072214200486 | E60: 41913 | F60: U7MAA1 | G60: C4 | H60: N/A

Sheet controleur_2
A2: TABLEAU DE SUIVI DES POINTS DE CONTRÔLÉS | P2: Listes déroulantes
A4: Site | B4: Nom du contrôleur | C4: Date du contrôle | D4: NIR | E4: Date de traitement dans le SI | F4: USER du gestionnaire ayant traité le dossier contrôlé | G4: Points de contrôle effectué | H4: OK / KO ou N/A | I4: Dossier corrigé OUI / NON | J4: Commentaire ( seulement pour les contrôles KO ) | P4: Site | Q4: processus | R4: points | S4: corrigé | T4: Controleurs
A5: CLICHY | B5: controleur 2 | C5: 41892 | D5: 154037511031356 | E5: 41892 | F5: HOK | G5: C1 | H5: OK | P5: Clichy | Q5: ADHESIONS | R5: 1 | S5: oui | T5: autre
A6: CLICHY | B6: controleur 2 | C6: 41892 | D6: 154037511031356 | E6: 41892 | F6: HOK | G6: C2 | H6: N/A | P6: Nantes | Q6: MODIFICATIONS | R6: 2 | S6: non | T6: F.Romieux
A7: CLICHY | B7: controleur 2 | C7: 41892 | D7: 154037511031356 | E7: 41892 | F7: HOK | G7: C3 | H7: OK | P7: St Quentin | Q7: DECES en FS | R7: 3 | T7: L. Faisan
A8: CLICHY | B8: controleur 2 | C8: 41892 | D8: 154037511031356 | E8: 41892 | F8: HOK | G8: C4 | H8: OK | Q8: RESILIATIONS | R8: 4 | T8: S. Lagadec
A9: CLICHY | B9: controleur 2 | C9: 41892 | D9: 179096748257243 | E9: 41892 | F9: HOK | G9: C1 | H9: OK | Q9: COTISATIONS | R9: 5 | T9: L. Vincent
A10: CLICHY | B10: controleur 2 | C10: 37144 | D10: 179096748257243 | E10: 41892 | F10: HOK | G10: C2 | H10: N/A | Q10: PRESTATION PREVOYANCE | R10: 6 | T10: V. Basa
A11: CLICHY | B11: controleur 2 | C11: 41892 | D11: 179096748257243 | E11: 41892 | F11: HOK | G11: C3 | H11: OK | Q11: REMBOURSEMENT COT | R11: 7 | T11: L. Guillemin
A12: CLICHY | B12: controleur 2 | C12: 41892 | D12: 179096748257243 | E12: 41892 | F12: HOK | G12: C4 | H12: OK | Q12: SOLLICITATIONS CLIENTS | T12: A. Lapierre
A13: CLICHY | B13: controleur 2 | C13: 41892 | D13: 277081422003806 | E13: 41892 | F13: HOK | G13: C1 | H13: OK | Q13: DIVERS | T13: J. Grosseau
A14: CLICHY | B14: controleur 2 | C14: 41892 | D14: 277081422003806 | E14: 41892 | F14: HOK | G14: C2 | H14: N/A | T14: T. Nicollas
A15: CLICHY | B15: controleur 2 | C15: 41892 | D15: 277081422003806 | E15: 41892 | F15: HOK | G15: C3 | H15: OK | T15: A. Mauget
A16: CLICHY | B16: controleur 2 | C16: 41892 | D16: 277081422003806 | E16: 41892 | F16: HOK | G16: C4 | H16: OK | T16: F. Laury
A17: CLICHY | B17: controleur 2 | C17: 41892 | D17: 252044932822197 | E17: 41892 | F17: RIV | G17: C1 | H17: OK | T17: S.Lallouet
A18: CLICHY | B18: controleur 2 | C18: 41892 | D18: 252044932822197 | E18: 41892 | F18: RIV | G18: C2 | H18: N/A | T18: N. Goujon
A19: CLICHY | B19: controleur 2 | C19: 41892 | D19: 252044932822197 | E19: 41892 | F19: RIV | G19: C3 | H19: OK | T19: M-A Coudanne
A20: CLICHY | B20: controleur 2 | C20: 41892 | D20: 252044932822197 | E20: 41892 | F20: RIV | G20: C4 | H20: OK | T20: K. Baud
A21: CLICHY | B21: controleur 2 | C21: 41892 | D21: 288083854407622 | E21: 41892 | F21: RIV | G21: C1 | H21: OK | T21: S. Gollain
A22: CLICHY | B22: controleur 2 | C22: 41892 | D22: 288083854407622 | E22: 41892 | F22: RIV | G22: C2 | H22: N/A | T22: P. Delvert
A23: CLICHY | B23: controleur 2 | C23: 41892 | D23: 288083854407622 | E23: 41892 | F23: RIV | G23: C3 | H23: OK | T23: *
A24: CLICHY | B24: controleur 2 | C24: 41892 | D24: 288083854407622 | E24: 41892 | F24: RIV | G24: C4 | H24: OK
A25: CLICHY | B25: controleur 2 | C25: 41892 | D25: 254085014729359 | E25: 41892 | F25: RIV | G25: C1 | H25: OK
A26: CLICHY | B26: controleur 2 | C26: 41892 | D26: 254085014729359 | E26: 41892 | F26: RIV | G26: C2 | H26: OK
A27: CLICHY | B27: controleur 2 | C27: 41892 | D27: 254085014729359 | E27: 41892 | F27: RIV | G27: C3 | H27: KO | I27: OUI | J27: CHAMPS "COMPTE JOINT" ET "NOM COTITULAIRE" ERRONES
A28: CLICHY | B28: controleur 2 | C28: 41892 | D28: 254085014729359 | E28: 41892 | F28: RIV | G28: C4 | H28: OK
A29: CLICHY | B29: controleur 2 | C29: 41892 | D29: 266112808504983 | E29: 41892 | F29: RIV | G29: C1 | H29: OK
A30: CLICHY | B30: controleur 2 | C30: 41892 | D30: 266112808504983 | E30: 41892 | F30: RIV | G30: C2 | H30: N/A
A31: CLICHY | B31: controleur 2 | C31: 41892 | D31: 266112808504983 | E31: 41892 | F31: RIV | G31: C3 | H31: OK
A32: CLICHY | B32: controleur 2 | C32: 41892 | D32: 266112808504983 | E32: 41892 | F32: RIV | G32: C4 | H32: OK
A33: CLICHY | B33: controleur 2 | C33: 41892 | D33: 150088503203660 | E33: 41892 | F33: RIV | G33: C1 | H33: OK
A34: CLICHY | B34: controleur 2 | C34: 41892 | D34: 150088503203660 | E34: 41892 | F34: RIV | G34: C2 | H34: OK
A35: CLICHY | B35: controleur 2 | C35: 41892 | D35: 150088503203660 | E35: 41892 | F35: RIV | G35: C3 | H35: OK
A36: CLICHY | B36: controleur 2 | C36: 41892 | D36: 150088503203660 | E36: 41892 | F36: RIV | G36: C4 | H36: OK
A37: CLICHY | B37: controleur 2 | C37: 41892 | D37: 284108902401779 | E37: 41892 | F37: RIV | G37: C1 | H37: OK
A38: CLICHY | B38: controleur 2 | C38: 41892 | D38: 284108902401779 | E38: 41892 | F38: RIV | G38: C2 | H38: OK
A39: CLICHY | B39: controleur 2 | C39: 41892 | D39: 284108902401779 | E39: 41892 | F39: RIV | G39: C3 | H39: OK
... A52: CLICHY | B52: controleur 1 | C52: 41670 | D52: 133072214200486 | E52: 41913 | F52: U7MAA1 | G52: C4 | H52: N/A

Sheet controleur_3
A2: TABLEAU DE SUIVI DES POINTS DE CONTRÔLÉS | P2: Listes déroulantes
A4: Site | B4: Nom du contrôleur | C4: Date du contrôle | D4: NIR | E4: Date de traitement dans le SI | F4: USER du gestionnaire ayant traité le dossier contrôlé | G4: Points de contrôle effectué | H4: OK / KO ou N/A | I4: Dossier corrigé OUI / NON | J4: Commentaire ( seulement pour les contrôles KO ) | P4: Site | Q4: processus | R4: points | S4: corrigé | T4: Controleurs
A5: CLICHY | B5: controleur 3 | C5: 41892 | D5: 154037511031356 | E5: 41892 | F5: HOK | G5: C1 | H5: OK | P5: Clichy | Q5: ADHESIONS | R5: 1 | S5: oui | T5: autre
A6: CLICHY | B6: controleur 3 | C6: 41892 | D6: 154037511031356 | E6: 41892 | F6: HOK | G6: C2 | H6: N/A | P6: Nantes | Q6: MODIFICATIONS | R6: 2 | S6: non | T6: F.Romieux
A7: CLICHY | B7: controleur 3 | C7: 41892 | D7: 154037511031356 | E7: 41892 | F7: HOK | G7: C3 | H7: OK | P7: St Quentin | Q7: DECES en FS | R7: 3 | T7: L. Faisan
A8: CLICHY | B8: controleur 3 | C8: 41892 | D8: 154037511031356 | E8: 41892 | F8: HOK | G8: C4 | H8: OK | Q8: RESILIATIONS | R8: 4 | T8: S. Lagadec
A9: CLICHY | B9: controleur 3 | C9: 41892 | D9: 179096748257243 | E9: 41892 | F9: HOK | G9: C1 | H9: OK | Q9: COTISATIONS | R9: 5 | T9: L. Vincent
A10: CLICHY | B10: controleur 3 | C10: 37144 | D10: 179096748257243 | E10: 41892 | F10: HOK | G10: C2 | H10: N/A | Q10: PRESTATION PREVOYANCE | R10: 6 | T10: V. Basa
A11: CLICHY | B11: controleur 3 | C11: 41892 | D11: 179096748257243 | E11: 41892 | F11: HOK | G11: C3 | H11: OK | Q11: REMBOURSEMENT COT | R11: 7 | T11: L. Guillemin
A12: CLICHY | B12: controleur 3 | C12: 41892 | D12: 179096748257243 | E12: 41892 | F12: HOK | G12: C4 | H12: OK | Q12: SOLLICITATIONS CLIENTS | T12: A. Lapierre
A13: CLICHY | B13: controleur 3 | C13: 41892 | D13: 277081422003806 | E13: 41892 | F13: HOK | G13: C1 | H13: OK | Q13: DIVERS | T13: J. Grosseau
A14: CLICHY | B14: controleur 3 | C14: 41892 | D14: 277081422003806 | E14: 41892 | F14: HOK | G14: C2 | H14: N/A | T14: T. Nicollas
A15: CLICHY | B15: controleur 3 | C15: 41892 | D15: 277081422003806 | E15: 41892 | F15: HOK | G15: C3 | H15: OK | T15: A. Mauget
A16: CLICHY | B16: controleur 3 | C16: 41892 | D16: 277081422003806 | E16: 41892 | F16: HOK | G16: C4 | H16: OK | T16: F. Laury
A17: CLICHY | B17: controleur 3 | C17: 41892 | D17: 252044932822197 | E17: 41892 | F17: RIV | G17: C1 | H17: OK | T17: S.Lallouet
A18: CLICHY | B18: controleur 3 | C18: 41892 | D18: 252044932822197 | E18: 41892 | F18: RIV | G18: C2 | H18: N/A | T18: N. Goujon
A19: CLICHY | B19: controleur 3 | C19: 41892 | D19: 252044932822197 | E19: 41892 | F19: RIV | G19: C3 | H19: OK | T19: M-A Coudanne
A20: CLICHY | B20: controleur 3 | C20: 41892 | D20: 252044932822197 | E20: 41892 | F20: RIV | G20: C4 | H20: OK | T20: K. Baud
A21: CLICHY | B21: controleur 3 | C21: 41892 | D21: 288083854407622 | E21: 41892 | F21: RIV | G21: C1 | H21: OK | T21: S. Gollain
A22: CLICHY | B22: controleur 3 | C22: 41892 | D22: 288083854407622 | E22: 41892 | F22: RIV | G22: C2 | H22: N/A | T22: P. Delvert
A23: CLICHY | B23: controleur 3 | C23: 41892 | D23: 288083854407622 | E23: 41892 | F23: RIV | G23: C3 | H23: OK | T23: *
A24: CLICHY | B24: controleur 3 | C24: 41892 | D24: 288083854407622 | E24: 41892 | F24: RIV | G24: C4 | H24: OK
A25: CLICHY | B25: controleur 3 | C25: 41892 | D25: 254085014729359 | E25: 41892 | F25: RIV | G25: C1 | H25: OK
A26: CLICHY | B26: controleur 3 | C26: 41892 | D26: 254085014729359 | E26: 41892 | F26: RIV | G26: C2 | H26: OK
A27: CLICHY | B27: controleur 3 | C27: 41892 | D27: 254085014729359 | E27: 41892 | F27: RIV | G27: C3 | H27: KO | I27: OUI | J27: CHAMPS "COMPTE JOINT" ET "NOM COTITULAIRE" ERRONES
A28: CLICHY | B28: controleur 3 | C28: 41892 | D28: 254085014729359 | E28: 41892 | F28: RIV | G28: C4 | H28: OK
A29: CLICHY | B29: controleur 3 | C29: 41892 | D29: 266112808504983 | E29: 41892 | F29: RIV | G29: C1 | H29: OK
A30: CLICHY | B30: controleur 3 | C30: 41892 | D30: 266112808504983 | E30: 41892 | F30: RIV | G30: C2 | H30: N/A
A31: CLICHY | B31: controleur 3 | C31: 41892 | D31: 266112808504983 | E31: 41892 | F31: RIV | G31: C3 | H31: OK
A32: CLICHY | B32: controleur 3 | C32: 41892 | D32: 266112808504983 | E32: 41892 | F32: RIV | G32: C4 | H32: OK
A33: CLICHY | B33: controleur 3 | C33: 41892 | D33: 150088503203660 | E33: 41892 | F33: RIV | G33: C1 | H33: OK
A34: CLICHY | B34: controleur 3 | C34: 41892 | D34: 150088503203660 | E34: 41892 | F34: RIV | G34: C2 | H34: OK
A35: CLICHY | B35: controleur 3 | C35: 41892 | D35: 150088503203660 | E35: 41892 | F35: RIV | G35: C3 | H35: OK
A36: CLICHY | B36: controleur 3 | C36: 41892 | D36: 150088503203660 | E36: 41892 | F36: RIV | G36: C4 | H36: OK
A37: CLICHY | B37: controleur 3 | C37: 41892 | D37: 284108902401779 | E37: 41892 | F37: RIV | G37: C1 | H37: OK
A38: CLICHY | B38: controleur 3 | C38: 41892 | D38: 284108902401779 | E38: 41892 | F38: RIV | G38: C2 | H38: OK
A39: CLICHY | B39: controleur 3 | C39: 41892 | D39: 284108902401779 | E39: 41892 | F39: RIV | G39: C3 | H39: OK
... A56: CLICHY | B56: controleur 1 | C56: 41670 | D56: 133072214200486 | E56: 41913 | F56: U7MAA1 | G56: C4 | H56: N/A

Sheet D
A2: TABLEAU DE SUIVI DES POINTS DE CONTRÔLÉS | P2: Listes déroulantes
A4: Site | B4: Nom du contrôleur | C4: Date du contrôle | D4: NIR | E4: Date de traitement dans le SI | F4: USER du gestionnaire ayant traité le dossier contrôlé | G4: Points de contrôle effectué | H4: OK / KO ou N/A | I4: Dossier corrigé OUI / NON | J4: Commentaire ( seulement pour les contrôles KO ) | P4: Site | Q4: processus | R4: points | S4: corrigé | T4: Controleurs
A5: CLICHY | B5: D | C5: 41671 | D5: 150088503203660 | E5: 41892 | F5: RIV | G5: C1 | H5: OK | P5: Clichy | Q5: ADHESIONS | R5: 1 | S5: oui | T5: autre
A6: CLICHY | B6: D | C6: 41671 | D6: 150088503203660 | E6: 41892 | F6: RIV | G6: C2 | H6: OK | P6: Nantes | Q6: MODIFICATIONS | R6: 2 | S6: non | T6: F.Romieux
A7: CLICHY | B7: D | C7: 41671 | D7: 150088503203660 | E7: 41892 | F7: RIV | G7: C3 | H7: OK | P7: St Quentin | Q7: DECES en FS | R7: 3 | T7: L. Faisan
A8: CLICHY | B8: D | C8: 41671 | D8: 150088503203660 | E8: 41892 | F8: RIV | G8: C4 | H8: OK | Q8: RESILIATIONS | R8: 4 | T8: S. Lagadec
Q9: COTISATIONS | R9: 5 | T9: L. Vincent
Q10: PRESTATION PREVOYANCE | R10: 6 | T10: V. Basa
Q11: REMBOURSEMENT COT | R11: 7 | T11: L. Guillemin
Q12: SOLLICITATIONS CLIENTS | T12: A. Lapierre
Q13: DIVERS | T13: J. Grosseau
T14: T. Nicollas
T15: A. Mauget
T16: F. Laury
T17: S.Lallouet
T18: N. Goujon
T19: M-A Coudanne
T20: K. Baud
T21: S. Gollain
T22: P. Delvert
T23: *

Sheet E
A2: TABLEAU DE SUIVI DES POINTS DE CONTRÔLÉS | P2: Listes déroulantes
A4: Site | B4: Nom du contrôleur | C4: Date du contrôle | D4: NIR | E4: Date de traitement dans le SI | F4: USER du gestionnaire ayant traité le dossier contrôlé | G4: Points de contrôle effectué | H4: OK / KO ou N/A | I4: Dossier corrigé OUI / NON | J4: Commentaire ( seulement pour les contrôles KO ) | P4: Site | Q4: processus | R4: points | S4: corrigé | T4: Controleurs
A5: CLICHY | B5: E | C5: 41699 | D5: 150088503203660 | E5: 41699 | F5: RIV | G5: C1 | H5: OK | P5: Clichy | Q5: ADHESIONS | R5: 1 | S5: oui | T5: autre
A6: CLICHY | B6: E | C6: 41699 | D6: 150088503203660 | E6: 41699 | F6: RIV | G6: C2 | H6: OK | P6: Nantes | Q6: MODIFICATIONS | R6: 2 | S6: non | T6: F.Romieux
A7: CLICHY | B7: E | C7: 41699 | D7: 150088503203660 | E7: 41699 | F7: RIV | G7: C3 | H7: OK | P7: St Quentin | Q7: DECES en FS | R7: 3 | T7: L. Faisan
A8: CLICHY | B8: E | C8: 41699 | D8: 150088503203660 | E8: 41699 | F8: RIV | G8: C4 | H8: OK | Q8: RESILIATIONS | R8: 4 | T8: S. Lagadec
Q9: COTISATIONS | R9: 5 | T9: L. Vincent
Q10: PRESTATION PREVOYANCE | R10: 6 | T10: V. Basa
Q11: REMBOURSEMENT COT | R11: 7 | T11: L. Guillemin
Q12: SOLLICITATIONS CLIENTS | T12: A. Lapierre
Q13: DIVERS | T13: J. Grosseau
T14: T. Nicollas
T15: A. Mauget
T16: F. Laury
T17: S.Lallouet
T18: N. Goujon
T19: M-A Coudanne
T20: K. Baud
T21: S. Gollain
T22: P. Delvert
T23: *

Sheet F
A2: TABLEAU DE SUIVI DES POINTS DE CONTRÔLÉS | P2: Listes déroulantes
A4: Site | B4: Nom du contrôleur | C4: Date du contrôle | D4: NIR | E4: Date de traitement dans le SI | F4: USER du gestionnaire ayant traité le dossier contrôlé | G4: Points de contrôle effectué | H4: OK / KO ou N/A | I4: Dossier corrigé OUI / NON | J4: Commentaire ( seulement pour les contrôles KO ) | P4: Site | Q4: processus | R4: points | S4: corrigé | T4: Controleurs
A5: CLICHY | B5: F | C5: 41730 | D5: 150088503203660 | E5: 41892 | F5: RIV | G5: C1 | H5: OK | P5: Clichy | Q5: ADHESIONS | R5: 1 | S5: oui | T5: autre
A6: CLICHY | B6: F | C6: 41730 | D6: 150088503203660 | E6: 41892 | F6: RIV | G6: C2 | H6: OK | P6: Nantes | Q6: MODIFICATIONS | R6: 2 | S6: non | T6: F.Romieux
A7: CLICHY | B7: F | C7: 41730 | D7: 150088503203660 | E7: 41892 | F7: RIV | G7: C3 | H7: OK | P7: St Quentin | Q7: DECES en FS | R7: 3 | T7: L. Faisan
A8: CLICHY | B8: F | C8: 41730 | D8: 150088503203660 | E8: 41892 | F8: RIV | G8: C4 | H8: OK | Q8: RESILIATIONS | R8: 4 | T8: S. Lagadec
Q9: COTISATIONS | R9: 5 | T9: L. Vincent
Q10: PRESTATION PREVOYANCE | R10: 6 | T10: V. Basa
Q11: REMBOURSEMENT COT | R11: 7 | T11: L. Guillemin
Q12: SOLLICITATIONS CLIENTS | T12: A. Lapierre
Q13: DIVERS | T13: J. Grosseau
T14: T. Nicollas
T15: A. Mauget
T16: F. Laury
T17: S.Lallouet
T18: N. Goujon
T19: M-A Coudanne
T20: K. Baud
T21: S. Gollain
T22: P. Delvert
T23: *

Sheet fin
