Workbook
Name _jeu1: #REF!
Name _jeu1: #REF!
Name _jeu2: #REF!
Name _jeu2: #REF!
Name _jeu3: #REF!
Name _jeu3: #REF!
Name _jeu4: #REF!
Name _jeu4: #REF!
Name _lun1: #REF!
Name _lun1: #REF!
Name _lun2: #REF!
Name _lun2: #REF!
Name _lun3: #REF!
Name _lun3: #REF!
Name _lun4: #REF!
Name _lun4: #REF!
Name _mar4: #REF!
Name _mar4: #REF!
Name _mer1: #REF!
Name _mer1: #REF!
Name _mer2: #REF!
Name _mer2: #REF!
Name _ven1: #REF!
Name _ven1: #REF!
Name _ven2: #REF!
Name _ven2: #REF!
Name _ven3: #REF!
Name _ven3: #REF!
Name _ven4: #REF!
Name _ven4: #REF!
Name classes: classe!$C$2:$N$40
Name classes: [1]parametre!#REF!
Name classes: #REF!
Name DIDOU: #REF!,#REF!,#REF!,#REF!,#REF!
Name DIDOU: #REF!,#REF!,#REF!,#REF!,#REF!
Name DIDOU: #REF!,#REF!,#REF!,#REF!,#REF!
Name edt: #REF!
Name edt: #REF!
Name edt: #REF!
Name mard1: #REF!
Name mard1: #REF!
Name mard2: #REF!
Name mard2: #REF!
Name mard3: #REF!
Name mard3: #REF!
Name mard4: #REF!
Name mard4: #REF!
Name prof11: #REF!
Name prof11: #REF!
Name prof11: #REF!
Name prof12: #REF!
Name prof12: #REF!
Name prof12: #REF!
Name prof13: #REF!
Name prof13: #REF!
Name prof13: #REF!
Name prof14: #REF!
Name prof14: #REF!
Name prof14: #REF!
Name prof15: #REF!

Sheet classe
A1: Créneaux | D1: les classes
A2: Lundi-AM-M1-M2 | C2: N° | D2: Secteur | E2: Niv_classe | F2: classe | G2: effectif réel | H2: eps/sem | I2: Niveau | J2: Choix CP | K2: PEPS | L2: creneau1 | M2: Sem | N2: creneau 2 | O2: Sem
A3: Lundi-AM-M3-M4 | C3: 34 | D3: divers | E3: classe projet | F3: PROJET | G3: 13 | H3: 2 | I3: =VLOOKUP(E3,$H$43:$J$50,2) -> 3 | J3: =VLOOKUP(E3,$H$43:$J$50,3) -> xxx | K3: Christelle | L3: Jeudi-PM-S2-S3 | M3: A-B
A4: Lundi-PM-S2-S3 | C4: 31 | D4: electrotechnique | E4: bac pro 2nde | F4: 2ELEEC | G4: 28 | H4: 2 | I4: =VLOOKUP(E4,$H$43:$J$50,2) -> 3 | J4: =VLOOKUP(E4,$H$43:$J$50,3) -> 3/5--1 | K4: Christelle | L4: Lundi-AM-M1-M2 | M4: A-B
A5: Lundi-PM-S4-S5 | C5: 7 | D5: tertiaire | E5: bac pro 1ere | F5: 1COM2 | G5: 29 | H5: 3 | I5: =VLOOKUP(E5,$H$43:$J$50,2) -> 3-4 | J5: =VLOOKUP(E5,$H$43:$J$50,3) -> 1/2/4 | K5: Christelle | L5: Lundi-AM-M3-M4 | M5: A-B | N5: Jeudi-AM-M3-M4 | O5: B
A6: Mardi-AM-M1-M2 | C6: 15 | D6: restauration | E6: cap Terminale | F6: TAPR1 | G6: 30 | H6: 3 | I6: =VLOOKUP(E6,$H$43:$J$50,2) -> 3 | J6: =VLOOKUP(E6,$H$43:$J$50,3) -> 3/5/? | K6: Christelle | L6: Lundi-PM-S2-S3 | M6: A-B | N6: Jeudi-AM-M3-M4 | O6: A
A7: Mardi-AM-M3-M4 | C7: 32 | D7: electrotechnique | E7: bac pro 1ere | F7: 1ELEEC | G7: 31 | H7: 3 | I7: =VLOOKUP(E7,$H$43:$J$50,2) -> 3-4 | J7: =VLOOKUP(E7,$H$43:$J$50,3) -> 1/2/4 | K7: Christelle | L7: Mardi-AM-M1-M2 | M7: A-B
A8: Mardi-PM-S2-S3 | C8: 25 | D8: metallerie | E8: cap Terminale | F8: TMTL | G8: 15 | H8: 3 | I8: =VLOOKUP(E8,$H$43:$J$50,2) -> 3 | J8: =VLOOKUP(E8,$H$43:$J$50,3) -> 3/5/? | K8: Christelle | L8: Mardi-AM-M3-M4 | M8: A | N8: Jeudi-AM-M1-M2 | O8: A-B
A9: Mardi-PM-S4-S5 | C9: 30 | D9: electrotechnique | E9: cap Terminale | F9: TPROE | G9: 27 | H9: 3 | I9: =VLOOKUP(E9,$H$43:$J$50,2) -> 3 | J9: =VLOOKUP(E9,$H$43:$J$50,3) -> 3/5/? | K9: Christelle | L9: Mardi-AM-M3-M4 | M9: A | N9: Jeudi-AM-M1-M2 | O9: A-B
A10: Mercredi-AM-M1-M2 | C10: 11 | D10: tertiaire | E10: bac pro 1ere | F10: 1GA | G10: 26 | H10: 3 | I10: =VLOOKUP(E10,$H$43:$J$50,2) -> 3-4 | J10: =VLOOKUP(E10,$H$43:$J$50,3) -> 1/2/4 | K10: Christelle | L10: Mardi-PM-S2-S3 | M10: A-B
A11: Mercredi-AM-M3-M4 | C11: 19 | D11: hygiene | E11: bac pro 1ere | F11: 1HPS | G11: 15 | H11: 3 | I11: =VLOOKUP(E11,$H$43:$J$50,2) -> 3-4 | J11: =VLOOKUP(E11,$H$43:$J$50,3) -> 1/2/4 | K11: Christelle | L11: Mardi-PM-S2-S3 | M11: A-B
A12: Jeudi-AM-M1-M2 | C12: 24 | D12: metallerie | E12: cap 2nde | F12: 1MTL | G12: 15 | H12: 2 | I12: =VLOOKUP(E12,$H$43:$J$50,2) -> 3 | J12: =VLOOKUP(E12,$H$43:$J$50,3) -> 1/2/4 | K12: Christelle | L12: Vendredi-PM-S2-S3 | M12: A-B
A13: Jeudi-AM-M3-M4 | C13: 29 | D13: electrotechnique | E13: cap 2nde | F13: 1PROE | G13: 19 | H13: 2 | I13: =VLOOKUP(E13,$H$43:$J$50,2) -> 3 | J13: =VLOOKUP(E13,$H$43:$J$50,3) -> 1/2/4 | K13: Christelle | L13: Vendredi-PM-S2-S3 | M13: A-B
A14: Jeudi-PM-S2-S3 | C14: 21 | D14: aide personne | E14: bac pro 2nde | F14: 2ASSP | G14: 34 | H14: 2 | I14: =VLOOKUP(E14,$H$43:$J$50,2) -> 3 | J14: =VLOOKUP(E14,$H$43:$J$50,3) -> 3/5--1 | K14: Didier | L14: Jeudi-AM-M1-M2 | M14: A-B
A15: Jeudi-PM-S4-S5 | C15: 23 | D15: aide personne | E15: bac pro term | F15: TASSP | G15: 35 | H15: 3 | I15: =VLOOKUP(E15,$H$43:$J$50,2) -> 4 | J15: =VLOOKUP(E15,$H$43:$J$50,3) -> 2/3/4/5 | K15: Didier | L15: Lundi-AM-M3-M4 | M15: A | N15: Mercredi-AM-M1-M2 | O15: A-B
A16: Vendredi-AM-M1-M2 | C16: 8 | D16: tertiaire | E16: bac pro term | F16: TCOM1 | G16: 25 | H16: 3 | I16: =VLOOKUP(E16,$H$43:$J$50,2) -> 4 | J16: =VLOOKUP(E16,$H$43:$J$50,3) -> 2/3/4/5 | K16: Didier | L16: Lundi-PM-S2-S3 | M16: A | N16: Jeudi-PM-S4-S5 | O16: A-B
A17: Vendredi-AM-M3-M4 | C17: 9 | D17: tertiaire | E17: bac pro term | F17: TCOM2 | G17: 24 | H17: 3 | I17: =VLOOKUP(E17,$H$43:$J$50,2) -> 4 | J17: =VLOOKUP(E17,$H$43:$J$50,3) -> 2/3/4/5 | K17: Didier | L17: Lundi-PM-S2-S3 | M17: B | N17: Jeudi-AM-M3-M4 | O17: A-B
A18: Vendredi-PM-S2-S3 | C18: 3 | D18: tertiaire | E18: cap 2nde | F18: 1EVS | G18: 23 | H18: 2 | I18: =VLOOKUP(E18,$H$43:$J$50,2) -> 3 | J18: =VLOOKUP(E18,$H$43:$J$50,3) -> 1/2/4 | K18: Didier | L18: Lundi-PM-S4-S5 | M18: A-B
A19: Vendredi-PM-S4-S5 | C19: 5 | D19: tertiaire | E19: bac pro 2nde | F19: 2COM2 | G19: 22 | H19: 2 | I19: =VLOOKUP(E19,$H$43:$J$50,2) -> 3 | J19: =VLOOKUP(E19,$H$43:$J$50,3) -> 3/5--1 | K19: Didier | L19: Mardi-AM-M1-M2 | M19: A-B
A20: Lundi-AM-M1 | C20: 27 | D20: metallerie | E20: bac pro 1ere | F20: 1OBM | G20: 15 | H20: 3 | I20: =VLOOKUP(E20,$H$43:$J$50,2) -> 3-4 | J20: =VLOOKUP(E20,$H$43:$J$50,3) -> 1/2/4 | K20: Didier | L20: Mardi-AM-M3-M4 | M20: A-B
A21: Lundi-AM-M2 | C21: 17 | D21: hygiene | E21: cap Terminale | F21: TMHL | G21: 15 | H21: 3 | I21: =VLOOKUP(E21,$H$43:$J$50,2) -> 3 | J21: =VLOOKUP(E21,$H$43:$J$50,3) -> 3/5/? | K21: Morgane | L21: Mardi-AM-M1-M2 | M21: A
A22: Lundi-AM-M3 | C22: 2 | D22: college | E22: 3ème | F22: 3PREPAPRO(AE) | G22: 24 | H22: 3 | I22: =VLOOKUP(E22,$H$43:$J$50,2) -> 2 | J22: =VLOOKUP(E22,$H$43:$J$50,3) -> xxx | K22: Morgane | L22: Mardi-AM-M3 | M22: A-B | N22: Jeudi-PM-S3 | O22: A
A23: Lundi-AM-M4 | C23: 4 | D23: tertiaire | E23: bac pro 2nde | F23: 2COM1 | G23: 30 | H23: 2 | I23: =VLOOKUP(E23,$H$43:$J$50,2) -> 3 | J23: =VLOOKUP(E23,$H$43:$J$50,3) -> 3/5--1 | K23: Morgane | L23: Mardi-PM-S2-S3 | M23: A-B
A24: Lundi-PM-S1 | C24: 22 | D24: aide personne | E24: bac pro 1ere | F24: 1ASSP | G24: 35 | H24: 3 | I24: =VLOOKUP(E24,$H$43:$J$50,2) -> 3-4 | J24: =VLOOKUP(E24,$H$43:$J$50,3) -> 1/2/4 | K24: Morgane | L24: Mardi-PM-S4-S5 | M24: A-B | N24: Vendredi-PM-S2-S3 | O24: B
A25: Lundi-PM-S2 | C25: 1 | D25: college | E25: 3ème | F25: 3PREPAPRO | G25: 24 | H25: 3 | I25: =VLOOKUP(E25,$H$43:$J$50,2) -> 2 | J25: =VLOOKUP(E25,$H$43:$J$50,3) -> xxx | K25: Morgane | L25: Mercredi-AM-M1-M2 | M25: A-B | N25: Vendredi-PM-S2-S3 | O25: A
A26: Lundi-PM-S3 | C26: 6 | D26: tertiaire | E26: bac pro 1ere | F26: 1COM1 | G26: 30 | H26: 3 | I26: =VLOOKUP(E26,$H$43:$J$50,2) -> 3-4 | J26: =VLOOKUP(E26,$H$43:$J$50,3) -> 1/2/4 | K26: Morgane | L26: Mercredi-AM-M3-M4 | M26: A | N26: Vendredi-PM-S4-S5 | O26: A-B
A27: Lundi-PM-S4 | C27: 33 | D27: electrotechnique | E27: bac pro term | F27: TELEEC | G27: 29 | H27: 3 | I27: =VLOOKUP(E27,$H$43:$J$50,2) -> 4 | J27: =VLOOKUP(E27,$H$43:$J$50,3) -> 2/3/4/5 | K27: Morgane | L27: Mercredi-AM-M3-M4 | M27: B | N27: Vendredi-AM-M1-M2 | O27: A-B
A28: Lundi-PM-S5 | C28: 20 | D28: hygiene | E28: bac pro term | F28: THE | G28: 7 | H28: 3 | I28: =VLOOKUP(E28,$H$43:$J$50,2) -> 4 | J28: =VLOOKUP(E28,$H$43:$J$50,3) -> 2/3/4/5 | K28: Nicolas | L28: Lundi-AM-M1-M2 | M28: A-B | N28: Mercredi-AM-M3-M4 | O28: A
A29: Mardi-AM-M1 | C29: 12 | D29: tertiaire | E29: bac pro term | F29: TGA | G29: 30 | H29: 3 | I29: =VLOOKUP(E29,$H$43:$J$50,2) -> 4 | J29: =VLOOKUP(E29,$H$43:$J$50,3) -> 2/3/4/5 | K29: Nicolas | L29: Lundi-AM-M3-M4 | M29: A | N29: Jeudi-AM-M1-M2 | O29: A-B
A30: Mardi-AM-M2 | C30: 28 | D30: metallerie | E30: bac pro term | F30: TOBM | G30: 15 | H30: 3 | I30: =VLOOKUP(E30,$H$43:$J$50,2) -> 4 | J30: =VLOOKUP(E30,$H$43:$J$50,3) -> 2/3/4/5 | K30: Nicolas | L30: Lundi-PM-S4-S5 | M30: A-B | N30: Mercredi-AM-M1-M2 | O30: A
A31: Mardi-AM-M3 | C31: 26 | D31: metallerie | E31: bac pro 2nde | F31: 2OBM | G31: 15 | H31: 2 | I31: =VLOOKUP(E31,$H$43:$J$50,2) -> 3 | J31: =VLOOKUP(E31,$H$43:$J$50,3) -> 3/5--1 | K31: Nicolas | L31: Mardi-PM-S2-S3 | M31: A-B
A32: Mardi-AM-M4 | C32: 10 | D32: tertiaire | E32: bac pro 2nde | F32: 2GA | G32: 30 | H32: 2 | I32: =VLOOKUP(E32,$H$43:$J$50,2) -> 3 | J32: =VLOOKUP(E32,$H$43:$J$50,3) -> 3/5--1 | K32: Nicolas | L32: Mardi-PM-S4-S5 | M32: A-B
A33: Mardi-PM-S1 | C33: 18 | D33: hygiene | E33: bac pro 2nde | F33: 2HPS | G33: 15 | H33: 2 | I33: =VLOOKUP(E33,$H$43:$J$50,2) -> 3 | J33: =VLOOKUP(E33,$H$43:$J$50,3) -> 3/5--1 | K33: Nicolas | L33: Mardi-PM-S4-S5 | M33: A-B
A34: Mardi-PM-S2 | C34: 14 | D34: restauration | E34: cap 2nde | F34: 1APR2 | G34: 15 | H34: 2 | I34: =VLOOKUP(E34,$H$43:$J$50,2) -> 3 | J34: =VLOOKUP(E34,$H$43:$J$50,3) -> 1/2/4 | K34: Nicolas | L34: Vendredi-AM-M1-M2 | M34: A-B
A35: Mardi-PM-S3 | C35: 16 | D35: hygiene | E35: cap 2nde | F35: 1APH | G35: 15 | H35: 2 | I35: =VLOOKUP(E35,$H$43:$J$50,2) -> 3 | J35: =VLOOKUP(E35,$H$43:$J$50,3) -> 1/2/4 | K35: Nicolas | L35: Vendredi-AM-M1-M2 | M35: A-B
A36: Mardi-PM-S4 | C36: 13 | D36: restauration | E36: cap 2nde | F36: 1APR1 | G36: 30 | H36: 2 | I36: =VLOOKUP(E36,$H$43:$J$50,2) -> 3 | J36: =VLOOKUP(E36,$H$43:$J$50,3) -> 1/2/4 | K36: Nicolas | L36: Vendredi-AM-M3-M4 | M36: A-B
A37: Mardi-PM-S5 | C37: 35
A38: Mercredi-AM-M1 | C38: 36
A39: Mercredi-AM-M2 | C39: 37
A40: Mercredi-AM-M3 | C40: 38
...

Sheet T-D-BORD
A1: Tableaux de Bord | J1: Répartition des installations indoor/outdoor par enseignant
A3: Répartition des Apsa par enseignant
A32: Répartition des CP par enseignant | J32: Répartition des installations par enseignant
A60: Répartition des Apsa par Niveaux de Classe | J60: Répartition des CP par Niveaux de Classe
A61: Cap-2nde (niv 3) | D61: Cap-Term (niv 3) | J61: Cap-2nde (niv 3) | M61: Cap-Term (niv 3)
A74: Bac pro 2nde (niv3) | D74: Bac Pro 1ere | G74: Bac Pro term (niv 4) | J74: Bac pro 2nde (niv3) | M74: Bac Pro 1ere | P74: Bac Pro term (niv 4)
D86: Bac Pro 1ère (niv 4) | M86: Bac Pro 1ère (niv 4)

Sheet vierge
A1: MODELE SEMAINE A-B | H1: MODELE SEMAINE A | O1: MODELE SEMAINE B
A4: N° Sem | B4: Sem
C10: N° | D10: Niv | E10: APSA | F10: INSTALL | J10: N° | K10: Niv | L10: APSA | M10: INSTALL | Q10: N° | R10: Niv | S10: APSA | T10: INSTALL
A11: 36 | B11: a | Q11: x | R11: x | S11: x | T11: x
A12: =1+A11 -> 37 | B12: b | J12: x | K12: x | L12: x | M12: x
A13: =1+A12 -> 38 | B13: a | Q13: x | R13: x | S13: x | T13: x
A14: =1+A13 -> 39 | B14: b | J14: x | K14: x | L14: x | M14: x
A15: =1+A14 -> 40 | B15: a | Q15: x | R15: x | S15: x | T15: x
A16: =1+A15 -> 41 | B16: b | J16: x | K16: x | L16: x | M16: x
A17: =1+A16 -> 42 | B17: a | Q17: x | R17: x | S17: x | T17: x
A18: =1+A17 -> 43 | B18: b | J18: x | K18: x | L18: x | M18: x
A19: =1+A18 -> 44 | B19: a | Q19: x | R19: x | S19: x | T19: x
A20: =1+A19 -> 45 | B20: b | J20: x | K20: x | L20: x | M20: x
A21: =1+A20 -> 46 | B21: a | Q21: x | R21: x | S21: x | T21: x
A22: =1+A21 -> 47 | B22: b | J22: x | K22: x | L22: x | M22: x
A23: =1+A22 -> 48 | B23: a | Q23: x | R23: x | S23: x | T23: x
A24: =1+A23 -> 49 | B24: b | J24: x | K24: x | L24: x | M24: x
A25: =1+A24 -> 50 | B25: a | Q25: x | R25: x | S25: x | T25: x
A26: =1+A25 -> 51 | B26: b | J26: x | K26: x | L26: x | M26: x
A27: =1+A26 -> 52 | B27: a | Q27: x | R27: x | S27: x | T27: x
A28: 1 | B28: b | J28: x | K28: x | L28: x | M28: x
A29: =1+A28 -> 2 | B29: a | Q29: x | R29: x | S29: x | T29: x
A30: =1+A29 -> 3 | B30: b | J30: x | K30: x | L30: x | M30: x
A31: =1+A30 -> 4 | B31: a | Q31: x | R31: x | S31: x | T31: x
A32: =1+A31 -> 5 | B32: b | J32: x | K32: x | L32: x | M32: x
A33: =1+A32 -> 6 | B33: a | Q33: x | R33: x | S33: x | T33: x
A34: =1+A33 -> 7 | B34: b | J34: x | K34: x | L34: x | M34: x
A35: =1+A34 -> 8 | B35: a | Q35: x | R35: x | S35: x | T35: x
A36: =1+A35 -> 9 | B36: b | J36: x | K36: x | L36: x | M36: x
A37: =1+A36 -> 10 | B37: a | Q37: x | R37: x | S37: x | T37: x
A38: =1+A37 -> 11 | B38: b | J38: x | K38: x | L38: x | M38: x
A39: =1+A38 -> 12 | B39: a | Q39: x | R39: x | S39: x | T39: x
A40: =1+A39 -> 13 | B40: b | J40: x | K40: x | L40: x | M40: x
A41: =1+A40 -> 14 | B41: a | Q41: x | R41: x | S41: x | T41: x
A42: =1+A41 -> 15 | B42: b | J42: x | K42: x | L42: x | M42: x
A43: =1+A42 -> 16 | B43: a | Q43: x | R43: x | S43: x | T43: x
A44: =1+A43 -> 17 | B44: b | J44: x | K44: x | L44: x | M44: x
A45: =1+A44 -> 18 | B45: a | Q45: x | R45: x | S45: x | T45: x
A46: =1+A45 -> 19 | B46: b | J46: x | K46: x | L46: x | M46: x
A47: =1+A46 -> 20 | B47: a | Q47: x | R47: x | S47: x | T47: x
...

Sheet stages
A1: periodes de stages | C1: 2014/2015 | D1: sept | H1: oct | M1: NOV | Q1: DEC | U1: JAN | Z1: FEV | AD1: MARS | AH1: AVRIL | AL1: MAI | AQ1: Juin
C2: n SEMAINE | D2: 36 | E2: =1+D2 -> 37 | F2: =1+E2 -> 38 | G2: =1+F2 -> 39 | H2: =1+G2 -> 40 | I2: =1+H2 -> 41 | J2: =1+I2 -> 42 | K2: =1+J2 -> 43 | L2: =1+K2 -> 44 | ... T2: =1+S2 -> 52 | U2: 1 | V2: =1+U2 -> 2 | W2: =1+V2 -> 3 | X2: =1+W2 -> 4 | Y2: =1+X2 -> 5 | Z2: =1+Y2 -> 6 | AA2: =1+Z2 -> 7 | AB2: =1+AA2 -> 8 | AC2: =1+AB2 -> 9 | ... AU2: =1+AT2 -> 27
A3: college | B3: 3ème | C3: 3prepapro
B4: 3ème | C4: Accomp Educ
A5: tertiaire | B5: cap 1ere année | C5: 1evs | P5: x | Q5: x | R5: x | S5: x | AQ5: x | AR5: x | AS5: x | AT5: x
B6: bac pro 2nde | C6: 2com1 | Z6: x | AA6: x | AB6: x | AR6: x | AS6: x | AT6: x
B7: bac pro 2nde | C7: 2com2 | Z7: x | AA7: x | AB7: x | AR7: x | AS7: x | AT7: x
B8: bac pro 1ere | C8: 1com1 | V8: x | W8: x | X8: x | Y8: x | AQ8: x | AR8: x | AS8: x | AT8: x
B9: bac pro 1ere | C9: 1com2 | V9: x | W9: x | X9: x | Y9: x | AQ9: x | AR9: x | AS9: x | AT9: x
B10: bac pro term | C10: tcom1 | P10: x | Q10: x | R10: x | S10: x | AH10: x | AI10: x | AJ10: x | AK10: x
B11: bac pro term | C11: tcom2 | P11: x | Q11: x | R11: x | S11: x | AH11: x | AI11: x | AJ11: x | AK11: x
B12: bac pro 2nde | C12: 2ga | V12: x | W12: x | AQ12: x | AR12: x | AS12: x | AT12: x
B13: bac pro 1ere | C13: 1ga | M13: x | N13: x | O13: x | P13: x | AH13: x | AI13: x | AJ13: x | AK13: x | AQ13: x | AR13: x | AS13: x | AT13: x
B14: bac pro term | C14: tga | P14: x | Q14: x | R14: x | S14: x | Y14: x | Z14: x | AA14: x | AB14: x
A15: restauration | B15: cap 1ere année | C15: 1apr1 | Z15: x | AA15: x | AB15: x | AQ15: x | AR15: x | AS15: x | AT15: x
B16: cap 1ere année | C16: 1apr2 | Z16: x | AA16: x | AB16: x | AQ16: x | AR16: x | AS16: x | AT16: x
B17: cap Terminale | C17: tapr1 | P17: x | Q17: x | R17: x | S17: x | AH17: x | AI17: x | AJ17: x | AK17: x
A18: hygiene | B18: cap 1ere année | C18: 1aph | J18: x | AA18: x | AB18: x | AQ18: x | AR18: x | AS18: x | AT18: x
B19: cap Terminale | C19: tmhl | AH19: x | AI19: x | AJ19: x | AK19: x
B20: bac pro 2nde | C20: 2hps | M20: x | N20: x | O20: x | P20: x | AQ20: x | AR20: x | AS20: x | AT20: x
B21: bac pro 1ere | C21: 1hps | M21: x | N21: x | O21: x | AQ21: x | AR21: x | AS21: x | AT21: x
B22: bac pro term | C22: the | V22: x | W22: x | X22: x | Y22: x | AF22: x | AG22: x | AH22: x | AI22: x
A23: aide personne | B23: bac pro 2nde | C23: 2assp | Q23: x | R23: x | S23: x | AQ23: x | AR23: x | AS23: x | AT23: x
B24: bac pro 1ere | C24: 1assp | P24: x | Q24: x | R24: x | S24: x | AQ24: x | AR24: x | AS24: x | AT24: x
B25: bac pro term | C25: tassp | G25: x | H25: x | I25: x | J25: x | Y25: x | Z25: x | AA25: x | AB25: x
A26: metallerie | B26: cap 1ere année | C26: 1mtl | AQ26: x | AR26: x | AS26: x | AT26: x
B27: cap Terminale | C27: tmtl | P27: x | Q27: x | R27: x | S27: x | AI27: x | AJ27: x | AK27: x
B28: bac pro 2nde | C28: 2obm | M28: x | N28: x | O28: x | AR28: x | AS28: x | AT28: x
B29: bac pro 1ere | C29: 1obm | Y29: x | Z29: x | AA29: x | AB29: x | AQ29: x | AR29: x | AS29: x | AT29: x
B30: bac pro term | C30: tobm | G30: x | H30: x | I30: x | J30: x | AH30: x | AI30: x | AJ30: x | AK30: x
A31: electrotechnique | B31: cap 1ere année | C31: 1proe | AQ31: x | AR31: x | AS31: x | AT31: x
B32: cap Terminale | C32: tproe | P32: x | Q32: x | R32: x | S32: x | AH32: x | AI32: x | AJ32: x | AK32: x
B33: bac pro 2nde | C33: 2eleec | AQ33: x | AR33: x | AS33: x | AT33: x
B34: bac pro 1ere | C34: 1eleec | O34: x | P34: x | Q34: x | R34: x | S34: x | AO34: x | AP34: x | AQ34: x | AR34: x
B35: bac pro term | C35: teleec | G35: x | H35: x | I35: x | J35: x | AH35: x | AI35: x | AJ35: x | AK35: x
A36: divers | B36: classe projet | C36: projet
K37: Vac | T37: Vac | AC37: Vac | AL37: Vac

Sheet LUNDI-AM
B1: LUNDI 8H35-10H25
F2: Indisponible | I2: Profs | L2: Christelle | P2: Nicolas
B3: N° Sem | C3: Sem | D3: DATES | E3: Creneau | F3: Bouchard | G3: JC | H3: Coubertin | I3: Classes | L3: 2ELEEC | P3: THE
I4: Semaines | L4: A-B | P4: A-B
I5: Nb elèves | L5: 28 | P5: 7
I6: Niv Cp | L6: 3 | P6: 4
I7: 2E COURS
I8: CP
I9: Navette | J9: Stade | K9: Lib | L9: N° | M9: Niv | N9: APSA | O9: INSTALL | P9: N° | Q9: Niv | R9: APSA | S9: INSTALL
A10: 1 | B10: 36 | C10: a | D10: 41883 | E10: M1 | I10: =IF(AND(J10="oui",K10="oui"),"Sta+Lib",IF(J10="oui","Stade",IF(K10="oui","Lib",""))) | J10: =IF(OR(LEFT($O10,3)="sta",LEFT($S10,3)="sta",LEFT($W10,3)="sta",LEFT($AA10,3)="sta",LEFT($AE10,3)="sta",LEFT($AI10,3)="sta",LEFT($AM10,3)="sta",LEFT($AQ10,3)="sta"),"oui","") | K10: =IF(OR(LEFT($O10,3)="Lib",LEFT($S10,3)="Lib",LEFT($W10,3)="Lib",LEFT($AA10,3)="Lib",LEFT($AE10,3)="Lib",LEFT($AI10,3)="Lib",LEFT($AM10,3)="Lib",LEFT($AQ10,3)="Lib"),"oui","") | L10: Journée de rentrée | P10: Journée de rentrée
A11: =1+A10 -> 2 | B11: =1+B10 -> 37 | C11: b | D11: =7+D10 -> 41890 | E11: M1 | I11: =IF(AND(J11="oui",K11="oui"),"Sta+Lib",IF(J11="oui","Stade",IF(K11="oui","Lib",""))) | J11: =IF(OR(LEFT($O11,3)="sta",LEFT($S11,3)="sta",LEFT($W11,3)="sta",LEFT($AA11,3)="sta",LEFT($AE11,3)="sta",LEFT($AI11,3)="sta",LEFT($AM11,3)="sta",LEFT($AQ11,3)="sta"),"oui","") | K11: =IF(OR(LEFT($O11,3)="Lib",LEFT($S11,3)="Lib",LEFT($W11,3)="Lib",LEFT($AA11,3)="Lib",LEFT($AE11,3)="Lib",LEFT($AI11,3)="Lib",LEFT($AM11,3)="Lib",LEFT($AQ11,3)="Lib"),"oui","")
A12: =1+A11 -> 3 | B12: =1+B11 -> 38 | C12: a | D12: =7+D11 -> 41897 | E12: M1 | I12: =IF(AND(J12="oui",K12="oui"),"Sta+Lib",IF(J12="oui","Stade",IF(K12="oui","Lib",""))) | J12: =IF(OR(LEFT($O12,3)="sta",LEFT($S12,3)="sta",LEFT($W12,3)="sta",LEFT($AA12,3)="sta",LEFT($AE12,3)="sta",LEFT($AI12,3)="sta",LEFT($AM12,3)="sta",LEFT($AQ12,3)="sta"),"oui","") | K12: =IF(OR(LEFT($O12,3)="Lib",LEFT($S12,3)="Lib",LEFT($W12,3)="Lib",LEFT($AA12,3)="Lib",LEFT($AE12,3)="Lib",LEFT($AI12,3)="Lib",LEFT($AM12,3)="Lib",LEFT($AQ12,3)="Lib"),"oui","") | L12: Journée Péda | P12: Journée Péda
A13: =1+A12 -> 4 | B13: =1+B12 -> 39 | C13: b | D13: =7+D12 -> 41904 | E13: M1 | I13: =IF(AND(J13="oui",K13="oui"),"Sta+Lib",IF(J13="oui","Stade",IF(K13="oui","Lib",""))) | J13: =IF(OR(LEFT($O13,3)="sta",LEFT($S13,3)="sta",LEFT($W13,3)="sta",LEFT($AA13,3)="sta",LEFT($AE13,3)="sta",LEFT($AI13,3)="sta",LEFT($AM13,3)="sta",LEFT($AQ13,3)="sta"),"oui","") | K13: =IF(OR(LEFT($O13,3)="Lib",LEFT($S13,3)="Lib",LEFT($W13,3)="Lib",LEFT($AA13,3)="Lib",LEFT($AE13,3)="Lib",LEFT($AI13,3)="Lib",LEFT($AM13,3)="Lib",LEFT($AQ13,3)="Lib"),"oui","")
A14: =1+A13 -> 5 | B14: =1+B13 -> 40 | C14: a | D14: =7+D13 -> 41911 | E14: M1 | I14: =IF(AND(J14="oui",K14="oui"),"Sta+Lib",IF(J14="oui","Stade",IF(K14="oui","Lib",""))) | J14: =IF(OR(LEFT($O14,3)="sta",LEFT($S14,3)="sta",LEFT($W14,3)="sta",LEFT($AA14,3)="sta",LEFT($AE14,3)="sta",LEFT($AI14,3)="sta",LEFT($AM14,3)="sta",LEFT($AQ14,3)="sta"),"oui","") | K14: =IF(OR(LEFT($O14,3)="Lib",LEFT($S14,3)="Lib",LEFT($W14,3)="Lib",LEFT($AA14,3)="Lib",LEFT($AE14,3)="Lib",LEFT($AI14,3)="Lib",LEFT($AM14,3)="Lib",LEFT($AQ14,3)="Lib"),"oui","")
A15: =1+A14 -> 6 | B15: =1+B14 -> 41 | C15: b | D15: =7+D14 -> 41918 | E15: M1 | I15: =IF(AND(J15="oui",K15="oui"),"Sta+Lib",IF(J15="oui","Stade",IF(K15="oui","Lib",""))) | J15: =IF(OR(LEFT($O15,3)="sta",LEFT($S15,3)="sta",LEFT($W15,3)="sta",LEFT($AA15,3)="sta",LEFT($AE15,3)="sta",LEFT($AI15,3)="sta",LEFT($AM15,3)="sta",LEFT($AQ15,3)="sta"),"oui","") | K15: =IF(OR(LEFT($O15,3)="Lib",LEFT($S15,3)="Lib",LEFT($W15,3)="Lib",LEFT($AA15,3)="Lib",LEFT($AE15,3)="Lib",LEFT($AI15,3)="Lib",LEFT($AM15,3)="Lib",LEFT($AQ15,3)="Lib"),"oui","")
A16: =1+A15 -> 7 | B16: =1+B15 -> 42 | C16: a | D16: =7+D15 -> 41925 | E16: M1 | I16: =IF(AND(J16="oui",K16="oui"),"Sta+Lib",IF(J16="oui","Stade",IF(K16="oui","Lib",""))) | J16: =IF(OR(LEFT($O16,3)="sta",LEFT($S16,3)="sta",LEFT($W16,3)="sta",LEFT($AA16,3)="sta",LEFT($AE16,3)="sta",LEFT($AI16,3)="sta",LEFT($AM16,3)="sta",LEFT($AQ16,3)="sta"),"oui","") | K16: =IF(OR(LEFT($O16,3)="Lib",LEFT($S16,3)="Lib",LEFT($W16,3)="Lib",LEFT($AA16,3)="Lib",LEFT($AE16,3)="Lib",LEFT($AI16,3)="Lib",LEFT($AM16,3)="Lib",LEFT($AQ16,3)="Lib"),"oui","")
A17: =1+A16 -> 8 | B17: =1+B16 -> 43 | C17: b | D17: =7+D16 -> 41932 | E17: M1 | I17: =IF(AND(J17="oui",K17="oui"),"Sta+Lib",IF(J17="oui","Stade",IF(K17="oui","Lib",""))) | J17: =IF(OR(LEFT($O17,3)="sta",LEFT($S17,3)="sta",LEFT($W17,3)="sta",LEFT($AA17,3)="sta",LEFT($AE17,3)="sta",LEFT($AI17,3)="sta",LEFT($AM17,3)="sta",LEFT($AQ17,3)="sta"),"oui","") | K17: =IF(OR(LEFT($O17,3)="Lib",LEFT($S17,3)="Lib",LEFT($W17,3)="Lib",LEFT($AA17,3)="Lib",LEFT($AE17,3)="Lib",LEFT($AI17,3)="Lib",LEFT($AM17,3)="Lib",LEFT($AQ17,3)="Lib"),"oui","") | L17: VACANCES SCOLAIRES | P17: VACANCES SCOLAIRES
A18: =1+A17 -> 9 | B18: =1+B17 -> 44 | C18: a | D18: =7+D17 -> 41939 | E18: M1 | I18: =IF(AND(J18="oui",K18="oui"),"Sta+Lib",IF(J18="oui","Stade",IF(K18="oui","Lib",""))) | J18: =IF(OR(LEFT($O18,3)="sta",LEFT($S18,3)="sta",LEFT($W18,3)="sta",LEFT($AA18,3)="sta",LEFT($AE18,3)="sta",LEFT($AI18,3)="sta",LEFT($AM18,3)="sta",LEFT($AQ18,3)="sta"),"oui","") | K18: =IF(OR(LEFT($O18,3)="Lib",LEFT($S18,3)="Lib",LEFT($W18,3)="Lib",LEFT($AA18,3)="Lib",LEFT($AE18,3)="Lib",LEFT($AI18,3)="Lib",LEFT($AM18,3)="Lib",LEFT($AQ18,3)="Lib"),"oui","")
A19: =1+A18 -> 10 | B19: =1+B18 -> 45 | C19: b | D19: =7+D18 -> 41946 | E19: M1 | I19: =IF(AND(J19="oui",K19="oui"),"Sta+Lib",IF(J19="oui","Stade",IF(K19="oui","Lib",""))) | J19: =IF(OR(LEFT($O19,3)="sta",LEFT($S19,3)="sta",LEFT($W19,3)="sta",LEFT($AA19,3)="sta",LEFT($AE19,3)="sta",LEFT($AI19,3)="sta",LEFT($AM19,3)="sta",LEFT($AQ19,3)="sta"),"oui","") | K19: =IF(OR(LEFT($O19,3)="Lib",LEFT($S19,3)="Lib",LEFT($W19,3)="Lib",LEFT($AA19,3)="Lib",LEFT($AE19,3)="Lib",LEFT($AI19,3)="Lib",LEFT($AM19,3)="Lib",LEFT($AQ19,3)="Lib"),"oui","")
A20: =1+A19 -> 11 | B20: =1+B19 -> 46 | C20: a | D20: =7+D19 -> 41953 | E20: M1 | I20: =IF(AND(J20="oui",K20="oui"),"Sta+Lib",IF(J20="oui","Stade",IF(K20="oui","Lib",""))) | J20: =IF(OR(LEFT($O20,3)="sta",LEFT($S20,3)="sta",LEFT($W20,3)="sta",LEFT($AA20,3)="sta",LEFT($AE20,3)="sta",LEFT($AI20,3)="sta",LEFT($AM20,3)="sta",LEFT($AQ20,3)="sta"),"oui","") | K20: =IF(OR(LEFT($O20,3)="Lib",LEFT($S20,3)="Lib",LEFT($W20,3)="Lib",LEFT($AA20,3)="Lib",LEFT($AE20,3)="Lib",LEFT($AI20,3)="Lib",LEFT($AM20,3)="Lib",LEFT($AQ20,3)="Lib"),"oui","")
A21: =1+A20 -> 12 | B21: =1+B20 -> 47 | C21: b | D21: =7+D20 -> 41960 | E21: M1 | I21: =IF(AND(J21="oui",K21="oui"),"Sta+Lib",IF(J21="oui","Stade",IF(K21="oui","Lib",""))) | J21: =IF(OR(LEFT($O21,3)="sta",LEFT($S21,3)="sta",LEFT($W21,3)="sta",LEFT($AA21,3)="sta",LEFT($AE21,3)="sta",LEFT($AI21,3)="sta",LEFT($AM21,3)="sta",LEFT($AQ21,3)="sta"),"oui","") | K21: =IF(OR(LEFT($O21,3)="Lib",LEFT($S21,3)="Lib",LEFT($W21,3)="Lib",LEFT($AA21,3)="Lib",LEFT($AE21,3)="Lib",LEFT($AI21,3)="Lib",LEFT($AM21,3)="Lib",LEFT($AQ21,3)="Lib"),"oui","")
A22: =1+A21 -> 13 | B22: =1+B21 -> 48 | C22: a | D22: =7+D21 -> 41967 | E22: M1 | I22: =IF(AND(J22="oui",K22="oui"),"Sta+Lib",IF(J22="oui","Stade",IF(K22="oui","Lib",""))) | J22: =IF(OR(LEFT($O22,3)="sta",LEFT($S22,3)="sta",LEFT($W22,3)="sta",LEFT($AA22,3)="sta",LEFT($AE22,3)="sta",LEFT($AI22,3)="sta",LEFT($AM22,3)="sta",LEFT($AQ22,3)="sta"),"oui","") | K22: =IF(OR(LEFT($O22,3)="Lib",LEFT($S22,3)="Lib",LEFT($W22,3)="Lib",LEFT($AA22,3)="Lib",LEFT($AE22,3)="Lib",LEFT($AI22,3)="Lib",LEFT($AM22,3)="Lib",LEFT($AQ22,3)="Lib"),"oui","")
A23: =1+A22 -> 14 | B23: =1+B22 -> 49 | C23: b | D23: =7+D22 -> 41974 | E23: M1 | I23: =IF(AND(J23="oui",K23="oui"),"Sta+Lib",IF(J23="oui","Stade",IF(K23="oui","Lib",""))) | J23: =IF(OR(LEFT($O23,3)="sta",LEFT($S23,3)="sta",LEFT($W23,3)="sta",LEFT($AA23,3)="sta",LEFT($AE23,3)="sta",LEFT($AI23,3)="sta",LEFT($AM23,3)="sta",LEFT($AQ23,3)="sta"),"oui","") | K23: =IF(OR(LEFT($O23,3)="Lib",LEFT($S23,3)="Lib",LEFT($W23,3)="Lib",LEFT($AA23,3)="Lib",LEFT($AE23,3)="Lib",LEFT($AI23,3)="Lib",LEFT($AM23,3)="Lib",LEFT($AQ23,3)="Lib"),"oui","")
A24: =1+A23 -> 15 | B24: =1+B23 -> 50 | C24: a | D24: =7+D23 -> 41981 | E24: M1 | I24: =IF(AND(J24="oui",K24="oui"),"Sta+Lib",IF(J24="oui","Stade",IF(K24="oui","Lib",""))) | J24: =IF(OR(LEFT($O24,3)="sta",LEFT($S24,3)="sta",LEFT($W24,3)="sta",LEFT($AA24,3)="sta",LEFT($AE24,3)="sta",LEFT($AI24,3)="sta",LEFT($AM24,3)="sta",LEFT($AQ24,3)="sta"),"oui","") | K24: =IF(OR(LEFT($O24,3)="Lib",LEFT($S24,3)="Lib",LEFT($W24,3)="Lib",LEFT($AA24,3)="Lib",LEFT($AE24,3)="Lib",LEFT($AI24,3)="Lib",LEFT($AM24,3)="Lib",LEFT($AQ24,3)="Lib"),"oui","")
A25: =1+A24 -> 16 | B25: =1+B24 -> 51 | C25: b | D25: =7+D24 -> 41988 | E25: M1 | I25: =IF(AND(J25="oui",K25="oui"),"Sta+Lib",IF(J25="oui","Stade",IF(K25="oui","Lib",""))) | J25: =IF(OR(LEFT($O25,3)="sta",LEFT($S25,3)="sta",LEFT($W25,3)="sta",LEFT($AA25,3)="sta",LEFT($AE25,3)="sta",LEFT($AI25,3)="sta",LEFT($AM25,3)="sta",LEFT($AQ25,3)="sta"),"oui","") | K25: =IF(OR(LEFT($O25,3)="Lib",LEFT($S25,3)="Lib",LEFT($W25,3)="Lib",LEFT($AA25,3)="Lib",LEFT($AE25,3)="Lib",LEFT($AI25,3)="Lib",LEFT($AM25,3)="Lib",LEFT($AQ25,3)="Lib"),"oui","")
A26: =1+A25 -> 17 | B26: =1+B25 -> 52 | C26: a | D26: =7+D25 -> 41995 | E26: M1 | I26: =IF(AND(J26="oui",K26="oui"),"Sta+Lib",IF(J26="oui","Stade",IF(K26="oui","Lib",""))) | J26: =IF(OR(LEFT($O26,3)="sta",LEFT($S26,3)="sta",LEFT($W26,3)="sta",LEFT($AA26,3)="sta",LEFT($AE26,3)="sta",LEFT($AI26,3)="sta",LEFT($AM26,3)="sta",LEFT($AQ26,3)="sta"),"oui","") | K26: =IF(OR(LEFT($O26,3)="Lib",LEFT($S26,3)="Lib",LEFT($W26,3)="Lib",LEFT($AA26,3)="Lib",LEFT($AE26,3)="Lib",LEFT($AI26,3)="Lib",LEFT($AM26,3)="Lib",LEFT($AQ26,3)="Lib"),"oui","") | L26: VACANCES SCOLAIRES | P26: VACANCES SCOLAIRES
A27: =1+A26 -> 18 | B27: 1 | C27: b | D27: =7+D26 -> 42002 | E27: M1 | I27: =IF(AND(J27="oui",K27="oui"),"Sta+Lib",IF(J27="oui","Stade",IF(K27="oui","Lib",""))) | J27: =IF(OR(LEFT($O27,3)="sta",LEFT($S27,3)="sta",LEFT($W27,3)="sta",LEFT($AA27,3)="sta",LEFT($AE27,3)="sta",LEFT($AI27,3)="sta",LEFT($AM27,3)="sta",LEFT($AQ27,3)="sta"),"oui","") | K27: =IF(OR(LEFT($O27,3)="Lib",LEFT($S27,3)="Lib",LEFT($W27,3)="Lib",LEFT($AA27,3)="Lib",LEFT($AE27,3)="Lib",LEFT($AI27,3)="Lib",LEFT($AM27,3)="Lib",LEFT($AQ27,3)="Lib"),"oui","")
A28: =1+A27 -> 19 | B28: =1+B27 -> 2 | C28: a | D28: =7+D27 -> 42009 | E28: M1 | I28: =IF(AND(J28="oui",K28="oui"),"Sta+Lib",IF(J28="oui","Stade",IF(K28="oui","Lib",""))) | J28: =IF(OR(LEFT($O28,3)="sta",LEFT($S28,3)="sta",LEFT($W28,3)="sta",LEFT($AA28,3)="sta",LEFT($AE28,3)="sta",LEFT($AI28,3)="sta",LEFT($AM28,3)="sta",LEFT($AQ28,3)="sta"),"oui","") | K28: =IF(OR(LEFT($O28,3)="Lib",LEFT($S28,3)="Lib",LEFT($W28,3)="Lib",LEFT($AA28,3)="Lib",LEFT($AE28,3)="Lib",LEFT($AI28,3)="Lib",LEFT($AM28,3)="Lib",LEFT($AQ28,3)="Lib"),"oui","") | P28: STAGE
A29: =1+A28 -> 20 | B29: =1+B28 -> 3 | C29: b | D29: =7+D28 -> 42016 | E29: M1 | I29: =IF(AND(J29="oui",K29="oui"),"Sta+Lib",IF(J29="oui","Stade",IF(K29="oui","Lib",""))) | J29: =IF(OR(LEFT($O29,3)="sta",LEFT($S29,3)="sta",LEFT($W29,3)="sta",LEFT($AA29,3)="sta",LEFT($AE29,3)="sta",LEFT($AI29,3)="sta",LEFT($AM29,3)="sta",LEFT($AQ29,3)="sta"),"oui","") | K29: =IF(OR(LEFT($O29,3)="Lib",LEFT($S29,3)="Lib",LEFT($W29,3)="Lib",LEFT($AA29,3)="Lib",LEFT($AE29,3)="Lib",LEFT($AI29,3)="Lib",LEFT($AM29,3)="Lib",LEFT($AQ29,3)="Lib"),"oui","") | P29: STAGE
A30: =1+A29 -> 21 | B30: =1+B29 -> 4 | C30: a | D30: =7+D29 -> 42023 | E30: M1 | I30: =IF(AND(J30="oui",K30="oui"),"Sta+Lib",IF(J30="oui","Stade",IF(K30="oui","Lib",""))) | J30: =IF(OR(LEFT($O30,3)="sta",LEFT($S30,3)="sta",LEFT($W30,3)="sta",LEFT($AA30,3)="sta",LEFT($AE30,3)="sta",LEFT($AI30,3)="sta",LEFT($AM30,3)="sta",LEFT($AQ30,3)="sta"),"oui","") | K30: =IF(OR(LEFT($O30,3)="Lib",LEFT($S30,3)="Lib",LEFT($W30,3)="Lib",LEFT($AA30,3)="Lib",LEFT($AE30,3)="Lib",LEFT($AI30,3)="Lib",LEFT($AM30,3)="Lib",LEFT($AQ30,3)="Lib"),"oui","") | P30: STAGE
A31: =1+A30 -> 22 | B31: =1+B30 -> 5 | C31: b | D31: =7+D30 -> 42030 | E31: M1 | I31: =IF(AND(J31="oui",K31="oui"),"Sta+Lib",IF(J31="oui","Stade",IF(K31="oui","Lib",""))) | J31: =IF(OR(LEFT($O31,3)="sta",LEFT($S31,3)="sta",LEFT($W31,3)="sta",LEFT($AA31,3)="sta",LEFT($AE31,3)="sta",LEFT($AI31,3)="sta",LEFT($AM31,3)="sta",LEFT($AQ31,3)="sta"),"oui","") | K31: =IF(OR(LEFT($O31,3)="Lib",LEFT($S31,3)="Lib",LEFT($W31,3)="Lib",LEFT($AA31,3)="Lib",LEFT($AE31,3)="Lib",LEFT($AI31,3)="Lib",LEFT($AM31,3)="Lib",LEFT($AQ31,3)="Lib"),"oui","") | P31: STAGE
A32: =1+A31 -> 23 | B32: =1+B31 -> 6 | C32: a | D32: =7+D31 -> 42037 | E32: M1 | I32: =IF(AND(J32="oui",K32="oui"),"Sta+Lib",IF(J32="oui","Stade",IF(K32="oui","Lib",""))) | J32: =IF(OR(LEFT($O32,3)="sta",LEFT($S32,3)="sta",LEFT($W32,3)="sta",LEFT($AA32,3)="sta",LEFT($AE32,3)="sta",LEFT($AI32,3)="sta",LEFT($AM32,3)="sta",LEFT($AQ32,3)="sta"),"oui","") | K32: =IF(OR(LEFT($O32,3)="Lib",LEFT($S32,3)="Lib",LEFT($W32,3)="Lib",LEFT($AA32,3)="Lib",LEFT($AE32,3)="Lib",LEFT($AI32,3)="Lib",LEFT($AM32,3)="Lib",LEFT($AQ32,3)="Lib"),"oui","")
A33: =1+A32 -> 24 | B33: =1+B32 -> 7 | C33: b | D33: =7+D32 -> 42044 | E33: M1 | I33: =IF(AND(J33="oui",K33="oui"),"Sta+Lib",IF(J33="oui","Stade",IF(K33="oui","Lib",""))) | J33: =IF(OR(LEFT($O33,3)="sta",LEFT($S33,3)="sta",LEFT($W33,3)="sta",LEFT($AA33,3)="sta",LEFT($AE33,3)="sta",LEFT($AI33,3)="sta",LEFT($AM33,3)="sta",LEFT($AQ33,3)="sta"),"oui","") | K33: =IF(OR(LEFT($O33,3)="Lib",LEFT($S33,3)="Lib",LEFT($W33,3)="Lib",LEFT($AA33,3)="Lib",LEFT($AE33,3)="Lib",LEFT($AI33,3)="Lib",LEFT($AM33,3)="Lib",LEFT($AQ33,3)="Lib"),"oui","")
A34: =1+A33 -> 25 | B34: =1+B33 -> 8 | C34: a | D34: =7+D33 -> 42051 | E34: M1 | I34: =IF(AND(J34="oui",K34="oui"),"Sta+Lib",IF(J34="oui","Stade",IF(K34="oui","Lib",""))) | J34: =IF(OR(LEFT($O34,3)="sta",LEFT($S34,3)="sta",LEFT($W34,3)="sta",LEFT($AA34,3)="sta",LEFT($AE34,3)="sta",LEFT($AI34,3)="sta",LEFT($AM34,3)="sta",LEFT($AQ34,3)="sta"),"oui","") | K34: =IF(OR(LEFT($O34,3)="Lib",LEFT($S34,3)="Lib",LEFT($W34,3)="Lib",LEFT($AA34,3)="Lib",LEFT($AE34,3)="Lib",LEFT($AI34,3)="Lib",LEFT($AM34,3)="Lib",LEFT($AQ34,3)="Lib"),"oui","")
A35: =1+A34 -> 26 | B35: =1+B34 -> 9 | C35: b | D35: =7+D34 -> 42058 | E35: M1 | I35: =IF(AND(J35="oui",K35="oui"),"Sta+Lib",IF(J35="oui","Stade",IF(K35="oui","Lib",""))) | J35: =IF(OR(LEFT($O35,3)="sta",LEFT($S35,3)="sta",LEFT($W35,3)="sta",LEFT($AA35,3)="sta",LEFT($AE35,3)="sta",LEFT($AI35,3)="sta",LEFT($AM35,3)="sta",LEFT($AQ35,3)="sta"),"oui","") | K35: =IF(OR(LEFT($O35,3)="Lib",LEFT($S35,3)="Lib",LEFT($W35,3)="Lib",LEFT($AA35,3)="Lib",LEFT($AE35,3)="Lib",LEFT($AI35,3)="Lib",LEFT($AM35,3)="Lib",LEFT($AQ35,3)="Lib"),"oui","") | L35: VACANCES SCOLAIRES | P35: VACANCES SCOLAIRES
A36: =1+A35 -> 27 | B36: =1+B35 -> 10 | C36: a | D36: =7+D35 -> 42065 | E36: M1 | I36: =IF(AND(J36="oui",K36="oui"),"Sta+Lib",IF(J36="oui","Stade",IF(K36="oui","Lib",""))) | J36: =IF(OR(LEFT($O36,3)="sta",LEFT($S36,3)="sta",LEFT($W36,3)="sta",LEFT($AA36,3)="sta",LEFT($AE36,3)="sta",LEFT($AI36,3)="sta",LEFT($AM36,3)="sta",LEFT($AQ36,3)="sta"),"oui","") | K36: =IF(OR(LEFT($O36,3)="Lib",LEFT($S36,3)="Lib",LEFT($W36,3)="Lib",LEFT($AA36,3)="Lib",LEFT($AE36,3)="Lib",LEFT($AI36,3)="Lib",LEFT($AM36,3)="Lib",LEFT($AQ36,3)="Lib"),"oui","")
A37: =1+A36 -> 28 | B37: =1+B36 -> 11 | C37: b | D37: =7+D36 -> 42072 | E37: M1 | I37: =IF(AND(J37="oui",K37="oui"),"Sta+Lib",IF(J37="oui","Stade",IF(K37="oui","Lib",""))) | J37: =IF(OR(LEFT($O37,3)="sta",LEFT($S37,3)="sta",LEFT($W37,3)="sta",LEFT($AA37,3)="sta",LEFT($AE37,3)="sta",LEFT($AI37,3)="sta",LEFT($AM37,3)="sta",LEFT($AQ37,3)="sta"),"oui","") | K37: =IF(OR(LEFT($O37,3)="Lib",LEFT($S37,3)="Lib",LEFT($W37,3)="Lib",LEFT($AA37,3)="Lib",LEFT($AE37,3)="Lib",LEFT($AI37,3)="Lib",LEFT($AM37,3)="Lib",LEFT($AQ37,3)="Lib"),"oui","")
A38: =1+A37 -> 29 | B38: =1+B37 -> 12 | C38: a | D38: =7+D37 -> 42079 | E38: M1 | I38: =IF(AND(J38="oui",K38="oui"),"Sta+Lib",IF(J38="oui","Stade",IF(K38="oui","Lib",""))) | J38: =IF(OR(LEFT($O38,3)="sta",LEFT($S38,3)="sta",LEFT($W38,3)="sta",LEFT($AA38,3)="sta",LEFT($AE38,3)="sta",LEFT($AI38,3)="sta",LEFT($AM38,3)="sta",LEFT($AQ38,3)="sta"),"oui","") | K38: =IF(OR(LEFT($O38,3)="Lib",LEFT($S38,3)="Lib",LEFT($W38,3)="Lib",LEFT($AA38,3)="Lib",LEFT($AE38,3)="Lib",LEFT($AI38,3)="Lib",LEFT($AM38,3)="Lib",LEFT($AQ38,3)="Lib"),"oui","") | P38: STAGE
A39: =1+A38 -> 30 | B39: =1+B38 -> 13 | C39: b | D39: =7+D38 -> 42086 | E39: M1 | I39: =IF(AND(J39="oui",K39="oui"),"Sta+Lib",IF(J39="oui","Stade",IF(K39="oui","Lib",""))) | J39: =IF(OR(LEFT($O39,3)="sta",LEFT($S39,3)="sta",LEFT($W39,3)="sta",LEFT($AA39,3)="sta",LEFT($AE39,3)="sta",LEFT($AI39,3)="sta",LEFT($AM39,3)="sta",LEFT($AQ39,3)="sta"),"oui","") | K39: =IF(OR(LEFT($O39,3)="Lib",LEFT($S39,3)="Lib",LEFT($W39,3)="Lib",LEFT($AA39,3)="Lib",LEFT($AE39,3)="Lib",LEFT($AI39,3)="Lib",LEFT($AM39,3)="Lib",LEFT($AQ39,3)="Lib"),"oui","") | P39: STAGE
A40: =1+A39 -> 31 | B40: =1+B39 -> 14 | C40: a | D40: =7+D39 -> 42093 | E40: M1 | I40: =IF(AND(J40="oui",K40="oui"),"Sta+Lib",IF(J40="oui","Stade",IF(K40="oui","Lib",""))) | J40: =IF(OR(LEFT($O40,3)="sta",LEFT($S40,3)="sta",LEFT($W40,3)="sta",LEFT($AA40,3)="sta",LEFT($AE40,3)="sta",LEFT($AI40,3)="sta",LEFT($AM40,3)="sta",LEFT($AQ40,3)="sta"),"oui","") | K40: =IF(OR(LEFT($O40,3)="Lib",LEFT($S40,3)="Lib",LEFT($W40,3)="Lib",LEFT($AA40,3)="Lib",LEFT($AE40,3)="Lib",LEFT($AI40,3)="Lib",LEFT($AM40,3)="Lib",LEFT($AQ40,3)="Lib"),"oui","") | P40: STAGE
...

Sheet LUNDI-PM
B1: LUNDI 13H55-15H45
F2: Indisponible | I2: Profs | L2: =INDEX(classe!$K$3:$K$40,MATCH(L3,classe!$F$2:$F$40,0),0) -> Christelle | P2: =INDEX(classe!$K$3:$K$40,MATCH(P3,classe!$F$2:$F$40,0),0) -> Didier | T2: =INDEX(classe!$K$3:$K$40,MATCH(T3,classe!$F$2:$F$40,0),0) -> Didier
B3: N° Sem | C3: Sem | D3: DATES | E3: Creneau | F3: Bouchard | G3: JC | H3: Coubertin | I3: Classes | L3: TAPR1 | P3: TCOM1 | T3: TCOM2
I4: Semaines | L4: A-B | P4: A | T4: A
I5: Nb elèves | L5: =INDEX(classe!$G$3:$G$40,MATCH(L3,classe!$F$2:$F$40,0),0) -> 31 | P5: =INDEX(classe!$G$3:$G$40,MATCH(P3,classe!$F$2:$F$40,0),0) -> 24 | T5: =INDEX(classe!$G$3:$G$40,MATCH(T3,classe!$F$2:$F$40,0),0) -> 23
I6: Niv Cp | L6: =INDEX(classe!$I$3:$I$40,MATCH(L3,classe!$F$2:$F$40,0),0) -> 3-4 | P6: =INDEX(classe!$I$3:$I$40,MATCH(P3,classe!$F$2:$F$40,0),0) -> 4 | T6: =INDEX(classe!$I$3:$I$40,MATCH(T3,classe!$F$2:$F$40,0),0) -> 3
I7: 2E COURS
I8: CP
I9: Navette | J9: Stade | K9: Lib | L9: N° | M9: Niv | N9: APSA | O9: SALLE | P9: N° | Q9: Niv | R9: APSA | S9: SALLE | T9: N° | U9: Niv | V9: APSA | W9: SALLE
A10: 1 | B10: 36 | C10: a | D10: 41883 | E10: S2 | I10: =IF(AND(J10="oui",K10="oui"),"Sta+Lib",IF(J10="oui","Stade",IF(K10="oui","Lib",""))) | J10: =IF(OR(LEFT($O10,3)="sta",LEFT($S10,3)="sta",LEFT($W10,3)="sta",LEFT($AA10,3)="sta",LEFT($AE10,3)="sta",LEFT($AI10,3)="sta",LEFT($AM10,3)="sta",LEFT($AQ10,3)="sta"),"oui","") | K10: =IF(OR(LEFT($O10,3)="Lib",LEFT($S10,3)="Lib",LEFT($W10,3)="Lib",LEFT($AA10,3)="Lib",LEFT($AE10,3)="Lib",LEFT($AI10,3)="Lib",LEFT($AM10,3)="Lib",LEFT($AQ10,3)="Lib"),"oui","") | L10: Journée de rentrée | P10: Journée de rentrée | T10: Journée de rentrée
A11: 2 | B11: =1+B10 -> 37 | C11: b | D11: =7+D10 -> 41890 | E11: S2 | I11: =IF(AND(J11="oui",K11="oui"),"Sta+Lib",IF(J11="oui","Stade",IF(K11="oui","Lib",""))) | J11: =IF(OR(LEFT($O11,3)="sta",LEFT($S11,3)="sta",LEFT($W11,3)="sta",LEFT($AA11,3)="sta",LEFT($AE11,3)="sta",LEFT($AI11,3)="sta",LEFT($AM11,3)="sta",LEFT($AQ11,3)="sta"),"oui","") | K11: =IF(OR(LEFT($O11,3)="Lib",LEFT($S11,3)="Lib",LEFT($W11,3)="Lib",LEFT($AA11,3)="Lib",LEFT($AE11,3)="Lib",LEFT($AI11,3)="Lib",LEFT($AM11,3)="Lib",LEFT($AQ11,3)="Lib"),"oui","") | P11: x | Q11: x | R11: x | S11: x
A12: =1+A11 -> 3 | B12: =1+B11 -> 38 | C12: a | D12: =7+D11 -> 41897 | E12: S2 | I12: =IF(AND(J12="oui",K12="oui"),"Sta+Lib",IF(J12="oui","Stade",IF(K12="oui","Lib",""))) | J12: =IF(OR(LEFT($O12,3)="sta",LEFT($S12,3)="sta",LEFT($W12,3)="sta",LEFT($AA12,3)="sta",LEFT($AE12,3)="sta",LEFT($AI12,3)="sta",LEFT($AM12,3)="sta",LEFT($AQ12,3)="sta"),"oui","") | K12: =IF(OR(LEFT($O12,3)="Lib",LEFT($S12,3)="Lib",LEFT($W12,3)="Lib",LEFT($AA12,3)="Lib",LEFT($AE12,3)="Lib",LEFT($AI12,3)="Lib",LEFT($AM12,3)="Lib",LEFT($AQ12,3)="Lib"),"oui","") | L12: Journée Péda | P12: Journée Péda | T12: Journée Péda
A13: =1+A12 -> 4 | B13: =1+B12 -> 39 | C13: b | D13: =7+D12 -> 41904 | E13: S2 | I13: =IF(AND(J13="oui",K13="oui"),"Sta+Lib",IF(J13="oui","Stade",IF(K13="oui","Lib",""))) | J13: =IF(OR(LEFT($O13,3)="sta",LEFT($S13,3)="sta",LEFT($W13,3)="sta",LEFT($AA13,3)="sta",LEFT($AE13,3)="sta",LEFT($AI13,3)="sta",LEFT($AM13,3)="sta",LEFT($AQ13,3)="sta"),"oui","") | K13: =IF(OR(LEFT($O13,3)="Lib",LEFT($S13,3)="Lib",LEFT($W13,3)="Lib",LEFT($AA13,3)="Lib",LEFT($AE13,3)="Lib",LEFT($AI13,3)="Lib",LEFT($AM13,3)="Lib",LEFT($AQ13,3)="Lib"),"oui","") | P13: x | Q13: x | R13: x | S13: x
A14: =1+A13 -> 5 | B14: =1+B13 -> 40 | C14: a | D14: =7+D13 -> 41911 | E14: S2 | I14: =IF(AND(J14="oui",K14="oui"),"Sta+Lib",IF(J14="oui","Stade",IF(K14="oui","Lib",""))) | J14: =IF(OR(LEFT($O14,3)="sta",LEFT($S14,3)="sta",LEFT($W14,3)="sta",LEFT($AA14,3)="sta",LEFT($AE14,3)="sta",LEFT($AI14,3)="sta",LEFT($AM14,3)="sta",LEFT($AQ14,3)="sta"),"oui","") | K14: =IF(OR(LEFT($O14,3)="Lib",LEFT($S14,3)="Lib",LEFT($W14,3)="Lib",LEFT($AA14,3)="Lib",LEFT($AE14,3)="Lib",LEFT($AI14,3)="Lib",LEFT($AM14,3)="Lib",LEFT($AQ14,3)="Lib"),"oui","") | T14: x | U14: x | V14: x | W14: x
A15: =1+A14 -> 6 | B15: =1+B14 -> 41 | C15: b | D15: =7+D14 -> 41918 | E15: S2 | I15: =IF(AND(J15="oui",K15="oui"),"Sta+Lib",IF(J15="oui","Stade",IF(K15="oui","Lib",""))) | J15: =IF(OR(LEFT($O15,3)="sta",LEFT($S15,3)="sta",LEFT($W15,3)="sta",LEFT($AA15,3)="sta",LEFT($AE15,3)="sta",LEFT($AI15,3)="sta",LEFT($AM15,3)="sta",LEFT($AQ15,3)="sta"),"oui","") | K15: =IF(OR(LEFT($O15,3)="Lib",LEFT($S15,3)="Lib",LEFT($W15,3)="Lib",LEFT($AA15,3)="Lib",LEFT($AE15,3)="Lib",LEFT($AI15,3)="Lib",LEFT($AM15,3)="Lib",LEFT($AQ15,3)="Lib"),"oui","") | P15: x | Q15: x | R15: x | S15: x
A16: =1+A15 -> 7 | B16: =1+B15 -> 42 | C16: a | D16: =7+D15 -> 41925 | E16: S2 | I16: =IF(AND(J16="oui",K16="oui"),"Sta+Lib",IF(J16="oui","Stade",IF(K16="oui","Lib",""))) | J16: =IF(OR(LEFT($O16,3)="sta",LEFT($S16,3)="sta",LEFT($W16,3)="sta",LEFT($AA16,3)="sta",LEFT($AE16,3)="sta",LEFT($AI16,3)="sta",LEFT($AM16,3)="sta",LEFT($AQ16,3)="sta"),"oui","") | K16: =IF(OR(LEFT($O16,3)="Lib",LEFT($S16,3)="Lib",LEFT($W16,3)="Lib",LEFT($AA16,3)="Lib",LEFT($AE16,3)="Lib",LEFT($AI16,3)="Lib",LEFT($AM16,3)="Lib",LEFT($AQ16,3)="Lib"),"oui","") | T16: x | U16: x | V16: x | W16: x
A17: =1+A16 -> 8 | B17: =1+B16 -> 43 | C17: b | D17: =7+D16 -> 41932 | E17: S2 | I17: =IF(AND(J17="oui",K17="oui"),"Sta+Lib",IF(J17="oui","Stade",IF(K17="oui","Lib",""))) | J17: =IF(OR(LEFT($O17,3)="sta",LEFT($S17,3)="sta",LEFT($W17,3)="sta",LEFT($AA17,3)="sta",LEFT($AE17,3)="sta",LEFT($AI17,3)="sta",LEFT($AM17,3)="sta",LEFT($AQ17,3)="sta"),"oui","") | K17: =IF(OR(LEFT($O17,3)="Lib",LEFT($S17,3)="Lib",LEFT($W17,3)="Lib",LEFT($AA17,3)="Lib",LEFT($AE17,3)="Lib",LEFT($AI17,3)="Lib",LEFT($AM17,3)="Lib",LEFT($AQ17,3)="Lib"),"oui","") | L17: VACANCES SCOLAIRES | P17: VACANCES SCOLAIRES | T17: VACANCES SCOLAIRES
A18: =1+A17 -> 9 | B18: =1+B17 -> 44 | C18: a | D18: =7+D17 -> 41939 | E18: S2 | I18: =IF(AND(J18="oui",K18="oui"),"Sta+Lib",IF(J18="oui","Stade",IF(K18="oui","Lib",""))) | J18: =IF(OR(LEFT($O18,3)="sta",LEFT($S18,3)="sta",LEFT($W18,3)="sta",LEFT($AA18,3)="sta",LEFT($AE18,3)="sta",LEFT($AI18,3)="sta",LEFT($AM18,3)="sta",LEFT($AQ18,3)="sta"),"oui","") | K18: =IF(OR(LEFT($O18,3)="Lib",LEFT($S18,3)="Lib",LEFT($W18,3)="Lib",LEFT($AA18,3)="Lib",LEFT($AE18,3)="Lib",LEFT($AI18,3)="Lib",LEFT($AM18,3)="Lib",LEFT($AQ18,3)="Lib"),"oui","")
A19: =1+A18 -> 10 | B19: =1+B18 -> 45 | C19: b | D19: =7+D18 -> 41946 | E19: S2 | I19: =IF(AND(J19="oui",K19="oui"),"Sta+Lib",IF(J19="oui","Stade",IF(K19="oui","Lib",""))) | J19: =IF(OR(LEFT($O19,3)="sta",LEFT($S19,3)="sta",LEFT($W19,3)="sta",LEFT($AA19,3)="sta",LEFT($AE19,3)="sta",LEFT($AI19,3)="sta",LEFT($AM19,3)="sta",LEFT($AQ19,3)="sta"),"oui","") | K19: =IF(OR(LEFT($O19,3)="Lib",LEFT($S19,3)="Lib",LEFT($W19,3)="Lib",LEFT($AA19,3)="Lib",LEFT($AE19,3)="Lib",LEFT($AI19,3)="Lib",LEFT($AM19,3)="Lib",LEFT($AQ19,3)="Lib"),"oui","") | P19: x | Q19: x | R19: x | S19: x
A20: =1+A19 -> 11 | B20: =1+B19 -> 46 | C20: a | D20: =7+D19 -> 41953 | E20: S2 | I20: =IF(AND(J20="oui",K20="oui"),"Sta+Lib",IF(J20="oui","Stade",IF(K20="oui","Lib",""))) | J20: =IF(OR(LEFT($O20,3)="sta",LEFT($S20,3)="sta",LEFT($W20,3)="sta",LEFT($AA20,3)="sta",LEFT($AE20,3)="sta",LEFT($AI20,3)="sta",LEFT($AM20,3)="sta",LEFT($AQ20,3)="sta"),"oui","") | K20: =IF(OR(LEFT($O20,3)="Lib",LEFT($S20,3)="Lib",LEFT($W20,3)="Lib",LEFT($AA20,3)="Lib",LEFT($AE20,3)="Lib",LEFT($AI20,3)="Lib",LEFT($AM20,3)="Lib",LEFT($AQ20,3)="Lib"),"oui","") | T20: x | U20: x | V20: x | W20: x
A21: =1+A20 -> 12 | B21: =1+B20 -> 47 | C21: b | D21: =7+D20 -> 41960 | E21: S2 | I21: =IF(AND(J21="oui",K21="oui"),"Sta+Lib",IF(J21="oui","Stade",IF(K21="oui","Lib",""))) | J21: =IF(OR(LEFT($O21,3)="sta",LEFT($S21,3)="sta",LEFT($W21,3)="sta",LEFT($AA21,3)="sta",LEFT($AE21,3)="sta",LEFT($AI21,3)="sta",LEFT($AM21,3)="sta",LEFT($AQ21,3)="sta"),"oui","") | K21: =IF(OR(LEFT($O21,3)="Lib",LEFT($S21,3)="Lib",LEFT($W21,3)="Lib",LEFT($AA21,3)="Lib",LEFT($AE21,3)="Lib",LEFT($AI21,3)="Lib",LEFT($AM21,3)="Lib",LEFT($AQ21,3)="Lib"),"oui","") | P21: x | Q21: x | R21: x | S21: x
A22: =1+A21 -> 13 | B22: =1+B21 -> 48 | C22: a | D22: =7+D21 -> 41967 | E22: S2 | I22: =IF(AND(J22="oui",K22="oui"),"Sta+Lib",IF(J22="oui","Stade",IF(K22="oui","Lib",""))) | J22: =IF(OR(LEFT($O22,3)="sta",LEFT($S22,3)="sta",LEFT($W22,3)="sta",LEFT($AA22,3)="sta",LEFT($AE22,3)="sta",LEFT($AI22,3)="sta",LEFT($AM22,3)="sta",LEFT($AQ22,3)="sta"),"oui","") | K22: =IF(OR(LEFT($O22,3)="Lib",LEFT($S22,3)="Lib",LEFT($W22,3)="Lib",LEFT($AA22,3)="Lib",LEFT($AE22,3)="Lib",LEFT($AI22,3)="Lib",LEFT($AM22,3)="Lib",LEFT($AQ22,3)="Lib"),"oui","") | L22: STAGE | P22: STAGE | T22: x | U22: x | V22: x | W22: x
A23: =1+A22 -> 14 | B23: =1+B22 -> 49 | C23: b | D23: =7+D22 -> 41974 | E23: S2 | I23: =IF(AND(J23="oui",K23="oui"),"Sta+Lib",IF(J23="oui","Stade",IF(K23="oui","Lib",""))) | J23: =IF(OR(LEFT($O23,3)="sta",LEFT($S23,3)="sta",LEFT($W23,3)="sta",LEFT($AA23,3)="sta",LEFT($AE23,3)="sta",LEFT($AI23,3)="sta",LEFT($AM23,3)="sta",LEFT($AQ23,3)="sta"),"oui","") | K23: =IF(OR(LEFT($O23,3)="Lib",LEFT($S23,3)="Lib",LEFT($W23,3)="Lib",LEFT($AA23,3)="Lib",LEFT($AE23,3)="Lib",LEFT($AI23,3)="Lib",LEFT($AM23,3)="Lib",LEFT($AQ23,3)="Lib"),"oui","") | L23: STAGE | P23: x | Q23: x | R23: x | S23: x | T23: STAGE
A24: =1+A23 -> 15 | B24: =1+B23 -> 50 | C24: a | D24: =7+D23 -> 41981 | E24: S2 | I24: =IF(AND(J24="oui",K24="oui"),"Sta+Lib",IF(J24="oui","Stade",IF(K24="oui","Lib",""))) | J24: =IF(OR(LEFT($O24,3)="sta",LEFT($S24,3)="sta",LEFT($W24,3)="sta",LEFT($AA24,3)="sta",LEFT($AE24,3)="sta",LEFT($AI24,3)="sta",LEFT($AM24,3)="sta",LEFT($AQ24,3)="sta"),"oui","") | K24: =IF(OR(LEFT($O24,3)="Lib",LEFT($S24,3)="Lib",LEFT($W24,3)="Lib",LEFT($AA24,3)="Lib",LEFT($AE24,3)="Lib",LEFT($AI24,3)="Lib",LEFT($AM24,3)="Lib",LEFT($AQ24,3)="Lib"),"oui","") | L24: STAGE | P24: STAGE | T24: x | U24: x | V24: x | W24: x
A25: =1+A24 -> 16 | B25: =1+B24 -> 51 | C25: b | D25: =7+D24 -> 41988 | E25: S2 | I25: =IF(AND(J25="oui",K25="oui"),"Sta+Lib",IF(J25="oui","Stade",IF(K25="oui","Lib",""))) | J25: =IF(OR(LEFT($O25,3)="sta",LEFT($S25,3)="sta",LEFT($W25,3)="sta",LEFT($AA25,3)="sta",LEFT($AE25,3)="sta",LEFT($AI25,3)="sta",LEFT($AM25,3)="sta",LEFT($AQ25,3)="sta"),"oui","") | K25: =IF(OR(LEFT($O25,3)="Lib",LEFT($S25,3)="Lib",LEFT($W25,3)="Lib",LEFT($AA25,3)="Lib",LEFT($AE25,3)="Lib",LEFT($AI25,3)="Lib",LEFT($AM25,3)="Lib",LEFT($AQ25,3)="Lib"),"oui","") | L25: STAGE | P25: x | Q25: x | R25: x | S25: x | T25: STAGE
A26: =1+A25 -> 17 | B26: =1+B25 -> 52 | C26: a | D26: =7+D25 -> 41995 | E26: S2 | I26: =IF(AND(J26="oui",K26="oui"),"Sta+Lib",IF(J26="oui","Stade",IF(K26="oui","Lib",""))) | J26: =IF(OR(LEFT($O26,3)="sta",LEFT($S26,3)="sta",LEFT($W26,3)="sta",LEFT($AA26,3)="sta",LEFT($AE26,3)="sta",LEFT($AI26,3)="sta",LEFT($AM26,3)="sta",LEFT($AQ26,3)="sta"),"oui","") | K26: =IF(OR(LEFT($O26,3)="Lib",LEFT($S26,3)="Lib",LEFT($W26,3)="Lib",LEFT($AA26,3)="Lib",LEFT($AE26,3)="Lib",LEFT($AI26,3)="Lib",LEFT($AM26,3)="Lib",LEFT($AQ26,3)="Lib"),"oui","") | L26: VACANCES SCOLAIRES | P26: VACANCES SCOLAIRES | T26: VACANCES SCOLAIRES
A27: =1+A26 -> 18 | B27: 1 | C27: b | D27: =7+D26 -> 42002 | E27: S2 | I27: =IF(AND(J27="oui",K27="oui"),"Sta+Lib",IF(J27="oui","Stade",IF(K27="oui","Lib",""))) | J27: =IF(OR(LEFT($O27,3)="sta",LEFT($S27,3)="sta",LEFT($W27,3)="sta",LEFT($AA27,3)="sta",LEFT($AE27,3)="sta",LEFT($AI27,3)="sta",LEFT($AM27,3)="sta",LEFT($AQ27,3)="sta"),"oui","") | K27: =IF(OR(LEFT($O27,3)="Lib",LEFT($S27,3)="Lib",LEFT($W27,3)="Lib",LEFT($AA27,3)="Lib",LEFT($AE27,3)="Lib",LEFT($AI27,3)="Lib",LEFT($AM27,3)="Lib",LEFT($AQ27,3)="Lib"),"oui","")
A28: =1+A27 -> 19 | B28: =1+B27 -> 2 | C28: a | D28: =7+D27 -> 42009 | E28: S2 | I28: =IF(AND(J28="oui",K28="oui"),"Sta+Lib",IF(J28="oui","Stade",IF(K28="oui","Lib",""))) | J28: =IF(OR(LEFT($O28,3)="sta",LEFT($S28,3)="sta",LEFT($W28,3)="sta",LEFT($AA28,3)="sta",LEFT($AE28,3)="sta",LEFT($AI28,3)="sta",LEFT($AM28,3)="sta",LEFT($AQ28,3)="sta"),"oui","") | K28: =IF(OR(LEFT($O28,3)="Lib",LEFT($S28,3)="Lib",LEFT($W28,3)="Lib",LEFT($AA28,3)="Lib",LEFT($AE28,3)="Lib",LEFT($AI28,3)="Lib",LEFT($AM28,3)="Lib",LEFT($AQ28,3)="Lib"),"oui","") | T28: x | U28: x | V28: x | W28: x
A29: =1+A28 -> 20 | B29: =1+B28 -> 3 | C29: b | D29: =7+D28 -> 42016 | E29: S2 | I29: =IF(AND(J29="oui",K29="oui"),"Sta+Lib",IF(J29="oui","Stade",IF(K29="oui","Lib",""))) | J29: =IF(OR(LEFT($O29,3)="sta",LEFT($S29,3)="sta",LEFT($W29,3)="sta",LEFT($AA29,3)="sta",LEFT($AE29,3)="sta",LEFT($AI29,3)="sta",LEFT($AM29,3)="sta",LEFT($AQ29,3)="sta"),"oui","") | K29: =IF(OR(LEFT($O29,3)="Lib",LEFT($S29,3)="Lib",LEFT($W29,3)="Lib",LEFT($AA29,3)="Lib",LEFT($AE29,3)="Lib",LEFT($AI29,3)="Lib",LEFT($AM29,3)="Lib",LEFT($AQ29,3)="Lib"),"oui","") | P29: x | Q29: x | R29: x | S29: x
A30: =1+A29 -> 21 | B30: =1+B29 -> 4 | C30: a | D30: =7+D29 -> 42023 | E30: S2 | I30: =IF(AND(J30="oui",K30="oui"),"Sta+Lib",IF(J30="oui","Stade",IF(K30="oui","Lib",""))) | J30: =IF(OR(LEFT($O30,3)="sta",LEFT($S30,3)="sta",LEFT($W30,3)="sta",LEFT($AA30,3)="sta",LEFT($AE30,3)="sta",LEFT($AI30,3)="sta",LEFT($AM30,3)="sta",LEFT($AQ30,3)="sta"),"oui","") | K30: =IF(OR(LEFT($O30,3)="Lib",LEFT($S30,3)="Lib",LEFT($W30,3)="Lib",LEFT($AA30,3)="Lib",LEFT($AE30,3)="Lib",LEFT($AI30,3)="Lib",LEFT($AM30,3)="Lib",LEFT($AQ30,3)="Lib"),"oui","") | T30: x | U30: x | V30: x | W30: x
A31: =1+A30 -> 22 | B31: =1+B30 -> 5 | C31: b | D31: =7+D30 -> 42030 | E31: S2 | I31: =IF(AND(J31="oui",K31="oui"),"Sta+Lib",IF(J31="oui","Stade",IF(K31="oui","Lib",""))) | J31: =IF(OR(LEFT($O31,3)="sta",LEFT($S31,3)="sta",LEFT($W31,3)="sta",LEFT($AA31,3)="sta",LEFT($AE31,3)="sta",LEFT($AI31,3)="sta",LEFT($AM31,3)="sta",LEFT($AQ31,3)="sta"),"oui","") | K31: =IF(OR(LEFT($O31,3)="Lib",LEFT($S31,3)="Lib",LEFT($W31,3)="Lib",LEFT($AA31,3)="Lib",LEFT($AE31,3)="Lib",LEFT($AI31,3)="Lib",LEFT($AM31,3)="Lib",LEFT($AQ31,3)="Lib"),"oui","") | P31: x | Q31: x | R31: x | S31: x
A32: =1+A31 -> 23 | B32: =1+B31 -> 6 | C32: a | D32: =7+D31 -> 42037 | E32: S2 | I32: =IF(AND(J32="oui",K32="oui"),"Sta+Lib",IF(J32="oui","Stade",IF(K32="oui","Lib",""))) | J32: =IF(OR(LEFT($O32,3)="sta",LEFT($S32,3)="sta",LEFT($W32,3)="sta",LEFT($AA32,3)="sta",LEFT($AE32,3)="sta",LEFT($AI32,3)="sta",LEFT($AM32,3)="sta",LEFT($AQ32,3)="sta"),"oui","") | K32: =IF(OR(LEFT($O32,3)="Lib",LEFT($S32,3)="Lib",LEFT($W32,3)="Lib",LEFT($AA32,3)="Lib",LEFT($AE32,3)="Lib",LEFT($AI32,3)="Lib",LEFT($AM32,3)="Lib",LEFT($AQ32,3)="Lib"),"oui","") | T32: x | U32: x | V32: x | W32: x
A33: =1+A32 -> 24 | B33: =1+B32 -> 7 | C33: b | D33: =7+D32 -> 42044 | E33: S2 | I33: =IF(AND(J33="oui",K33="oui"),"Sta+Lib",IF(J33="oui","Stade",IF(K33="oui","Lib",""))) | J33: =IF(OR(LEFT($O33,3)="sta",LEFT($S33,3)="sta",LEFT($W33,3)="sta",LEFT($AA33,3)="sta",LEFT($AE33,3)="sta",LEFT($AI33,3)="sta",LEFT($AM33,3)="sta",LEFT($AQ33,3)="sta"),"oui","") | K33: =IF(OR(LEFT($O33,3)="Lib",LEFT($S33,3)="Lib",LEFT($W33,3)="Lib",LEFT($AA33,3)="Lib",LEFT($AE33,3)="Lib",LEFT($AI33,3)="Lib",LEFT($AM33,3)="Lib",LEFT($AQ33,3)="Lib"),"oui","") | P33: x | Q33: x | R33: x | S33: x
A34: =1+A33 -> 25 | B34: =1+B33 -> 8 | C34: a | D34: =7+D33 -> 42051 | E34: S2 | I34: =IF(AND(J34="oui",K34="oui"),"Sta+Lib",IF(J34="oui","Stade",IF(K34="oui","Lib",""))) | J34: =IF(OR(LEFT($O34,3)="sta",LEFT($S34,3)="sta",LEFT($W34,3)="sta",LEFT($AA34,3)="sta",LEFT($AE34,3)="sta",LEFT($AI34,3)="sta",LEFT($AM34,3)="sta",LEFT($AQ34,3)="sta"),"oui","") | K34: =IF(OR(LEFT($O34,3)="Lib",LEFT($S34,3)="Lib",LEFT($W34,3)="Lib",LEFT($AA34,3)="Lib",LEFT($AE34,3)="Lib",LEFT($AI34,3)="Lib",LEFT($AM34,3)="Lib",LEFT($AQ34,3)="Lib"),"oui","") | T34: x | U34: x | V34: x | W34: x
A35: =1+A34 -> 26 | B35: =1+B34 -> 9 | C35: b | D35: =7+D34 -> 42058 | E35: S2 | I35: =IF(AND(J35="oui",K35="oui"),"Sta+Lib",IF(J35="oui","Stade",IF(K35="oui","Lib",""))) | J35: =IF(OR(LEFT($O35,3)="sta",LEFT($S35,3)="sta",LEFT($W35,3)="sta",LEFT($AA35,3)="sta",LEFT($AE35,3)="sta",LEFT($AI35,3)="sta",LEFT($AM35,3)="sta",LEFT($AQ35,3)="sta"),"oui","") | K35: =IF(OR(LEFT($O35,3)="Lib",LEFT($S35,3)="Lib",LEFT($W35,3)="Lib",LEFT($AA35,3)="Lib",LEFT($AE35,3)="Lib",LEFT($AI35,3)="Lib",LEFT($AM35,3)="Lib",LEFT($AQ35,3)="Lib"),"oui","") | L35: VACANCES SCOLAIRES | P35: VACANCES SCOLAIRES | T35: VACANCES SCOLAIRES
A36: =1+A35 -> 27 | B36: =1+B35 -> 10 | C36: a | D36: =7+D35 -> 42065 | E36: S2 | I36: =IF(AND(J36="oui",K36="oui"),"Sta+Lib",IF(J36="oui","Stade",IF(K36="oui","Lib",""))) | J36: =IF(OR(LEFT($O36,3)="sta",LEFT($S36,3)="sta",LEFT($W36,3)="sta",LEFT($AA36,3)="sta",LEFT($AE36,3)="sta",LEFT($AI36,3)="sta",LEFT($AM36,3)="sta",LEFT($AQ36,3)="sta"),"oui","") | K36: =IF(OR(LEFT($O36,3)="Lib",LEFT($S36,3)="Lib",LEFT($W36,3)="Lib",LEFT($AA36,3)="Lib",LEFT($AE36,3)="Lib",LEFT($AI36,3)="Lib",LEFT($AM36,3)="Lib",LEFT($AQ36,3)="Lib"),"oui","")
A37: =1+A36 -> 28 | B37: =1+B36 -> 11 | C37: b | D37: =7+D36 -> 42072 | E37: S2 | I37: =IF(AND(J37="oui",K37="oui"),"Sta+Lib",IF(J37="oui","Stade",IF(K37="oui","Lib",""))) | J37: =IF(OR(LEFT($O37,3)="sta",LEFT($S37,3)="sta",LEFT($W37,3)="sta",LEFT($AA37,3)="sta",LEFT($AE37,3)="sta",LEFT($AI37,3)="sta",LEFT($AM37,3)="sta",LEFT($AQ37,3)="sta"),"oui","") | K37: =IF(OR(LEFT($O37,3)="Lib",LEFT($S37,3)="Lib",LEFT($W37,3)="Lib",LEFT($AA37,3)="Lib",LEFT($AE37,3)="Lib",LEFT($AI37,3)="Lib",LEFT($AM37,3)="Lib",LEFT($AQ37,3)="Lib"),"oui","") | P37: x | Q37: x | R37: x | S37: x
A38: =1+A37 -> 29 | B38: =1+B37 -> 12 | C38: a | D38: =7+D37 -> 42079 | E38: S2 | I38: =IF(AND(J38="oui",K38="oui"),"Sta+Lib",IF(J38="oui","Stade",IF(K38="oui","Lib",""))) | J38: =IF(OR(LEFT($O38,3)="sta",LEFT($S38,3)="sta",LEFT($W38,3)="sta",LEFT($AA38,3)="sta",LEFT($AE38,3)="sta",LEFT($AI38,3)="sta",LEFT($AM38,3)="sta",LEFT($AQ38,3)="sta"),"oui","") | K38: =IF(OR(LEFT($O38,3)="Lib",LEFT($S38,3)="Lib",LEFT($W38,3)="Lib",LEFT($AA38,3)="Lib",LEFT($AE38,3)="Lib",LEFT($AI38,3)="Lib",LEFT($AM38,3)="Lib",LEFT($AQ38,3)="Lib"),"oui","") | T38: x | U38: x | V38: x | W38: x
A39: =1+A38 -> 30 | B39: =1+B38 -> 13 | C39: b | D39: =7+D38 -> 42086 | E39: S2 | I39: =IF(AND(J39="oui",K39="oui"),"Sta+Lib",IF(J39="oui","Stade",IF(K39="oui","Lib",""))) | J39: =IF(OR(LEFT($O39,3)="sta",LEFT($S39,3)="sta",LEFT($W39,3)="sta",LEFT($AA39,3)="sta",LEFT($AE39,3)="sta",LEFT($AI39,3)="sta",LEFT($AM39,3)="sta",LEFT($AQ39,3)="sta"),"oui","") | K39: =IF(OR(LEFT($O39,3)="Lib",LEFT($S39,3)="Lib",LEFT($W39,3)="Lib",LEFT($AA39,3)="Lib",LEFT($AE39,3)="Lib",LEFT($AI39,3)="Lib",LEFT($AM39,3)="Lib",LEFT($AQ39,3)="Lib"),"oui","") | P39: x | Q39: x | R39: x | S39: x
A40: =1+A39 -> 31 | B40: =1+B39 -> 14 | C40: a | D40: =7+D39 -> 42093 | E40: S2 | I40: =IF(AND(J40="oui",K40="oui"),"Sta+Lib",IF(J40="oui","Stade",IF(K40="oui","Lib",""))) | J40: =IF(OR(LEFT($O40,3)="sta",LEFT($S40,3)="sta",LEFT($W40,3)="sta",LEFT($AA40,3)="sta",LEFT($AE40,3)="sta",LEFT($AI40,3)="sta",LEFT($AM40,3)="sta",LEFT($AQ40,3)="sta"),"oui","") | K40: =IF(OR(LEFT($O40,3)="Lib",LEFT($S40,3)="Lib",LEFT($W40,3)="Lib",LEFT($AA40,3)="Lib",LEFT($AE40,3)="Lib",LEFT($AI40,3)="Lib",LEFT($AM40,3)="Lib",LEFT($AQ40,3)="Lib"),"oui","") | L40: STAGE | P40: STAGE | T40: x | U40: x | V40: x | W40: x
...

Sheet MARDI-AM
B1: MARDI 8H35-10H25
F2: Indisponible | I2: Profs
B3: N° Sem | C3: Sem | D3: DATES | E3: Creneau | F3: Bouchard | G3: JC | H3: Coubertin | I3: Classes
I4: Semaines
I5: Nb elèves
I6: Niv Cp
I7: 2E COURS
I8: CP
I9: Navette | J9: Stade | K9: Lib | L9: Stade | M9: Lib
A10: 1 | B10: 36 | C10: a | D10: 41884 | E10: M1 | I10: =IF(AND(J10="oui",K10="oui"),"Sta+Lib",IF(J10="oui","Stade",IF(K10="oui","Lib",""))) | J10: =IF(OR(LEFT($O10,3)="sta",LEFT($S10,3)="sta",LEFT($W10,3)="sta",LEFT($AA10,3)="sta",LEFT($AE10,3)="sta",LEFT($AI10,3)="sta",LEFT($AM10,3)="sta",LEFT($AQ10,3)="sta"),"oui","") | K10: =IF(OR(LEFT($O10,3)="Lib",LEFT($S10,3)="Lib",LEFT($W10,3)="Lib",LEFT($AA10,3)="Lib",LEFT($AE10,3)="Lib",LEFT($AI10,3)="Lib",LEFT($AM10,3)="Lib",LEFT($AQ10,3)="Lib"),"oui","") | L10: =IF(OR(LEFT($O10,3)="sta",LEFT($S10,3)="sta",LEFT($W10,3)="sta",LEFT($AA10,3)="sta",LEFT($AE10,3)="sta",LEFT($AI10,3)="sta",LEFT($AM10,3)="sta",LEFT($AQ10,3)="sta"),"oui","") | M10: =IF(OR(LEFT($O10,3)="Lib",LEFT($S10,3)="Lib",LEFT($W10,3)="Lib",LEFT($AA10,3)="Lib",LEFT($AE10,3)="Lib",LEFT($AI10,3)="Lib",LEFT($AM10,3)="Lib",LEFT($AQ10,3)="Lib"),"oui","")
A11: =1+A10 -> 2 | B11: =1+B10 -> 37 | C11: b | D11: =7+D10 -> 41891 | E11: M1 | I11: =IF(AND(J11="oui",K11="oui"),"Sta+Lib",IF(J11="oui","Stade",IF(K11="oui","Lib",""))) | J11: =IF(OR(LEFT($O11,3)="sta",LEFT($S11,3)="sta",LEFT($W11,3)="sta",LEFT($AA11,3)="sta",LEFT($AE11,3)="sta",LEFT($AI11,3)="sta",LEFT($AM11,3)="sta",LEFT($AQ11,3)="sta"),"oui","") | K11: =IF(OR(LEFT($O11,3)="Lib",LEFT($S11,3)="Lib",LEFT($W11,3)="Lib",LEFT($AA11,3)="Lib",LEFT($AE11,3)="Lib",LEFT($AI11,3)="Lib",LEFT($AM11,3)="Lib",LEFT($AQ11,3)="Lib"),"oui","") | L11: =IF(OR(LEFT($O11,3)="sta",LEFT($S11,3)="sta",LEFT($W11,3)="sta",LEFT($AA11,3)="sta",LEFT($AE11,3)="sta",LEFT($AI11,3)="sta",LEFT($AM11,3)="sta",LEFT($AQ11,3)="sta"),"oui","") | M11: =IF(OR(LEFT($O11,3)="Lib",LEFT($S11,3)="Lib",LEFT($W11,3)="Lib",LEFT($AA11,3)="Lib",LEFT($AE11,3)="Lib",LEFT($AI11,3)="Lib",LEFT($AM11,3)="Lib",LEFT($AQ11,3)="Lib"),"oui","")
A12: =1+A11 -> 3 | B12: =1+B11 -> 38 | C12: a | D12: =7+D11 -> 41898 | E12: M1 | I12: =IF(AND(J12="oui",K12="oui"),"Sta+Lib",IF(J12="oui","Stade",IF(K12="oui","Lib",""))) | J12: =IF(OR(LEFT($O12,3)="sta",LEFT($S12,3)="sta",LEFT($W12,3)="sta",LEFT($AA12,3)="sta",LEFT($AE12,3)="sta",LEFT($AI12,3)="sta",LEFT($AM12,3)="sta",LEFT($AQ12,3)="sta"),"oui","") | K12: =IF(OR(LEFT($O12,3)="Lib",LEFT($S12,3)="Lib",LEFT($W12,3)="Lib",LEFT($AA12,3)="Lib",LEFT($AE12,3)="Lib",LEFT($AI12,3)="Lib",LEFT($AM12,3)="Lib",LEFT($AQ12,3)="Lib"),"oui","") | L12: =IF(OR(LEFT($O12,3)="sta",LEFT($S12,3)="sta",LEFT($W12,3)="sta",LEFT($AA12,3)="sta",LEFT($AE12,3)="sta",LEFT($AI12,3)="sta",LEFT($AM12,3)="sta",LEFT($AQ12,3)="sta"),"oui","") | M12: =IF(OR(LEFT($O12,3)="Lib",LEFT($S12,3)="Lib",LEFT($W12,3)="Lib",LEFT($AA12,3)="Lib",LEFT($AE12,3)="Lib",LEFT($AI12,3)="Lib",LEFT($AM12,3)="Lib",LEFT($AQ12,3)="Lib"),"oui","")
A13: =1+A12 -> 4 | B13: =1+B12 -> 39 | C13: b | D13: =7+D12 -> 41905 | E13: M1 | I13: =IF(AND(J13="oui",K13="oui"),"Sta+Lib",IF(J13="oui","Stade",IF(K13="oui","Lib",""))) | J13: =IF(OR(LEFT($O13,3)="sta",LEFT($S13,3)="sta",LEFT($W13,3)="sta",LEFT($AA13,3)="sta",LEFT($AE13,3)="sta",LEFT($AI13,3)="sta",LEFT($AM13,3)="sta",LEFT($AQ13,3)="sta"),"oui","") | K13: =IF(OR(LEFT($O13,3)="Lib",LEFT($S13,3)="Lib",LEFT($W13,3)="Lib",LEFT($AA13,3)="Lib",LEFT($AE13,3)="Lib",LEFT($AI13,3)="Lib",LEFT($AM13,3)="Lib",LEFT($AQ13,3)="Lib"),"oui","") | L13: =IF(OR(LEFT($O13,3)="sta",LEFT($S13,3)="sta",LEFT($W13,3)="sta",LEFT($AA13,3)="sta",LEFT($AE13,3)="sta",LEFT($AI13,3)="sta",LEFT($AM13,3)="sta",LEFT($AQ13,3)="sta"),"oui","") | M13: =IF(OR(LEFT($O13,3)="Lib",LEFT($S13,3)="Lib",LEFT($W13,3)="Lib",LEFT($AA13,3)="Lib",LEFT($AE13,3)="Lib",LEFT($AI13,3)="Lib",LEFT($AM13,3)="Lib",LEFT($AQ13,3)="Lib"),"oui","")
A14: =1+A13 -> 5 | B14: =1+B13 -> 40 | C14: a | D14: =7+D13 -> 41912 | E14: M1 | I14: =IF(AND(J14="oui",K14="oui"),"Sta+Lib",IF(J14="oui","Stade",IF(K14="oui","Lib",""))) | J14: =IF(OR(LEFT($O14,3)="sta",LEFT($S14,3)="sta",LEFT($W14,3)="sta",LEFT($AA14,3)="sta",LEFT($AE14,3)="sta",LEFT($AI14,3)="sta",LEFT($AM14,3)="sta",LEFT($AQ14,3)="sta"),"oui","") | K14: =IF(OR(LEFT($O14,3)="Lib",LEFT($S14,3)="Lib",LEFT($W14,3)="Lib",LEFT($AA14,3)="Lib",LEFT($AE14,3)="Lib",LEFT($AI14,3)="Lib",LEFT($AM14,3)="Lib",LEFT($AQ14,3)="Lib"),"oui","") | L14: =IF(OR(LEFT($O14,3)="sta",LEFT($S14,3)="sta",LEFT($W14,3)="sta",LEFT($AA14,3)="sta",LEFT($AE14,3)="sta",LEFT($AI14,3)="sta",LEFT($AM14,3)="sta",LEFT($AQ14,3)="sta"),"oui","") | M14: =IF(OR(LEFT($O14,3)="Lib",LEFT($S14,3)="Lib",LEFT($W14,3)="Lib",LEFT($AA14,3)="Lib",LEFT($AE14,3)="Lib",LEFT($AI14,3)="Lib",LEFT($AM14,3)="Lib",LEFT($AQ14,3)="Lib"),"oui","")
A15: =1+A14 -> 6 | B15: =1+B14 -> 41 | C15: b | D15: =7+D14 -> 41919 | E15: M1 | I15: =IF(AND(J15="oui",K15="oui"),"Sta+Lib",IF(J15="oui","Stade",IF(K15="oui","Lib",""))) | J15: =IF(OR(LEFT($O15,3)="sta",LEFT($S15,3)="sta",LEFT($W15,3)="sta",LEFT($AA15,3)="sta",LEFT($AE15,3)="sta",LEFT($AI15,3)="sta",LEFT($AM15,3)="sta",LEFT($AQ15,3)="sta"),"oui","") | K15: =IF(OR(LEFT($O15,3)="Lib",LEFT($S15,3)="Lib",LEFT($W15,3)="Lib",LEFT($AA15,3)="Lib",LEFT($AE15,3)="Lib",LEFT($AI15,3)="Lib",LEFT($AM15,3)="Lib",LEFT($AQ15,3)="Lib"),"oui","") | L15: =IF(OR(LEFT($O15,3)="sta",LEFT($S15,3)="sta",LEFT($W15,3)="sta",LEFT($AA15,3)="sta",LEFT($AE15,3)="sta",LEFT($AI15,3)="sta",LEFT($AM15,3)="sta",LEFT($AQ15,3)="sta"),"oui","") | M15: =IF(OR(LEFT($O15,3)="Lib",LEFT($S15,3)="Lib",LEFT($W15,3)="Lib",LEFT($AA15,3)="Lib",LEFT($AE15,3)="Lib",LEFT($AI15,3)="Lib",LEFT($AM15,3)="Lib",LEFT($AQ15,3)="Lib"),"oui","")
A16: =1+A15 -> 7 | B16: =1+B15 -> 42 | C16: a | D16: =7+D15 -> 41926 | E16: M1 | I16: =IF(AND(J16="oui",K16="oui"),"Sta+Lib",IF(J16="oui","Stade",IF(K16="oui","Lib",""))) | J16: =IF(OR(LEFT($O16,3)="sta",LEFT($S16,3)="sta",LEFT($W16,3)="sta",LEFT($AA16,3)="sta",LEFT($AE16,3)="sta",LEFT($AI16,3)="sta",LEFT($AM16,3)="sta",LEFT($AQ16,3)="sta"),"oui","") | K16: =IF(OR(LEFT($O16,3)="Lib",LEFT($S16,3)="Lib",LEFT($W16,3)="Lib",LEFT($AA16,3)="Lib",LEFT($AE16,3)="Lib",LEFT($AI16,3)="Lib",LEFT($AM16,3)="Lib",LEFT($AQ16,3)="Lib"),"oui","") | L16: =IF(OR(LEFT($O16,3)="sta",LEFT($S16,3)="sta",LEFT($W16,3)="sta",LEFT($AA16,3)="sta",LEFT($AE16,3)="sta",LEFT($AI16,3)="sta",LEFT($AM16,3)="sta",LEFT($AQ16,3)="sta"),"oui","") | M16: =IF(OR(LEFT($O16,3)="Lib",LEFT($S16,3)="Lib",LEFT($W16,3)="Lib",LEFT($AA16,3)="Lib",LEFT($AE16,3)="Lib",LEFT($AI16,3)="Lib",LEFT($AM16,3)="Lib",LEFT($AQ16,3)="Lib"),"oui","")
