Workbook
Name _jeu1: #REF!
Name _jeu1: #REF!
Name _jeu2: #REF!
Name _jeu2: #REF!
Name _jeu3: #REF!
Name _jeu3: #REF!
Name _jeu4: #REF!
Name _jeu4: #REF!
Name _lun1: #REF!
Name _lun1: #REF!
Name _lun2: #REF!
Name _lun2: #REF!
Name _lun3: #REF!
Name _lun3: #REF!
Name _lun4: #REF!
Name _lun4: #REF!
Name _mar4: #REF!
Name _mar4: #REF!
Name _mer1: #REF!
Name _mer1: #REF!
Name _mer2: #REF!
Name _mer2: #REF!
Name _ven1: #REF!
Name _ven1: #REF!
Name _ven2: #REF!
Name _ven2: #REF!
Name _ven3: #REF!
Name _ven3: #REF!
Name _ven4: #REF!
Name _ven4: #REF!
Name classes: classe!$C$2:$N$40
Name classes: [1]parametre!#REF!
Name classes: #REF!
Name DIDOU: #REF!,#REF!,#REF!,#REF!,#REF!
Name DIDOU: #REF!,#REF!,#REF!,#REF!,#REF!
Name DIDOU: #REF!,#REF!,#REF!,#REF!,#REF!
Name edt: #REF!
Name edt: #REF!
Name edt: #REF!
Name mard1: #REF!
Name mard1: #REF!
Name mard2: #REF!
Name mard2: #REF!
Name mard3: #REF!
Name mard3: #REF!
Name mard4: #REF!
Name mard4: #REF!
Name prof11: #REF!
Name prof11: #REF!
Name prof11: #REF!
Name prof12: #REF!
Name prof12: #REF!
Name prof12: #REF!
Name prof13: #REF!
Name prof13: #REF!
Name prof13: #REF!
Name prof14: #REF!
Name prof14: #REF!
Name prof14: #REF!
Name prof15: #REF!

Sheet classe
A1: Créneaux | D1: les classes
A2: Lundi-AM-M1-M2 | C2: N° | D2: Secteur | E2: Niv_classe | F2: classe | G2: effectif réel | H2: eps/sem | I2: Niveau | J2: Choix CP | K2: PEPS | L2: creneau1 | M2: Sem | N2: creneau 2 | O2: Sem
A3: Lundi-AM-M3-M4 | C3: 34 | D3: divers | E3: classe projet | F3: PROJET | G3: 13 | H3: 2 | I3: =VLOOKUP(E3,$H$43:$J$50,2) -> 3 | J3: =VLOOKUP(E3,$H$43:$J$50,3) -> xxx | K3: Christelle | L3: Jeudi-PM-S2-S3 | M3: A-B
A4: Lundi-PM-S2-S3 | C4: 31 | D4: electrotechnique | E4: bac pro 2nde | F4: 2ELEEC | G4: 28 | H4: 2 | I4: =VLOOKUP(E4,$H$43:$J$50,2) -> 3 | J4: =VLOOKUP(E4,$H$43:$J$50,3) -> 3/5--1 | K4: Christelle | L4: Lundi-AM-M1-M2 | M4: A-B
A5: Lundi-PM-S4-S5 | C5: 7 | D5: tertiaire | E5: bac pro 1ere | F5: 1COM2 | G5: 29 | H5: 3 | I5: =VLOOKUP(E5,$H$43:$J$50,2) -> 3-4 | J5: =VLOOKUP(E5,$H$43:$J$50,3) -> 1/2/4 | K5: Christelle | L5: Lundi-AM-M3-M4 | M5: A-B | N5: Jeudi-AM-M3-M4 | O5: B
A6: Mardi-AM-M1-M2 | C6: 15 | D6: restauration | E6: cap Terminale | F6: TAPR1 | G6: 30 | H6: 3 | I6: =VLOOKUP(E6,$H$43:$J$50,2) -> 3 | J6: =VLOOKUP(E6,$H$43:$J$50,3) -> 3/5/? | K6: Christelle | L6: Lundi-PM-S2-S3 | M6: A-B | N6: Jeudi-AM-M3-M4 | O6: A
A7: Mardi-AM-M3-M4 | C7: 32 | D7: electrotechnique | E7: bac pro 1ere | F7: 1ELEEC | G7: 31 | H7: 3 | I7: =VLOOKUP(E7,$H$43:$J$50,2) -> 3-4 | J7: =VLOOKUP(E7,$H$43:$J$50,3) -> 1/2/4 | K7: Christelle | L7: Mardi-AM-M1-M2 | M7: A-B
A8: Mardi-PM-S2-S3 | C8: 25 | D8: metallerie | E8: cap Terminale | F8: TMTL | G8: 15 | H8: 3 | I8: =VLOOKUP(E8,$H$43:$J$50,2) -> 3 | J8: =VLOOKUP(E8,$H$43:$J$50,3) -> 3/5/? | K8: Christelle | L8: Mardi-AM-M3-M4 | M8: A | N8: Jeudi-AM-M1-M2 | O8: A-B
A9: Mardi-PM-S4-S5 | C9: 30 | D9: electrotechnique | E9: cap Terminale | F9: TPROE | G9: 27 | H9: 3 | I9: =VLOOKUP(E9,$H$43:$J$50,2) -> 3 | J9: =VLOOKUP(E9,$H$43:$J$50,3) -> 3/5/? | K9: Christelle | L9: Mardi-AM-M3-M4 | M9: A | N9: Jeudi-AM-M1-M2 | O9: A-B
A10: Mercredi-AM-M1-M2 | C10: 11 | D10: tertiaire | E10: bac pro 1ere | F10: 1GA | G10: 26 | H10: 3 | I10: =VLOOKUP(E10,$H$43:$J$50,2) -> 3-4 | J10: =VLOOKUP(E10,$H$43:$J$50,3) -> 1/2/4 | K10: Christelle | L10: Mardi-PM-S2-S3 | M10: A-B
A11: Mercredi-AM-M3-M4 | C11: 19 | D11: hygiene | E11: bac pro 1ere | F11: 1HPS | G11: 15 | H11: 3 | I11: =VLOOKUP(E11,$H$43:$J$50,2) -> 3-4 | J11: =VLOOKUP(E11,$H$43:$J$50,3) -> 1/2/4 | K11: Christelle | L11: Mardi-PM-S2-S3 | M11: A-B
A12: Jeudi-AM-M1-M2 | C12: 24 | D12: metallerie | E12: cap 2nde | F12: 1MTL | G12: 15 | H12: 2 | I12: =VLOOKUP(E12,$H$43:$J$50,2) -> 3 | J12: =VLOOKUP(E12,$H$43:$J$50,3) -> 1/2/4 | K12: Christelle | L12: Vendredi-PM-S2-S3 | M12: A-B
A13: Jeudi-AM-M3-M4 | C13: 29 | D13: electrotechnique | E13: cap 2nde | F13: 1PROE | G13: 19 | H13: 2 | I13: =VLOOKUP(E13,$H$43:$J$50,2) -> 3 | J13: =VLOOKUP(E13,$H$43:$J$50,3) -> 1/2/4 | K13: Christelle | L13: Vendredi-PM-S2-S3 | M13: A-B
A14: Jeudi-PM-S2-S3 | C14: 21 | D14: aide personne | E14: bac pro 2nde | F14: 2ASSP | G14: 34 | H14: 2 | I14: =VLOOKUP(E14,$H$43:$J$50,2) -> 3 | J14: =VLOOKUP(E14,$H$43:$J$50,3) -> 3/5--1 | K14: Didier | L14: Jeudi-AM-M1-M2 | M14: A-B
A15: Jeudi-PM-S4-S5 | C15: 23 | D15: aide personne | E15: bac pro term | F15: TASSP | G15: 35 | H15: 3 | I15: =VLOOKUP(E15,$H$43:$J$50,2) -> 4 | J15: =VLOOKUP(E15,$H$43:$J$50,3) -> 2/3/4/5 | K15: Didier | L15: Lundi-AM-M3-M4 | M15: A | N15: Mercredi-AM-M1-M2 | O15: A-B
A16: Vendredi-AM-M1-M2 | C16: 8 | D16: tertiaire | E16: bac pro term | F16: TCOM1 | G16: 25 | H16: 3 | I16: =VLOOKUP(E16,$H$43:$J$50,2) -> 4 | J16: =VLOOKUP(E16,$H$43:$J$50,3) -> 2/3/4/5 | K16: Didier | L16: Lundi-PM-S2-S3 | M16: A | N16: Jeudi-PM-S4-S5 | O16: A-B
A17: Vendredi-AM-M3-M4 | C17: 9 | D17: tertiaire | E17: bac pro term | F17: TCOM2 | G17: 24 | H17: 3 | I17: =VLOOKUP(E17,$H$43:$J$50,2) -> 4 | J17: =VLOOKUP(E17,$H$43:$J$50,3) -> 2/3/4/5 | K17: Didier | L17: Lundi-PM-S2-S3 | M17: B | N17: Jeudi-AM-M3-M4 | O17: A-B
A18: Vendredi-PM-S2-S3 | C18: 3 | D18: tertiaire | E18: cap 2nde | F18: 1EVS | G18: 23 | H18: 2 | I18: =VLOOKUP(E18,$H$43:$J$50,2) -> 3 | J18: =VLOOKUP(E18,$H$43:$J$50,3) -> 1/2/4 | K18: Didier | L18: Lundi-PM-S4-S5 | M18: A-B
A19: Vendredi-PM-S4-S5 | C19: 5 | D19: tertiaire | E19: bac pro 2nde | F19: 2COM2 | G19: 22 | H19: 2 | I19: =VLOOKUP(E19,$H$43:$J$50,2) -> 3 | J19: =VLOOKUP(E19,$H$43:$J$50,3) -> 3/5--1 | K19: Didier | L19: Mardi-AM-M1-M2 | M19: A-B
A20: Lundi-AM-M1 | C20: 27 | D20: metallerie | E20: bac pro 1ere | F20: 1OBM | G20: 15 | H20: 3 | I20: =VLOOKUP(E20,$H$43:$J$50,2) -> 3-4 | J20: =VLOOKUP(E20,$H$43:$J$50,3) -> 1/2/4 | K20: Didier | L20: Mardi-AM-M3-M4 | M20: A-B
A21: Lundi-AM-M2 | C21: 17 | D21: hygiene | E21: cap Terminale | F21: TMHL | G21: 15 | H21: 3 | I21: =VLOOKUP(E21,$H$43:$J$50,2) -> 3 | J21: =VLOOKUP(E21,$H$43:$J$50,3) -> 3/5/? | K21: Morgane | L21: Mardi-AM-M1-M2 | M21: A
A22: Lundi-AM-M3 | C22: 2 | D22: college | E22: 3ème | F22: 3PREPAPRO(AE) | G22: 24 | H22: 3 | I22: =VLOOKUP(E22,$H$43:$J$50,2) -> 2 | J22: =VLOOKUP(E22,$H$43:$J$50,3) -> xxx | K22: Morgane | L22: Mardi-AM-M3 | M22: A-B | N22: Jeudi-PM-S3 | O22: A
A23: Lundi-AM-M4 | C23: 4 | D23: tertiaire | E23: bac pro 2nde | F23: 2COM1 | G23: 30 | H23: 2 | I23: =VLOOKUP(E23,$H$43:$J$50,2) -> 3 | J23: =VLOOKUP(E23,$H$43:$J$50,3) -> 3/5--1 | K23: Morgane | L23: Mardi-PM-S2-S3 | M23: A-B
A24: Lundi-PM-S1 | C24: 22 | D24: aide personne | E24: bac pro 1ere | F24: 1ASSP | G24: 35 | H24: 3 | I24: =VLOOKUP(E24,$H$43:$J$50,2) -> 3-4 | J24: =VLOOKUP(E24,$H$43:$J$50,3) -> 1/2/4 | K24: Morgane | L24: Mardi-PM-S4-S5 | M24: A-B | N24: Vendredi-PM-S2-S3 | O24: B
A25: Lundi-PM-S2 | C25: 1 | D25: college | E25: 3ème | F25: 3PREPAPRO | G25: 24 | H25: 3 | I25: =VLOOKUP(E25,$H$43:$J$50,2) -> 2 | J25: =VLOOKUP(E25,$H$43:$J$50,3) -> xxx | K25: Morgane | L25: Mercredi-AM-M1-M2 | M25: A-B | N25: Vendredi-PM-S2-S3 | O25: A
A26: Lundi-PM-S3 | C26: 6 | D26: tertiaire | E26: bac pro 1ere | F26: 1COM1 | G26: 30 | H26: 3 | I26: =VLOOKUP(E26,$H$43:$J$50,2) -> 3-4 | J26: =VLOOKUP(E26,$H$43:$J$50,3) -> 1/2/4 | K26: Morgane | L26: Mercredi-AM-M3-M4 | M26: A | N26: Vendredi-PM-S4-S5 | O26: A-B
A27: Lundi-PM-S4 | C27: 33 | D27: electrotechnique | E27: bac pro term | F27: TELEEC | G27: 29 | H27: 3 | I27: =VLOOKUP(E27,$H$43:$J$50,2) -> 4 | J27: =VLOOKUP(E27,$H$43:$J$50,3) -> 2/3/4/5 | K27: Morgane | L27: Mercredi-AM-M3-M4 | M27: B | N27: Vendredi-AM-M1-M2 | O27: A-B
A28: Lundi-PM-S5 | C28: 20 | D28: hygiene | E28: bac pro term | F28: THE | G28: 7 | H28: 3 | I28: =VLOOKUP(E28,$H$43:$J$50,2) -> 4 | J28: =VLOOKUP(E28,$H$43:$J$50,3) -> 2/3/4/5 | K28: Nicolas | L28: Lundi-AM-M1-M2 | M28: A-B | N28: Mercredi-AM-M3-M4 | O28: A
A29: Mardi-AM-M1 | C29: 12 | D29: tertiaire | E29: bac pro term | F29: TGA | G29: 30 | H29: 3 | I29: =VLOOKUP(E29,$H$43:$J$50,2) -> 4 | J29: =VLOOKUP(E29,$H$43:$J$50,3) -> 2/3/4/5 | K29: Nicolas | L29: Lundi-AM-M3-M4 | M29: A | N29: Jeudi-AM-M1-M2 | O29: A-B
A30: Mardi-AM-M2 | C30: 28 | D30: metallerie | E30: bac pro term | F30: TOBM | G30: 15 | H30: 3 | I30: =VLOOKUP(E30,$H$43:$J$50,2) -> 4 | J30: =VLOOKUP(E30,$H$43:$J$50,3) -> 2/3/4/5 | K30: Nicolas | L30: Lundi-PM-S4-S5 | M30: A-B | N30: Mercredi-AM-M1-M2 | O30: A
A31: Mardi-AM-M3 | C31: 26 | D31: metallerie | E31: bac pro 2nde | F31: 2OBM | G31: 15 | H31: 2 | I31: =VLOOKUP(E31,$H$43:$J$50,2) -> 3 | J31: =VLOOKUP(E31,$H$43:$J$50,3) -> 3/5--1 | K31: Nicolas | L31: Mardi-PM-S2-S3 | M31: A-B
A32: Mardi-AM-M4 | C32: 10 | D32: tertiaire | E32: bac pro 2nde | F32: 2GA | G32: 30 | H32: 2 | I32: =VLOOKUP(E32,$H$43:$J$50,2) -> 3 | J32: =VLOOKUP(E32,$H$43:$J$50,3) -> 3/5--1 | K32: Nicolas | L32: Mardi-PM-S4-S5 | M32: A-B
A33: Mardi-PM-S1 | C33: 18 | D33: hygiene | E33: bac pro 2nde | F33: 2HPS | G33: 15 | H33: 2 | I33: =VLOOKUP(E33,$H$43:$J$50,2) -> 3 | J33: =VLOOKUP(E33,$H$43:$J$50,3) -> 3/5--1 | K33: Nicolas | L33: Mardi-PM-S4-S5 | M33: A-B
A34: Mardi-PM-S2 | C34: 14 | D34: restauration | E34: cap 2nde | F34: 1APR2 | G34: 15 | H34: 2 | I34: =VLOOKUP(E34,$H$43:$J$50,2) -> 3 | J34: =VLOOKUP(E34,$H$43:$J$50,3) -> 1/2/4 | K34: Nicolas | L34: Vendredi-AM-M1-M2 | M34: A-B
A35: Mardi-PM-S3 | C35: 16 | D35: hygiene | E35: cap 2nde | F35: 1APH | G35: 15 | H35: 2 | I35: =VLOOKUP(E35,$H$43:$J$50,2) -> 3 | J35: =VLOOKUP(E35,$H$43:$J$50,3) -> 1/2/4 | K35: Nicolas | L35: Vendredi-AM-M1-M2 | M35: A-B
A36: Mardi-PM-S4 | C36: 13 | D36: restauration | E36: cap 2nde | F36: 1APR1 | G36: 30 | H36: 2 | I36: =VLOOKUP(E36,$H$43:$J$50,2) -> 3 | J36: =VLOOKUP(E36,$H$43:$J$50,3) -> 1/2/4 | K36: Nicolas | L36: Vendredi-AM-M3-M4 | M36: A-B
A37: Mardi-PM-S5 | C37: 35
A38: Mercredi-AM-M1 | C38: 36
A39: Mercredi-AM-M2 | C39: 37
A40: Mercredi-AM-M3 | C40: 38
A41: Mercredi-AM-M4
A42: Jeudi-AM-M1
A43: Jeudi-AM-M2 | H43: niveau classe | I43: Niv Cp | J43: Choix péda | L43: Vacances Scolaires
A44: Jeudi-AM-M3 | D44: Regroupements de classes | H44: 3ème | I44: 2 | J44: xxx | M44: Sem-deb | N44: Sem-fin | O44: Debut | P44: Fin
A45: Jeudi-AM-M4 | D45: Christelle | E45: tmtl | F45: tproe | H45: bac pro 1ere | I45: 3-4 | J45: 1/2/4 | L45: Toussaint | M45: =WEEKNUM(O45,2)+1 -> 43 | N45: =WEEKNUM(P45,2) -> 44 | O45: 41930 | P45: 41945
A46: Jeudi-PM-S1 | D46: Christelle | E46: 1ga | F46: 1hps | H46: bac pro 2nde | I46: 3 | J46: 3/5--1 | L46: Noel | M46: =WEEKNUM(O46,2)+1 -> 52 | N46: =WEEKNUM(P46,2) -> 1 | O46: 41993 | P46: 42008
A47: Jeudi-PM-S2 | D47: Nicolas | E47: 1APH | F47: 1APR2 | H47: bac pro Term | I47: 4 | J47: 2/3/4/5 | L47: Hiver | M47: =WEEKNUM(O47,2)+1 -> 9 | N47: =WEEKNUM(P47,2) -> 10 | O47: 42056 | P47: 42071
A48: Jeudi-PM-S3 | D48: Nicolas | E48: 2GA | F48: 2HPS | H48: cap 2nde | I48: 3 | J48: 1/2/4 | L48: Printemps | M48: =WEEKNUM(O48,2)+1 -> 18 | N48: =WEEKNUM(P48,2) -> 19 | O48: 42119 | P48: 42134
A49: Jeudi-PM-S4 | H49: cap Terminale | I49: 3 | J49: 3/5/?
A50: Jeudi-PM-S5 | H50: Classe Projet | I50: 3 | J50: xxx | L50: Jours fériés | O50: Journées péda.
A51: Vendredi-AM-M1 | L51: Dates | M51: n° sem | O51: Dates | P51: n° sem
A52: Vendredi-AM-M2 | H52: DATES EXAMENS JUIN | L52: 41944 | M52: =WEEKNUM(L52,1) -> 44 | O52: 41992 | P52: =WEEKNUM(O52,1) -> 51
A53: Vendredi-AM-M3 | I53: DEBUT | J53: FIN | L53: 41954 | M53: =WEEKNUM(L53,1) -> 46 | O53: 41901 | P53: =WEEKNUM(O53,1) -> 38
A54: Vendredi-AM-M4 | D54: Périodicité des cours | H54: BAC PRO | L54: 42100 | M54: =WEEKNUM(L54,1) -> 15 | O54: 41897 | P54: =WEEKNUM(O54,1) -> 38
A55: Vendredi-PM-S1 | D55: Num | E55: Sem | H55: BEP | L55: 42125 | M55: =WEEKNUM(L55,1) -> 18
A56: Vendredi-PM-S2 | D56: A-B | E56: A-B | H56: CAP | L56: 42132 | M56: =WEEKNUM(L56,1) -> 19
A57: Vendredi-PM-S3 | D57: A | E57: A | H57: DNB | L57: 42138 | M57: =WEEKNUM(L57,1) -> 20
A58: Vendredi-PM-S4 | D58: B | E58: B | L58: 42149 | M58: =WEEKNUM(L58,1) -> 22
A59: Vendredi-PM-S5
O60: Journées rentrée
O61: Dates | P61: n° sem
O62: 41883 | P62: =WEEKNUM(O62,1) -> 36
O63: 41884 | P63: =WEEKNUM(O63,1) -> 36
J64: Journée Péda
J66: Journée de rentrée
J68: FERIE
J70: VACANCES SCOLAIRES

Sheet T-D-BORD
A1: Tableaux de Bord | J1: Répartition des installations indoor/outdoor par enseignant
A3: Répartition des Apsa par enseignant
A32: Répartition des CP par enseignant | J32: Répartition des installations par enseignant
A60: Répartition des Apsa par Niveaux de Classe | J60: Répartition des CP par Niveaux de Classe
A61: Cap-2nde (niv 3) | D61: Cap-Term (niv 3) | J61: Cap-2nde (niv 3) | M61: Cap-Term (niv 3)
A74: Bac pro 2nde (niv3) | D74: Bac Pro 1ere | G74: Bac Pro term (niv 4) | J74: Bac pro 2nde (niv3) | M74: Bac Pro 1ere | P74: Bac Pro term (niv 4)
D86: Bac Pro 1ère (niv 4) | M86: Bac Pro 1ère (niv 4)

Sheet vierge
A1: MODELE SEMAINE A-B | H1: MODELE SEMAINE A | O1: MODELE SEMAINE B
A4: N° Sem | B4: Sem
C10: N° | D10: Niv | E10: APSA | F10: INSTALL | J10: N° | K10: Niv | L10: APSA | M10: INSTALL | Q10: N° | R10: Niv | S10: APSA | T10: INSTALL
A11: 36 | B11: a | Q11: x | R11: x | S11: x | T11: x
A12: =1+A11 -> 37 | B12: b | J12: x | K12: x | L12: x | M12: x
A13: =1+A12 -> 38 | B13: a | Q13: x | R13: x | S13: x | T13: x
A14: =1+A13 -> 39 | B14: b | J14: x | K14: x | L14: x | M14: x
A15: =1+A14 -> 40 | B15: a | Q15: x | R15: x | S15: x | T15: x
A16: =1+A15 -> 41 | B16: b | J16: x | K16: x | L16: x | M16: x
A17: =1+A16 -> 42 | B17: a | Q17: x | R17: x | S17: x | T17: x
A18: =1+A17 -> 43 | B18: b | J18: x | K18: x | L18: x | M18: x
A19: =1+A18 -> 44 | B19: a | Q19: x | R19: x | S19: x | T19: x
A20: =1+A19 -> 45 | B20: b | J20: x | K20: x | L20: x | M20: x
A21: =1+A20 -> 46 | B21: a | Q21: x | R21: x | S21: x | T21: x
A22: =1+A21 -> 47 | B22: b | J22: x | K22: x | L22: x | M22: x
A23: =1+A22 -> 48 | B23: a | Q23: x | R23: x | S23: x | T23: x
A24: =1+A23 -> 49 | B24: b | J24: x | K24: x | L24: x | M24: x
A25: =1+A24 -> 50 | B25: a | Q25: x | R25: x | S25: x | T25: x
A26: =1+A25 -> 51 | B26: b | J26: x | K26: x | L26: x | M26: x
A27: =1+A26 -> 52 | B27: a | Q27: x | R27: x | S27: x | T27: x
A28: 1 | B28: b | J28: x | K28: x | L28: x | M28: x
A29: =1+A28 -> 2 | B29: a | Q29: x | R29: x | S29: x | T29: x
A30: =1+A29 -> 3 | B30: b | J30: x | K30: x | L30: x | M30: x
A31: =1+A30 -> 4 | B31: a | Q31: x | R31: x | S31: x | T31: x
A32: =1+A31 -> 5 | B32: b | J32: x | K32: x | L32: x | M32: x
A33: =1+A32 -> 6 | B33: a | Q33: x | R33: x | S33: x | T33: x
A34: =1+A33 -> 7 | B34: b | J34: x | K34: x | L34: x | M34: x
A35: =1+A34 -> 8 | B35: a | Q35: x | R35: x | S35: x | T35: x
A36: =1+A35 -> 9 | B36: b | J36: x | K36: x | L36: x | M36: x
A37: =1+A36 -> 10 | B37: a | Q37: x | R37: x | S37: x | T37: x
A38: =1+A37 -> 11 | B38: b | J38: x | K38: x | L38: x | M38: x
A39: =1+A38 -> 12 | B39: a | Q39: x | R39: x | S39: x | T39: x
A40: =1+A39 -> 13 | B40: b | J40: x | K40: x | L40: x | M40: x
A41: =1+A40 -> 14 | B41: a | Q41: x | R41: x | S41: x | T41: x
A42: =1+A41 -> 15 | B42: b | J42: x | K42: x | L42: x | M42: x
A43: =1+A42 -> 16 | B43: a | Q43: x | R43: x | S43: x | T43: x
A44: =1+A43 -> 17 | B44: b | J44: x | K44: x | L44: x | M44: x
A45: =1+A44 -> 18 | B45: a | Q45: x | R45: x | S45: x | T45: x
A46: =1+A45 -> 19 | B46: b | J46: x | K46: x | L46: x | M46: x
A47: =1+A46 -> 20 | B47: a | Q47: x | R47: x | S47: x | T47: x
A48: =1+A47 -> 21 | B48: b | J48: x | K48: x | L48: x | M48: x
A49: =1+A48 -> 22 | B49: a | Q49: x | R49: x | S49: x | T49: x
A50: =1+A49 -> 23 | B50: b | J50: x | K50: x | L50: x | M50: x
A51: =1+A50 -> 24 | B51: a | Q51: x | R51: x | S51: x | T51: x
A52: =1+A51 -> 25 | B52: b | J52: x | K52: x | L52: x | M52: x
A53: =1+A52 -> 26 | B53: a | Q53: x | R53: x | S53: x | T53: x
A54: =1+A53 -> 27 | B54: b | J54: x | K54: x | L54: x | M54: x

Sheet stages
A1: periodes de stages | C1: 2014/2015 | D1: sept | H1: oct | M1: NOV | Q1: DEC | U1: JAN | Z1: FEV | AD1: MARS | AH1: AVRIL | AL1: MAI | AQ1: Juin
C2: n SEMAINE | D2: 36 | E2: =1+D2 -> 37 | F2: =1+E2 -> 38 | G2: =1+F2 -> 39 | H2: =1+G2 -> 40 | I2: =1+H2 -> 41 | J2: =1+I2 -> 42 | K2: =1+J2 -> 43 | L2: =1+K2 -> 44 | ... T2: =1+S2 -> 52 | U2: 1 | V2: =1+U2 -> 2 | W2: =1+V2 -> 3 | X2: =1+W2 -> 4 | Y2: =1+X2 -> 5 | Z2: =1+Y2 -> 6 | AA2: =1+Z2 -> 7 | AB2: =1+AA2 -> 8 | AC2: =1+AB2 -> 9 | ... AU2: =1+AT2 -> 27
A3: college | B3: 3ème | C3: 3prepapro
B4: 3ème | C4: Accomp Educ
A5: tertiaire | B5: cap 1ere année | C5: 1evs | P5: x | Q5: x | R5: x | S5: x | AQ5: x | AR5: x | AS5: x | AT5: x
B6: bac pro 2nde | C6: 2com1 | Z6: x | AA6: x | AB6: x | AR6: x | AS6: x | AT6: x
B7: bac pro 2nde | C7: 2com2 | Z7: x | AA7: x | AB7: x | AR7: x | AS7: x | AT7: x
B8: bac pro 1ere | C8: 1com1 | V8: x | W8: x | X8: x | Y8: x | AQ8: x | AR8: x | AS8: x | AT8: x
B9: bac pro 1ere | C9: 1com2 | V9: x | W9: x | X9: x | Y9: x | AQ9: x | AR9: x | AS9: x | AT9: x
B10: bac pro term | C10: tcom1 | P10: x | Q10: x | R10: x | S10: x | AH10: x | AI10: x | AJ10: x | AK10: x
B11: bac pro term | C11: tcom2 | P11: x | Q11: x | R11: x | S11: x | AH11: x | AI11: x | AJ11: x | AK11: x
B12: bac pro 2nde | C12: 2ga | V12: x | W12: x | AQ12: x | AR12: x | AS12: x | AT12: x
B13: bac pro 1ere | C13: 1ga | M13: x | N13: x | O13: x | P13: x | AH13: x | AI13: x | AJ13: x | AK13: x | AQ13: x | AR13: x | AS13: x | AT13: x
B14: bac pro term | C14: tga | P14: x | Q14: x | R14: x | S14: x | Y14: x | Z14: x | AA14: x | AB14: x
A15: restauration | B15: cap 1ere année | C15: 1apr1 | Z15: x | AA15: x | AB15: x | AQ15: x | AR15: x | AS15: x | AT15: x
B16: cap 1ere année | C16: 1apr2 | Z16: x | AA16: x | AB16: x | AQ16: x | AR16: x | AS16: x | AT16: x
B17: cap Terminale | C17: tapr1 | P17: x | Q17: x | R17: x | S17: x | AH17: x | AI17: x | AJ17: x | AK17: x
A18: hygiene | B18: cap 1ere année | C18: 1aph | J18: x | AA18: x | AB18: x | AQ18: x | AR18: x | AS18: x | AT18: x
B19: cap Terminale | C19: tmhl | AH19: x | AI19: x | AJ19: x | AK19: x
B20: bac pro 2nde | C20: 2hps | M20: x | N20: x | O20: x | P20: x | AQ20: x | AR20: x | AS20: x | AT20: x
B21: bac pro 1ere | C21: 1hps | M21: x | N21: x | O21: x | AQ21: x | AR21: x | AS21: x | AT21: x
B22: bac pro term | C22: the | V22: x | W22: x | X22: x | Y22: x | AF22: x | AG22: x | AH22: x | AI22: x
A23: aide personne | B23: bac pro 2nde | C23: 2assp | Q23: x | R23: x | S23: x | AQ23: x | AR23: x | AS23: x | AT23: x
B24: bac pro 1ere | C24: 1assp | P24: x | Q24: x | R24: x | S24: x | AQ24: x | AR24: x | AS24: x | AT24: x
B25: bac pro term | C25: tassp | G25: x | H25: x | I25: x | J25: x | Y25: x | Z25: x | AA25: x | AB25: x
A26: metallerie | B26: cap 1ere année | C26: 1mtl | AQ26: x | AR26: x | AS26: x | AT26: x
B27: cap Terminale | C27: tmtl | P27: x | Q27: x | R27: x | S27: x | AI27: x | AJ27: x | AK27: x
B28: bac pro 2nde | C28: 2obm | M28: x | N28: x | O28: x | AR28: x | AS28: x | AT28: x
B29: bac pro 1ere | C29: 1obm | Y29: x | Z29: x | AA29: x | AB29: x | AQ29: x | AR29: x | AS29: x | AT29: x
B30: bac pro term | C30: tobm | G30: x | H30: x | I30: x | J30: x | AH30: x | AI30: x | AJ30: x | AK30: x
A31: electrotechnique | B31: cap 1ere année | C31: 1proe | AQ31: x | AR31: x | AS31: x | AT31: x
B32: cap Terminale | C32: tproe | P32: x | Q32: x | R32: x | S32: x | AH32: x | AI32: x | AJ32: x | AK32: x
B33: bac pro 2nde | C33: 2eleec | AQ33: x | AR33: x | AS33: x | AT33: x
B34: bac pro 1ere | C34: 1eleec | O34: x | P34: x | Q34: x | R34: x | S34: x | AO34: x | AP34: x | AQ34: x | AR34: x
B35: bac pro term | C35: teleec | G35: x | H35: x | I35: x | J35: x | AH35: x | AI35: x | AJ35: x | AK35: x
A36: divers | B36: classe projet | C36: projet
K37: Vac | T37: Vac | AC37: Vac | AL37: Vac

Sheet LUNDI-AM
B1: LUNDI 8H35-10H25
F2: Indisponible | I2: Profs | L2: Christelle | P2: Nicolas
B3: N° Sem | C3: Sem | D3: DATES | E3: Creneau | F3: Bouchard | G3: JC | H3: Coubertin | I3: Classes | L3: 2ELEEC | P3: THE
I4: Semaines | L4: A-B | P4: A-B
I5: Nb elèves | L5: 28 | P5: 7
I6: Niv Cp | L6: 3 | P6: 4
I7: 2E COURS
I8: CP
I9: Navette | J9: Stade | K9: Lib | L9: N° | M9: Niv | N9: APSA | O9: INSTALL | P9: N° | Q9: Niv | R9: APSA | S9: INSTALL
A10: 1 | B10: 36 | C10: a | D10: 41883 | E10: M1 | I10: =IF(AND(J10="oui",K10="oui"),"Sta+Lib",IF(J10="oui","Stade",IF(K10="oui","Lib",""))) | J10: =IF(OR(LEFT($O10,3)="sta",LEFT($S10,3)="sta",LEFT($W10,3)="sta",LEFT($AA10,3)="sta",LEFT($AE10,3)="sta",LEFT($AI10,3)="sta",LEFT($AM10,3)="sta",LEFT($AQ10,3)="sta"),"oui","") | K10: =IF(OR(LEFT($O10,3)="Lib",LEFT($S10,3)="Lib",LEFT($W10,3)="Lib",LEFT($AA10,3)="Lib",LEFT($AE10,3)="Lib",LEFT($AI10,3)="Lib",LEFT($AM10,3)="Lib",LEFT($AQ10,3)="Lib"),"oui","") | L10: Journée de rentrée | P10: Journée de rentrée
A11: =1+A10 -> 2 | B11: =1+B10 -> 37 | C11: b | D11: =7+D10 -> 41890 | E11: M1 | I11: =IF(AND(J11="oui",K11="oui"),"Sta+Lib",IF(J11="oui","Stade",IF(K11="oui","Lib",""))) | J11: =IF(OR(LEFT($O11,3)="sta",LEFT($S11,3)="sta",LEFT($W11,3)="sta",LEFT($AA11,3)="sta",LEFT($AE11,3)="sta",LEFT($AI11,3)="sta",LEFT($AM11,3)="sta",LEFT($AQ11,3)="sta"),"oui","") | K11: =IF(OR(LEFT($O11,3)="Lib",LEFT($S11,3)="Lib",LEFT($W11,3)="Lib",LEFT($AA11,3)="Lib",LEFT($AE11,3)="Lib",LEFT($AI11,3)="Lib",LEFT($AM11,3)="Lib",LEFT($AQ11,3)="Lib"),"oui","")
A12: =1+A11 -> 3 | B12: =1+B11 -> 38 | C12: a | D12: =7+D11 -> 41897 | E12: M1 | I12: =IF(AND(J12="oui",K12="oui"),"Sta+Lib",IF(J12="oui","Stade",IF(K12="oui","Lib",""))) | J12: =IF(OR(LEFT($O12,3)="sta",LEFT($S12,3)="sta",LEFT($W12,3)="sta",LEFT($AA12,3)="sta",LEFT($AE12,3)="sta",LEFT($AI12,3)="sta",LEFT($AM12,3)="sta",LEFT($AQ12,3)="sta"),"oui","") | K12: =IF(OR(LEFT($O12,3)="Lib",LEFT($S12,3)="Lib",LEFT($W12,3)="Lib",LEFT($AA12,3)="Lib",LEFT($AE12,3)="Lib",LEFT($AI12,3)="Lib",LEFT($AM12,3)="Lib",LEFT($AQ12,3)="Lib"),"oui","") | L12: Journée Péda | P12: Journée Péda
A13: =1+A12 -> 4 | B13: =1+B12 -> 39 | C13: b | D13: =7+D12 -> 41904 | E13: M1 | I13: =IF(AND(J13="oui",K13="oui"),"Sta+Lib",IF(J13="oui","Stade",IF(K13="oui","Lib",""))) | J13: =IF(OR(LEFT($O13,3)="sta",LEFT($S13,3)="sta",LEFT($W13,3)="sta",LEFT($AA13,3)="sta",LEFT($AE13,3)="sta",LEFT($AI13,3)="sta",LEFT($AM13,3)="sta",LEFT($AQ13,3)="sta"),"oui","") | K13: =IF(OR(LEFT($O13,3)="Lib",LEFT($S13,3)="Lib",LEFT($W13,3)="Lib",LEFT($AA13,3)="Lib",LEFT($AE13,3)="Lib",LEFT($AI13,3)="Lib",LEFT($AM13,3)="Lib",LEFT($AQ13,3)="Lib"),"oui","")
A14: =1+A13 -> 5 | B14: =1+B13 -> 40 | C14: a | D14: =7+D13 -> 41911 | E14: M1 | I14: =IF(AND(J14="oui",K14="oui"),"Sta+Lib",IF(J14="oui","Stade",IF(K14="oui","Lib",""))) | J14: =IF(OR(LEFT($O14,3)="sta",LEFT($S14,3)="sta",LEFT($W14,3)="sta",LEFT($AA14,3)="sta",LEFT($AE14,3)="sta",LEFT($AI14,3)="sta",LEFT($AM14,3)="sta",LEFT($AQ14,3)="sta"),"oui","") | K14: =IF(OR(LEFT($O14,3)="Lib",LEFT($S14,3)="Lib",LEFT($W14,3)="Lib",LEFT($AA14,3)="Lib",LEFT($AE14,3)="Lib",LEFT($AI14,3)="Lib",LEFT($AM14,3)="Lib",LEFT($AQ14,3)="Lib"),"oui","")
A15: =1+A14 -> 6 | B15: =1+B14 -> 41 | C15: b | D15: =7+D14 -> 41918 | E15: M1 | I15: =IF(AND(J15="oui",K15="oui"),"Sta+Lib",IF(J15="oui","Stade",IF(K15="oui","Lib",""))) | J15: =IF(OR(LEFT($O15,3)="sta",LEFT($S15,3)="sta",LEFT($W15,3)="sta",LEFT($AA15,3)="sta",LEFT($AE15,3)="sta",LEFT($AI15,3)="sta",LEFT($AM15,3)="sta",LEFT($AQ15,3)="sta"),"oui","") | K15: =IF(OR(LEFT($O15,3)="Lib",LEFT($S15,3)="Lib",LEFT($W15,3)="Lib",LEFT($AA15,3)="Lib",LEFT($AE15,3)="Lib",LEFT($AI15,3)="Lib",LEFT($AM15,3)="Lib",LEFT($AQ15,3)="Lib"),"oui","")
A16: =1+A15 -> 7 | B16: =1+B15 -> 42 | C16: a | D16: =7+D15 -> 41925 | E16: M1 | I16: =IF(AND(J16="oui",K16="oui"),"Sta+Lib",IF(J16="oui","Stade",IF(K16="oui","Lib",""))) | J16: =IF(OR(LEFT($O16,3)="sta",LEFT($S16,3)="sta",LEFT($W16,3)="sta",LEFT($AA16,3)="sta",LEFT($AE16,3)="sta",LEFT($AI16,3)="sta",LEFT($AM16,3)="sta",LEFT($AQ16,3)="sta"),"oui","") | K16: =IF(OR(LEFT($O16,3)="Lib",LEFT($S16,3)="Lib",LEFT($W16,3)="Lib",LEFT($AA16,3)="Lib",LEFT($AE16,3)="Lib",LEFT($AI16,3)="Lib",LEFT($AM16,3)="Lib",LEFT($AQ16,3)="Lib"),"oui","")
A17: =1+A16 -> 8 | B17: =1+B16 -> 43 | C17: b | D17: =7+D16 -> 41932 | E17: M1 | I17: =IF(AND(J17="oui",K17="oui"),"Sta+Lib",IF(J17="oui","Stade",IF(K17="oui","Lib",""))) | J17: =IF(OR(LEFT($O17,3)="sta",LEFT($S17,3)="sta",LEFT($W17,3)="sta",LEFT($AA17,3)="sta",LEFT($AE17,3)="sta",LEFT($AI17,3)="sta",LEFT($AM17,3)="sta",LEFT($AQ17,3)="sta"),"oui","") | K17: =IF(OR(LEFT($O17,3)="Lib",LEFT($S17,3)="Lib",LEFT($W17,3)="Lib",LEFT($AA17,3)="Lib",LEFT($AE17,3)="Lib",LEFT($AI17,3)="Lib",LEFT($AM17,3)="Lib",LEFT($AQ17,3)="Lib"),"oui","") | L17: VACANCES SCOLAIRES | P17: VACANCES SCOLAIRES
A18: =1+A17 -> 9 | B18: =1+B17 -> 44 | C18: a | D18: =7+D17 -> 41939 | E18: M1 | I18: =IF(AND(J18="oui",K18="oui"),"Sta+Lib",IF(J18="oui","Stade",IF(K18="oui","Lib",""))) | J18: =IF(OR(LEFT($O18,3)="sta",LEFT($S18,3)="sta",LEFT($W18,3)="sta",LEFT($AA18,3)="sta",LEFT($AE18,3)="sta",LEFT($AI18,3)="sta",LEFT($AM18,3)="sta",LEFT($AQ18,3)="sta"),"oui","") | K18: =IF(OR(LEFT($O18,3)="Lib",LEFT($S18,3)="Lib",LEFT($W18,3)="Lib",LEFT($AA18,3)="Lib",LEFT($AE18,3)="Lib",LEFT($AI18,3)="Lib",LEFT($AM18,3)="Lib",LEFT($AQ18,3)="Lib"),"oui","")
A19: =1+A18 -> 10 | B19: =1+B18 -> 45 | C19: b | D19: =7+D18 -> 41946 | E19: M1 | I19: =IF(AND(J19="oui",K19="oui"),"Sta+Lib",IF(J19="oui","Stade",IF(K19="oui","Lib",""))) | J19: =IF(OR(LEFT($O19,3)="sta",LEFT($S19,3)="sta",LEFT($W19,3)="sta",LEFT($AA19,3)="sta",LEFT($AE19,3)="sta",LEFT($AI19,3)="sta",LEFT($AM19,3)="sta",LEFT($AQ19,3)="sta"),"oui","") | K19: =IF(OR(LEFT($O19,3)="Lib",LEFT($S19,3)="Lib",LEFT($W19,3)="Lib",LEFT($AA19,3)="Lib",LEFT($AE19,3)="Lib",LEFT($AI19,3)="Lib",LEFT($AM19,3)="Lib",LEFT($AQ19,3)="Lib"),"oui","")
A20: =1+A19 -> 11 | B20: =1+B19 -> 46 | C20: a | D20: =7+D19 -> 41953 | E20: M1 | I20: =IF(AND(J20="oui",K20="oui"),"Sta+Lib",IF(J20="oui","Stade",IF(K20="oui","Lib",""))) | J20: =IF(OR(LEFT($O20,3)="sta",LEFT($S20,3)="sta",LEFT($W20,3)="sta",LEFT($AA20,3)="sta",LEFT($AE20,3)="sta",LEFT($AI20,3)="sta",LEFT($AM20,3)="sta",LEFT($AQ20,3)="sta"),"oui","") | K20: =IF(OR(LEFT($O20,3)="Lib",LEFT($S20,3)="Lib",LEFT($W20,3)="Lib",LEFT($AA20,3)="Lib",LEFT($AE20,3)="Lib",LEFT($AI20,3)="Lib",LEFT($AM20,3)="Lib",LEFT($AQ20,3)="Lib"),"oui","")
A21: =1+A20 -> 12 | B21: =1+B20 -> 47 | C21: b | D21: =7+D20 -> 41960 | E21: M1 | I21: =IF(AND(J21="oui",K21="oui"),"Sta+Lib",IF(J21="oui","Stade",IF(K21="oui","Lib",""))) | J21: =IF(OR(LEFT($O21,3)="sta",LEFT($S21,3)="sta",LEFT($W21,3)="sta",LEFT($AA21,3)="sta",LEFT($AE21,3)="sta",LEFT($AI21,3)="sta",LEFT($AM21,3)="sta",LEFT($AQ21,3)="sta"),"oui","") | K21: =IF(OR(LEFT($O21,3)="Lib",LEFT($S21,3)="Lib",LEFT($W21,3)="Lib",LEFT($AA21,3)="Lib",LEFT($AE21,3)="Lib",LEFT($AI21,3)="Lib",LEFT($AM21,3)="Lib",LEFT($AQ21,3)="Lib"),"oui","")
A22: =1+A21 -> 13 | B22: =1+B21 -> 48 | C22: a | D22: =7+D21 -> 41967 | E22: M1 | I22: =IF(AND(J22="oui",K22="oui"),"Sta+Lib",IF(J22="oui","Stade",IF(K22="oui","Lib",""))) | J22: =IF(OR(LEFT($O22,3)="sta",LEFT($S22,3)="sta",LEFT($W22,3)="sta",LEFT($AA22,3)="sta",LEFT($AE22,3)="sta",LEFT($AI22,3)="sta",LEFT($AM22,3)="sta",LEFT($AQ22,3)="sta"),"oui","") | K22: =IF(OR(LEFT($O22,3)="Lib",LEFT($S22,3)="Lib",LEFT($W22,3)="Lib",LEFT($AA22,3)="Lib",LEFT($AE22,3)="Lib",LEFT($AI22,3)="Lib",LEFT($AM22,3)="Lib",LEFT($AQ22,3)="Lib"),"oui","")
A23: =1+A22 -> 14 | B23: =1+B22 -> 49 | C23: b | D23: =7+D22 -> 41974 | E23: M1 | I23: =IF(AND(J23="oui",K23="oui"),"Sta+Lib",IF(J23="oui","Stade",IF(K23="oui","Lib",""))) | J23: =IF(OR(LEFT($O23,3)="sta",LEFT($S23,3)="sta",LEFT($W23,3)="sta",LEFT($AA23,3)="sta",LEFT($AE23,3)="sta",LEFT($AI23,3)="sta",LEFT($AM23,3)="sta",LEFT($AQ23,3)="sta"),"oui","") | K23: =IF(OR(LEFT($O23,3)="Lib",LEFT($S23,3)="Lib",LEFT($W23,3)="Lib",LEFT($AA23,3)="Lib",LEFT($AE23,3)="Lib",LEFT($AI23,3)="Lib",LEFT($AM23,3)="Lib",LEFT($AQ23,3)="Lib"),"oui","")
A24: =1+A23 -> 15 | B24: =1+B23 -> 50 | C24: a | D24: =7+D23 -> 41981 | E24: M1 | I24: =IF(AND(J24="oui",K24="oui"),"Sta+Lib",IF(J24="oui","Stade",IF(K24="oui","Lib",""))) | J24: =IF(OR(LEFT($O24,3)="sta",LEFT($S24,3)="sta",LEFT($W24,3)="sta",LEFT($AA24,3)="sta",LEFT($AE24,3)="sta",LEFT($AI24,3)="sta",LEFT($AM24,3)="sta",LEFT($AQ24,3)="sta"),"oui","") | K24: =IF(OR(LEFT($O24,3)="Lib",LEFT($S24,3)="Lib",LEFT($W24,3)="Lib",LEFT($AA24,3)="Lib",LEFT($AE24,3)="Lib",LEFT($AI24,3)="Lib",LEFT($AM24,3)="Lib",LEFT($AQ24,3)="Lib"),"oui","")
A25: =1+A24 -> 16 | B25: =1+B24 -> 51 | C25: b | D25: =7+D24 -> 41988 | E25: M1 | I25: =IF(AND(J25="oui",K25="oui"),"Sta+Lib",IF(J25="oui","Stade",IF(K25="oui","Lib",""))) | J25: =IF(OR(LEFT($O25,3)="sta",LEFT($S25,3)="sta",LEFT($W25,3)="sta",LEFT($AA25,3)="sta",LEFT($AE25,3)="sta",LEFT($AI25,3)="sta",LEFT($AM25,3)="sta",LEFT($AQ25,3)="sta"),"oui","") | K25: =IF(OR(LEFT($O25,3)="Lib",LEFT($S25,3)="Lib",LEFT($W25,3)="Lib",LEFT($AA25,3)="Lib",LEFT($AE25,3)="Lib",LEFT($AI25,3)="Lib",LEFT($AM25,3)="Lib",LEFT($AQ25,3)="Lib"),"oui","")
A26: =1+A25 -> 17 | B26: =1+B25 -> 52 | C26: a | D26: =7+D25 -> 41995 | E26: M1 | I26: =IF(AND(J26="oui",K26="oui"),"Sta+Lib",IF(J26="oui","Stade",IF(K26="oui","Lib",""))) | J26: =IF(OR(LEFT($O26,3)="sta",LEFT($S26,3)="sta",LEFT($W26,3)="sta",LEFT($AA26,3)="sta",LEFT($AE26,3)="sta",LEFT($AI26,3)="sta",LEFT($AM26,3)="sta",LEFT($AQ26,3)="sta"),"oui","") | K26: =IF(OR(LEFT($O26,3)="Lib",LEFT($S26,3)="Lib",LEFT($W26,3)="Lib",LEFT($AA26,3)="Lib",LEFT($AE26,3)="Lib",LEFT($AI26,3)="Lib",LEFT($AM26,3)="Lib",LEFT($AQ26,3)="Lib"),"oui","") | L26: VACANCES SCOLAIRES | P26: VACANCES SCOLAIRES
A27: =1+A26 -> 18 | B27: 1 | C27: b | D27: =7+D26 -> 42002 | E27: M1 | I27: =IF(AND(J27="oui",K27="oui"),"Sta+Lib",IF(J27="oui","Stade",IF(K27="oui","Lib",""))) | J27: =IF(OR(LEFT($O27,3)="sta",LEFT($S27,3)="sta",LEFT($W27,3)="sta",LEFT($AA27,3)="sta",LEFT($AE27,3)="sta",LEFT($AI27,3)="sta",LEFT($AM27,3)="sta",LEFT($AQ27,3)="sta"),"oui","") | K27: =IF(OR(LEFT($O27,3)="Lib",LEFT($S27,3)="Lib",LEFT($W27,3)="Lib",LEFT($AA27,3)="Lib",LEFT($AE27,3)="Lib",LEFT($AI27,3)="Lib",LEFT($AM27,3)="Lib",LEFT($AQ27,3)="Lib"),"oui","")
A28: =1+A27 -> 19 | B28: =1+B27 -> 2 | C28: a | D28: =7+D27 -> 42009 | E28: M1 | I28: =IF(AND(J28="oui",K28="oui"),"Sta+Lib",IF(J28="oui","Stade",IF(K28="oui","Lib",""))) | J28: =IF(OR(LEFT($O28,3)="sta",LEFT($S28,3)="sta",LEFT($W28,3)="sta",LEFT($AA28,3)="sta",LEFT($AE28,3)="sta",LEFT($AI28,3)="sta",LEFT($AM28,3)="sta",LEFT($AQ28,3)="sta"),"oui","") | K28: =IF(OR(LEFT($O28,3)="Lib",LEFT($S28,3)="Lib",LEFT($W28,3)="Lib",LEFT($AA28,3)="Lib",LEFT($AE28,3)="Lib",LEFT($AI28,3)="Lib",LEFT($AM28,3)="Lib",LEFT($AQ28,3)="Lib"),"oui","") | P28: STAGE
A29: =1+A28 -> 20 | B29: =1+B28 -> 3 | C29: b | D29: =7+D28 -> 42016 | E29: M1 | I29: =IF(AND(J29="oui",K29="oui"),"Sta+Lib",IF(J29="oui","Stade",IF(K29="oui","Lib",""))) | J29: =IF(OR(LEFT($O29,3)="sta",LEFT($S29,3)="sta",LEFT($W29,3)="sta",LEFT($AA29,3)="sta",LEFT($AE29,3)="sta",LEFT($AI29,3)="sta",LEFT($AM29,3)="sta",LEFT($AQ29,3)="sta"),"oui","") | K29: =IF(OR(LEFT($O29,3)="Lib",LEFT($S29,3)="Lib",LEFT($W29,3)="Lib",LEFT($AA29,3)="Lib",LEFT($AE29,3)="Lib",LEFT($AI29,3)="Lib",LEFT($AM29,3)="Lib",LEFT($AQ29,3)="Lib"),"oui","") | P29: STAGE
A30: =1+A29 -> 21 | B30: =1+B29 -> 4 | C30: a | D30: =7+D29 -> 42023 | E30: M1 | I30: =IF(AND(J30="oui",K30="oui"),"Sta+Lib",IF(J30="oui","Stade",IF(K30="oui","Lib",""))) | J30: =IF(OR(LEFT($O30,3)="sta",LEFT($S30,3)="sta",LEFT($W30,3)="sta",LEFT($AA30,3)="sta",LEFT($AE30,3)="sta",LEFT($AI30,3)="sta",LEFT($AM30,3)="sta",LEFT($AQ30,3)="sta"),"oui","") | K30: =IF(OR(LEFT($O30,3)="Lib",LEFT($S30,3)="Lib",LEFT($W30,3)="Lib",LEFT($AA30,3)="Lib",LEFT($AE30,3)="Lib",LEFT($AI30,3)="Lib",LEFT($AM30,3)="Lib",LEFT($AQ30,3)="Lib"),"oui","") | P30: STAGE
A31: =1+A30 -> 22 | B31: =1+B30 -> 5 | C31: b | D31: =7+D30 -> 42030 | E31: M1 | I31: =IF(AND(J31="oui",K31="oui"),"Sta+Lib",IF(J31="oui","Stade",IF(K31="oui","Lib",""))) | J31: =IF(OR(LEFT($O31,3)="sta",LEFT($S31,3)="sta",LEFT($W31,3)="sta",LEFT($AA31,3)="sta",LEFT($AE31,3)="sta",LEFT($AI31,3)="sta",LEFT($AM31,3)="sta",LEFT($AQ31,3)="sta"),"oui","") | K31: =IF(OR(LEFT($O31,3)="Lib",LEFT($S31,3)="Lib",LEFT($W31,3)="Lib",LEFT($AA31,3)="Lib",LEFT($AE31,3)="Lib",LEFT($AI31,3)="Lib",LEFT($AM31,3)="Lib",LEFT($AQ31,3)="Lib"),"oui","") | P31: STAGE
A32: =1+A31 -> 23 | B32: =1+B31 -> 6 | C32: a | D32: =7+D31 -> 42037 | E32: M1 | I32: =IF(AND(J32="oui",K32="oui"),"Sta+Lib",IF(J32="oui","Stade",IF(K32="oui","Lib",""))) | J32: =IF(OR(LEFT($O32,3)="sta",LEFT($S32,3)="sta",LEFT($W32,3)="sta",LEFT($AA32,3)="sta",LEFT($AE32,3)="sta",LEFT($AI32,3)="sta",LEFT($AM32,3)="sta",LEFT($AQ32,3)="sta"),"oui","") | K32: =IF(OR(LEFT($O32,3)="Lib",LEFT($S32,3)="Lib",LEFT($W32,3)="Lib",LEFT($AA32,3)="Lib",LEFT($AE32,3)="Lib",LEFT($AI32,3)="Lib",LEFT($AM32,3)="Lib",LEFT($AQ32,3)="Lib"),"oui","")
A33: =1+A32 -> 24 | B33: =1+B32 -> 7 | C33: b | D33: =7+D32 -> 42044 | E33: M1 | I33: =IF(AND(J33="oui",K33="oui"),"Sta+Lib",IF(J33="oui","Stade",IF(K33="oui","Lib",""))) | J33: =IF(OR(LEFT($O33,3)="sta",LEFT($S33,3)="sta",LEFT($W33,3)="sta",LEFT($AA33,3)="sta",LEFT($AE33,3)="sta",LEFT($AI33,3)="sta",LEFT($AM33,3)="sta",LEFT($AQ33,3)="sta"),"oui","") | K33: =IF(OR(LEFT($O33,3)="Lib",LEFT($S33,3)="Lib",LEFT($W33,3)="Lib",LEFT($AA33,3)="Lib",LEFT($AE33,3)="Lib",LEFT($AI33,3)="Lib",LEFT($AM33,3)="Lib",LEFT($AQ33,3)="Lib"),"oui","")
A34: =1+A33 -> 25 | B34: =1+B33 -> 8 | C34: a | D34: =7+D33 -> 42051 | E34: M1 | I34: =IF(AND(J34="oui",K34="oui"),"Sta+Lib",IF(J34="oui","Stade",IF(K34="oui","Lib",""))) | J34: =IF(OR(LEFT($O34,3)="sta",LEFT($S34,3)="sta",LEFT($W34,3)="sta",LEFT($AA34,3)="sta",LEFT($AE34,3)="sta",LEFT($AI34,3)="sta",LEFT($AM34,3)="sta",LEFT($AQ34,3)="sta"),"oui","") | K34: =IF(OR(LEFT($O34,3)="Lib",LEFT($S34,3)="Lib",LEFT($W34,3)="Lib",LEFT($AA34,3)="Lib",LEFT($AE34,3)="Lib",LEFT($AI34,3)="Lib",LEFT($AM34,3)="Lib",LEFT($AQ34,3)="Lib"),"oui","")
A35: =1+A34 -> 26 | B35: =1+B34 -> 9 | C35: b | D35: =7+D34 -> 42058 | E35: M1 | I35: =IF(AND(J35="oui",K35="oui"),"Sta+Lib",IF(J35="oui","Stade",IF(K35="oui","Lib",""))) | J35: =IF(OR(LEFT($O35,3)="sta",LEFT($S35,3)="sta",LEFT($W35,3)="sta",LEFT($AA35,3)="sta",LEFT($AE35,3)="sta",LEFT($AI35,3)="sta",LEFT($AM35,3)="sta",LEFT($AQ35,3)="sta"),"oui","") | K35: =IF(OR(LEFT($O35,3)="Lib",LEFT($S35,3)="Lib",LEFT($W35,3)="Lib",LEFT($AA35,3)="Lib",LEFT($AE35,3)="Lib",LEFT($AI35,3)="Lib",LEFT($AM35,3)="Lib",LEFT($AQ35,3)="Lib"),"oui","") | L35: VACANCES SCOLAIRES | P35: VACANCES SCOLAIRES
A36: =1+A35 -> 27 | B36: =1+B35 -> 10 | C36: a | D36: =7+D35 -> 42065 | E36: M1 | I36: =IF(AND(J36="oui",K36="oui"),"Sta+Lib",IF(J36="oui","Stade",IF(K36="oui","Lib",""))) | J36: =IF(OR(LEFT($O36,3)="sta",LEFT($S36,3)="sta",LEFT($W36,3)="sta",LEFT($AA36,3)="sta",LEFT($AE36,3)="sta",LEFT($AI36,3)="sta",LEFT($AM36,3)="sta",LEFT($AQ36,3)="sta"),"oui","") | K36: =IF(OR(LEFT($O36,3)="Lib",LEFT($S36,3)="Lib",LEFT($W36,3)="Lib",LEFT($AA36,3)="Lib",LEFT($AE36,3)="Lib",LEFT($AI36,3)="Lib",LEFT($AM36,3)="Lib",LEFT($AQ36,3)="Lib"),"oui","")
A37: =1+A36 -> 28 | B37: =1+B36 -> 11 | C37: b | D37: =7+D36 -> 42072 | E37: M1 | I37: =IF(AND(J37="oui",K37="oui"),"Sta+Lib",IF(J37="oui","Stade",IF(K37="oui","Lib",""))) | J37: =IF(OR(LEFT($O37,3)="sta",LEFT($S37,3)="sta",LEFT($W37,3)="sta",LEFT($AA37,3)="sta",LEFT($AE37,3)="sta",LEFT($AI37,3)="sta",LEFT($AM37,3)="sta",LEFT($AQ37,3)="sta"),"oui","") | K37: =IF(OR(LEFT($O37,3)="Lib",LEFT($S37,3)="Lib",LEFT($W37,3)="Lib",LEFT($AA37,3)="Lib",LEFT($AE37,3)="Lib",LEFT($AI37,3)="Lib",LEFT($AM37,3)="Lib",LEFT($AQ37,3)="Lib"),"oui","")
A38: =1+A37 -> 29 | B38: =1+B37 -> 12 | C38: a | D38: =7+D37 -> 42079 | E38: M1 | I38: =IF(AND(J38="oui",K38="oui"),"Sta+Lib",IF(J38="oui","Stade",IF(K38="oui","Lib",""))) | J38: =IF(OR(LEFT($O38,3)="sta",LEFT($S38,3)="sta",LEFT($W38,3)="sta",LEFT($AA38,3)="sta",LEFT($AE38,3)="sta",LEFT($AI38,3)="sta",LEFT($AM38,3)="sta",LEFT($AQ38,3)="sta"),"oui","") | K38: =IF(OR(LEFT($O38,3)="Lib",LEFT($S38,3)="Lib",LEFT($W38,3)="Lib",LEFT($AA38,3)="Lib",LEFT($AE38,3)="Lib",LEFT($AI38,3)="Lib",LEFT($AM38,3)="Lib",LEFT($AQ38,3)="Lib"),"oui","") | P38: STAGE
A39: =1+A38 -> 30 | B39: =1+B38 -> 13 | C39: b | D39: =7+D38 -> 42086 | E39: M1 | I39: =IF(AND(J39="oui",K39="oui"),"Sta+Lib",IF(J39="oui","Stade",IF(K39="oui","Lib",""))) | J39: =IF(OR(LEFT($O39,3)="sta",LEFT($S39,3)="sta",LEFT($W39,3)="sta",LEFT($AA39,3)="sta",LEFT($AE39,3)="sta",LEFT($AI39,3)="sta",LEFT($AM39,3)="sta",LEFT($AQ39,3)="sta"),"oui","") | K39: =IF(OR(LEFT($O39,3)="Lib",LEFT($S39,3)="Lib",LEFT($W39,3)="Lib",LEFT($AA39,3)="Lib",LEFT($AE39,3)="Lib",LEFT($AI39,3)="Lib",LEFT($AM39,3)="Lib",LEFT($AQ39,3)="Lib"),"oui","") | P39: STAGE
A40: =1+A39 -> 31 | B40: =1+B39 -> 14 | C40: a | D40: =7+D39 -> 42093 | E40: M1 | I40: =IF(AND(J40="oui",K40="oui"),"Sta+Lib",IF(J40="oui","Stade",IF(K40="oui","Lib",""))) | J40: =IF(OR(LEFT($O40,3)="sta",LEFT($S40,3)="sta",LEFT($W40,3)="sta",LEFT($AA40,3)="sta",LEFT($AE40,3)="sta",LEFT($AI40,3)="sta",LEFT($AM40,3)="sta",LEFT($AQ40,3)="sta"),"oui","") | K40: =IF(OR(LEFT($O40,3)="Lib",LEFT($S40,3)="Lib",LEFT($W40,3)="Lib",LEFT($AA40,3)="Lib",LEFT($AE40,3)="Lib",LEFT($AI40,3)="Lib",LEFT($AM40,3)="Lib",LEFT($AQ40,3)="Lib"),"oui","") | P40: STAGE
A41: =1+A40 -> 32 | B41: =1+B40 -> 15 | C41: b | D41: =7+D40 -> 42100 | E41: M1 | I41: =IF(AND(J41="oui",K41="oui"),"Sta+Lib",IF(J41="oui","Stade",IF(K41="oui","Lib",""))) | J41: =IF(OR(LEFT($O41,3)="sta",LEFT($S41,3)="sta",LEFT($W41,3)="sta",LEFT($AA41,3)="sta",LEFT($AE41,3)="sta",LEFT($AI41,3)="sta",LEFT($AM41,3)="sta",LEFT($AQ41,3)="sta"),"oui","") | K41: =IF(OR(LEFT($O41,3)="Lib",LEFT($S41,3)="Lib",LEFT($W41,3)="Lib",LEFT($AA41,3)="Lib",LEFT($AE41,3)="Lib",LEFT($AI41,3)="Lib",LEFT($AM41,3)="Lib",LEFT($AQ41,3)="Lib"),"oui","") | L41: FERIE | P41: FERIE
A42: =1+A41 -> 33 | B42: =1+B41 -> 16 | C42: a | D42: =7+D41 -> 42107 | E42: M1 | I42: =IF(AND(J42="oui",K42="oui"),"Sta+Lib",IF(J42="oui","Stade",IF(K42="oui","Lib",""))) | J42: =IF(OR(LEFT($O42,3)="sta",LEFT($S42,3)="sta",LEFT($W42,3)="sta",LEFT($AA42,3)="sta",LEFT($AE42,3)="sta",LEFT($AI42,3)="sta",LEFT($AM42,3)="sta",LEFT($AQ42,3)="sta"),"oui","") | K42: =IF(OR(LEFT($O42,3)="Lib",LEFT($S42,3)="Lib",LEFT($W42,3)="Lib",LEFT($AA42,3)="Lib",LEFT($AE42,3)="Lib",LEFT($AI42,3)="Lib",LEFT($AM42,3)="Lib",LEFT($AQ42,3)="Lib"),"oui","")
A43: =1+A42 -> 34 | B43: =1+B42 -> 17 | C43: b | D43: =7+D42 -> 42114 | E43: M1 | I43: =IF(AND(J43="oui",K43="oui"),"Sta+Lib",IF(J43="oui","Stade",IF(K43="oui","Lib",""))) | J43: =IF(OR(LEFT($O43,3)="sta",LEFT($S43,3)="sta",LEFT($W43,3)="sta",LEFT($AA43,3)="sta",LEFT($AE43,3)="sta",LEFT($AI43,3)="sta",LEFT($AM43,3)="sta",LEFT($AQ43,3)="sta"),"oui","") | K43: =IF(OR(LEFT($O43,3)="Lib",LEFT($S43,3)="Lib",LEFT($W43,3)="Lib",LEFT($AA43,3)="Lib",LEFT($AE43,3)="Lib",LEFT($AI43,3)="Lib",LEFT($AM43,3)="Lib",LEFT($AQ43,3)="Lib"),"oui","")
A44: =1+A43 -> 35 | B44: =1+B43 -> 18 | C44: a | D44: =7+D43 -> 42121 | E44: M1 | I44: =IF(AND(J44="oui",K44="oui"),"Sta+Lib",IF(J44="oui","Stade",IF(K44="oui","Lib",""))) | J44: =IF(OR(LEFT($O44,3)="sta",LEFT($S44,3)="sta",LEFT($W44,3)="sta",LEFT($AA44,3)="sta",LEFT($AE44,3)="sta",LEFT($AI44,3)="sta",LEFT($AM44,3)="sta",LEFT($AQ44,3)="sta"),"oui","") | K44: =IF(OR(LEFT($O44,3)="Lib",LEFT($S44,3)="Lib",LEFT($W44,3)="Lib",LEFT($AA44,3)="Lib",LEFT($AE44,3)="Lib",LEFT($AI44,3)="Lib",LEFT($AM44,3)="Lib",LEFT($AQ44,3)="Lib"),"oui","") | L44: VACANCES SCOLAIRES | P44: VACANCES SCOLAIRES
A45: =1+A44 -> 36 | B45: =1+B44 -> 19 | C45: b | D45: =7+D44 -> 42128 | E45: M1 | I45: =IF(AND(J45="oui",K45="oui"),"Sta+Lib",IF(J45="oui","Stade",IF(K45="oui","Lib",""))) | J45: =IF(OR(LEFT($O45,3)="sta",LEFT($S45,3)="sta",LEFT($W45,3)="sta",LEFT($AA45,3)="sta",LEFT($AE45,3)="sta",LEFT($AI45,3)="sta",LEFT($AM45,3)="sta",LEFT($AQ45,3)="sta"),"oui","") | K45: =IF(OR(LEFT($O45,3)="Lib",LEFT($S45,3)="Lib",LEFT($W45,3)="Lib",LEFT($AA45,3)="Lib",LEFT($AE45,3)="Lib",LEFT($AI45,3)="Lib",LEFT($AM45,3)="Lib",LEFT($AQ45,3)="Lib"),"oui","")
A46: =1+A45 -> 37 | B46: =1+B45 -> 20 | C46: a | D46: =7+D45 -> 42135 | E46: M1 | I46: =IF(AND(J46="oui",K46="oui"),"Sta+Lib",IF(J46="oui","Stade",IF(K46="oui","Lib",""))) | J46: =IF(OR(LEFT($O46,3)="sta",LEFT($S46,3)="sta",LEFT($W46,3)="sta",LEFT($AA46,3)="sta",LEFT($AE46,3)="sta",LEFT($AI46,3)="sta",LEFT($AM46,3)="sta",LEFT($AQ46,3)="sta"),"oui","") | K46: =IF(OR(LEFT($O46,3)="Lib",LEFT($S46,3)="Lib",LEFT($W46,3)="Lib",LEFT($AA46,3)="Lib",LEFT($AE46,3)="Lib",LEFT($AI46,3)="Lib",LEFT($AM46,3)="Lib",LEFT($AQ46,3)="Lib"),"oui","")
A47: =1+A46 -> 38 | B47: =1+B46 -> 21 | C47: b | D47: =7+D46 -> 42142 | E47: M1 | I47: =IF(AND(J47="oui",K47="oui"),"Sta+Lib",IF(J47="oui","Stade",IF(K47="oui","Lib",""))) | J47: =IF(OR(LEFT($O47,3)="sta",LEFT($S47,3)="sta",LEFT($W47,3)="sta",LEFT($AA47,3)="sta",LEFT($AE47,3)="sta",LEFT($AI47,3)="sta",LEFT($AM47,3)="sta",LEFT($AQ47,3)="sta"),"oui","") | K47: =IF(OR(LEFT($O47,3)="Lib",LEFT($S47,3)="Lib",LEFT($W47,3)="Lib",LEFT($AA47,3)="Lib",LEFT($AE47,3)="Lib",LEFT($AI47,3)="Lib",LEFT($AM47,3)="Lib",LEFT($AQ47,3)="Lib"),"oui","")
A48: =1+A47 -> 39 | B48: =1+B47 -> 22 | C48: a | D48: =7+D47 -> 42149 | E48: M1 | I48: =IF(AND(J48="oui",K48="oui"),"Sta+Lib",IF(J48="oui","Stade",IF(K48="oui","Lib",""))) | J48: =IF(OR(LEFT($O48,3)="sta",LEFT($S48,3)="sta",LEFT($W48,3)="sta",LEFT($AA48,3)="sta",LEFT($AE48,3)="sta",LEFT($AI48,3)="sta",LEFT($AM48,3)="sta",LEFT($AQ48,3)="sta"),"oui","") | K48: =IF(OR(LEFT($O48,3)="Lib",LEFT($S48,3)="Lib",LEFT($W48,3)="Lib",LEFT($AA48,3)="Lib",LEFT($AE48,3)="Lib",LEFT($AI48,3)="Lib",LEFT($AM48,3)="Lib",LEFT($AQ48,3)="Lib"),"oui","") | L48: FERIE | P48: FERIE
A49: =1+A48 -> 40 | B49: =1+B48 -> 23 | C49: b | D49: =7+D48 -> 42156 | E49: M1 | I49: =IF(AND(J49="oui",K49="oui"),"Sta+Lib",IF(J49="oui","Stade",IF(K49="oui","Lib",""))) | J49: =IF(OR(LEFT($O49,3)="sta",LEFT($S49,3)="sta",LEFT($W49,3)="sta",LEFT($AA49,3)="sta",LEFT($AE49,3)="sta",LEFT($AI49,3)="sta",LEFT($AM49,3)="sta",LEFT($AQ49,3)="sta"),"oui","") | K49: =IF(OR(LEFT($O49,3)="Lib",LEFT($S49,3)="Lib",LEFT($W49,3)="Lib",LEFT($AA49,3)="Lib",LEFT($AE49,3)="Lib",LEFT($AI49,3)="Lib",LEFT($AM49,3)="Lib",LEFT($AQ49,3)="Lib"),"oui","") | L49: STAGE
A50: =1+A49 -> 41 | B50: =1+B49 -> 24 | C50: a | D50: =7+D49 -> 42163 | E50: M1 | I50: =IF(AND(J50="oui",K50="oui"),"Sta+Lib",IF(J50="oui","Stade",IF(K50="oui","Lib",""))) | J50: =IF(OR(LEFT($O50,3)="sta",LEFT($S50,3)="sta",LEFT($W50,3)="sta",LEFT($AA50,3)="sta",LEFT($AE50,3)="sta",LEFT($AI50,3)="sta",LEFT($AM50,3)="sta",LEFT($AQ50,3)="sta"),"oui","") | K50: =IF(OR(LEFT($O50,3)="Lib",LEFT($S50,3)="Lib",LEFT($W50,3)="Lib",LEFT($AA50,3)="Lib",LEFT($AE50,3)="Lib",LEFT($AI50,3)="Lib",LEFT($AM50,3)="Lib",LEFT($AQ50,3)="Lib"),"oui","") | L50: STAGE
A51: =1+A50 -> 42 | B51: =1+B50 -> 25 | C51: b | D51: =7+D50 -> 42170 | E51: M1 | I51: =IF(AND(J51="oui",K51="oui"),"Sta+Lib",IF(J51="oui","Stade",IF(K51="oui","Lib",""))) | J51: =IF(OR(LEFT($O51,3)="sta",LEFT($S51,3)="sta",LEFT($W51,3)="sta",LEFT($AA51,3)="sta",LEFT($AE51,3)="sta",LEFT($AI51,3)="sta",LEFT($AM51,3)="sta",LEFT($AQ51,3)="sta"),"oui","") | K51: =IF(OR(LEFT($O51,3)="Lib",LEFT($S51,3)="Lib",LEFT($W51,3)="Lib",LEFT($AA51,3)="Lib",LEFT($AE51,3)="Lib",LEFT($AI51,3)="Lib",LEFT($AM51,3)="Lib",LEFT($AQ51,3)="Lib"),"oui","") | L51: STAGE
A52: =1+A51 -> 43 | B52: =1+B51 -> 26 | C52: a | D52: =7+D51 -> 42177 | E52: M1 | I52: =IF(AND(J52="oui",K52="oui"),"Sta+Lib",IF(J52="oui","Stade",IF(K52="oui","Lib",""))) | J52: =IF(OR(LEFT($O52,3)="sta",LEFT($S52,3)="sta",LEFT($W52,3)="sta",LEFT($AA52,3)="sta",LEFT($AE52,3)="sta",LEFT($AI52,3)="sta",LEFT($AM52,3)="sta",LEFT($AQ52,3)="sta"),"oui","") | K52: =IF(OR(LEFT($O52,3)="Lib",LEFT($S52,3)="Lib",LEFT($W52,3)="Lib",LEFT($AA52,3)="Lib",LEFT($AE52,3)="Lib",LEFT($AI52,3)="Lib",LEFT($AM52,3)="Lib",LEFT($AQ52,3)="Lib"),"oui","") | L52: STAGE
A53: =1+A52 -> 44 | B53: =1+B52 -> 27 | C53: b | D53: =7+D52 -> 42184 | E53: M1 | I53: =IF(AND(J53="oui",K53="oui"),"Sta+Lib",IF(J53="oui","Stade",IF(K53="oui","Lib",""))) | J53: =IF(OR(LEFT($O53,3)="sta",LEFT($S53,3)="sta",LEFT($W53,3)="sta",LEFT($AA53,3)="sta",LEFT($AE53,3)="sta",LEFT($AI53,3)="sta",LEFT($AM53,3)="sta",LEFT($AQ53,3)="sta"),"oui","") | K53: =IF(OR(LEFT($O53,3)="Lib",LEFT($S53,3)="Lib",LEFT($W53,3)="Lib",LEFT($AA53,3)="Lib",LEFT($AE53,3)="Lib",LEFT($AI53,3)="Lib",LEFT($AM53,3)="Lib",LEFT($AQ53,3)="Lib"),"oui","")
B55: LUNDI 10h45-12h30
F56: Indisponible | I56: Profs | L56: Christelle | P56: Didier | T56: Nicolas
B57: N° Sem | C57: Sem | D57: DATES | E57: Creneau | F57: Bouchard | G57: JC | H57: Coubertin | I57: Classes | L57: 1COM2 | P57: TASSP | T57: TGA
I58: Semaines | L58: A-B | P58: A | T58: A
I59: Nb elèves | L59: 29 | P59: 35 | T59: 30
I60: Niv Cp | L60: 3-4 | P60: 4 | T60: 4
I61: 2E COURS
I62: CP
I63: Navette | J63: Stade | K63: Lib | L63: N° | M63: Niv | N63: APSA | O63: SALLE | P63: N° | Q63: Niv | R63: APSA | S63: SALLE | T63: N° | U63: Niv | V63: APSA | W63: SALLE
A64: 1 | B64: 36 | C64: a | D64: 41883 | E64: M3 | I64: =IF(AND(J64="oui",K64="oui"),"Sta+Lib",IF(J64="oui","Stade",IF(K64="oui","Lib",""))) | J64: =IF(OR(LEFT($O64,3)="sta",LEFT($S64,3)="sta",LEFT($W64,3)="sta",LEFT($AA64,3)="sta",LEFT($AE64,3)="sta",LEFT($AI64,3)="sta",LEFT($AM64,3)="sta",LEFT($AQ64,3)="sta"),"oui","") | K64: =IF(OR(LEFT($O64,3)="Lib",LEFT($S64,3)="Lib",LEFT($W64,3)="Lib",LEFT($AA64,3)="Lib",LEFT($AE64,3)="Lib",LEFT($AI64,3)="Lib",LEFT($AM64,3)="Lib",LEFT($AQ64,3)="Lib"),"oui","") | L64: Journée de rentrée | P64: Journée de rentrée | T64: Journée de rentrée
A65: =1+A64 -> 2 | B65: =1+B64 -> 37 | C65: b | D65: =7+D64 -> 41890 | E65: M3 | I65: =IF(AND(J65="oui",K65="oui"),"Sta+Lib",IF(J65="oui","Stade",IF(K65="oui","Lib",""))) | J65: =IF(OR(LEFT($O65,3)="sta",LEFT($S65,3)="sta",LEFT($W65,3)="sta",LEFT($AA65,3)="sta",LEFT($AE65,3)="sta",LEFT($AI65,3)="sta",LEFT($AM65,3)="sta",LEFT($AQ65,3)="sta"),"oui","") | K65: =IF(OR(LEFT($O65,3)="Lib",LEFT($S65,3)="Lib",LEFT($W65,3)="Lib",LEFT($AA65,3)="Lib",LEFT($AE65,3)="Lib",LEFT($AI65,3)="Lib",LEFT($AM65,3)="Lib",LEFT($AQ65,3)="Lib"),"oui","") | L65: 1 | P65: x | Q65: x | R65: x | S65: x
A66: =1+A65 -> 3 | B66: =1+B65 -> 38 | C66: a | D66: =7+D65 -> 41897 | E66: M3 | I66: =IF(AND(J66="oui",K66="oui"),"Sta+Lib",IF(J66="oui","Stade",IF(K66="oui","Lib",""))) | J66: =IF(OR(LEFT($O66,3)="sta",LEFT($S66,3)="sta",LEFT($W66,3)="sta",LEFT($AA66,3)="sta",LEFT($AE66,3)="sta",LEFT($AI66,3)="sta",LEFT($AM66,3)="sta",LEFT($AQ66,3)="sta"),"oui","") | K66: =IF(OR(LEFT($O66,3)="Lib",LEFT($S66,3)="Lib",LEFT($W66,3)="Lib",LEFT($AA66,3)="Lib",LEFT($AE66,3)="Lib",LEFT($AI66,3)="Lib",LEFT($AM66,3)="Lib",LEFT($AQ66,3)="Lib"),"oui","") | L66: Journée Péda | P66: Journée Péda | T66: Journée Péda
A67: =1+A66 -> 4 | B67: =1+B66 -> 39 | C67: b | D67: =7+D66 -> 41904 | E67: M3 | I67: =IF(AND(J67="oui",K67="oui"),"Sta+Lib",IF(J67="oui","Stade",IF(K67="oui","Lib",""))) | J67: =IF(OR(LEFT($O67,3)="sta",LEFT($S67,3)="sta",LEFT($W67,3)="sta",LEFT($AA67,3)="sta",LEFT($AE67,3)="sta",LEFT($AI67,3)="sta",LEFT($AM67,3)="sta",LEFT($AQ67,3)="sta"),"oui","") | K67: =IF(OR(LEFT($O67,3)="Lib",LEFT($S67,3)="Lib",LEFT($W67,3)="Lib",LEFT($AA67,3)="Lib",LEFT($AE67,3)="Lib",LEFT($AI67,3)="Lib",LEFT($AM67,3)="Lib",LEFT($AQ67,3)="Lib"),"oui","") | L67: 3 | P67: x | Q67: x | R67: x | S67: x
A68: =1+A67 -> 5 | B68: =1+B67 -> 40 | C68: a | D68: =7+D67 -> 41911 | E68: M3 | I68: =IF(AND(J68="oui",K68="oui"),"Sta+Lib",IF(J68="oui","Stade",IF(K68="oui","Lib",""))) | J68: =IF(OR(LEFT($O68,3)="sta",LEFT($S68,3)="sta",LEFT($W68,3)="sta",LEFT($AA68,3)="sta",LEFT($AE68,3)="sta",LEFT($AI68,3)="sta",LEFT($AM68,3)="sta",LEFT($AQ68,3)="sta"),"oui","") | K68: =IF(OR(LEFT($O68,3)="Lib",LEFT($S68,3)="Lib",LEFT($W68,3)="Lib",LEFT($AA68,3)="Lib",LEFT($AE68,3)="Lib",LEFT($AI68,3)="Lib",LEFT($AM68,3)="Lib",LEFT($AQ68,3)="Lib"),"oui","") | L68: 4 | P68: STAGE
A69: =1+A68 -> 6 | B69: =1+B68 -> 41 | C69: b | D69: =7+D68 -> 41918 | E69: M3 | I69: =IF(AND(J69="oui",K69="oui"),"Sta+Lib",IF(J69="oui","Stade",IF(K69="oui","Lib",""))) | J69: =IF(OR(LEFT($O69,3)="sta",LEFT($S69,3)="sta",LEFT($W69,3)="sta",LEFT($AA69,3)="sta",LEFT($AE69,3)="sta",LEFT($AI69,3)="sta",LEFT($AM69,3)="sta",LEFT($AQ69,3)="sta"),"oui","") | K69: =IF(OR(LEFT($O69,3)="Lib",LEFT($S69,3)="Lib",LEFT($W69,3)="Lib",LEFT($AA69,3)="Lib",LEFT($AE69,3)="Lib",LEFT($AI69,3)="Lib",LEFT($AM69,3)="Lib",LEFT($AQ69,3)="Lib"),"oui","") | L69: 5 | P69: x | Q69: x | R69: x | S69: x
A70: =1+A69 -> 7 | B70: =1+B69 -> 42 | C70: a | D70: =7+D69 -> 41925 | E70: M3 | I70: =IF(AND(J70="oui",K70="oui"),"Sta+Lib",IF(J70="oui","Stade",IF(K70="oui","Lib",""))) | J70: =IF(OR(LEFT($O70,3)="sta",LEFT($S70,3)="sta",LEFT($W70,3)="sta",LEFT($AA70,3)="sta",LEFT($AE70,3)="sta",LEFT($AI70,3)="sta",LEFT($AM70,3)="sta",LEFT($AQ70,3)="sta"),"oui","") | K70: =IF(OR(LEFT($O70,3)="Lib",LEFT($S70,3)="Lib",LEFT($W70,3)="Lib",LEFT($AA70,3)="Lib",LEFT($AE70,3)="Lib",LEFT($AI70,3)="Lib",LEFT($AM70,3)="Lib",LEFT($AQ70,3)="Lib"),"oui","") | L70: 6 | P70: STAGE
A71: =1+A70 -> 8 | B71: =1+B70 -> 43 | C71: b | D71: =7+D70 -> 41932 | E71: M3 | I71: =IF(AND(J71="oui",K71="oui"),"Sta+Lib",IF(J71="oui","Stade",IF(K71="oui","Lib",""))) | J71: =IF(OR(LEFT($O71,3)="sta",LEFT($S71,3)="sta",LEFT($W71,3)="sta",LEFT($AA71,3)="sta",LEFT($AE71,3)="sta",LEFT($AI71,3)="sta",LEFT($AM71,3)="sta",LEFT($AQ71,3)="sta"),"oui","") | K71: =IF(OR(LEFT($O71,3)="Lib",LEFT($S71,3)="Lib",LEFT($W71,3)="Lib",LEFT($AA71,3)="Lib",LEFT($AE71,3)="Lib",LEFT($AI71,3)="Lib",LEFT($AM71,3)="Lib",LEFT($AQ71,3)="Lib"),"oui","") | L71: VACANCES SCOLAIRES | P71: VACANCES SCOLAIRES | T71: VACANCES SCOLAIRES
A72: =1+A71 -> 9 | B72: =1+B71 -> 44 | C72: a | D72: =7+D71 -> 41939 | E72: M3 | I72: =IF(AND(J72="oui",K72="oui"),"Sta+Lib",IF(J72="oui","Stade",IF(K72="oui","Lib",""))) | J72: =IF(OR(LEFT($O72,3)="sta",LEFT($S72,3)="sta",LEFT($W72,3)="sta",LEFT($AA72,3)="sta",LEFT($AE72,3)="sta",LEFT($AI72,3)="sta",LEFT($AM72,3)="sta",LEFT($AQ72,3)="sta"),"oui","") | K72: =IF(OR(LEFT($O72,3)="Lib",LEFT($S72,3)="Lib",LEFT($W72,3)="Lib",LEFT($AA72,3)="Lib",LEFT($AE72,3)="Lib",LEFT($AI72,3)="Lib",LEFT($AM72,3)="Lib",LEFT($AQ72,3)="Lib"),"oui","")
A73: =1+A72 -> 10 | B73: =1+B72 -> 45 | C73: b | D73: =7+D72 -> 41946 | E73: M3 | I73: =IF(AND(J73="oui",K73="oui"),"Sta+Lib",IF(J73="oui","Stade",IF(K73="oui","Lib",""))) | J73: =IF(OR(LEFT($O73,3)="sta",LEFT($S73,3)="sta",LEFT($W73,3)="sta",LEFT($AA73,3)="sta",LEFT($AE73,3)="sta",LEFT($AI73,3)="sta",LEFT($AM73,3)="sta",LEFT($AQ73,3)="sta"),"oui","") | K73: =IF(OR(LEFT($O73,3)="Lib",LEFT($S73,3)="Lib",LEFT($W73,3)="Lib",LEFT($AA73,3)="Lib",LEFT($AE73,3)="Lib",LEFT($AI73,3)="Lib",LEFT($AM73,3)="Lib",LEFT($AQ73,3)="Lib"),"oui","") | P73: x | Q73: x | R73: x | S73: x
A74: =1+A73 -> 11 | B74: =1+B73 -> 46 | C74: a | D74: =7+D73 -> 41953 | E74: M3 | I74: =IF(AND(J74="oui",K74="oui"),"Sta+Lib",IF(J74="oui","Stade",IF(K74="oui","Lib",""))) | J74: =IF(OR(LEFT($O74,3)="sta",LEFT($S74,3)="sta",LEFT($W74,3)="sta",LEFT($AA74,3)="sta",LEFT($AE74,3)="sta",LEFT($AI74,3)="sta",LEFT($AM74,3)="sta",LEFT($AQ74,3)="sta"),"oui","") | K74: =IF(OR(LEFT($O74,3)="Lib",LEFT($S74,3)="Lib",LEFT($W74,3)="Lib",LEFT($AA74,3)="Lib",LEFT($AE74,3)="Lib",LEFT($AI74,3)="Lib",LEFT($AM74,3)="Lib",LEFT($AQ74,3)="Lib"),"oui","")
A75: =1+A74 -> 12 | B75: =1+B74 -> 47 | C75: b | D75: =7+D74 -> 41960 | E75: M3 | I75: =IF(AND(J75="oui",K75="oui"),"Sta+Lib",IF(J75="oui","Stade",IF(K75="oui","Lib",""))) | J75: =IF(OR(LEFT($O75,3)="sta",LEFT($S75,3)="sta",LEFT($W75,3)="sta",LEFT($AA75,3)="sta",LEFT($AE75,3)="sta",LEFT($AI75,3)="sta",LEFT($AM75,3)="sta",LEFT($AQ75,3)="sta"),"oui","") | K75: =IF(OR(LEFT($O75,3)="Lib",LEFT($S75,3)="Lib",LEFT($W75,3)="Lib",LEFT($AA75,3)="Lib",LEFT($AE75,3)="Lib",LEFT($AI75,3)="Lib",LEFT($AM75,3)="Lib",LEFT($AQ75,3)="Lib"),"oui","") | P75: x | Q75: x | R75: x | S75: x
A76: =1+A75 -> 13 | B76: =1+B75 -> 48 | C76: a | D76: =7+D75 -> 41967 | E76: M3 | I76: =IF(AND(J76="oui",K76="oui"),"Sta+Lib",IF(J76="oui","Stade",IF(K76="oui","Lib",""))) | J76: =IF(OR(LEFT($O76,3)="sta",LEFT($S76,3)="sta",LEFT($W76,3)="sta",LEFT($AA76,3)="sta",LEFT($AE76,3)="sta",LEFT($AI76,3)="sta",LEFT($AM76,3)="sta",LEFT($AQ76,3)="sta"),"oui","") | K76: =IF(OR(LEFT($O76,3)="Lib",LEFT($S76,3)="Lib",LEFT($W76,3)="Lib",LEFT($AA76,3)="Lib",LEFT($AE76,3)="Lib",LEFT($AI76,3)="Lib",LEFT($AM76,3)="Lib",LEFT($AQ76,3)="Lib"),"oui","") | T76: STAGE
A77: =1+A76 -> 14 | B77: =1+B76 -> 49 | C77: b | D77: =7+D76 -> 41974 | E77: M3 | I77: =IF(AND(J77="oui",K77="oui"),"Sta+Lib",IF(J77="oui","Stade",IF(K77="oui","Lib",""))) | J77: =IF(OR(LEFT($O77,3)="sta",LEFT($S77,3)="sta",LEFT($W77,3)="sta",LEFT($AA77,3)="sta",LEFT($AE77,3)="sta",LEFT($AI77,3)="sta",LEFT($AM77,3)="sta",LEFT($AQ77,3)="sta"),"oui","") | K77: =IF(OR(LEFT($O77,3)="Lib",LEFT($S77,3)="Lib",LEFT($W77,3)="Lib",LEFT($AA77,3)="Lib",LEFT($AE77,3)="Lib",LEFT($AI77,3)="Lib",LEFT($AM77,3)="Lib",LEFT($AQ77,3)="Lib"),"oui","") | P77: x | Q77: x | R77: x | S77: x | T77: STAGE
A78: =1+A77 -> 15 | B78: =1+B77 -> 50 | C78: a | D78: =7+D77 -> 41981 | E78: M3 | I78: =IF(AND(J78="oui",K78="oui"),"Sta+Lib",IF(J78="oui","Stade",IF(K78="oui","Lib",""))) | J78: =IF(OR(LEFT($O78,3)="sta",LEFT($S78,3)="sta",LEFT($W78,3)="sta",LEFT($AA78,3)="sta",LEFT($AE78,3)="sta",LEFT($AI78,3)="sta",LEFT($AM78,3)="sta",LEFT($AQ78,3)="sta"),"oui","") | K78: =IF(OR(LEFT($O78,3)="Lib",LEFT($S78,3)="Lib",LEFT($W78,3)="Lib",LEFT($AA78,3)="Lib",LEFT($AE78,3)="Lib",LEFT($AI78,3)="Lib",LEFT($AM78,3)="Lib",LEFT($AQ78,3)="Lib"),"oui","") | T78: STAGE
A79: =1+A78 -> 16 | B79: =1+B78 -> 51 | C79: b | D79: =7+D78 -> 41988 | E79: M3 | I79: =IF(AND(J79="oui",K79="oui"),"Sta+Lib",IF(J79="oui","Stade",IF(K79="oui","Lib",""))) | J79: =IF(OR(LEFT($O79,3)="sta",LEFT($S79,3)="sta",LEFT($W79,3)="sta",LEFT($AA79,3)="sta",LEFT($AE79,3)="sta",LEFT($AI79,3)="sta",LEFT($AM79,3)="sta",LEFT($AQ79,3)="sta"),"oui","") | K79: =IF(OR(LEFT($O79,3)="Lib",LEFT($S79,3)="Lib",LEFT($W79,3)="Lib",LEFT($AA79,3)="Lib",LEFT($AE79,3)="Lib",LEFT($AI79,3)="Lib",LEFT($AM79,3)="Lib",LEFT($AQ79,3)="Lib"),"oui","") | P79: x | Q79: x | R79: x | S79: x | T79: STAGE
A80: =1+A79 -> 17 | B80: =1+B79 -> 52 | C80: a | D80: =7+D79 -> 41995 | E80: M3 | I80: =IF(AND(J80="oui",K80="oui"),"Sta+Lib",IF(J80="oui","Stade",IF(K80="oui","Lib",""))) | J80: =IF(OR(LEFT($O80,3)="sta",LEFT($S80,3)="sta",LEFT($W80,3)="sta",LEFT($AA80,3)="sta",LEFT($AE80,3)="sta",LEFT($AI80,3)="sta",LEFT($AM80,3)="sta",LEFT($AQ80,3)="sta"),"oui","") | K80: =IF(OR(LEFT($O80,3)="Lib",LEFT($S80,3)="Lib",LEFT($W80,3)="Lib",LEFT($AA80,3)="Lib",LEFT($AE80,3)="Lib",LEFT($AI80,3)="Lib",LEFT($AM80,3)="Lib",LEFT($AQ80,3)="Lib"),"oui","") | L80: VACANCES SCOLAIRES | P80: VACANCES SCOLAIRES | T80: VACANCES SCOLAIRES
A81: =1+A80 -> 18 | B81: 1 | C81: b | D81: =7+D80 -> 42002 | E81: M3 | I81: =IF(AND(J81="oui",K81="oui"),"Sta+Lib",IF(J81="oui","Stade",IF(K81="oui","Lib",""))) | J81: =IF(OR(LEFT($O81,3)="sta",LEFT($S81,3)="sta",LEFT($W81,3)="sta",LEFT($AA81,3)="sta",LEFT($AE81,3)="sta",LEFT($AI81,3)="sta",LEFT($AM81,3)="sta",LEFT($AQ81,3)="sta"),"oui","") | K81: =IF(OR(LEFT($O81,3)="Lib",LEFT($S81,3)="Lib",LEFT($W81,3)="Lib",LEFT($AA81,3)="Lib",LEFT($AE81,3)="Lib",LEFT($AI81,3)="Lib",LEFT($AM81,3)="Lib",LEFT($AQ81,3)="Lib"),"oui","")
A82: =1+A81 -> 19 | B82: =1+B81 -> 2 | C82: a | D82: =7+D81 -> 42009 | E82: M3 | I82: =IF(AND(J82="oui",K82="oui"),"Sta+Lib",IF(J82="oui","Stade",IF(K82="oui","Lib",""))) | J82: =IF(OR(LEFT($O82,3)="sta",LEFT($S82,3)="sta",LEFT($W82,3)="sta",LEFT($AA82,3)="sta",LEFT($AE82,3)="sta",LEFT($AI82,3)="sta",LEFT($AM82,3)="sta",LEFT($AQ82,3)="sta"),"oui","") | K82: =IF(OR(LEFT($O82,3)="Lib",LEFT($S82,3)="Lib",LEFT($W82,3)="Lib",LEFT($AA82,3)="Lib",LEFT($AE82,3)="Lib",LEFT($AI82,3)="Lib",LEFT($AM82,3)="Lib",LEFT($AQ82,3)="Lib"),"oui","") | L82: STAGE
A83: =1+A82 -> 20 | B83: =1+B82 -> 3 | C83: b | D83: =7+D82 -> 42016 | E83: M3 | I83: =IF(AND(J83="oui",K83="oui"),"Sta+Lib",IF(J83="oui","Stade",IF(K83="oui","Lib",""))) | J83: =IF(OR(LEFT($O83,3)="sta",LEFT($S83,3)="sta",LEFT($W83,3)="sta",LEFT($AA83,3)="sta",LEFT($AE83,3)="sta",LEFT($AI83,3)="sta",LEFT($AM83,3)="sta",LEFT($AQ83,3)="sta"),"oui","") | K83: =IF(OR(LEFT($O83,3)="Lib",LEFT($S83,3)="Lib",LEFT($W83,3)="Lib",LEFT($AA83,3)="Lib",LEFT($AE83,3)="Lib",LEFT($AI83,3)="Lib",LEFT($AM83,3)="Lib",LEFT($AQ83,3)="Lib"),"oui","") | L83: STAGE | P83: x | Q83: x | R83: x | S83: x
A84: =1+A83 -> 21 | B84: =1+B83 -> 4 | C84: a | D84: =7+D83 -> 42023 | E84: M3 | I84: =IF(AND(J84="oui",K84="oui"),"Sta+Lib",IF(J84="oui","Stade",IF(K84="oui","Lib",""))) | J84: =IF(OR(LEFT($O84,3)="sta",LEFT($S84,3)="sta",LEFT($W84,3)="sta",LEFT($AA84,3)="sta",LEFT($AE84,3)="sta",LEFT($AI84,3)="sta",LEFT($AM84,3)="sta",LEFT($AQ84,3)="sta"),"oui","") | K84: =IF(OR(LEFT($O84,3)="Lib",LEFT($S84,3)="Lib",LEFT($W84,3)="Lib",LEFT($AA84,3)="Lib",LEFT($AE84,3)="Lib",LEFT($AI84,3)="Lib",LEFT($AM84,3)="Lib",LEFT($AQ84,3)="Lib"),"oui","") | L84: STAGE
A85: =1+A84 -> 22 | B85: =1+B84 -> 5 | C85: b | D85: =7+D84 -> 42030 | E85: M3 | I85: =IF(AND(J85="oui",K85="oui"),"Sta+Lib",IF(J85="oui","Stade",IF(K85="oui","Lib",""))) | J85: =IF(OR(LEFT($O85,3)="sta",LEFT($S85,3)="sta",LEFT($W85,3)="sta",LEFT($AA85,3)="sta",LEFT($AE85,3)="sta",LEFT($AI85,3)="sta",LEFT($AM85,3)="sta",LEFT($AQ85,3)="sta"),"oui","") | K85: =IF(OR(LEFT($O85,3)="Lib",LEFT($S85,3)="Lib",LEFT($W85,3)="Lib",LEFT($AA85,3)="Lib",LEFT($AE85,3)="Lib",LEFT($AI85,3)="Lib",LEFT($AM85,3)="Lib",LEFT($AQ85,3)="Lib"),"oui","") | L85: STAGE | P85: x | Q85: x | R85: x | S85: x | T85: STAGE
A86: =1+A85 -> 23 | B86: =1+B85 -> 6 | C86: a | D86: =7+D85 -> 42037 | E86: M3 | I86: =IF(AND(J86="oui",K86="oui"),"Sta+Lib",IF(J86="oui","Stade",IF(K86="oui","Lib",""))) | J86: =IF(OR(LEFT($O86,3)="sta",LEFT($S86,3)="sta",LEFT($W86,3)="sta",LEFT($AA86,3)="sta",LEFT($AE86,3)="sta",LEFT($AI86,3)="sta",LEFT($AM86,3)="sta",LEFT($AQ86,3)="sta"),"oui","") | K86: =IF(OR(LEFT($O86,3)="Lib",LEFT($S86,3)="Lib",LEFT($W86,3)="Lib",LEFT($AA86,3)="Lib",LEFT($AE86,3)="Lib",LEFT($AI86,3)="Lib",LEFT($AM86,3)="Lib",LEFT($AQ86,3)="Lib"),"oui","") | P86: STAGE | T86: STAGE
A87: =1+A86 -> 24 | B87: =1+B86 -> 7 | C87: b | D87: =7+D86 -> 42044 | E87: M3 | I87: =IF(AND(J87="oui",K87="oui"),"Sta+Lib",IF(J87="oui","Stade",IF(K87="oui","Lib",""))) | J87: =IF(OR(LEFT($O87,3)="sta",LEFT($S87,3)="sta",LEFT($W87,3)="sta",LEFT($AA87,3)="sta",LEFT($AE87,3)="sta",LEFT($AI87,3)="sta",LEFT($AM87,3)="sta",LEFT($AQ87,3)="sta"),"oui","") | K87: =IF(OR(LEFT($O87,3)="Lib",LEFT($S87,3)="Lib",LEFT($W87,3)="Lib",LEFT($AA87,3)="Lib",LEFT($AE87,3)="Lib",LEFT($AI87,3)="Lib",LEFT($AM87,3)="Lib",LEFT($AQ87,3)="Lib"),"oui","") | P87: x | Q87: x | R87: x | S87: x | T87: STAGE
A88: =1+A87 -> 25 | B88: =1+B87 -> 8 | C88: a | D88: =7+D87 -> 42051 | E88: M3 | I88: =IF(AND(J88="oui",K88="oui"),"Sta+Lib",IF(J88="oui","Stade",IF(K88="oui","Lib",""))) | J88: =IF(OR(LEFT($O88,3)="sta",LEFT($S88,3)="sta",LEFT($W88,3)="sta",LEFT($AA88,3)="sta",LEFT($AE88,3)="sta",LEFT($AI88,3)="sta",LEFT($AM88,3)="sta",LEFT($AQ88,3)="sta"),"oui","") | K88: =IF(OR(LEFT($O88,3)="Lib",LEFT($S88,3)="Lib",LEFT($W88,3)="Lib",LEFT($AA88,3)="Lib",LEFT($AE88,3)="Lib",LEFT($AI88,3)="Lib",LEFT($AM88,3)="Lib",LEFT($AQ88,3)="Lib"),"oui","") | P88: STAGE | T88: STAGE
A89: =1+A88 -> 26 | B89: =1+B88 -> 9 | C89: b | D89: =7+D88 -> 42058 | E89: M3 | I89: =IF(AND(J89="oui",K89="oui"),"Sta+Lib",IF(J89="oui","Stade",IF(K89="oui","Lib",""))) | J89: =IF(OR(LEFT($O89,3)="sta",LEFT($S89,3)="sta",LEFT($W89,3)="sta",LEFT($AA89,3)="sta",LEFT($AE89,3)="sta",LEFT($AI89,3)="sta",LEFT($AM89,3)="sta",LEFT($AQ89,3)="sta"),"oui","") | K89: =IF(OR(LEFT($O89,3)="Lib",LEFT($S89,3)="Lib",LEFT($W89,3)="Lib",LEFT($AA89,3)="Lib",LEFT($AE89,3)="Lib",LEFT($AI89,3)="Lib",LEFT($AM89,3)="Lib",LEFT($AQ89,3)="Lib"),"oui","") | L89: VACANCES SCOLAIRES | P89: VACANCES SCOLAIRES | T89: VACANCES SCOLAIRES
A90: =1+A89 -> 27 | B90: =1+B89 -> 10 | C90: a | D90: =7+D89 -> 42065 | E90: M3 | I90: =IF(AND(J90="oui",K90="oui"),"Sta+Lib",IF(J90="oui","Stade",IF(K90="oui","Lib",""))) | J90: =IF(OR(LEFT($O90,3)="sta",LEFT($S90,3)="sta",LEFT($W90,3)="sta",LEFT($AA90,3)="sta",LEFT($AE90,3)="sta",LEFT($AI90,3)="sta",LEFT($AM90,3)="sta",LEFT($AQ90,3)="sta"),"oui","") | K90: =IF(OR(LEFT($O90,3)="Lib",LEFT($S90,3)="Lib",LEFT($W90,3)="Lib",LEFT($AA90,3)="Lib",LEFT($AE90,3)="Lib",LEFT($AI90,3)="Lib",LEFT($AM90,3)="Lib",LEFT($AQ90,3)="Lib"),"oui","")
A91: =1+A90 -> 28 | B91: =1+B90 -> 11 | C91: b | D91: =7+D90 -> 42072 | E91: M3 | I91: =IF(AND(J91="oui",K91="oui"),"Sta+Lib",IF(J91="oui","Stade",IF(K91="oui","Lib",""))) | J91: =IF(OR(LEFT($O91,3)="sta",LEFT($S91,3)="sta",LEFT($W91,3)="sta",LEFT($AA91,3)="sta",LEFT($AE91,3)="sta",LEFT($AI91,3)="sta",LEFT($AM91,3)="sta",LEFT($AQ91,3)="sta"),"oui","") | K91: =IF(OR(LEFT($O91,3)="Lib",LEFT($S91,3)="Lib",LEFT($W91,3)="Lib",LEFT($AA91,3)="Lib",LEFT($AE91,3)="Lib",LEFT($AI91,3)="Lib",LEFT($AM91,3)="Lib",LEFT($AQ91,3)="Lib"),"oui","") | P91: x | Q91: x | R91: x | S91: x
A92: =1+A91 -> 29 | B92: =1+B91 -> 12 | C92: a | D92: =7+D91 -> 42079 | E92: M3 | I92: =IF(AND(J92="oui",K92="oui"),"Sta+Lib",IF(J92="oui","Stade",IF(K92="oui","Lib",""))) | J92: =IF(OR(LEFT($O92,3)="sta",LEFT($S92,3)="sta",LEFT($W92,3)="sta",LEFT($AA92,3)="sta",LEFT($AE92,3)="sta",LEFT($AI92,3)="sta",LEFT($AM92,3)="sta",LEFT($AQ92,3)="sta"),"oui","") | K92: =IF(OR(LEFT($O92,3)="Lib",LEFT($S92,3)="Lib",LEFT($W92,3)="Lib",LEFT($AA92,3)="Lib",LEFT($AE92,3)="Lib",LEFT($AI92,3)="Lib",LEFT($AM92,3)="Lib",LEFT($AQ92,3)="Lib"),"oui","")
A93: =1+A92 -> 30 | B93: =1+B92 -> 13 | C93: b | D93: =7+D92 -> 42086 | E93: M3 | I93: =IF(AND(J93="oui",K93="oui"),"Sta+Lib",IF(J93="oui","Stade",IF(K93="oui","Lib",""))) | J93: =IF(OR(LEFT($O93,3)="sta",LEFT($S93,3)="sta",LEFT($W93,3)="sta",LEFT($AA93,3)="sta",LEFT($AE93,3)="sta",LEFT($AI93,3)="sta",LEFT($AM93,3)="sta",LEFT($AQ93,3)="sta"),"oui","") | K93: =IF(OR(LEFT($O93,3)="Lib",LEFT($S93,3)="Lib",LEFT($W93,3)="Lib",LEFT($AA93,3)="Lib",LEFT($AE93,3)="Lib",LEFT($AI93,3)="Lib",LEFT($AM93,3)="Lib",LEFT($AQ93,3)="Lib"),"oui","") | P93: x | Q93: x | R93: x | S93: x
A94: =1+A93 -> 31 | B94: =1+B93 -> 14 | C94: a | D94: =7+D93 -> 42093 | E94: M3 | I94: =IF(AND(J94="oui",K94="oui"),"Sta+Lib",IF(J94="oui","Stade",IF(K94="oui","Lib",""))) | J94: =IF(OR(LEFT($O94,3)="sta",LEFT($S94,3)="sta",LEFT($W94,3)="sta",LEFT($AA94,3)="sta",LEFT($AE94,3)="sta",LEFT($AI94,3)="sta",LEFT($AM94,3)="sta",LEFT($AQ94,3)="sta"),"oui","") | K94: =IF(OR(LEFT($O94,3)="Lib",LEFT($S94,3)="Lib",LEFT($W94,3)="Lib",LEFT($AA94,3)="Lib",LEFT($AE94,3)="Lib",LEFT($AI94,3)="Lib",LEFT($AM94,3)="Lib",LEFT($AQ94,3)="Lib"),"oui","")
A95: =1+A94 -> 32 | B95: =1+B94 -> 15 | C95: b | D95: =7+D94 -> 42100 | E95: M3 | I95: =IF(AND(J95="oui",K95="oui"),"Sta+Lib",IF(J95="oui","Stade",IF(K95="oui","Lib",""))) | J95: =IF(OR(LEFT($O95,3)="sta",LEFT($S95,3)="sta",LEFT($W95,3)="sta",LEFT($AA95,3)="sta",LEFT($AE95,3)="sta",LEFT($AI95,3)="sta",LEFT($AM95,3)="sta",LEFT($AQ95,3)="sta"),"oui","") | K95: =IF(OR(LEFT($O95,3)="Lib",LEFT($S95,3)="Lib",LEFT($W95,3)="Lib",LEFT($AA95,3)="Lib",LEFT($AE95,3)="Lib",LEFT($AI95,3)="Lib",LEFT($AM95,3)="Lib",LEFT($AQ95,3)="Lib"),"oui","") | L95: FERIE | P95: FERIE | T95: FERIE
A96: =1+A95 -> 33 | B96: =1+B95 -> 16 | C96: a | D96: =7+D95 -> 42107 | E96: M3 | I96: =IF(AND(J96="oui",K96="oui"),"Sta+Lib",IF(J96="oui","Stade",IF(K96="oui","Lib",""))) | J96: =IF(OR(LEFT($O96,3)="sta",LEFT($S96,3)="sta",LEFT($W96,3)="sta",LEFT($AA96,3)="sta",LEFT($AE96,3)="sta",LEFT($AI96,3)="sta",LEFT($AM96,3)="sta",LEFT($AQ96,3)="sta"),"oui","") | K96: =IF(OR(LEFT($O96,3)="Lib",LEFT($S96,3)="Lib",LEFT($W96,3)="Lib",LEFT($AA96,3)="Lib",LEFT($AE96,3)="Lib",LEFT($AI96,3)="Lib",LEFT($AM96,3)="Lib",LEFT($AQ96,3)="Lib"),"oui","")
A97: =1+A96 -> 34 | B97: =1+B96 -> 17 | C97: b | D97: =7+D96 -> 42114 | E97: M3 | I97: =IF(AND(J97="oui",K97="oui"),"Sta+Lib",IF(J97="oui","Stade",IF(K97="oui","Lib",""))) | J97: =IF(OR(LEFT($O97,3)="sta",LEFT($S97,3)="sta",LEFT($W97,3)="sta",LEFT($AA97,3)="sta",LEFT($AE97,3)="sta",LEFT($AI97,3)="sta",LEFT($AM97,3)="sta",LEFT($AQ97,3)="sta"),"oui","") | K97: =IF(OR(LEFT($O97,3)="Lib",LEFT($S97,3)="Lib",LEFT($W97,3)="Lib",LEFT($AA97,3)="Lib",LEFT($AE97,3)="Lib",LEFT($AI97,3)="Lib",LEFT($AM97,3)="Lib",LEFT($AQ97,3)="Lib"),"oui","") | P97: x | Q97: x | R97: x | S97: x
A98: =1+A97 -> 35 | B98: =1+B97 -> 18 | C98: a | D98: =7+D97 -> 42121 | E98: M3 | I98: =IF(AND(J98="oui",K98="oui"),"Sta+Lib",IF(J98="oui","Stade",IF(K98="oui","Lib",""))) | J98: =IF(OR(LEFT($O98,3)="sta",LEFT($S98,3)="sta",LEFT($W98,3)="sta",LEFT($AA98,3)="sta",LEFT($AE98,3)="sta",LEFT($AI98,3)="sta",LEFT($AM98,3)="sta",LEFT($AQ98,3)="sta"),"oui","") | K98: =IF(OR(LEFT($O98,3)="Lib",LEFT($S98,3)="Lib",LEFT($W98,3)="Lib",LEFT($AA98,3)="Lib",LEFT($AE98,3)="Lib",LEFT($AI98,3)="Lib",LEFT($AM98,3)="Lib",LEFT($AQ98,3)="Lib"),"oui","") | L98: VACANCES SCOLAIRES | P98: VACANCES SCOLAIRES | T98: VACANCES SCOLAIRES
A99: =1+A98 -> 36 | B99: =1+B98 -> 19 | C99: b | D99: =7+D98 -> 42128 | E99: M3 | I99: =IF(AND(J99="oui",K99="oui"),"Sta+Lib",IF(J99="oui","Stade",IF(K99="oui","Lib",""))) | J99: =IF(OR(LEFT($O99,3)="sta",LEFT($S99,3)="sta",LEFT($W99,3)="sta",LEFT($AA99,3)="sta",LEFT($AE99,3)="sta",LEFT($AI99,3)="sta",LEFT($AM99,3)="sta",LEFT($AQ99,3)="sta"),"oui","") | K99: =IF(OR(LEFT($O99,3)="Lib",LEFT($S99,3)="Lib",LEFT($W99,3)="Lib",LEFT($AA99,3)="Lib",LEFT($AE99,3)="Lib",LEFT($AI99,3)="Lib",LEFT($AM99,3)="Lib",LEFT($AQ99,3)="Lib"),"oui","")
A100: =1+A99 -> 37 | B100: =1+B99 -> 20 | C100: a | D100: =7+D99 -> 42135 | E100: M3 | I100: =IF(AND(J100="oui",K100="oui"),"Sta+Lib",IF(J100="oui","Stade",IF(K100="oui","Lib",""))) | J100: =IF(OR(LEFT($O100,3)="sta",LEFT($S100,3)="sta",LEFT($W100,3)="sta",LEFT($AA100,3)="sta",LEFT($AE100,3)="sta",LEFT($AI100,3)="sta",LEFT($AM100,3)="sta",LEFT($AQ100,3)="sta"),"oui","") | K100: =IF(OR(LEFT($O100,3)="Lib",LEFT($S100,3)="Lib",LEFT($W100,3)="Lib",LEFT($AA100,3)="Lib",LEFT($AE100,3)="Lib",LEFT($AI100,3)="Lib",LEFT($AM100,3)="Lib",LEFT($AQ100,3)="Lib"),"oui","")
A101: =1+A100 -> 38 | B101: =1+B100 -> 21 | C101: b | D101: =7+D100 -> 42142 | E101: M3 | I101: =IF(AND(J101="oui",K101="oui"),"Sta+Lib",IF(J101="oui","Stade",IF(K101="oui","Lib",""))) | J101: =IF(OR(LEFT($O101,3)="sta",LEFT($S101,3)="sta",LEFT($W101,3)="sta",LEFT($AA101,3)="sta",LEFT($AE101,3)="sta",LEFT($AI101,3)="sta",LEFT($AM101,3)="sta",LEFT($AQ101,3)="sta"),"oui","") | K101: =IF(OR(LEFT($O101,3)="Lib",LEFT($S101,3)="Lib",LEFT($W101,3)="Lib",LEFT($AA101,3)="Lib",LEFT($AE101,3)="Lib",LEFT($AI101,3)="Lib",LEFT($AM101,3)="Lib",LEFT($AQ101,3)="Lib"),"oui","") | P101: x | Q101: x | R101: x | S101: x
...

Sheet LUNDI-PM
B1: LUNDI 13H55-15H45
F2: Indisponible | I2: Profs | L2: =INDEX(classe!$K$3:$K$40,MATCH(L3,classe!$F$2:$F$40,0),0) -> Christelle | P2: =INDEX(classe!$K$3:$K$40,MATCH(P3,classe!$F$2:$F$40,0),0) -> Didier | T2: =INDEX(classe!$K$3:$K$40,MATCH(T3,classe!$F$2:$F$40,0),0) -> Didier
B3: N° Sem | C3: Sem | D3: DATES | E3: Creneau | F3: Bouchard | G3: JC | H3: Coubertin | I3: Classes | L3: TAPR1 | P3: TCOM1 | T3: TCOM2
I4: Semaines | L4: A-B | P4: A | T4: A
I5: Nb elèves | L5: =INDEX(classe!$G$3:$G$40,MATCH(L3,classe!$F$2:$F$40,0),0) -> 31 | P5: =INDEX(classe!$G$3:$G$40,MATCH(P3,classe!$F$2:$F$40,0),0) -> 24 | T5: =INDEX(classe!$G$3:$G$40,MATCH(T3,classe!$F$2:$F$40,0),0) -> 23
I6: Niv Cp | L6: =INDEX(classe!$I$3:$I$40,MATCH(L3,classe!$F$2:$F$40,0),0) -> 3-4 | P6: =INDEX(classe!$I$3:$I$40,MATCH(P3,classe!$F$2:$F$40,0),0) -> 4 | T6: =INDEX(classe!$I$3:$I$40,MATCH(T3,classe!$F$2:$F$40,0),0) -> 3
I7: 2E COURS
I8: CP
I9: Navette | J9: Stade | K9: Lib | L9: N° | M9: Niv | N9: APSA | O9: SALLE | P9: N° | Q9: Niv | R9: APSA | S9: SALLE | T9: N° | U9: Niv | V9: APSA | W9: SALLE
A10: 1 | B10: 36 | C10: a | D10: 41883 | E10: S2 | I10: =IF(AND(J10="oui",K10="oui"),"Sta+Lib",IF(J10="oui","Stade",IF(K10="oui","Lib",""))) | J10: =IF(OR(LEFT($O10,3)="sta",LEFT($S10,3)="sta",LEFT($W10,3)="sta",LEFT($AA10,3)="sta",LEFT($AE10,3)="sta",LEFT($AI10,3)="sta",LEFT($AM10,3)="sta",LEFT($AQ10,3)="sta"),"oui","") | K10: =IF(OR(LEFT($O10,3)="Lib",LEFT($S10,3)="Lib",LEFT($W10,3)="Lib",LEFT($AA10,3)="Lib",LEFT($AE10,3)="Lib",LEFT($AI10,3)="Lib",LEFT($AM10,3)="Lib",LEFT($AQ10,3)="Lib"),"oui","") | L10: Journée de rentrée | P10: Journée de rentrée | T10: Journée de rentrée
A11: 2 | B11: =1+B10 -> 37 | C11: b | D11: =7+D10 -> 41890 | E11: S2 | I11: =IF(AND(J11="oui",K11="oui"),"Sta+Lib",IF(J11="oui","Stade",IF(K11="oui","Lib",""))) | J11: =IF(OR(LEFT($O11,3)="sta",LEFT($S11,3)="sta",LEFT($W11,3)="sta",LEFT($AA11,3)="sta",LEFT($AE11,3)="sta",LEFT($AI11,3)="sta",LEFT($AM11,3)="sta",LEFT($AQ11,3)="sta"),"oui","") | K11: =IF(OR(LEFT($O11,3)="Lib",LEFT($S11,3)="Lib",LEFT($W11,3)="Lib",LEFT($AA11,3)="Lib",LEFT($AE11,3)="Lib",LEFT($AI11,3)="Lib",LEFT($AM11,3)="Lib",LEFT($AQ11,3)="Lib"),"oui","") | P11: x | Q11: x | R11: x | S11: x
A12: =1+A11 -> 3 | B12: =1+B11 -> 38 | C12: a | D12: =7+D11 -> 41897 | E12: S2 | I12: =IF(AND(J12="oui",K12="oui"),"Sta+Lib",IF(J12="oui","Stade",IF(K12="oui","Lib",""))) | J12: =IF(OR(LEFT($O12,3)="sta",LEFT($S12,3)="sta",LEFT($W12,3)="sta",LEFT($AA12,3)="sta",LEFT($AE12,3)="sta",LEFT($AI12,3)="sta",LEFT($AM12,3)="sta",LEFT($AQ12,3)="sta"),"oui","") | K12: =IF(OR(LEFT($O12,3)="Lib",LEFT($S12,3)="Lib",LEFT($W12,3)="Lib",LEFT($AA12,3)="Lib",LEFT($AE12,3)="Lib",LEFT($AI12,3)="Lib",LEFT($AM12,3)="Lib",LEFT($AQ12,3)="Lib"),"oui","") | L12: Journée Péda | P12: Journée Péda | T12: Journée Péda
A13: =1+A12 -> 4 | B13: =1+B12 -> 39 | C13: b | D13: =7+D12 -> 41904 | E13: S2 | I13: =IF(AND(J13="oui",K13="oui"),"Sta+Lib",IF(J13="oui","Stade",IF(K13="oui","Lib",""))) | J13: =IF(OR(LEFT($O13,3)="sta",LEFT($S13,3)="sta",LEFT($W13,3)="sta",LEFT($AA13,3)="sta",LEFT($AE13,3)="sta",LEFT($AI13,3)="sta",LEFT($AM13,3)="sta",LEFT($AQ13,3)="sta"),"oui","") | K13: =IF(OR(LEFT($O13,3)="Lib",LEFT($S13,3)="Lib",LEFT($W13,3)="Lib",LEFT($AA13,3)="Lib",LEFT($AE13,3)="Lib",LEFT($AI13,3)="Lib",LEFT($AM13,3)="Lib",LEFT($AQ13,3)="Lib"),"oui","") | P13: x | Q13: x | R13: x | S13: x
A14: =1+A13 -> 5 | B14: =1+B13 -> 40 | C14: a | D14: =7+D13 -> 41911 | E14: S2 | I14: =IF(AND(J14="oui",K14="oui"),"Sta+Lib",IF(J14="oui","Stade",IF(K14="oui","Lib",""))) | J14: =IF(OR(LEFT($O14,3)="sta",LEFT($S14,3)="sta",LEFT($W14,3)="sta",LEFT($AA14,3)="sta",LEFT($AE14,3)="sta",LEFT($AI14,3)="sta",LEFT($AM14,3)="sta",LEFT($AQ14,3)="sta"),"oui","") | K14: =IF(OR(LEFT($O14,3)="Lib",LEFT($S14,3)="Lib",LEFT($W14,3)="Lib",LEFT($AA14,3)="Lib",LEFT($AE14,3)="Lib",LEFT($AI14,3)="Lib",LEFT($AM14,3)="Lib",LEFT($AQ14,3)="Lib"),"oui","") | T14: x | U14: x | V14: x | W14: x
A15: =1+A14 -> 6 | B15: =1+B14 -> 41 | C15: b | D15: =7+D14 -> 41918 | E15: S2 | I15: =IF(AND(J15="oui",K15="oui"),"Sta+Lib",IF(J15="oui","Stade",IF(K15="oui","Lib",""))) | J15: =IF(OR(LEFT($O15,3)="sta",LEFT($S15,3)="sta",LEFT($W15,3)="sta",LEFT($AA15,3)="sta",LEFT($AE15,3)="sta",LEFT($AI15,3)="sta",LEFT($AM15,3)="sta",LEFT($AQ15,3)="sta"),"oui","") | K15: =IF(OR(LEFT($O15,3)="Lib",LEFT($S15,3)="Lib",LEFT($W15,3)="Lib",LEFT($AA15,3)="Lib",LEFT($AE15,3)="Lib",LEFT($AI15,3)="Lib",LEFT($AM15,3)="Lib",LEFT($AQ15,3)="Lib"),"oui","") | P15: x | Q15: x | R15: x | S15: x
A16: =1+A15 -> 7 | B16: =1+B15 -> 42 | C16: a | D16: =7+D15 -> 41925 | E16: S2 | I16: =IF(AND(J16="oui",K16="oui"),"Sta+Lib",IF(J16="oui","Stade",IF(K16="oui","Lib",""))) | J16: =IF(OR(LEFT($O16,3)="sta",LEFT($S16,3)="sta",LEFT($W16,3)="sta",LEFT($AA16,3)="sta",LEFT($AE16,3)="sta",LEFT($AI16,3)="sta",LEFT($AM16,3)="sta",LEFT($AQ16,3)="sta"),"oui","") | K16: =IF(OR(LEFT($O16,3)="Lib",LEFT($S16,3)="Lib",LEFT($W16,3)="Lib",LEFT($AA16,3)="Lib",LEFT($AE16,3)="Lib",LEFT($AI16,3)="Lib",LEFT($AM16,3)="Lib",LEFT($AQ16,3)="Lib"),"oui","") | T16: x | U16: x | V16: x | W16: x
A17: =1+A16 -> 8 | B17: =1+B16 -> 43 | C17: b | D17: =7+D16 -> 41932 | E17: S2 | I17: =IF(AND(J17="oui",K17="oui"),"Sta+Lib",IF(J17="oui","Stade",IF(K17="oui","Lib",""))) | J17: =IF(OR(LEFT($O17,3)="sta",LEFT($S17,3)="sta",LEFT($W17,3)="sta",LEFT($AA17,3)="sta",LEFT($AE17,3)="sta",LEFT($AI17,3)="sta",LEFT($AM17,3)="sta",LEFT($AQ17,3)="sta"),"oui","") | K17: =IF(OR(LEFT($O17,3)="Lib",LEFT($S17,3)="Lib",LEFT($W17,3)="Lib",LEFT($AA17,3)="Lib",LEFT($AE17,3)="Lib",LEFT($AI17,3)="Lib",LEFT($AM17,3)="Lib",LEFT($AQ17,3)="Lib"),"oui","") | L17: VACANCES SCOLAIRES | P17: VACANCES SCOLAIRES | T17: VACANCES SCOLAIRES
A18: =1+A17 -> 9 | B18: =1+B17 -> 44 | C18: a | D18: =7+D17 -> 41939 | E18: S2 | I18: =IF(AND(J18="oui",K18="oui"),"Sta+Lib",IF(J18="oui","Stade",IF(K18="oui","Lib",""))) | J18: =IF(OR(LEFT($O18,3)="sta",LEFT($S18,3)="sta",LEFT($W18,3)="sta",LEFT($AA18,3)="sta",LEFT($AE18,3)="sta",LEFT($AI18,3)="sta",LEFT($AM18,3)="sta",LEFT($AQ18,3)="sta"),"oui","") | K18: =IF(OR(LEFT($O18,3)="Lib",LEFT($S18,3)="Lib",LEFT($W18,3)="Lib",LEFT($AA18,3)="Lib",LEFT($AE18,3)="Lib",LEFT($AI18,3)="Lib",LEFT($AM18,3)="Lib",LEFT($AQ18,3)="Lib"),"oui","")
A19: =1+A18 -> 10 | B19: =1+B18 -> 45 | C19: b | D19: =7+D18 -> 41946 | E19: S2 | I19: =IF(AND(J19="oui",K19="oui"),"Sta+Lib",IF(J19="oui","Stade",IF(K19="oui","Lib",""))) | J19: =IF(OR(LEFT($O19,3)="sta",LEFT($S19,3)="sta",LEFT($W19,3)="sta",LEFT($AA19,3)="sta",LEFT($AE19,3)="sta",LEFT($AI19,3)="sta",LEFT($AM19,3)="sta",LEFT($AQ19,3)="sta"),"oui","") | K19: =IF(OR(LEFT($O19,3)="Lib",LEFT($S19,3)="Lib",LEFT($W19,3)="Lib",LEFT($AA19,3)="Lib",LEFT($AE19,3)="Lib",LEFT($AI19,3)="Lib",LEFT($AM19,3)="Lib",LEFT($AQ19,3)="Lib"),"oui","") | P19: x | Q19: x | R19: x | S19: x
A20: =1+A19 -> 11 | B20: =1+B19 -> 46 | C20: a | D20: =7+D19 -> 41953 | E20: S2 | I20: =IF(AND(J20="oui",K20="oui"),"Sta+Lib",IF(J20="oui","Stade",IF(K20="oui","Lib",""))) | J20: =IF(OR(LEFT($O20,3)="sta",LEFT($S20,3)="sta",LEFT($W20,3)="sta",LEFT($AA20,3)="sta",LEFT($AE20,3)="sta",LEFT($AI20,3)="sta",LEFT($AM20,3)="sta",LEFT($AQ20,3)="sta"),"oui","") | K20: =IF(OR(LEFT($O20,3)="Lib",LEFT($S20,3)="Lib",LEFT($W20,3)="Lib",LEFT($AA20,3)="Lib",LEFT($AE20,3)="Lib",LEFT($AI20,3)="Lib",LEFT($AM20,3)="Lib",LEFT($AQ20,3)="Lib"),"oui","") | T20: x | U20: x | V20: x | W20: x
A21: =1+A20 -> 12 | B21: =1+B20 -> 47 | C21: b | D21: =7+D20 -> 41960 | E21: S2 | I21: =IF(AND(J21="oui",K21="oui"),"Sta+Lib",IF(J21="oui","Stade",IF(K21="oui","Lib",""))) | J21: =IF(OR(LEFT($O21,3)="sta",LEFT($S21,3)="sta",LEFT($W21,3)="sta",LEFT($AA21,3)="sta",LEFT($AE21,3)="sta",LEFT($AI21,3)="sta",LEFT($AM21,3)="sta",LEFT($AQ21,3)="sta"),"oui","") | K21: =IF(OR(LEFT($O21,3)="Lib",LEFT($S21,3)="Lib",LEFT($W21,3)="Lib",LEFT($AA21,3)="Lib",LEFT($AE21,3)="Lib",LEFT($AI21,3)="Lib",LEFT($AM21,3)="Lib",LEFT($AQ21,3)="Lib"),"oui","") | P21: x | Q21: x | R21: x | S21: x
A22: =1+A21 -> 13 | B22: =1+B21 -> 48 | C22: a | D22: =7+D21 -> 41967 | E22: S2 | I22: =IF(AND(J22="oui",K22="oui"),"Sta+Lib",IF(J22="oui","Stade",IF(K22="oui","Lib",""))) | J22: =IF(OR(LEFT($O22,3)="sta",LEFT($S22,3)="sta",LEFT($W22,3)="sta",LEFT($AA22,3)="sta",LEFT($AE22,3)="sta",LEFT($AI22,3)="sta",LEFT($AM22,3)="sta",LEFT($AQ22,3)="sta"),"oui","") | K22: =IF(OR(LEFT($O22,3)="Lib",LEFT($S22,3)="Lib",LEFT($W22,3)="Lib",LEFT($AA22,3)="Lib",LEFT($AE22,3)="Lib",LEFT($AI22,3)="Lib",LEFT($AM22,3)="Lib",LEFT($AQ22,3)="Lib"),"oui","") | L22: STAGE | P22: STAGE | T22: x | U22: x | V22: x | W22: x
A23: =1+A22 -> 14 | B23: =1+B22 -> 49 | C23: b | D23: =7+D22 -> 41974 | E23: S2 | I23: =IF(AND(J23="oui",K23="oui"),"Sta+Lib",IF(J23="oui","Stade",IF(K23="oui","Lib",""))) | J23: =IF(OR(LEFT($O23,3)="sta",LEFT($S23,3)="sta",LEFT($W23,3)="sta",LEFT($AA23,3)="sta",LEFT($AE23,3)="sta",LEFT($AI23,3)="sta",LEFT($AM23,3)="sta",LEFT($AQ23,3)="sta"),"oui","") | K23: =IF(OR(LEFT($O23,3)="Lib",LEFT($S23,3)="Lib",LEFT($W23,3)="Lib",LEFT($AA23,3)="Lib",LEFT($AE23,3)="Lib",LEFT($AI23,3)="Lib",LEFT($AM23,3)="Lib",LEFT($AQ23,3)="Lib"),"oui","") | L23: STAGE | P23: x | Q23: x | R23: x | S23: x | T23: STAGE
A24: =1+A23 -> 15 | B24: =1+B23 -> 50 | C24: a | D24: =7+D23 -> 41981 | E24: S2 | I24: =IF(AND(J24="oui",K24="oui"),"Sta+Lib",IF(J24="oui","Stade",IF(K24="oui","Lib",""))) | J24: =IF(OR(LEFT($O24,3)="sta",LEFT($S24,3)="sta",LEFT($W24,3)="sta",LEFT($AA24,3)="sta",LEFT($AE24,3)="sta",LEFT($AI24,3)="sta",LEFT($AM24,3)="sta",LEFT($AQ24,3)="sta"),"oui","") | K24: =IF(OR(LEFT($O24,3)="Lib",LEFT($S24,3)="Lib",LEFT($W24,3)="Lib",LEFT($AA24,3)="Lib",LEFT($AE24,3)="Lib",LEFT($AI24,3)="Lib",LEFT($AM24,3)="Lib",LEFT($AQ24,3)="Lib"),"oui","") | L24: STAGE | P24: STAGE | T24: x | U24: x | V24: x | W24: x
A25: =1+A24 -> 16 | B25: =1+B24 -> 51 | C25: b | D25: =7+D24 -> 41988 | E25: S2 | I25: =IF(AND(J25="oui",K25="oui"),"Sta+Lib",IF(J25="oui","Stade",IF(K25="oui","Lib",""))) | J25: =IF(OR(LEFT($O25,3)="sta",LEFT($S25,3)="sta",LEFT($W25,3)="sta",LEFT($AA25,3)="sta",LEFT($AE25,3)="sta",LEFT($AI25,3)="sta",LEFT($AM25,3)="sta",LEFT($AQ25,3)="sta"),"oui","") | K25: =IF(OR(LEFT($O25,3)="Lib",LEFT($S25,3)="Lib",LEFT($W25,3)="Lib",LEFT($AA25,3)="Lib",LEFT($AE25,3)="Lib",LEFT($AI25,3)="Lib",LEFT($AM25,3)="Lib",LEFT($AQ25,3)="Lib"),"oui","") | L25: STAGE | P25: x | Q25: x | R25: x | S25: x | T25: STAGE
A26: =1+A25 -> 17 | B26: =1+B25 -> 52 | C26: a | D26: =7+D25 -> 41995 | E26: S2 | I26: =IF(AND(J26="oui",K26="oui"),"Sta+Lib",IF(J26="oui","Stade",IF(K26="oui","Lib",""))) | J26: =IF(OR(LEFT($O26,3)="sta",LEFT($S26,3)="sta",LEFT($W26,3)="sta",LEFT($AA26,3)="sta",LEFT($AE26,3)="sta",LEFT($AI26,3)="sta",LEFT($AM26,3)="sta",LEFT($AQ26,3)="sta"),"oui","") | K26: =IF(OR(LEFT($O26,3)="Lib",LEFT($S26,3)="Lib",LEFT($W26,3)="Lib",LEFT($AA26,3)="Lib",LEFT($AE26,3)="Lib",LEFT($AI26,3)="Lib",LEFT($AM26,3)="Lib",LEFT($AQ26,3)="Lib"),"oui","") | L26: VACANCES SCOLAIRES | P26: VACANCES SCOLAIRES | T26: VACANCES SCOLAIRES
A27: =1+A26 -> 18 | B27: 1 | C27: b | D27: =7+D26 -> 42002 | E27: S2 | I27: =IF(AND(J27="oui",K27="oui"),"Sta+Lib",IF(J27="oui","Stade",IF(K27="oui","Lib",""))) | J27: =IF(OR(LEFT($O27,3)="sta",LEFT($S27,3)="sta",LEFT($W27,3)="sta",LEFT($AA27,3)="sta",LEFT($AE27,3)="sta",LEFT($AI27,3)="sta",LEFT($AM27,3)="sta",LEFT($AQ27,3)="sta"),"oui","") | K27: =IF(OR(LEFT($O27,3)="Lib",LEFT($S27,3)="Lib",LEFT($W27,3)="Lib",LEFT($AA27,3)="Lib",LEFT($AE27,3)="Lib",LEFT($AI27,3)="Lib",LEFT($AM27,3)="Lib",LEFT($AQ27,3)="Lib"),"oui","")
A28: =1+A27 -> 19 | B28: =1+B27 -> 2 | C28: a | D28: =7+D27 -> 42009 | E28: S2 | I28: =IF(AND(J28="oui",K28="oui"),"Sta+Lib",IF(J28="oui","Stade",IF(K28="oui","Lib",""))) | J28: =IF(OR(LEFT($O28,3)="sta",LEFT($S28,3)="sta",LEFT($W28,3)="sta",LEFT($AA28,3)="sta",LEFT($AE28,3)="sta",LEFT($AI28,3)="sta",LEFT($AM28,3)="sta",LEFT($AQ28,3)="sta"),"oui","") | K28: =IF(OR(LEFT($O28,3)="Lib",LEFT($S28,3)="Lib",LEFT($W28,3)="Lib",LEFT($AA28,3)="Lib",LEFT($AE28,3)="Lib",LEFT($AI28,3)="Lib",LEFT($AM28,3)="Lib",LEFT($AQ28,3)="Lib"),"oui","") | T28: x | U28: x | V28: x | W28: x
A29: =1+A28 -> 20 | B29: =1+B28 -> 3 | C29: b | D29: =7+D28 -> 42016 | E29: S2 | I29: =IF(AND(J29="oui",K29="oui"),"Sta+Lib",IF(J29="oui","Stade",IF(K29="oui","Lib",""))) | J29: =IF(OR(LEFT($O29,3)="sta",LEFT($S29,3)="sta",LEFT($W29,3)="sta",LEFT($AA29,3)="sta",LEFT($AE29,3)="sta",LEFT($AI29,3)="sta",LEFT($AM29,3)="sta",LEFT($AQ29,3)="sta"),"oui","") | K29: =IF(OR(LEFT($O29,3)="Lib",LEFT($S29,3)="Lib",LEFT($W29,3)="Lib",LEFT($AA29,3)="Lib",LEFT($AE29,3)="Lib",LEFT($AI29,3)="Lib",LEFT($AM29,3)="Lib",LEFT($AQ29,3)="Lib"),"oui","") | P29: x | Q29: x | R29: x | S29: x
A30: =1+A29 -> 21 | B30: =1+B29 -> 4 | C30: a | D30: =7+D29 -> 42023 | E30: S2 | I30: =IF(AND(J30="oui",K30="oui"),"Sta+Lib",IF(J30="oui","Stade",IF(K30="oui","Lib",""))) | J30: =IF(OR(LEFT($O30,3)="sta",LEFT($S30,3)="sta",LEFT($W30,3)="sta",LEFT($AA30,3)="sta",LEFT($AE30,3)="sta",LEFT($AI30,3)="sta",LEFT($AM30,3)="sta",LEFT($AQ30,3)="sta"),"oui","") | K30: =IF(OR(LEFT($O30,3)="Lib",LEFT($S30,3)="Lib",LEFT($W30,3)="Lib",LEFT($AA30,3)="Lib",LEFT($AE30,3)="Lib",LEFT($AI30,3)="Lib",LEFT($AM30,3)="Lib",LEFT($AQ30,3)="Lib"),"oui","") | T30: x | U30: x | V30: x | W30: x
A31: =1+A30 -> 22 | B31: =1+B30 -> 5 | C31: b | D31: =7+D30 -> 42030 | E31: S2 | I31: =IF(AND(J31="oui",K31="oui"),"Sta+Lib",IF(J31="oui","Stade",IF(K31="oui","Lib",""))) | J31: =IF(OR(LEFT($O31,3)="sta",LEFT($S31,3)="sta",LEFT($W31,3)="sta",LEFT($AA31,3)="sta",LEFT($AE31,3)="sta",LEFT($AI31,3)="sta",LEFT($AM31,3)="sta",LEFT($AQ31,3)="sta"),"oui","") | K31: =IF(OR(LEFT($O31,3)="Lib",LEFT($S31,3)="Lib",LEFT($W31,3)="Lib",LEFT($AA31,3)="Lib",LEFT($AE31,3)="Lib",LEFT($AI31,3)="Lib",LEFT($AM31,3)="Lib",LEFT($AQ31,3)="Lib"),"oui","") | P31: x | Q31: x | R31: x | S31: x
A32: =1+A31 -> 23 | B32: =1+B31 -> 6 | C32: a | D32: =7+D31 -> 42037 | E32: S2 | I32: =IF(AND(J32="oui",K32="oui"),"Sta+Lib",IF(J32="oui","Stade",IF(K32="oui","Lib",""))) | J32: =IF(OR(LEFT($O32,3)="sta",LEFT($S32,3)="sta",LEFT($W32,3)="sta",LEFT($AA32,3)="sta",LEFT($AE32,3)="sta",LEFT($AI32,3)="sta",LEFT($AM32,3)="sta",LEFT($AQ32,3)="sta"),"oui","") | K32: =IF(OR(LEFT($O32,3)="Lib",LEFT($S32,3)="Lib",LEFT($W32,3)="Lib",LEFT($AA32,3)="Lib",LEFT($AE32,3)="Lib",LEFT($AI32,3)="Lib",LEFT($AM32,3)="Lib",LEFT($AQ32,3)="Lib"),"oui","") | T32: x | U32: x | V32: x | W32: x
A33: =1+A32 -> 24 | B33: =1+B32 -> 7 | C33: b | D33: =7+D32 -> 42044 | E33: S2 | I33: =IF(AND(J33="oui",K33="oui"),"Sta+Lib",IF(J33="oui","Stade",IF(K33="oui","Lib",""))) | J33: =IF(OR(LEFT($O33,3)="sta",LEFT($S33,3)="sta",LEFT($W33,3)="sta",LEFT($AA33,3)="sta",LEFT($AE33,3)="sta",LEFT($AI33,3)="sta",LEFT($AM33,3)="sta",LEFT($AQ33,3)="sta"),"oui","") | K33: =IF(OR(LEFT($O33,3)="Lib",LEFT($S33,3)="Lib",LEFT($W33,3)="Lib",LEFT($AA33,3)="Lib",LEFT($AE33,3)="Lib",LEFT($AI33,3)="Lib",LEFT($AM33,3)="Lib",LEFT($AQ33,3)="Lib"),"oui","") | P33: x | Q33: x | R33: x | S33: x
A34: =1+A33 -> 25 | B34: =1+B33 -> 8 | C34: a | D34: =7+D33 -> 42051 | E34: S2 | I34: =IF(AND(J34="oui",K34="oui"),"Sta+Lib",IF(J34="oui","Stade",IF(K34="oui","Lib",""))) | J34: =IF(OR(LEFT($O34,3)="sta",LEFT($S34,3)="sta",LEFT($W34,3)="sta",LEFT($AA34,3)="sta",LEFT($AE34,3)="sta",LEFT($AI34,3)="sta",LEFT($AM34,3)="sta",LEFT($AQ34,3)="sta"),"oui","") | K34: =IF(OR(LEFT($O34,3)="Lib",LEFT($S34,3)="Lib",LEFT($W34,3)="Lib",LEFT($AA34,3)="Lib",LEFT($AE34,3)="Lib",LEFT($AI34,3)="Lib",LEFT($AM34,3)="Lib",LEFT($AQ34,3)="Lib"),"oui","") | T34: x | U34: x | V34: x | W34: x
A35: =1+A34 -> 26 | B35: =1+B34 -> 9 | C35: b | D35: =7+D34 -> 42058 | E35: S2 | I35: =IF(AND(J35="oui",K35="oui"),"Sta+Lib",IF(J35="oui","Stade",IF(K35="oui","Lib",""))) | J35: =IF(OR(LEFT($O35,3)="sta",LEFT($S35,3)="sta",LEFT($W35,3)="sta",LEFT($AA35,3)="sta",LEFT($AE35,3)="sta",LEFT($AI35,3)="sta",LEFT($AM35,3)="sta",LEFT($AQ35,3)="sta"),"oui","") | K35: =IF(OR(LEFT($O35,3)="Lib",LEFT($S35,3)="Lib",LEFT($W35,3)="Lib",LEFT($AA35,3)="Lib",LEFT($AE35,3)="Lib",LEFT($AI35,3)="Lib",LEFT($AM35,3)="Lib",LEFT($AQ35,3)="Lib"),"oui","") | L35: VACANCES SCOLAIRES | P35: VACANCES SCOLAIRES | T35: VACANCES SCOLAIRES
A36: =1+A35 -> 27 | B36: =1+B35 -> 10 | C36: a | D36: =7+D35 -> 42065 | E36: S2 | I36: =IF(AND(J36="oui",K36="oui"),"Sta+Lib",IF(J36="oui","Stade",IF(K36="oui","Lib",""))) | J36: =IF(OR(LEFT($O36,3)="sta",LEFT($S36,3)="sta",LEFT($W36,3)="sta",LEFT($AA36,3)="sta",LEFT($AE36,3)="sta",LEFT($AI36,3)="sta",LEFT($AM36,3)="sta",LEFT($AQ36,3)="sta"),"oui","") | K36: =IF(OR(LEFT($O36,3)="Lib",LEFT($S36,3)="Lib",LEFT($W36,3)="Lib",LEFT($AA36,3)="Lib",LEFT($AE36,3)="Lib",LEFT($AI36,3)="Lib",LEFT($AM36,3)="Lib",LEFT($AQ36,3)="Lib"),"oui","")
A37: =1+A36 -> 28 | B37: =1+B36 -> 11 | C37: b | D37: =7+D36 -> 42072 | E37: S2 | I37: =IF(AND(J37="oui",K37="oui"),"Sta+Lib",IF(J37="oui","Stade",IF(K37="oui","Lib",""))) | J37: =IF(OR(LEFT($O37,3)="sta",LEFT($S37,3)="sta",LEFT($W37,3)="sta",LEFT($AA37,3)="sta",LEFT($AE37,3)="sta",LEFT($AI37,3)="sta",LEFT($AM37,3)="sta",LEFT($AQ37,3)="sta"),"oui","") | K37: =IF(OR(LEFT($O37,3)="Lib",LEFT($S37,3)="Lib",LEFT($W37,3)="Lib",LEFT($AA37,3)="Lib",LEFT($AE37,3)="Lib",LEFT($AI37,3)="Lib",LEFT($AM37,3)="Lib",LEFT($AQ37,3)="Lib"),"oui","") | P37: x | Q37: x | R37: x | S37: x
A38: =1+A37 -> 29 | B38: =1+B37 -> 12 | C38: a | D38: =7+D37 -> 42079 | E38: S2 | I38: =IF(AND(J38="oui",K38="oui"),"Sta+Lib",IF(J38="oui","Stade",IF(K38="oui","Lib",""))) | J38: =IF(OR(LEFT($O38,3)="sta",LEFT($S38,3)="sta",LEFT($W38,3)="sta",LEFT($AA38,3)="sta",LEFT($AE38,3)="sta",LEFT($AI38,3)="sta",LEFT($AM38,3)="sta",LEFT($AQ38,3)="sta"),"oui","") | K38: =IF(OR(LEFT($O38,3)="Lib",LEFT($S38,3)="Lib",LEFT($W38,3)="Lib",LEFT($AA38,3)="Lib",LEFT($AE38,3)="Lib",LEFT($AI38,3)="Lib",LEFT($AM38,3)="Lib",LEFT($AQ38,3)="Lib"),"oui","") | T38: x | U38: x | V38: x | W38: x
A39: =1+A38 -> 30 | B39: =1+B38 -> 13 | C39: b | D39: =7+D38 -> 42086 | E39: S2 | I39: =IF(AND(J39="oui",K39="oui"),"Sta+Lib",IF(J39="oui","Stade",IF(K39="oui","Lib",""))) | J39: =IF(OR(LEFT($O39,3)="sta",LEFT($S39,3)="sta",LEFT($W39,3)="sta",LEFT($AA39,3)="sta",LEFT($AE39,3)="sta",LEFT($AI39,3)="sta",LEFT($AM39,3)="sta",LEFT($AQ39,3)="sta"),"oui","") | K39: =IF(OR(LEFT($O39,3)="Lib",LEFT($S39,3)="Lib",LEFT($W39,3)="Lib",LEFT($AA39,3)="Lib",LEFT($AE39,3)="Lib",LEFT($AI39,3)="Lib",LEFT($AM39,3)="Lib",LEFT($AQ39,3)="Lib"),"oui","") | P39: x | Q39: x | R39: x | S39: x
A40: =1+A39 -> 31 | B40: =1+B39 -> 14 | C40: a | D40: =7+D39 -> 42093 | E40: S2 | I40: =IF(AND(J40="oui",K40="oui"),"Sta+Lib",IF(J40="oui","Stade",IF(K40="oui","Lib",""))) | J40: =IF(OR(LEFT($O40,3)="sta",LEFT($S40,3)="sta",LEFT($W40,3)="sta",LEFT($AA40,3)="sta",LEFT($AE40,3)="sta",LEFT($AI40,3)="sta",LEFT($AM40,3)="sta",LEFT($AQ40,3)="sta"),"oui","") | K40: =IF(OR(LEFT($O40,3)="Lib",LEFT($S40,3)="Lib",LEFT($W40,3)="Lib",LEFT($AA40,3)="Lib",LEFT($AE40,3)="Lib",LEFT($AI40,3)="Lib",LEFT($AM40,3)="Lib",LEFT($AQ40,3)="Lib"),"oui","") | L40: STAGE | P40: STAGE | T40: x | U40: x | V40: x | W40: x
A41: =1+A40 -> 32 | B41: =1+B40 -> 15 | C41: b | D41: =7+D40 -> 42100 | E41: S2 | I41: =IF(AND(J41="oui",K41="oui"),"Sta+Lib",IF(J41="oui","Stade",IF(K41="oui","Lib",""))) | J41: =IF(OR(LEFT($O41,3)="sta",LEFT($S41,3)="sta",LEFT($W41,3)="sta",LEFT($AA41,3)="sta",LEFT($AE41,3)="sta",LEFT($AI41,3)="sta",LEFT($AM41,3)="sta",LEFT($AQ41,3)="sta"),"oui","") | K41: =IF(OR(LEFT($O41,3)="Lib",LEFT($S41,3)="Lib",LEFT($W41,3)="Lib",LEFT($AA41,3)="Lib",LEFT($AE41,3)="Lib",LEFT($AI41,3)="Lib",LEFT($AM41,3)="Lib",LEFT($AQ41,3)="Lib"),"oui","") | L41: FERIE | P41: FERIE | T41: FERIE
A42: =1+A41 -> 33 | B42: =1+B41 -> 16 | C42: a | D42: =7+D41 -> 42107 | E42: S2 | I42: =IF(AND(J42="oui",K42="oui"),"Sta+Lib",IF(J42="oui","Stade",IF(K42="oui","Lib",""))) | J42: =IF(OR(LEFT($O42,3)="sta",LEFT($S42,3)="sta",LEFT($W42,3)="sta",LEFT($AA42,3)="sta",LEFT($AE42,3)="sta",LEFT($AI42,3)="sta",LEFT($AM42,3)="sta",LEFT($AQ42,3)="sta"),"oui","") | K42: =IF(OR(LEFT($O42,3)="Lib",LEFT($S42,3)="Lib",LEFT($W42,3)="Lib",LEFT($AA42,3)="Lib",LEFT($AE42,3)="Lib",LEFT($AI42,3)="Lib",LEFT($AM42,3)="Lib",LEFT($AQ42,3)="Lib"),"oui","") | L42: STAGE | P42: STAGE | T42: x | U42: x | V42: x | W42: x
A43: =1+A42 -> 34 | B43: =1+B42 -> 17 | C43: b | D43: =7+D42 -> 42114 | E43: S2 | I43: =IF(AND(J43="oui",K43="oui"),"Sta+Lib",IF(J43="oui","Stade",IF(K43="oui","Lib",""))) | J43: =IF(OR(LEFT($O43,3)="sta",LEFT($S43,3)="sta",LEFT($W43,3)="sta",LEFT($AA43,3)="sta",LEFT($AE43,3)="sta",LEFT($AI43,3)="sta",LEFT($AM43,3)="sta",LEFT($AQ43,3)="sta"),"oui","") | K43: =IF(OR(LEFT($O43,3)="Lib",LEFT($S43,3)="Lib",LEFT($W43,3)="Lib",LEFT($AA43,3)="Lib",LEFT($AE43,3)="Lib",LEFT($AI43,3)="Lib",LEFT($AM43,3)="Lib",LEFT($AQ43,3)="Lib"),"oui","") | L43: STAGE | P43: x | Q43: x | R43: x | S43: x | T43: STAGE
A44: =1+A43 -> 35 | B44: =1+B43 -> 18 | C44: a | D44: =7+D43 -> 42121 | E44: S2 | I44: =IF(AND(J44="oui",K44="oui"),"Sta+Lib",IF(J44="oui","Stade",IF(K44="oui","Lib",""))) | J44: =IF(OR(LEFT($O44,3)="sta",LEFT($S44,3)="sta",LEFT($W44,3)="sta",LEFT($AA44,3)="sta",LEFT($AE44,3)="sta",LEFT($AI44,3)="sta",LEFT($AM44,3)="sta",LEFT($AQ44,3)="sta"),"oui","") | K44: =IF(OR(LEFT($O44,3)="Lib",LEFT($S44,3)="Lib",LEFT($W44,3)="Lib",LEFT($AA44,3)="Lib",LEFT($AE44,3)="Lib",LEFT($AI44,3)="Lib",LEFT($AM44,3)="Lib",LEFT($AQ44,3)="Lib"),"oui","") | L44: VACANCES SCOLAIRES | P44: VACANCES SCOLAIRES | T44: VACANCES SCOLAIRES
A45: =1+A44 -> 36 | B45: =1+B44 -> 19 | C45: b | D45: =7+D44 -> 42128 | E45: S2 | I45: =IF(AND(J45="oui",K45="oui"),"Sta+Lib",IF(J45="oui","Stade",IF(K45="oui","Lib",""))) | J45: =IF(OR(LEFT($O45,3)="sta",LEFT($S45,3)="sta",LEFT($W45,3)="sta",LEFT($AA45,3)="sta",LEFT($AE45,3)="sta",LEFT($AI45,3)="sta",LEFT($AM45,3)="sta",LEFT($AQ45,3)="sta"),"oui","") | K45: =IF(OR(LEFT($O45,3)="Lib",LEFT($S45,3)="Lib",LEFT($W45,3)="Lib",LEFT($AA45,3)="Lib",LEFT($AE45,3)="Lib",LEFT($AI45,3)="Lib",LEFT($AM45,3)="Lib",LEFT($AQ45,3)="Lib"),"oui","")
A46: =1+A45 -> 37 | B46: =1+B45 -> 20 | C46: a | D46: =7+D45 -> 42135 | E46: S2 | I46: =IF(AND(J46="oui",K46="oui"),"Sta+Lib",IF(J46="oui","Stade",IF(K46="oui","Lib",""))) | J46: =IF(OR(LEFT($O46,3)="sta",LEFT($S46,3)="sta",LEFT($W46,3)="sta",LEFT($AA46,3)="sta",LEFT($AE46,3)="sta",LEFT($AI46,3)="sta",LEFT($AM46,3)="sta",LEFT($AQ46,3)="sta"),"oui","") | K46: =IF(OR(LEFT($O46,3)="Lib",LEFT($S46,3)="Lib",LEFT($W46,3)="Lib",LEFT($AA46,3)="Lib",LEFT($AE46,3)="Lib",LEFT($AI46,3)="Lib",LEFT($AM46,3)="Lib",LEFT($AQ46,3)="Lib"),"oui","") | T46: x | U46: x | V46: x | W46: x
A47: =1+A46 -> 38 | B47: =1+B46 -> 21 | C47: b | D47: =7+D46 -> 42142 | E47: S2 | I47: =IF(AND(J47="oui",K47="oui"),"Sta+Lib",IF(J47="oui","Stade",IF(K47="oui","Lib",""))) | J47: =IF(OR(LEFT($O47,3)="sta",LEFT($S47,3)="sta",LEFT($W47,3)="sta",LEFT($AA47,3)="sta",LEFT($AE47,3)="sta",LEFT($AI47,3)="sta",LEFT($AM47,3)="sta",LEFT($AQ47,3)="sta"),"oui","") | K47: =IF(OR(LEFT($O47,3)="Lib",LEFT($S47,3)="Lib",LEFT($W47,3)="Lib",LEFT($AA47,3)="Lib",LEFT($AE47,3)="Lib",LEFT($AI47,3)="Lib",LEFT($AM47,3)="Lib",LEFT($AQ47,3)="Lib"),"oui","") | P47: x | Q47: x | R47: x | S47: x
A48: =1+A47 -> 39 | B48: =1+B47 -> 22 | C48: a | D48: =7+D47 -> 42149 | E48: S2 | I48: =IF(AND(J48="oui",K48="oui"),"Sta+Lib",IF(J48="oui","Stade",IF(K48="oui","Lib",""))) | J48: =IF(OR(LEFT($O48,3)="sta",LEFT($S48,3)="sta",LEFT($W48,3)="sta",LEFT($AA48,3)="sta",LEFT($AE48,3)="sta",LEFT($AI48,3)="sta",LEFT($AM48,3)="sta",LEFT($AQ48,3)="sta"),"oui","") | K48: =IF(OR(LEFT($O48,3)="Lib",LEFT($S48,3)="Lib",LEFT($W48,3)="Lib",LEFT($AA48,3)="Lib",LEFT($AE48,3)="Lib",LEFT($AI48,3)="Lib",LEFT($AM48,3)="Lib",LEFT($AQ48,3)="Lib"),"oui","") | L48: FERIE | P48: FERIE | T48: FERIE
A49: =1+A48 -> 40 | B49: =1+B48 -> 23 | C49: b | D49: =7+D48 -> 42156 | E49: S2 | I49: =IF(AND(J49="oui",K49="oui"),"Sta+Lib",IF(J49="oui","Stade",IF(K49="oui","Lib",""))) | J49: =IF(OR(LEFT($O49,3)="sta",LEFT($S49,3)="sta",LEFT($W49,3)="sta",LEFT($AA49,3)="sta",LEFT($AE49,3)="sta",LEFT($AI49,3)="sta",LEFT($AM49,3)="sta",LEFT($AQ49,3)="sta"),"oui","") | K49: =IF(OR(LEFT($O49,3)="Lib",LEFT($S49,3)="Lib",LEFT($W49,3)="Lib",LEFT($AA49,3)="Lib",LEFT($AE49,3)="Lib",LEFT($AI49,3)="Lib",LEFT($AM49,3)="Lib",LEFT($AQ49,3)="Lib"),"oui","") | P49: x | Q49: x | R49: x | S49: x
A50: =1+A49 -> 41 | B50: =1+B49 -> 24 | C50: a | D50: =7+D49 -> 42163 | E50: S2 | I50: =IF(AND(J50="oui",K50="oui"),"Sta+Lib",IF(J50="oui","Stade",IF(K50="oui","Lib",""))) | J50: =IF(OR(LEFT($O50,3)="sta",LEFT($S50,3)="sta",LEFT($W50,3)="sta",LEFT($AA50,3)="sta",LEFT($AE50,3)="sta",LEFT($AI50,3)="sta",LEFT($AM50,3)="sta",LEFT($AQ50,3)="sta"),"oui","") | K50: =IF(OR(LEFT($O50,3)="Lib",LEFT($S50,3)="Lib",LEFT($W50,3)="Lib",LEFT($AA50,3)="Lib",LEFT($AE50,3)="Lib",LEFT($AI50,3)="Lib",LEFT($AM50,3)="Lib",LEFT($AQ50,3)="Lib"),"oui","") | T50: x | U50: x | V50: x | W50: x
A51: =1+A50 -> 42 | B51: =1+B50 -> 25 | C51: b | D51: =7+D50 -> 42170 | E51: S2 | I51: =IF(AND(J51="oui",K51="oui"),"Sta+Lib",IF(J51="oui","Stade",IF(K51="oui","Lib",""))) | J51: =IF(OR(LEFT($O51,3)="sta",LEFT($S51,3)="sta",LEFT($W51,3)="sta",LEFT($AA51,3)="sta",LEFT($AE51,3)="sta",LEFT($AI51,3)="sta",LEFT($AM51,3)="sta",LEFT($AQ51,3)="sta"),"oui","") | K51: =IF(OR(LEFT($O51,3)="Lib",LEFT($S51,3)="Lib",LEFT($W51,3)="Lib",LEFT($AA51,3)="Lib",LEFT($AE51,3)="Lib",LEFT($AI51,3)="Lib",LEFT($AM51,3)="Lib",LEFT($AQ51,3)="Lib"),"oui","") | P51: x | Q51: x | R51: x | S51: x
A52: =1+A51 -> 43 | B52: =1+B51 -> 26 | C52: a | D52: =7+D51 -> 42177 | E52: S2 | I52: =IF(AND(J52="oui",K52="oui"),"Sta+Lib",IF(J52="oui","Stade",IF(K52="oui","Lib",""))) | J52: =IF(OR(LEFT($O52,3)="sta",LEFT($S52,3)="sta",LEFT($W52,3)="sta",LEFT($AA52,3)="sta",LEFT($AE52,3)="sta",LEFT($AI52,3)="sta",LEFT($AM52,3)="sta",LEFT($AQ52,3)="sta"),"oui","") | K52: =IF(OR(LEFT($O52,3)="Lib",LEFT($S52,3)="Lib",LEFT($W52,3)="Lib",LEFT($AA52,3)="Lib",LEFT($AE52,3)="Lib",LEFT($AI52,3)="Lib",LEFT($AM52,3)="Lib",LEFT($AQ52,3)="Lib"),"oui","") | T52: x | U52: x | V52: x | W52: x
A53: =1+A52 -> 44 | B53: =1+B52 -> 27 | C53: b | D53: =7+D52 -> 42184 | E53: S2 | I53: =IF(AND(J53="oui",K53="oui"),"Sta+Lib",IF(J53="oui","Stade",IF(K53="oui","Lib",""))) | J53: =IF(OR(LEFT($O53,3)="sta",LEFT($S53,3)="sta",LEFT($W53,3)="sta",LEFT($AA53,3)="sta",LEFT($AE53,3)="sta",LEFT($AI53,3)="sta",LEFT($AM53,3)="sta",LEFT($AQ53,3)="sta"),"oui","") | K53: =IF(OR(LEFT($O53,3)="Lib",LEFT($S53,3)="Lib",LEFT($W53,3)="Lib",LEFT($AA53,3)="Lib",LEFT($AE53,3)="Lib",LEFT($AI53,3)="Lib",LEFT($AM53,3)="Lib",LEFT($AQ53,3)="Lib"),"oui","") | P53: x | Q53: x | R53: x | S53: x
B55: LUNDI 16H00-17H50
F56: Indisponible | I56: Profs | L56: Didier | P56: Nicolas
B57: N° Sem | C57: Sem | D57: DATES | E57: Creneau | F57: Bouchard | G57: JC | H57: Coubertin | I57: Classes | L57: 1EVS | P57: TOBM
I58: Semaines | L58: A-B | P58: A-B
I59: Nb elèves | L59: 23 | P59: 15
I60: Niv Cp | L60: 3 | P60: 4
I61: 2E COURS
I62: CP
I63: Navette | J63: Stade | K63: Lib | L63: N° | M63: Niv | N63: APSA | O63: SALLE | P63: N° | Q63: Niv | R63: APSA | S63: SALLE
A64: 1 | B64: 36 | C64: a | D64: =D10 -> 41883 | E64: S4 | I64: =IF(AND(J64="oui",K64="oui"),"Sta+Lib",IF(J64="oui","Stade",IF(K64="oui","Lib",""))) | J64: =IF(OR(LEFT($O64,3)="sta",LEFT($S64,3)="sta",LEFT($W64,3)="sta",LEFT($AA64,3)="sta",LEFT($AE64,3)="sta",LEFT($AI64,3)="sta",LEFT($AM64,3)="sta",LEFT($AQ64,3)="sta"),"oui","") | K64: =IF(OR(LEFT($O64,3)="Lib",LEFT($S64,3)="Lib",LEFT($W64,3)="Lib",LEFT($AA64,3)="Lib",LEFT($AE64,3)="Lib",LEFT($AI64,3)="Lib",LEFT($AM64,3)="Lib",LEFT($AQ64,3)="Lib"),"oui","") | L64: Journée de rentrée | P64: Journée de rentrée
A65: 2 | B65: =1+B64 -> 37 | C65: b | D65: =7+D64 -> 41890 | E65: S4 | I65: =IF(AND(J65="oui",K65="oui"),"Sta+Lib",IF(J65="oui","Stade",IF(K65="oui","Lib",""))) | J65: =IF(OR(LEFT($O65,3)="sta",LEFT($S65,3)="sta",LEFT($W65,3)="sta",LEFT($AA65,3)="sta",LEFT($AE65,3)="sta",LEFT($AI65,3)="sta",LEFT($AM65,3)="sta",LEFT($AQ65,3)="sta"),"oui","") | K65: =IF(OR(LEFT($O65,3)="Lib",LEFT($S65,3)="Lib",LEFT($W65,3)="Lib",LEFT($AA65,3)="Lib",LEFT($AE65,3)="Lib",LEFT($AI65,3)="Lib",LEFT($AM65,3)="Lib",LEFT($AQ65,3)="Lib"),"oui","")
A66: =1+A65 -> 3 | B66: =1+B65 -> 38 | C66: a | D66: =7+D65 -> 41897 | E66: S4 | I66: =IF(AND(J66="oui",K66="oui"),"Sta+Lib",IF(J66="oui","Stade",IF(K66="oui","Lib",""))) | J66: =IF(OR(LEFT($O66,3)="sta",LEFT($S66,3)="sta",LEFT($W66,3)="sta",LEFT($AA66,3)="sta",LEFT($AE66,3)="sta",LEFT($AI66,3)="sta",LEFT($AM66,3)="sta",LEFT($AQ66,3)="sta"),"oui","") | K66: =IF(OR(LEFT($O66,3)="Lib",LEFT($S66,3)="Lib",LEFT($W66,3)="Lib",LEFT($AA66,3)="Lib",LEFT($AE66,3)="Lib",LEFT($AI66,3)="Lib",LEFT($AM66,3)="Lib",LEFT($AQ66,3)="Lib"),"oui","") | L66: Journée Péda | P66: Journée Péda
A67: =1+A66 -> 4 | B67: =1+B66 -> 39 | C67: b | D67: =7+D66 -> 41904 | E67: S4 | I67: =IF(AND(J67="oui",K67="oui"),"Sta+Lib",IF(J67="oui","Stade",IF(K67="oui","Lib",""))) | J67: =IF(OR(LEFT($O67,3)="sta",LEFT($S67,3)="sta",LEFT($W67,3)="sta",LEFT($AA67,3)="sta",LEFT($AE67,3)="sta",LEFT($AI67,3)="sta",LEFT($AM67,3)="sta",LEFT($AQ67,3)="sta"),"oui","") | K67: =IF(OR(LEFT($O67,3)="Lib",LEFT($S67,3)="Lib",LEFT($W67,3)="Lib",LEFT($AA67,3)="Lib",LEFT($AE67,3)="Lib",LEFT($AI67,3)="Lib",LEFT($AM67,3)="Lib",LEFT($AQ67,3)="Lib"),"oui","") | P67: STAGE
A68: =1+A67 -> 5 | B68: =1+B67 -> 40 | C68: a | D68: =7+D67 -> 41911 | E68: S4 | I68: =IF(AND(J68="oui",K68="oui"),"Sta+Lib",IF(J68="oui","Stade",IF(K68="oui","Lib",""))) | J68: =IF(OR(LEFT($O68,3)="sta",LEFT($S68,3)="sta",LEFT($W68,3)="sta",LEFT($AA68,3)="sta",LEFT($AE68,3)="sta",LEFT($AI68,3)="sta",LEFT($AM68,3)="sta",LEFT($AQ68,3)="sta"),"oui","") | K68: =IF(OR(LEFT($O68,3)="Lib",LEFT($S68,3)="Lib",LEFT($W68,3)="Lib",LEFT($AA68,3)="Lib",LEFT($AE68,3)="Lib",LEFT($AI68,3)="Lib",LEFT($AM68,3)="Lib",LEFT($AQ68,3)="Lib"),"oui","") | P68: STAGE
A69: =1+A68 -> 6 | B69: =1+B68 -> 41 | C69: b | D69: =7+D68 -> 41918 | E69: S4 | I69: =IF(AND(J69="oui",K69="oui"),"Sta+Lib",IF(J69="oui","Stade",IF(K69="oui","Lib",""))) | J69: =IF(OR(LEFT($O69,3)="sta",LEFT($S69,3)="sta",LEFT($W69,3)="sta",LEFT($AA69,3)="sta",LEFT($AE69,3)="sta",LEFT($AI69,3)="sta",LEFT($AM69,3)="sta",LEFT($AQ69,3)="sta"),"oui","") | K69: =IF(OR(LEFT($O69,3)="Lib",LEFT($S69,3)="Lib",LEFT($W69,3)="Lib",LEFT($AA69,3)="Lib",LEFT($AE69,3)="Lib",LEFT($AI69,3)="Lib",LEFT($AM69,3)="Lib",LEFT($AQ69,3)="Lib"),"oui","") | P69: STAGE
A70: =1+A69 -> 7 | B70: =1+B69 -> 42 | C70: a | D70: =7+D69 -> 41925 | E70: S4 | I70: =IF(AND(J70="oui",K70="oui"),"Sta+Lib",IF(J70="oui","Stade",IF(K70="oui","Lib",""))) | J70: =IF(OR(LEFT($O70,3)="sta",LEFT($S70,3)="sta",LEFT($W70,3)="sta",LEFT($AA70,3)="sta",LEFT($AE70,3)="sta",LEFT($AI70,3)="sta",LEFT($AM70,3)="sta",LEFT($AQ70,3)="sta"),"oui","") | K70: =IF(OR(LEFT($O70,3)="Lib",LEFT($S70,3)="Lib",LEFT($W70,3)="Lib",LEFT($AA70,3)="Lib",LEFT($AE70,3)="Lib",LEFT($AI70,3)="Lib",LEFT($AM70,3)="Lib",LEFT($AQ70,3)="Lib"),"oui","") | P70: STAGE
A71: =1+A70 -> 8 | B71: =1+B70 -> 43 | C71: b | D71: =7+D70 -> 41932 | E71: S4 | I71: =IF(AND(J71="oui",K71="oui"),"Sta+Lib",IF(J71="oui","Stade",IF(K71="oui","Lib",""))) | J71: =IF(OR(LEFT($O71,3)="sta",LEFT($S71,3)="sta",LEFT($W71,3)="sta",LEFT($AA71,3)="sta",LEFT($AE71,3)="sta",LEFT($AI71,3)="sta",LEFT($AM71,3)="sta",LEFT($AQ71,3)="sta"),"oui","") | K71: =IF(OR(LEFT($O71,3)="Lib",LEFT($S71,3)="Lib",LEFT($W71,3)="Lib",LEFT($AA71,3)="Lib",LEFT($AE71,3)="Lib",LEFT($AI71,3)="Lib",LEFT($AM71,3)="Lib",LEFT($AQ71,3)="Lib"),"oui","") | L71: VACANCES SCOLAIRES | P71: VACANCES SCOLAIRES
A72: =1+A71 -> 9 | B72: =1+B71 -> 44 | C72: a | D72: =7+D71 -> 41939 | E72: S4 | I72: =IF(AND(J72="oui",K72="oui"),"Sta+Lib",IF(J72="oui","Stade",IF(K72="oui","Lib",""))) | J72: =IF(OR(LEFT($O72,3)="sta",LEFT($S72,3)="sta",LEFT($W72,3)="sta",LEFT($AA72,3)="sta",LEFT($AE72,3)="sta",LEFT($AI72,3)="sta",LEFT($AM72,3)="sta",LEFT($AQ72,3)="sta"),"oui","") | K72: =IF(OR(LEFT($O72,3)="Lib",LEFT($S72,3)="Lib",LEFT($W72,3)="Lib",LEFT($AA72,3)="Lib",LEFT($AE72,3)="Lib",LEFT($AI72,3)="Lib",LEFT($AM72,3)="Lib",LEFT($AQ72,3)="Lib"),"oui","")
A73: =1+A72 -> 10 | B73: =1+B72 -> 45 | C73: b | D73: =7+D72 -> 41946 | E73: S4 | I73: =IF(AND(J73="oui",K73="oui"),"Sta+Lib",IF(J73="oui","Stade",IF(K73="oui","Lib",""))) | J73: =IF(OR(LEFT($O73,3)="sta",LEFT($S73,3)="sta",LEFT($W73,3)="sta",LEFT($AA73,3)="sta",LEFT($AE73,3)="sta",LEFT($AI73,3)="sta",LEFT($AM73,3)="sta",LEFT($AQ73,3)="sta"),"oui","") | K73: =IF(OR(LEFT($O73,3)="Lib",LEFT($S73,3)="Lib",LEFT($W73,3)="Lib",LEFT($AA73,3)="Lib",LEFT($AE73,3)="Lib",LEFT($AI73,3)="Lib",LEFT($AM73,3)="Lib",LEFT($AQ73,3)="Lib"),"oui","")
A74: =1+A73 -> 11 | B74: =1+B73 -> 46 | C74: a | D74: =7+D73 -> 41953 | E74: S4 | I74: =IF(AND(J74="oui",K74="oui"),"Sta+Lib",IF(J74="oui","Stade",IF(K74="oui","Lib",""))) | J74: =IF(OR(LEFT($O74,3)="sta",LEFT($S74,3)="sta",LEFT($W74,3)="sta",LEFT($AA74,3)="sta",LEFT($AE74,3)="sta",LEFT($AI74,3)="sta",LEFT($AM74,3)="sta",LEFT($AQ74,3)="sta"),"oui","") | K74: =IF(OR(LEFT($O74,3)="Lib",LEFT($S74,3)="Lib",LEFT($W74,3)="Lib",LEFT($AA74,3)="Lib",LEFT($AE74,3)="Lib",LEFT($AI74,3)="Lib",LEFT($AM74,3)="Lib",LEFT($AQ74,3)="Lib"),"oui","")
A75: =1+A74 -> 12 | B75: =1+B74 -> 47 | C75: b | D75: =7+D74 -> 41960 | E75: S4 | I75: =IF(AND(J75="oui",K75="oui"),"Sta+Lib",IF(J75="oui","Stade",IF(K75="oui","Lib",""))) | J75: =IF(OR(LEFT($O75,3)="sta",LEFT($S75,3)="sta",LEFT($W75,3)="sta",LEFT($AA75,3)="sta",LEFT($AE75,3)="sta",LEFT($AI75,3)="sta",LEFT($AM75,3)="sta",LEFT($AQ75,3)="sta"),"oui","") | K75: =IF(OR(LEFT($O75,3)="Lib",LEFT($S75,3)="Lib",LEFT($W75,3)="Lib",LEFT($AA75,3)="Lib",LEFT($AE75,3)="Lib",LEFT($AI75,3)="Lib",LEFT($AM75,3)="Lib",LEFT($AQ75,3)="Lib"),"oui","")
A76: =1+A75 -> 13 | B76: =1+B75 -> 48 | C76: a | D76: =7+D75 -> 41967 | E76: S4 | I76: =IF(AND(J76="oui",K76="oui"),"Sta+Lib",IF(J76="oui","Stade",IF(K76="oui","Lib",""))) | J76: =IF(OR(LEFT($O76,3)="sta",LEFT($S76,3)="sta",LEFT($W76,3)="sta",LEFT($AA76,3)="sta",LEFT($AE76,3)="sta",LEFT($AI76,3)="sta",LEFT($AM76,3)="sta",LEFT($AQ76,3)="sta"),"oui","") | K76: =IF(OR(LEFT($O76,3)="Lib",LEFT($S76,3)="Lib",LEFT($W76,3)="Lib",LEFT($AA76,3)="Lib",LEFT($AE76,3)="Lib",LEFT($AI76,3)="Lib",LEFT($AM76,3)="Lib",LEFT($AQ76,3)="Lib"),"oui","") | L76: STAGE
A77: =1+A76 -> 14 | B77: =1+B76 -> 49 | C77: b | D77: =7+D76 -> 41974 | E77: S4 | I77: =IF(AND(J77="oui",K77="oui"),"Sta+Lib",IF(J77="oui","Stade",IF(K77="oui","Lib",""))) | J77: =IF(OR(LEFT($O77,3)="sta",LEFT($S77,3)="sta",LEFT($W77,3)="sta",LEFT($AA77,3)="sta",LEFT($AE77,3)="sta",LEFT($AI77,3)="sta",LEFT($AM77,3)="sta",LEFT($AQ77,3)="sta"),"oui","") | K77: =IF(OR(LEFT($O77,3)="Lib",LEFT($S77,3)="Lib",LEFT($W77,3)="Lib",LEFT($AA77,3)="Lib",LEFT($AE77,3)="Lib",LEFT($AI77,3)="Lib",LEFT($AM77,3)="Lib",LEFT($AQ77,3)="Lib"),"oui","") | L77: STAGE
A78: =1+A77 -> 15 | B78: =1+B77 -> 50 | C78: a | D78: =7+D77 -> 41981 | E78: S4 | I78: =IF(AND(J78="oui",K78="oui"),"Sta+Lib",IF(J78="oui","Stade",IF(K78="oui","Lib",""))) | J78: =IF(OR(LEFT($O78,3)="sta",LEFT($S78,3)="sta",LEFT($W78,3)="sta",LEFT($AA78,3)="sta",LEFT($AE78,3)="sta",LEFT($AI78,3)="sta",LEFT($AM78,3)="sta",LEFT($AQ78,3)="sta"),"oui","") | K78: =IF(OR(LEFT($O78,3)="Lib",LEFT($S78,3)="Lib",LEFT($W78,3)="Lib",LEFT($AA78,3)="Lib",LEFT($AE78,3)="Lib",LEFT($AI78,3)="Lib",LEFT($AM78,3)="Lib",LEFT($AQ78,3)="Lib"),"oui","") | L78: STAGE
A79: =1+A78 -> 16 | B79: =1+B78 -> 51 | C79: b | D79: =7+D78 -> 41988 | E79: S4 | I79: =IF(AND(J79="oui",K79="oui"),"Sta+Lib",IF(J79="oui","Stade",IF(K79="oui","Lib",""))) | J79: =IF(OR(LEFT($O79,3)="sta",LEFT($S79,3)="sta",LEFT($W79,3)="sta",LEFT($AA79,3)="sta",LEFT($AE79,3)="sta",LEFT($AI79,3)="sta",LEFT($AM79,3)="sta",LEFT($AQ79,3)="sta"),"oui","") | K79: =IF(OR(LEFT($O79,3)="Lib",LEFT($S79,3)="Lib",LEFT($W79,3)="Lib",LEFT($AA79,3)="Lib",LEFT($AE79,3)="Lib",LEFT($AI79,3)="Lib",LEFT($AM79,3)="Lib",LEFT($AQ79,3)="Lib"),"oui","") | L79: STAGE
A80: =1+A79 -> 17 | B80: =1+B79 -> 52 | C80: a | D80: =7+D79 -> 41995 | E80: S4 | I80: =IF(AND(J80="oui",K80="oui"),"Sta+Lib",IF(J80="oui","Stade",IF(K80="oui","Lib",""))) | J80: =IF(OR(LEFT($O80,3)="sta",LEFT($S80,3)="sta",LEFT($W80,3)="sta",LEFT($AA80,3)="sta",LEFT($AE80,3)="sta",LEFT($AI80,3)="sta",LEFT($AM80,3)="sta",LEFT($AQ80,3)="sta"),"oui","") | K80: =IF(OR(LEFT($O80,3)="Lib",LEFT($S80,3)="Lib",LEFT($W80,3)="Lib",LEFT($AA80,3)="Lib",LEFT($AE80,3)="Lib",LEFT($AI80,3)="Lib",LEFT($AM80,3)="Lib",LEFT($AQ80,3)="Lib"),"oui","") | L80: VACANCES SCOLAIRES | P80: VACANCES SCOLAIRES
A81: =1+A80 -> 18 | B81: 1 | C81: b | D81: =7+D80 -> 42002 | E81: S4 | I81: =IF(AND(J81="oui",K81="oui"),"Sta+Lib",IF(J81="oui","Stade",IF(K81="oui","Lib",""))) | J81: =IF(OR(LEFT($O81,3)="sta",LEFT($S81,3)="sta",LEFT($W81,3)="sta",LEFT($AA81,3)="sta",LEFT($AE81,3)="sta",LEFT($AI81,3)="sta",LEFT($AM81,3)="sta",LEFT($AQ81,3)="sta"),"oui","") | K81: =IF(OR(LEFT($O81,3)="Lib",LEFT($S81,3)="Lib",LEFT($W81,3)="Lib",LEFT($AA81,3)="Lib",LEFT($AE81,3)="Lib",LEFT($AI81,3)="Lib",LEFT($AM81,3)="Lib",LEFT($AQ81,3)="Lib"),"oui","")
A82: =1+A81 -> 19 | B82: =1+B81 -> 2 | C82: a | D82: =7+D81 -> 42009 | E82: S4 | I82: =IF(AND(J82="oui",K82="oui"),"Sta+Lib",IF(J82="oui","Stade",IF(K82="oui","Lib",""))) | J82: =IF(OR(LEFT($O82,3)="sta",LEFT($S82,3)="sta",LEFT($W82,3)="sta",LEFT($AA82,3)="sta",LEFT($AE82,3)="sta",LEFT($AI82,3)="sta",LEFT($AM82,3)="sta",LEFT($AQ82,3)="sta"),"oui","") | K82: =IF(OR(LEFT($O82,3)="Lib",LEFT($S82,3)="Lib",LEFT($W82,3)="Lib",LEFT($AA82,3)="Lib",LEFT($AE82,3)="Lib",LEFT($AI82,3)="Lib",LEFT($AM82,3)="Lib",LEFT($AQ82,3)="Lib"),"oui","")
A83: =1+A82 -> 20 | B83: =1+B82 -> 3 | C83: b | D83: =7+D82 -> 42016 | E83: S4 | I83: =IF(AND(J83="oui",K83="oui"),"Sta+Lib",IF(J83="oui","Stade",IF(K83="oui","Lib",""))) | J83: =IF(OR(LEFT($O83,3)="sta",LEFT($S83,3)="sta",LEFT($W83,3)="sta",LEFT($AA83,3)="sta",LEFT($AE83,3)="sta",LEFT($AI83,3)="sta",LEFT($AM83,3)="sta",LEFT($AQ83,3)="sta"),"oui","") | K83: =IF(OR(LEFT($O83,3)="Lib",LEFT($S83,3)="Lib",LEFT($W83,3)="Lib",LEFT($AA83,3)="Lib",LEFT($AE83,3)="Lib",LEFT($AI83,3)="Lib",LEFT($AM83,3)="Lib",LEFT($AQ83,3)="Lib"),"oui","")
A84: =1+A83 -> 21 | B84: =1+B83 -> 4 | C84: a | D84: =7+D83 -> 42023 | E84: S4 | I84: =IF(AND(J84="oui",K84="oui"),"Sta+Lib",IF(J84="oui","Stade",IF(K84="oui","Lib",""))) | J84: =IF(OR(LEFT($O84,3)="sta",LEFT($S84,3)="sta",LEFT($W84,3)="sta",LEFT($AA84,3)="sta",LEFT($AE84,3)="sta",LEFT($AI84,3)="sta",LEFT($AM84,3)="sta",LEFT($AQ84,3)="sta"),"oui","") | K84: =IF(OR(LEFT($O84,3)="Lib",LEFT($S84,3)="Lib",LEFT($W84,3)="Lib",LEFT($AA84,3)="Lib",LEFT($AE84,3)="Lib",LEFT($AI84,3)="Lib",LEFT($AM84,3)="Lib",LEFT($AQ84,3)="Lib"),"oui","")
A85: =1+A84 -> 22 | B85: =1+B84 -> 5 | C85: b | D85: =7+D84 -> 42030 | E85: S4 | I85: =IF(AND(J85="oui",K85="oui"),"Sta+Lib",IF(J85="oui","Stade",IF(K85="oui","Lib",""))) | J85: =IF(OR(LEFT($O85,3)="sta",LEFT($S85,3)="sta",LEFT($W85,3)="sta",LEFT($AA85,3)="sta",LEFT($AE85,3)="sta",LEFT($AI85,3)="sta",LEFT($AM85,3)="sta",LEFT($AQ85,3)="sta"),"oui","") | K85: =IF(OR(LEFT($O85,3)="Lib",LEFT($S85,3)="Lib",LEFT($W85,3)="Lib",LEFT($AA85,3)="Lib",LEFT($AE85,3)="Lib",LEFT($AI85,3)="Lib",LEFT($AM85,3)="Lib",LEFT($AQ85,3)="Lib"),"oui","")
A86: =1+A85 -> 23 | B86: =1+B85 -> 6 | C86: a | D86: =7+D85 -> 42037 | E86: S4 | I86: =IF(AND(J86="oui",K86="oui"),"Sta+Lib",IF(J86="oui","Stade",IF(K86="oui","Lib",""))) | J86: =IF(OR(LEFT($O86,3)="sta",LEFT($S86,3)="sta",LEFT($W86,3)="sta",LEFT($AA86,3)="sta",LEFT($AE86,3)="sta",LEFT($AI86,3)="sta",LEFT($AM86,3)="sta",LEFT($AQ86,3)="sta"),"oui","") | K86: =IF(OR(LEFT($O86,3)="Lib",LEFT($S86,3)="Lib",LEFT($W86,3)="Lib",LEFT($AA86,3)="Lib",LEFT($AE86,3)="Lib",LEFT($AI86,3)="Lib",LEFT($AM86,3)="Lib",LEFT($AQ86,3)="Lib"),"oui","")
A87: =1+A86 -> 24 | B87: =1+B86 -> 7 | C87: b | D87: =7+D86 -> 42044 | E87: S4 | I87: =IF(AND(J87="oui",K87="oui"),"Sta+Lib",IF(J87="oui","Stade",IF(K87="oui","Lib",""))) | J87: =IF(OR(LEFT($O87,3)="sta",LEFT($S87,3)="sta",LEFT($W87,3)="sta",LEFT($AA87,3)="sta",LEFT($AE87,3)="sta",LEFT($AI87,3)="sta",LEFT($AM87,3)="sta",LEFT($AQ87,3)="sta"),"oui","") | K87: =IF(OR(LEFT($O87,3)="Lib",LEFT($S87,3)="Lib",LEFT($W87,3)="Lib",LEFT($AA87,3)="Lib",LEFT($AE87,3)="Lib",LEFT($AI87,3)="Lib",LEFT($AM87,3)="Lib",LEFT($AQ87,3)="Lib"),"oui","")
A88: =1+A87 -> 25 | B88: =1+B87 -> 8 | C88: a | D88: =7+D87 -> 42051 | E88: S4 | I88: =IF(AND(J88="oui",K88="oui"),"Sta+Lib",IF(J88="oui","Stade",IF(K88="oui","Lib",""))) | J88: =IF(OR(LEFT($O88,3)="sta",LEFT($S88,3)="sta",LEFT($W88,3)="sta",LEFT($AA88,3)="sta",LEFT($AE88,3)="sta",LEFT($AI88,3)="sta",LEFT($AM88,3)="sta",LEFT($AQ88,3)="sta"),"oui","") | K88: =IF(OR(LEFT($O88,3)="Lib",LEFT($S88,3)="Lib",LEFT($W88,3)="Lib",LEFT($AA88,3)="Lib",LEFT($AE88,3)="Lib",LEFT($AI88,3)="Lib",LEFT($AM88,3)="Lib",LEFT($AQ88,3)="Lib"),"oui","")
A89: =1+A88 -> 26 | B89: =1+B88 -> 9 | C89: b | D89: =7+D88 -> 42058 | E89: S4 | I89: =IF(AND(J89="oui",K89="oui"),"Sta+Lib",IF(J89="oui","Stade",IF(K89="oui","Lib",""))) | J89: =IF(OR(LEFT($O89,3)="sta",LEFT($S89,3)="sta",LEFT($W89,3)="sta",LEFT($AA89,3)="sta",LEFT($AE89,3)="sta",LEFT($AI89,3)="sta",LEFT($AM89,3)="sta",LEFT($AQ89,3)="sta"),"oui","") | K89: =IF(OR(LEFT($O89,3)="Lib",LEFT($S89,3)="Lib",LEFT($W89,3)="Lib",LEFT($AA89,3)="Lib",LEFT($AE89,3)="Lib",LEFT($AI89,3)="Lib",LEFT($AM89,3)="Lib",LEFT($AQ89,3)="Lib"),"oui","") | L89: VACANCES SCOLAIRES | P89: VACANCES SCOLAIRES
A90: =1+A89 -> 27 | B90: =1+B89 -> 10 | C90: a | D90: =7+D89 -> 42065 | E90: S4 | I90: =IF(AND(J90="oui",K90="oui"),"Sta+Lib",IF(J90="oui","Stade",IF(K90="oui","Lib",""))) | J90: =IF(OR(LEFT($O90,3)="sta",LEFT($S90,3)="sta",LEFT($W90,3)="sta",LEFT($AA90,3)="sta",LEFT($AE90,3)="sta",LEFT($AI90,3)="sta",LEFT($AM90,3)="sta",LEFT($AQ90,3)="sta"),"oui","") | K90: =IF(OR(LEFT($O90,3)="Lib",LEFT($S90,3)="Lib",LEFT($W90,3)="Lib",LEFT($AA90,3)="Lib",LEFT($AE90,3)="Lib",LEFT($AI90,3)="Lib",LEFT($AM90,3)="Lib",LEFT($AQ90,3)="Lib"),"oui","")
A91: =1+A90 -> 28 | B91: =1+B90 -> 11 | C91: b | D91: =7+D90 -> 42072 | E91: S4 | I91: =IF(AND(J91="oui",K91="oui"),"Sta+Lib",IF(J91="oui","Stade",IF(K91="oui","Lib",""))) | J91: =IF(OR(LEFT($O91,3)="sta",LEFT($S91,3)="sta",LEFT($W91,3)="sta",LEFT($AA91,3)="sta",LEFT($AE91,3)="sta",LEFT($AI91,3)="sta",LEFT($AM91,3)="sta",LEFT($AQ91,3)="sta"),"oui","") | K91: =IF(OR(LEFT($O91,3)="Lib",LEFT($S91,3)="Lib",LEFT($W91,3)="Lib",LEFT($AA91,3)="Lib",LEFT($AE91,3)="Lib",LEFT($AI91,3)="Lib",LEFT($AM91,3)="Lib",LEFT($AQ91,3)="Lib"),"oui","")
A92: =1+A91 -> 29 | B92: =1+B91 -> 12 | C92: a | D92: =7+D91 -> 42079 | E92: S4 | I92: =IF(AND(J92="oui",K92="oui"),"Sta+Lib",IF(J92="oui","Stade",IF(K92="oui","Lib",""))) | J92: =IF(OR(LEFT($O92,3)="sta",LEFT($S92,3)="sta",LEFT($W92,3)="sta",LEFT($AA92,3)="sta",LEFT($AE92,3)="sta",LEFT($AI92,3)="sta",LEFT($AM92,3)="sta",LEFT($AQ92,3)="sta"),"oui","") | K92: =IF(OR(LEFT($O92,3)="Lib",LEFT($S92,3)="Lib",LEFT($W92,3)="Lib",LEFT($AA92,3)="Lib",LEFT($AE92,3)="Lib",LEFT($AI92,3)="Lib",LEFT($AM92,3)="Lib",LEFT($AQ92,3)="Lib"),"oui","")
A93: =1+A92 -> 30 | B93: =1+B92 -> 13 | C93: b | D93: =7+D92 -> 42086 | E93: S4 | I93: =IF(AND(J93="oui",K93="oui"),"Sta+Lib",IF(J93="oui","Stade",IF(K93="oui","Lib",""))) | J93: =IF(OR(LEFT($O93,3)="sta",LEFT($S93,3)="sta",LEFT($W93,3)="sta",LEFT($AA93,3)="sta",LEFT($AE93,3)="sta",LEFT($AI93,3)="sta",LEFT($AM93,3)="sta",LEFT($AQ93,3)="sta"),"oui","") | K93: =IF(OR(LEFT($O93,3)="Lib",LEFT($S93,3)="Lib",LEFT($W93,3)="Lib",LEFT($AA93,3)="Lib",LEFT($AE93,3)="Lib",LEFT($AI93,3)="Lib",LEFT($AM93,3)="Lib",LEFT($AQ93,3)="Lib"),"oui","")
A94: =1+A93 -> 31 | B94: =1+B93 -> 14 | C94: a | D94: =7+D93 -> 42093 | E94: S4 | I94: =IF(AND(J94="oui",K94="oui"),"Sta+Lib",IF(J94="oui","Stade",IF(K94="oui","Lib",""))) | J94: =IF(OR(LEFT($O94,3)="sta",LEFT($S94,3)="sta",LEFT($W94,3)="sta",LEFT($AA94,3)="sta",LEFT($AE94,3)="sta",LEFT($AI94,3)="sta",LEFT($AM94,3)="sta",LEFT($AQ94,3)="sta"),"oui","") | K94: =IF(OR(LEFT($O94,3)="Lib",LEFT($S94,3)="Lib",LEFT($W94,3)="Lib",LEFT($AA94,3)="Lib",LEFT($AE94,3)="Lib",LEFT($AI94,3)="Lib",LEFT($AM94,3)="Lib",LEFT($AQ94,3)="Lib"),"oui","") | P94: STAGE
A95: =1+A94 -> 32 | B95: =1+B94 -> 15 | C95: b | D95: =7+D94 -> 42100 | E95: S4 | I95: =IF(AND(J95="oui",K95="oui"),"Sta+Lib",IF(J95="oui","Stade",IF(K95="oui","Lib",""))) | J95: =IF(OR(LEFT($O95,3)="sta",LEFT($S95,3)="sta",LEFT($W95,3)="sta",LEFT($AA95,3)="sta",LEFT($AE95,3)="sta",LEFT($AI95,3)="sta",LEFT($AM95,3)="sta",LEFT($AQ95,3)="sta"),"oui","") | K95: =IF(OR(LEFT($O95,3)="Lib",LEFT($S95,3)="Lib",LEFT($W95,3)="Lib",LEFT($AA95,3)="Lib",LEFT($AE95,3)="Lib",LEFT($AI95,3)="Lib",LEFT($AM95,3)="Lib",LEFT($AQ95,3)="Lib"),"oui","") | L95: FERIE | P95: FERIE
A96: =1+A95 -> 33 | B96: =1+B95 -> 16 | C96: a | D96: =7+D95 -> 42107 | E96: S4 | I96: =IF(AND(J96="oui",K96="oui"),"Sta+Lib",IF(J96="oui","Stade",IF(K96="oui","Lib",""))) | J96: =IF(OR(LEFT($O96,3)="sta",LEFT($S96,3)="sta",LEFT($W96,3)="sta",LEFT($AA96,3)="sta",LEFT($AE96,3)="sta",LEFT($AI96,3)="sta",LEFT($AM96,3)="sta",LEFT($AQ96,3)="sta"),"oui","") | K96: =IF(OR(LEFT($O96,3)="Lib",LEFT($S96,3)="Lib",LEFT($W96,3)="Lib",LEFT($AA96,3)="Lib",LEFT($AE96,3)="Lib",LEFT($AI96,3)="Lib",LEFT($AM96,3)="Lib",LEFT($AQ96,3)="Lib"),"oui","") | P96: STAGE
A97: =1+A96 -> 34 | B97: =1+B96 -> 17 | C97: b | D97: =7+D96 -> 42114 | E97: S4 | I97: =IF(AND(J97="oui",K97="oui"),"Sta+Lib",IF(J97="oui","Stade",IF(K97="oui","Lib",""))) | J97: =IF(OR(LEFT($O97,3)="sta",LEFT($S97,3)="sta",LEFT($W97,3)="sta",LEFT($AA97,3)="sta",LEFT($AE97,3)="sta",LEFT($AI97,3)="sta",LEFT($AM97,3)="sta",LEFT($AQ97,3)="sta"),"oui","") | K97: =IF(OR(LEFT($O97,3)="Lib",LEFT($S97,3)="Lib",LEFT($W97,3)="Lib",LEFT($AA97,3)="Lib",LEFT($AE97,3)="Lib",LEFT($AI97,3)="Lib",LEFT($AM97,3)="Lib",LEFT($AQ97,3)="Lib"),"oui","") | P97: STAGE
A98: =1+A97 -> 35 | B98: =1+B97 -> 18 | C98: a | D98: =7+D97 -> 42121 | E98: S4 | I98: =IF(AND(J98="oui",K98="oui"),"Sta+Lib",IF(J98="oui","Stade",IF(K98="oui","Lib",""))) | J98: =IF(OR(LEFT($O98,3)="sta",LEFT($S98,3)="sta",LEFT($W98,3)="sta",LEFT($AA98,3)="sta",LEFT($AE98,3)="sta",LEFT($AI98,3)="sta",LEFT($AM98,3)="sta",LEFT($AQ98,3)="sta"),"oui","") | K98: =IF(OR(LEFT($O98,3)="Lib",LEFT($S98,3)="Lib",LEFT($W98,3)="Lib",LEFT($AA98,3)="Lib",LEFT($AE98,3)="Lib",LEFT($AI98,3)="Lib",LEFT($AM98,3)="Lib",LEFT($AQ98,3)="Lib"),"oui","") | L98: VACANCES SCOLAIRES | P98: VACANCES SCOLAIRES
A99: =1+A98 -> 36 | B99: =1+B98 -> 19 | C99: b | D99: =7+D98 -> 42128 | E99: S4 | I99: =IF(AND(J99="oui",K99="oui"),"Sta+Lib",IF(J99="oui","Stade",IF(K99="oui","Lib",""))) | J99: =IF(OR(LEFT($O99,3)="sta",LEFT($S99,3)="sta",LEFT($W99,3)="sta",LEFT($AA99,3)="sta",LEFT($AE99,3)="sta",LEFT($AI99,3)="sta",LEFT($AM99,3)="sta",LEFT($AQ99,3)="sta"),"oui","") | K99: =IF(OR(LEFT($O99,3)="Lib",LEFT($S99,3)="Lib",LEFT($W99,3)="Lib",LEFT($AA99,3)="Lib",LEFT($AE99,3)="Lib",LEFT($AI99,3)="Lib",LEFT($AM99,3)="Lib",LEFT($AQ99,3)="Lib"),"oui","")
A100: =1+A99 -> 37 | B100: =1+B99 -> 20 | C100: a | D100: =7+D99 -> 42135 | E100: S4 | I100: =IF(AND(J100="oui",K100="oui"),"Sta+Lib",IF(J100="oui","Stade",IF(K100="oui","Lib",""))) | J100: =IF(OR(LEFT($O100,3)="sta",LEFT($S100,3)="sta",LEFT($W100,3)="sta",LEFT($AA100,3)="sta",LEFT($AE100,3)="sta",LEFT($AI100,3)="sta",LEFT($AM100,3)="sta",LEFT($AQ100,3)="sta"),"oui","") | K100: =IF(OR(LEFT($O100,3)="Lib",LEFT($S100,3)="Lib",LEFT($W100,3)="Lib",LEFT($AA100,3)="Lib",LEFT($AE100,3)="Lib",LEFT($AI100,3)="Lib",LEFT($AM100,3)="Lib",LEFT($AQ100,3)="Lib"),"oui","")
A101: =1+A100 -> 38 | B101: =1+B100 -> 21 | C101: b | D101: =7+D100 -> 42142 | E101: S4 | I101: =IF(AND(J101="oui",K101="oui"),"Sta+Lib",IF(J101="oui","Stade",IF(K101="oui","Lib",""))) | J101: =IF(OR(LEFT($O101,3)="sta",LEFT($S101,3)="sta",LEFT($W101,3)="sta",LEFT($AA101,3)="sta",LEFT($AE101,3)="sta",LEFT($AI101,3)="sta",LEFT($AM101,3)="sta",LEFT($AQ101,3)="sta"),"oui","") | K101: =IF(OR(LEFT($O101,3)="Lib",LEFT($S101,3)="Lib",LEFT($W101,3)="Lib",LEFT($AA101,3)="Lib",LEFT($AE101,3)="Lib",LEFT($AI101,3)="Lib",LEFT($AM101,3)="Lib",LEFT($AQ101,3)="Lib"),"oui","")
...

Sheet MARDI-AM
B1: MARDI 8H35-10H25
F2: Indisponible | I2: Profs
B3: N° Sem | C3: Sem | D3: DATES | E3: Creneau | F3: Bouchard | G3: JC | H3: Coubertin | I3: Classes
I4: Semaines
I5: Nb elèves
I6: Niv Cp
I7: 2E COURS
I8: CP
I9: Navette | J9: Stade | K9: Lib | L9: Stade | M9: Lib
A10: 1 | B10: 36 | C10: a | D10: 41884 | E10: M1 | I10: =IF(AND(J10="oui",K10="oui"),"Sta+Lib",IF(J10="oui","Stade",IF(K10="oui","Lib",""))) | J10: =IF(OR(LEFT($O10,3)="sta",LEFT($S10,3)="sta",LEFT($W10,3)="sta",LEFT($AA10,3)="sta",LEFT($AE10,3)="sta",LEFT($AI10,3)="sta",LEFT($AM10,3)="sta",LEFT($AQ10,3)="sta"),"oui","") | K10: =IF(OR(LEFT($O10,3)="Lib",LEFT($S10,3)="Lib",LEFT($W10,3)="Lib",LEFT($AA10,3)="Lib",LEFT($AE10,3)="Lib",LEFT($AI10,3)="Lib",LEFT($AM10,3)="Lib",LEFT($AQ10,3)="Lib"),"oui","") | L10: =IF(OR(LEFT($O10,3)="sta",LEFT($S10,3)="sta",LEFT($W10,3)="sta",LEFT($AA10,3)="sta",LEFT($AE10,3)="sta",LEFT($AI10,3)="sta",LEFT($AM10,3)="sta",LEFT($AQ10,3)="sta"),"oui","") | M10: =IF(OR(LEFT($O10,3)="Lib",LEFT($S10,3)="Lib",LEFT($W10,3)="Lib",LEFT($AA10,3)="Lib",LEFT($AE10,3)="Lib",LEFT($AI10,3)="Lib",LEFT($AM10,3)="Lib",LEFT($AQ10,3)="Lib"),"oui","")
A11: =1+A10 -> 2 | B11: =1+B10 -> 37 | C11: b | D11: =7+D10 -> 41891 | E11: M1 | I11: =IF(AND(J11="oui",K11="oui"),"Sta+Lib",IF(J11="oui","Stade",IF(K11="oui","Lib",""))) | J11: =IF(OR(LEFT($O11,3)="sta",LEFT($S11,3)="sta",LEFT($W11,3)="sta",LEFT($AA11,3)="sta",LEFT($AE11,3)="sta",LEFT($AI11,3)="sta",LEFT($AM11,3)="sta",LEFT($AQ11,3)="sta"),"oui","") | K11: =IF(OR(LEFT($O11,3)="Lib",LEFT($S11,3)="Lib",LEFT($W11,3)="Lib",LEFT($AA11,3)="Lib",LEFT($AE11,3)="Lib",LEFT($AI11,3)="Lib",LEFT($AM11,3)="Lib",LEFT($AQ11,3)="Lib"),"oui","") | L11: =IF(OR(LEFT($O11,3)="sta",LEFT($S11,3)="sta",LEFT($W11,3)="sta",LEFT($AA11,3)="sta",LEFT($AE11,3)="sta",LEFT($AI11,3)="sta",LEFT($AM11,3)="sta",LEFT($AQ11,3)="sta"),"oui","") | M11: =IF(OR(LEFT($O11,3)="Lib",LEFT($S11,3)="Lib",LEFT($W11,3)="Lib",LEFT($AA11,3)="Lib",LEFT($AE11,3)="Lib",LEFT($AI11,3)="Lib",LEFT($AM11,3)="Lib",LEFT($AQ11,3)="Lib"),"oui","")
A12: =1+A11 -> 3 | B12: =1+B11 -> 38 | C12: a | D12: =7+D11 -> 41898 | E12: M1 | I12: =IF(AND(J12="oui",K12="oui"),"Sta+Lib",IF(J12="oui","Stade",IF(K12="oui","Lib",""))) | J12: =IF(OR(LEFT($O12,3)="sta",LEFT($S12,3)="sta",LEFT($W12,3)="sta",LEFT($AA12,3)="sta",LEFT($AE12,3)="sta",LEFT($AI12,3)="sta",LEFT($AM12,3)="sta",LEFT($AQ12,3)="sta"),"oui","") | K12: =IF(OR(LEFT($O12,3)="Lib",LEFT($S12,3)="Lib",LEFT($W12,3)="Lib",LEFT($AA12,3)="Lib",LEFT($AE12,3)="Lib",LEFT($AI12,3)="Lib",LEFT($AM12,3)="Lib",LEFT($AQ12,3)="Lib"),"oui","") | L12: =IF(OR(LEFT($O12,3)="sta",LEFT($S12,3)="sta",LEFT($W12,3)="sta",LEFT($AA12,3)="sta",LEFT($AE12,3)="sta",LEFT($AI12,3)="sta",LEFT($AM12,3)="sta",LEFT($AQ12,3)="sta"),"oui","") | M12: =IF(OR(LEFT($O12,3)="Lib",LEFT($S12,3)="Lib",LEFT($W12,3)="Lib",LEFT($AA12,3)="Lib",LEFT($AE12,3)="Lib",LEFT($AI12,3)="Lib",LEFT($AM12,3)="Lib",LEFT($AQ12,3)="Lib"),"oui","")
A13: =1+A12 -> 4 | B13: =1+B12 -> 39 | C13: b | D13: =7+D12 -> 41905 | E13: M1 | I13: =IF(AND(J13="oui",K13="oui"),"Sta+Lib",IF(J13="oui","Stade",IF(K13="oui","Lib",""))) | J13: =IF(OR(LEFT($O13,3)="sta",LEFT($S13,3)="sta",LEFT($W13,3)="sta",LEFT($AA13,3)="sta",LEFT($AE13,3)="sta",LEFT($AI13,3)="sta",LEFT($AM13,3)="sta",LEFT($AQ13,3)="sta"),"oui","") | K13: =IF(OR(LEFT($O13,3)="Lib",LEFT($S13,3)="Lib",LEFT($W13,3)="Lib",LEFT($AA13,3)="Lib",LEFT($AE13,3)="Lib",LEFT($AI13,3)="Lib",LEFT($AM13,3)="Lib",LEFT($AQ13,3)="Lib"),"oui","") | L13: =IF(OR(LEFT($O13,3)="sta",LEFT($S13,3)="sta",LEFT($W13,3)="sta",LEFT($AA13,3)="sta",LEFT($AE13,3)="sta",LEFT($AI13,3)="sta",LEFT($AM13,3)="sta",LEFT($AQ13,3)="sta"),"oui","") | M13: =IF(OR(LEFT($O13,3)="Lib",LEFT($S13,3)="Lib",LEFT($W13,3)="Lib",LEFT($AA13,3)="Lib",LEFT($AE13,3)="Lib",LEFT($AI13,3)="Lib",LEFT($AM13,3)="Lib",LEFT($AQ13,3)="Lib"),"oui","")
A14: =1+A13 -> 5 | B14: =1+B13 -> 40 | C14: a | D14: =7+D13 -> 41912 | E14: M1 | I14: =IF(AND(J14="oui",K14="oui"),"Sta+Lib",IF(J14="oui","Stade",IF(K14="oui","Lib",""))) | J14: =IF(OR(LEFT($O14,3)="sta",LEFT($S14,3)="sta",LEFT($W14,3)="sta",LEFT($AA14,3)="sta",LEFT($AE14,3)="sta",LEFT($AI14,3)="sta",LEFT($AM14,3)="sta",LEFT($AQ14,3)="sta"),"oui","") | K14: =IF(OR(LEFT($O14,3)="Lib",LEFT($S14,3)="Lib",LEFT($W14,3)="Lib",LEFT($AA14,3)="Lib",LEFT($AE14,3)="Lib",LEFT($AI14,3)="Lib",LEFT($AM14,3)="Lib",LEFT($AQ14,3)="Lib"),"oui","") | L14: =IF(OR(LEFT($O14,3)="sta",LEFT($S14,3)="sta",LEFT($W14,3)="sta",LEFT($AA14,3)="sta",LEFT($AE14,3)="sta",LEFT($AI14,3)="sta",LEFT($AM14,3)="sta",LEFT($AQ14,3)="sta"),"oui","") | M14: =IF(OR(LEFT($O14,3)="Lib",LEFT($S14,3)="Lib",LEFT($W14,3)="Lib",LEFT($AA14,3)="Lib",LEFT($AE14,3)="Lib",LEFT($AI14,3)="Lib",LEFT($AM14,3)="Lib",LEFT($AQ14,3)="Lib"),"oui","")
A15: =1+A14 -> 6 | B15: =1+B14 -> 41 | C15: b | D15: =7+D14 -> 41919 | E15: M1 | I15: =IF(AND(J15="oui",K15="oui"),"Sta+Lib",IF(J15="oui","Stade",IF(K15="oui","Lib",""))) | J15: =IF(OR(LEFT($O15,3)="sta",LEFT($S15,3)="sta",LEFT($W15,3)="sta",LEFT($AA15,3)="sta",LEFT($AE15,3)="sta",LEFT($AI15,3)="sta",LEFT($AM15,3)="sta",LEFT($AQ15,3)="sta"),"oui","") | K15: =IF(OR(LEFT($O15,3)="Lib",LEFT($S15,3)="Lib",LEFT($W15,3)="Lib",LEFT($AA15,3)="Lib",LEFT($AE15,3)="Lib",LEFT($AI15,3)="Lib",LEFT($AM15,3)="Lib",LEFT($AQ15,3)="Lib"),"oui","") | L15: =IF(OR(LEFT($O15,3)="sta",LEFT($S15,3)="sta",LEFT($W15,3)="sta",LEFT($AA15,3)="sta",LEFT($AE15,3)="sta",LEFT($AI15,3)="sta",LEFT($AM15,3)="sta",LEFT($AQ15,3)="sta"),"oui","") | M15: =IF(OR(LEFT($O15,3)="Lib",LEFT($S15,3)="Lib",LEFT($W15,3)="Lib",LEFT($AA15,3)="Lib",LEFT($AE15,3)="Lib",LEFT($AI15,3)="Lib",LEFT($AM15,3)="Lib",LEFT($AQ15,3)="Lib"),"oui","")
A16: =1+A15 -> 7 | B16: =1+B15 -> 42 | C16: a | D16: =7+D15 -> 41926 | E16: M1 | I16: =IF(AND(J16="oui",K16="oui"),"Sta+Lib",IF(J16="oui","Stade",IF(K16="oui","Lib",""))) | J16: =IF(OR(LEFT($O16,3)="sta",LEFT($S16,3)="sta",LEFT($W16,3)="sta",LEFT($AA16,3)="sta",LEFT($AE16,3)="sta",LEFT($AI16,3)="sta",LEFT($AM16,3)="sta",LEFT($AQ16,3)="sta"),"oui","") | K16: =IF(OR(LEFT($O16,3)="Lib",LEFT($S16,3)="Lib",LEFT($W16,3)="Lib",LEFT($AA16,3)="Lib",LEFT($AE16,3)="Lib",LEFT($AI16,3)="Lib",LEFT($AM16,3)="Lib",LEFT($AQ16,3)="Lib"),"oui","") | L16: =IF(OR(LEFT($O16,3)="sta",LEFT($S16,3)="sta",LEFT($W16,3)="sta",LEFT($AA16,3)="sta",LEFT($AE16,3)="sta",LEFT($AI16,3)="sta",LEFT($AM16,3)="sta",LEFT($AQ16,3)="sta"),"oui","") | M16: =IF(OR(LEFT($O16,3)="Lib",LEFT($S16,3)="Lib",LEFT($W16,3)="Lib",LEFT($AA16,3)="Lib",LEFT($AE16,3)="Lib",LEFT($AI16,3)="Lib",LEFT($AM16,3)="Lib",LEFT($AQ16,3)="Lib"),"oui","")
A17: =1+A16 -> 8 | B17: =1+B16 -> 43 | C17: b | D17: =7+D16 -> 41933 | E17: M1 | I17: =IF(AND(J17="oui",K17="oui"),"Sta+Lib",IF(J17="oui","Stade",IF(K17="oui","Lib",""))) | J17: =IF(OR(LEFT($O17,3)="sta",LEFT($S17,3)="sta",LEFT($W17,3)="sta",LEFT($AA17,3)="sta",LEFT($AE17,3)="sta",LEFT($AI17,3)="sta",LEFT($AM17,3)="sta",LEFT($AQ17,3)="sta"),"oui","") | K17: =IF(OR(LEFT($O17,3)="Lib",LEFT($S17,3)="Lib",LEFT($W17,3)="Lib",LEFT($AA17,3)="Lib",LEFT($AE17,3)="Lib",LEFT($AI17,3)="Lib",LEFT($AM17,3)="Lib",LEFT($AQ17,3)="Lib"),"oui","")
A18: =1+A17 -> 9 | B18: =1+B17 -> 44 | C18: a | D18: =7+D17 -> 41940 | E18: M1 | I18: =IF(AND(J18="oui",K18="oui"),"Sta+Lib",IF(J18="oui","Stade",IF(K18="oui","Lib",""))) | J18: =IF(OR(LEFT($O18,3)="sta",LEFT($S18,3)="sta",LEFT($W18,3)="sta",LEFT($AA18,3)="sta",LEFT($AE18,3)="sta",LEFT($AI18,3)="sta",LEFT($AM18,3)="sta",LEFT($AQ18,3)="sta"),"oui","") | K18: =IF(OR(LEFT($O18,3)="Lib",LEFT($S18,3)="Lib",LEFT($W18,3)="Lib",LEFT($AA18,3)="Lib",LEFT($AE18,3)="Lib",LEFT($AI18,3)="Lib",LEFT($AM18,3)="Lib",LEFT($AQ18,3)="Lib"),"oui","")
A19: =1+A18 -> 10 | B19: =1+B18 -> 45 | C19: b | D19: =7+D18 -> 41947 | E19: M1 | I19: =IF(AND(J19="oui",K19="oui"),"Sta+Lib",IF(J19="oui","Stade",IF(K19="oui","Lib",""))) | J19: =IF(OR(LEFT($O19,3)="sta",LEFT($S19,3)="sta",LEFT($W19,3)="sta",LEFT($AA19,3)="sta",LEFT($AE19,3)="sta",LEFT($AI19,3)="sta",LEFT($AM19,3)="sta",LEFT($AQ19,3)="sta"),"oui","") | K19: =IF(OR(LEFT($O19,3)="Lib",LEFT($S19,3)="Lib",LEFT($W19,3)="Lib",LEFT($AA19,3)="Lib",LEFT($AE19,3)="Lib",LEFT($AI19,3)="Lib",LEFT($AM19,3)="Lib",LEFT($AQ19,3)="Lib"),"oui","") | L19: =IF(OR(LEFT($O19,3)="sta",LEFT($S19,3)="sta",LEFT($W19,3)="sta",LEFT($AA19,3)="sta",LEFT($AE19,3)="sta",LEFT($AI19,3)="sta",LEFT($AM19,3)="sta",LEFT($AQ19,3)="sta"),"oui","") | M19: =IF(OR(LEFT($O19,3)="Lib",LEFT($S19,3)="Lib",LEFT($W19,3)="Lib",LEFT($AA19,3)="Lib",LEFT($AE19,3)="Lib",LEFT($AI19,3)="Lib",LEFT($AM19,3)="Lib",LEFT($AQ19,3)="Lib"),"oui","")
A20: =1+A19 -> 11 | B20: =1+B19 -> 46 | C20: a | D20: =7+D19 -> 41954 | E20: M1 | I20: =IF(AND(J20="oui",K20="oui"),"Sta+Lib",IF(J20="oui","Stade",IF(K20="oui","Lib",""))) | J20: =IF(OR(LEFT($O20,3)="sta",LEFT($S20,3)="sta",LEFT($W20,3)="sta",LEFT($AA20,3)="sta",LEFT($AE20,3)="sta",LEFT($AI20,3)="sta",LEFT($AM20,3)="sta",LEFT($AQ20,3)="sta"),"oui","") | K20: =IF(OR(LEFT($O20,3)="Lib",LEFT($S20,3)="Lib",LEFT($W20,3)="Lib",LEFT($AA20,3)="Lib",LEFT($AE20,3)="Lib",LEFT($AI20,3)="Lib",LEFT($AM20,3)="Lib",LEFT($AQ20,3)="Lib"),"oui","") | L20: =IF(OR(LEFT($O20,3)="sta",LEFT($S20,3)="sta",LEFT($W20,3)="sta",LEFT($AA20,3)="sta",LEFT($AE20,3)="sta",LEFT($AI20,3)="sta",LEFT($AM20,3)="sta",LEFT($AQ20,3)="sta"),"oui","") | M20: =IF(OR(LEFT($O20,3)="Lib",LEFT($S20,3)="Lib",LEFT($W20,3)="Lib",LEFT($AA20,3)="Lib",LEFT($AE20,3)="Lib",LEFT($AI20,3)="Lib",LEFT($AM20,3)="Lib",LEFT($AQ20,3)="Lib"),"oui","")
A21: =1+A20 -> 12 | B21: =1+B20 -> 47 | C21: b | D21: =7+D20 -> 41961 | E21: M1 | I21: =IF(AND(J21="oui",K21="oui"),"Sta+Lib",IF(J21="oui","Stade",IF(K21="oui","Lib",""))) | J21: =IF(OR(LEFT($O21,3)="sta",LEFT($S21,3)="sta",LEFT($W21,3)="sta",LEFT($AA21,3)="sta",LEFT($AE21,3)="sta",LEFT($AI21,3)="sta",LEFT($AM21,3)="sta",LEFT($AQ21,3)="sta"),"oui","") | K21: =IF(OR(LEFT($O21,3)="Lib",LEFT($S21,3)="Lib",LEFT($W21,3)="Lib",LEFT($AA21,3)="Lib",LEFT($AE21,3)="Lib",LEFT($AI21,3)="Lib",LEFT($AM21,3)="Lib",LEFT($AQ21,3)="Lib"),"oui","") | L21: =IF(OR(LEFT($O21,3)="sta",LEFT($S21,3)="sta",LEFT($W21,3)="sta",LEFT($AA21,3)="sta",LEFT($AE21,3)="sta",LEFT($AI21,3)="sta",LEFT($AM21,3)="sta",LEFT($AQ21,3)="sta"),"oui","") | M21: =IF(OR(LEFT($O21,3)="Lib",LEFT($S21,3)="Lib",LEFT($W21,3)="Lib",LEFT($AA21,3)="Lib",LEFT($AE21,3)="Lib",LEFT($AI21,3)="Lib",LEFT($AM21,3)="Lib",LEFT($AQ21,3)="Lib"),"oui","")
A22: =1+A21 -> 13 | B22: =1+B21 -> 48 | C22: a | D22: =7+D21 -> 41968 | E22: M1 | I22: =IF(AND(J22="oui",K22="oui"),"Sta+Lib",IF(J22="oui","Stade",IF(K22="oui","Lib",""))) | J22: =IF(OR(LEFT($O22,3)="sta",LEFT($S22,3)="sta",LEFT($W22,3)="sta",LEFT($AA22,3)="sta",LEFT($AE22,3)="sta",LEFT($AI22,3)="sta",LEFT($AM22,3)="sta",LEFT($AQ22,3)="sta"),"oui","") | K22: =IF(OR(LEFT($O22,3)="Lib",LEFT($S22,3)="Lib",LEFT($W22,3)="Lib",LEFT($AA22,3)="Lib",LEFT($AE22,3)="Lib",LEFT($AI22,3)="Lib",LEFT($AM22,3)="Lib",LEFT($AQ22,3)="Lib"),"oui","") | L22: =IF(OR(LEFT($O22,3)="sta",LEFT($S22,3)="sta",LEFT($W22,3)="sta",LEFT($AA22,3)="sta",LEFT($AE22,3)="sta",LEFT($AI22,3)="sta",LEFT($AM22,3)="sta",LEFT($AQ22,3)="sta"),"oui","") | M22: =IF(OR(LEFT($O22,3)="Lib",LEFT($S22,3)="Lib",LEFT($W22,3)="Lib",LEFT($AA22,3)="Lib",LEFT($AE22,3)="Lib",LEFT($AI22,3)="Lib",LEFT($AM22,3)="Lib",LEFT($AQ22,3)="Lib"),"oui","")
A23: =1+A22 -> 14 | B23: =1+B22 -> 49 | C23: b | D23: =7+D22 -> 41975 | E23: M1 | I23: =IF(AND(J23="oui",K23="oui"),"Sta+Lib",IF(J23="oui","Stade",IF(K23="oui","Lib",""))) | J23: =IF(OR(LEFT($O23,3)="sta",LEFT($S23,3)="sta",LEFT($W23,3)="sta",LEFT($AA23,3)="sta",LEFT($AE23,3)="sta",LEFT($AI23,3)="sta",LEFT($AM23,3)="sta",LEFT($AQ23,3)="sta"),"oui","") | K23: =IF(OR(LEFT($O23,3)="Lib",LEFT($S23,3)="Lib",LEFT($W23,3)="Lib",LEFT($AA23,3)="Lib",LEFT($AE23,3)="Lib",LEFT($AI23,3)="Lib",LEFT($AM23,3)="Lib",LEFT($AQ23,3)="Lib"),"oui","") | L23: =IF(OR(LEFT($O23,3)="sta",LEFT($S23,3)="sta",LEFT($W23,3)="sta",LEFT($AA23,3)="sta",LEFT($AE23,3)="sta",LEFT($AI23,3)="sta",LEFT($AM23,3)="sta",LEFT($AQ23,3)="sta"),"oui","") | M23: =IF(OR(LEFT($O23,3)="Lib",LEFT($S23,3)="Lib",LEFT($W23,3)="Lib",LEFT($AA23,3)="Lib",LEFT($AE23,3)="Lib",LEFT($AI23,3)="Lib",LEFT($AM23,3)="Lib",LEFT($AQ23,3)="Lib"),"oui","")
A24: =1+A23 -> 15 | B24: =1+B23 -> 50 | C24: a | D24: =7+D23 -> 41982 | E24: M1 | I24: =IF(AND(J24="oui",K24="oui"),"Sta+Lib",IF(J24="oui","Stade",IF(K24="oui","Lib",""))) | J24: =IF(OR(LEFT($O24,3)="sta",LEFT($S24,3)="sta",LEFT($W24,3)="sta",LEFT($AA24,3)="sta",LEFT($AE24,3)="sta",LEFT($AI24,3)="sta",LEFT($AM24,3)="sta",LEFT($AQ24,3)="sta"),"oui","") | K24: =IF(OR(LEFT($O24,3)="Lib",LEFT($S24,3)="Lib",LEFT($W24,3)="Lib",LEFT($AA24,3)="Lib",LEFT($AE24,3)="Lib",LEFT($AI24,3)="Lib",LEFT($AM24,3)="Lib",LEFT($AQ24,3)="Lib"),"oui","") | L24: =IF(OR(LEFT($O24,3)="sta",LEFT($S24,3)="sta",LEFT($W24,3)="sta",LEFT($AA24,3)="sta",LEFT($AE24,3)="sta",LEFT($AI24,3)="sta",LEFT($AM24,3)="sta",LEFT($AQ24,3)="sta"),"oui","") | M24: =IF(OR(LEFT($O24,3)="Lib",LEFT($S24,3)="Lib",LEFT($W24,3)="Lib",LEFT($AA24,3)="Lib",LEFT($AE24,3)="Lib",LEFT($AI24,3)="Lib",LEFT($AM24,3)="Lib",LEFT($AQ24,3)="Lib"),"oui","")
A25: =1+A24 -> 16 | B25: =1+B24 -> 51 | C25: b | D25: =7+D24 -> 41989 | E25: M1 | I25: =IF(AND(J25="oui",K25="oui"),"Sta+Lib",IF(J25="oui","Stade",IF(K25="oui","Lib",""))) | J25: =IF(OR(LEFT($O25,3)="sta",LEFT($S25,3)="sta",LEFT($W25,3)="sta",LEFT($AA25,3)="sta",LEFT($AE25,3)="sta",LEFT($AI25,3)="sta",LEFT($AM25,3)="sta",LEFT($AQ25,3)="sta"),"oui","") | K25: =IF(OR(LEFT($O25,3)="Lib",LEFT($S25,3)="Lib",LEFT($W25,3)="Lib",LEFT($AA25,3)="Lib",LEFT($AE25,3)="Lib",LEFT($AI25,3)="Lib",LEFT($AM25,3)="Lib",LEFT($AQ25,3)="Lib"),"oui","") | L25: =IF(OR(LEFT($O25,3)="sta",LEFT($S25,3)="sta",LEFT($W25,3)="sta",LEFT($AA25,3)="sta",LEFT($AE25,3)="sta",LEFT($AI25,3)="sta",LEFT($AM25,3)="sta",LEFT($AQ25,3)="sta"),"oui","") | M25: =IF(OR(LEFT($O25,3)="Lib",LEFT($S25,3)="Lib",LEFT($W25,3)="Lib",LEFT($AA25,3)="Lib",LEFT($AE25,3)="Lib",LEFT($AI25,3)="Lib",LEFT($AM25,3)="Lib",LEFT($AQ25,3)="Lib"),"oui","")
A26: =1+A25 -> 17 | B26: =1+B25 -> 52 | C26: a | D26: =7+D25 -> 41996 | E26: M1 | I26: =IF(AND(J26="oui",K26="oui"),"Sta+Lib",IF(J26="oui","Stade",IF(K26="oui","Lib",""))) | J26: =IF(OR(LEFT($O26,3)="sta",LEFT($S26,3)="sta",LEFT($W26,3)="sta",LEFT($AA26,3)="sta",LEFT($AE26,3)="sta",LEFT($AI26,3)="sta",LEFT($AM26,3)="sta",LEFT($AQ26,3)="sta"),"oui","") | K26: =IF(OR(LEFT($O26,3)="Lib",LEFT($S26,3)="Lib",LEFT($W26,3)="Lib",LEFT($AA26,3)="Lib",LEFT($AE26,3)="Lib",LEFT($AI26,3)="Lib",LEFT($AM26,3)="Lib",LEFT($AQ26,3)="Lib"),"oui","")
A27: =1+A26 -> 18 | B27: 1 | C27: b | D27: =7+D26 -> 42003 | E27: M1 | I27: =IF(AND(J27="oui",K27="oui"),"Sta+Lib",IF(J27="oui","Stade",IF(K27="oui","Lib",""))) | J27: =IF(OR(LEFT($O27,3)="sta",LEFT($S27,3)="sta",LEFT($W27,3)="sta",LEFT($AA27,3)="sta",LEFT($AE27,3)="sta",LEFT($AI27,3)="sta",LEFT($AM27,3)="sta",LEFT($AQ27,3)="sta"),"oui","") | K27: =IF(OR(LEFT($O27,3)="Lib",LEFT($S27,3)="Lib",LEFT($W27,3)="Lib",LEFT($AA27,3)="Lib",LEFT($AE27,3)="Lib",LEFT($AI27,3)="Lib",LEFT($AM27,3)="Lib",LEFT($AQ27,3)="Lib"),"oui","")
A28: =1+A27 -> 19 | B28: =1+B27 -> 2 | C28: a | D28: =7+D27 -> 42010 | E28: M1 | I28: =IF(AND(J28="oui",K28="oui"),"Sta+Lib",IF(J28="oui","Stade",IF(K28="oui","Lib",""))) | J28: =IF(OR(LEFT($O28,3)="sta",LEFT($S28,3)="sta",LEFT($W28,3)="sta",LEFT($AA28,3)="sta",LEFT($AE28,3)="sta",LEFT($AI28,3)="sta",LEFT($AM28,3)="sta",LEFT($AQ28,3)="sta"),"oui","") | K28: =IF(OR(LEFT($O28,3)="Lib",LEFT($S28,3)="Lib",LEFT($W28,3)="Lib",LEFT($AA28,3)="Lib",LEFT($AE28,3)="Lib",LEFT($AI28,3)="Lib",LEFT($AM28,3)="Lib",LEFT($AQ28,3)="Lib"),"oui","") | L28: =IF(OR(LEFT($O28,3)="sta",LEFT($S28,3)="sta",LEFT($W28,3)="sta",LEFT($AA28,3)="sta",LEFT($AE28,3)="sta",LEFT($AI28,3)="sta",LEFT($AM28,3)="sta",LEFT($AQ28,3)="sta"),"oui","") | M28: =IF(OR(LEFT($O28,3)="Lib",LEFT($S28,3)="Lib",LEFT($W28,3)="Lib",LEFT($AA28,3)="Lib",LEFT($AE28,3)="Lib",LEFT($AI28,3)="Lib",LEFT($AM28,3)="Lib",LEFT($AQ28,3)="Lib"),"oui","")
A29: =1+A28 -> 20 | B29: =1+B28 -> 3 | C29: b | D29: =7+D28 -> 42017 | E29: M1 | I29: =IF(AND(J29="oui",K29="oui"),"Sta+Lib",IF(J29="oui","Stade",IF(K29="oui","Lib",""))) | J29: =IF(OR(LEFT($O29,3)="sta",LEFT($S29,3)="sta",LEFT($W29,3)="sta",LEFT($AA29,3)="sta",LEFT($AE29,3)="sta",LEFT($AI29,3)="sta",LEFT($AM29,3)="sta",LEFT($AQ29,3)="sta"),"oui","") | K29: =IF(OR(LEFT($O29,3)="Lib",LEFT($S29,3)="Lib",LEFT($W29,3)="Lib",LEFT($AA29,3)="Lib",LEFT($AE29,3)="Lib",LEFT($AI29,3)="Lib",LEFT($AM29,3)="Lib",LEFT($AQ29,3)="Lib"),"oui","") | L29: =IF(OR(LEFT($O29,3)="sta",LEFT($S29,3)="sta",LEFT($W29,3)="sta",LEFT($AA29,3)="sta",LEFT($AE29,3)="sta",LEFT($AI29,3)="sta",LEFT($AM29,3)="sta",LEFT($AQ29,3)="sta"),"oui","") | M29: =IF(OR(LEFT($O29,3)="Lib",LEFT($S29,3)="Lib",LEFT($W29,3)="Lib",LEFT($AA29,3)="Lib",LEFT($AE29,3)="Lib",LEFT($AI29,3)="Lib",LEFT($AM29,3)="Lib",LEFT($AQ29,3)="Lib"),"oui","")
A30: =1+A29 -> 21 | B30: =1+B29 -> 4 | C30: a | D30: =7+D29 -> 42024 | E30: M1 | I30: =IF(AND(J30="oui",K30="oui"),"Sta+Lib",IF(J30="oui","Stade",IF(K30="oui","Lib",""))) | J30: =IF(OR(LEFT($O30,3)="sta",LEFT($S30,3)="sta",LEFT($W30,3)="sta",LEFT($AA30,3)="sta",LEFT($AE30,3)="sta",LEFT($AI30,3)="sta",LEFT($AM30,3)="sta",LEFT($AQ30,3)="sta"),"oui","") | K30: =IF(OR(LEFT($O30,3)="Lib",LEFT($S30,3)="Lib",LEFT($W30,3)="Lib",LEFT($AA30,3)="Lib",LEFT($AE30,3)="Lib",LEFT($AI30,3)="Lib",LEFT($AM30,3)="Lib",LEFT($AQ30,3)="Lib"),"oui","") | L30: =IF(OR(LEFT($O30,3)="sta",LEFT($S30,3)="sta",LEFT($W30,3)="sta",LEFT($AA30,3)="sta",LEFT($AE30,3)="sta",LEFT($AI30,3)="sta",LEFT($AM30,3)="sta",LEFT($AQ30,3)="sta"),"oui","") | M30: =IF(OR(LEFT($O30,3)="Lib",LEFT($S30,3)="Lib",LEFT($W30,3)="Lib",LEFT($AA30,3)="Lib",LEFT($AE30,3)="Lib",LEFT($AI30,3)="Lib",LEFT($AM30,3)="Lib",LEFT($AQ30,3)="Lib"),"oui","")
A31: =1+A30 -> 22 | B31: =1+B30 -> 5 | C31: b | D31: =7+D30 -> 42031 | E31: M1 | I31: =IF(AND(J31="oui",K31="oui"),"Sta+Lib",IF(J31="oui","Stade",IF(K31="oui","Lib",""))) | J31: =IF(OR(LEFT($O31,3)="sta",LEFT($S31,3)="sta",LEFT($W31,3)="sta",LEFT($AA31,3)="sta",LEFT($AE31,3)="sta",LEFT($AI31,3)="sta",LEFT($AM31,3)="sta",LEFT($AQ31,3)="sta"),"oui","") | K31: =IF(OR(LEFT($O31,3)="Lib",LEFT($S31,3)="Lib",LEFT($W31,3)="Lib",LEFT($AA31,3)="Lib",LEFT($AE31,3)="Lib",LEFT($AI31,3)="Lib",LEFT($AM31,3)="Lib",LEFT($AQ31,3)="Lib"),"oui","") | L31: =IF(OR(LEFT($O31,3)="sta",LEFT($S31,3)="sta",LEFT($W31,3)="sta",LEFT($AA31,3)="sta",LEFT($AE31,3)="sta",LEFT($AI31,3)="sta",LEFT($AM31,3)="sta",LEFT($AQ31,3)="sta"),"oui","") | M31: =IF(OR(LEFT($O31,3)="Lib",LEFT($S31,3)="Lib",LEFT($W31,3)="Lib",LEFT($AA31,3)="Lib",LEFT($AE31,3)="Lib",LEFT($AI31,3)="Lib",LEFT($AM31,3)="Lib",LEFT($AQ31,3)="Lib"),"oui","")
A32: =1+A31 -> 23 | B32: =1+B31 -> 6 | C32: a | D32: =7+D31 -> 42038 | E32: M1 | I32: =IF(AND(J32="oui",K32="oui"),"Sta+Lib",IF(J32="oui","Stade",IF(K32="oui","Lib",""))) | J32: =IF(OR(LEFT($O32,3)="sta",LEFT($S32,3)="sta",LEFT($W32,3)="sta",LEFT($AA32,3)="sta",LEFT($AE32,3)="sta",LEFT($AI32,3)="sta",LEFT($AM32,3)="sta",LEFT($AQ32,3)="sta"),"oui","") | K32: =IF(OR(LEFT($O32,3)="Lib",LEFT($S32,3)="Lib",LEFT($W32,3)="Lib",LEFT($AA32,3)="Lib",LEFT($AE32,3)="Lib",LEFT($AI32,3)="Lib",LEFT($AM32,3)="Lib",LEFT($AQ32,3)="Lib"),"oui","") | L32: =IF(OR(LEFT($O32,3)="sta",LEFT($S32,3)="sta",LEFT($W32,3)="sta",LEFT($AA32,3)="sta",LEFT($AE32,3)="sta",LEFT($AI32,3)="sta",LEFT($AM32,3)="sta",LEFT($AQ32,3)="sta"),"oui","") | M32: =IF(OR(LEFT($O32,3)="Lib",LEFT($S32,3)="Lib",LEFT($W32,3)="Lib",LEFT($AA32,3)="Lib",LEFT($AE32,3)="Lib",LEFT($AI32,3)="Lib",LEFT($AM32,3)="Lib",LEFT($AQ32,3)="Lib"),"oui","")
A33: =1+A32 -> 24 | B33: =1+B32 -> 7 | C33: b | D33: =7+D32 -> 42045 | E33: M1 | I33: =IF(AND(J33="oui",K33="oui"),"Sta+Lib",IF(J33="oui","Stade",IF(K33="oui","Lib",""))) | J33: =IF(OR(LEFT($O33,3)="sta",LEFT($S33,3)="sta",LEFT($W33,3)="sta",LEFT($AA33,3)="sta",LEFT($AE33,3)="sta",LEFT($AI33,3)="sta",LEFT($AM33,3)="sta",LEFT($AQ33,3)="sta"),"oui","") | K33: =IF(OR(LEFT($O33,3)="Lib",LEFT($S33,3)="Lib",LEFT($W33,3)="Lib",LEFT($AA33,3)="Lib",LEFT($AE33,3)="Lib",LEFT($AI33,3)="Lib",LEFT($AM33,3)="Lib",LEFT($AQ33,3)="Lib"),"oui","") | L33: =IF(OR(LEFT($O33,3)="sta",LEFT($S33,3)="sta",LEFT($W33,3)="sta",LEFT($AA33,3)="sta",LEFT($AE33,3)="sta",LEFT($AI33,3)="sta",LEFT($AM33,3)="sta",LEFT($AQ33,3)="sta"),"oui","") | M33: =IF(OR(LEFT($O33,3)="Lib",LEFT($S33,3)="Lib",LEFT($W33,3)="Lib",LEFT($AA33,3)="Lib",LEFT($AE33,3)="Lib",LEFT($AI33,3)="Lib",LEFT($AM33,3)="Lib",LEFT($AQ33,3)="Lib"),"oui","")
A34: =1+A33 -> 25 | B34: =1+B33 -> 8 | C34: a | D34: =7+D33 -> 42052 | E34: M1 | I34: =IF(AND(J34="oui",K34="oui"),"Sta+Lib",IF(J34="oui","Stade",IF(K34="oui","Lib",""))) | J34: =IF(OR(LEFT($O34,3)="sta",LEFT($S34,3)="sta",LEFT($W34,3)="sta",LEFT($AA34,3)="sta",LEFT($AE34,3)="sta",LEFT($AI34,3)="sta",LEFT($AM34,3)="sta",LEFT($AQ34,3)="sta"),"oui","") | K34: =IF(OR(LEFT($O34,3)="Lib",LEFT($S34,3)="Lib",LEFT($W34,3)="Lib",LEFT($AA34,3)="Lib",LEFT($AE34,3)="Lib",LEFT($AI34,3)="Lib",LEFT($AM34,3)="Lib",LEFT($AQ34,3)="Lib"),"oui","") | L34: =IF(OR(LEFT($O34,3)="sta",LEFT($S34,3)="sta",LEFT($W34,3)="sta",LEFT($AA34,3)="sta",LEFT($AE34,3)="sta",LEFT($AI34,3)="sta",LEFT($AM34,3)="sta",LEFT($AQ34,3)="sta"),"oui","") | M34: =IF(OR(LEFT($O34,3)="Lib",LEFT($S34,3)="Lib",LEFT($W34,3)="Lib",LEFT($AA34,3)="Lib",LEFT($AE34,3)="Lib",LEFT($AI34,3)="Lib",LEFT($AM34,3)="Lib",LEFT($AQ34,3)="Lib"),"oui","")
A35: =1+A34 -> 26 | B35: =1+B34 -> 9 | C35: b | D35: =7+D34 -> 42059 | E35: M1 | I35: =IF(AND(J35="oui",K35="oui"),"Sta+Lib",IF(J35="oui","Stade",IF(K35="oui","Lib",""))) | J35: =IF(OR(LEFT($O35,3)="sta",LEFT($S35,3)="sta",LEFT($W35,3)="sta",LEFT($AA35,3)="sta",LEFT($AE35,3)="sta",LEFT($AI35,3)="sta",LEFT($AM35,3)="sta",LEFT($AQ35,3)="sta"),"oui","") | K35: =IF(OR(LEFT($O35,3)="Lib",LEFT($S35,3)="Lib",LEFT($W35,3)="Lib",LEFT($AA35,3)="Lib",LEFT($AE35,3)="Lib",LEFT($AI35,3)="Lib",LEFT($AM35,3)="Lib",LEFT($AQ35,3)="Lib"),"oui","")
A36: =1+A35 -> 27 | B36: =1+B35 -> 10 | C36: a | D36: =7+D35 -> 42066 | E36: M1 | I36: =IF(AND(J36="oui",K36="oui"),"Sta+Lib",IF(J36="oui","Stade",IF(K36="oui","Lib",""))) | J36: =IF(OR(LEFT($O36,3)="sta",LEFT($S36,3)="sta",LEFT($W36,3)="sta",LEFT($AA36,3)="sta",LEFT($AE36,3)="sta",LEFT($AI36,3)="sta",LEFT($AM36,3)="sta",LEFT($AQ36,3)="sta"),"oui","") | K36: =IF(OR(LEFT($O36,3)="Lib",LEFT($S36,3)="Lib",LEFT($W36,3)="Lib",LEFT($AA36,3)="Lib",LEFT($AE36,3)="Lib",LEFT($AI36,3)="Lib",LEFT($AM36,3)="Lib",LEFT($AQ36,3)="Lib"),"oui","")
A37: =1+A36 -> 28 | B37: =1+B36 -> 11 | C37: b | D37: =7+D36 -> 42073 | E37: M1 | I37: =IF(AND(J37="oui",K37="oui"),"Sta+Lib",IF(J37="oui","Stade",IF(K37="oui","Lib",""))) | J37: =IF(OR(LEFT($O37,3)="sta",LEFT($S37,3)="sta",LEFT($W37,3)="sta",LEFT($AA37,3)="sta",LEFT($AE37,3)="sta",LEFT($AI37,3)="sta",LEFT($AM37,3)="sta",LEFT($AQ37,3)="sta"),"oui","") | K37: =IF(OR(LEFT($O37,3)="Lib",LEFT($S37,3)="Lib",LEFT($W37,3)="Lib",LEFT($AA37,3)="Lib",LEFT($AE37,3)="Lib",LEFT($AI37,3)="Lib",LEFT($AM37,3)="Lib",LEFT($AQ37,3)="Lib"),"oui","") | L37: =IF(OR(LEFT($O37,3)="sta",LEFT($S37,3)="sta",LEFT($W37,3)="sta",LEFT($AA37,3)="sta",LEFT($AE37,3)="sta",LEFT($AI37,3)="sta",LEFT($AM37,3)="sta",LEFT($AQ37,3)="sta"),"oui","") | M37: =IF(OR(LEFT($O37,3)="Lib",LEFT($S37,3)="Lib",LEFT($W37,3)="Lib",LEFT($AA37,3)="Lib",LEFT($AE37,3)="Lib",LEFT($AI37,3)="Lib",LEFT($AM37,3)="Lib",LEFT($AQ37,3)="Lib"),"oui","")
A38: =1+A37 -> 29 | B38: =1+B37 -> 12 | C38: b | D38: =7+D37 -> 42080 | E38: M1 | I38: =IF(AND(J38="oui",K38="oui"),"Sta+Lib",IF(J38="oui","Stade",IF(K38="oui","Lib",""))) | J38: =IF(OR(LEFT($O38,3)="sta",LEFT($S38,3)="sta",LEFT($W38,3)="sta",LEFT($AA38,3)="sta",LEFT($AE38,3)="sta",LEFT($AI38,3)="sta",LEFT($AM38,3)="sta",LEFT($AQ38,3)="sta"),"oui","") | K38: =IF(OR(LEFT($O38,3)="Lib",LEFT($S38,3)="Lib",LEFT($W38,3)="Lib",LEFT($AA38,3)="Lib",LEFT($AE38,3)="Lib",LEFT($AI38,3)="Lib",LEFT($AM38,3)="Lib",LEFT($AQ38,3)="Lib"),"oui","") | L38: =IF(OR(LEFT($O38,3)="sta",LEFT($S38,3)="sta",LEFT($W38,3)="sta",LEFT($AA38,3)="sta",LEFT($AE38,3)="sta",LEFT($AI38,3)="sta",LEFT($AM38,3)="sta",LEFT($AQ38,3)="sta"),"oui","") | M38: =IF(OR(LEFT($O38,3)="Lib",LEFT($S38,3)="Lib",LEFT($W38,3)="Lib",LEFT($AA38,3)="Lib",LEFT($AE38,3)="Lib",LEFT($AI38,3)="Lib",LEFT($AM38,3)="Lib",LEFT($AQ38,3)="Lib"),"oui","")
A39: =1+A38 -> 30 | B39: =1+B38 -> 13 | C39: b | D39: =7+D38 -> 42087 | E39: M1 | I39: =IF(AND(J39="oui",K39="oui"),"Sta+Lib",IF(J39="oui","Stade",IF(K39="oui","Lib",""))) | J39: =IF(OR(LEFT($O39,3)="sta",LEFT($S39,3)="sta",LEFT($W39,3)="sta",LEFT($AA39,3)="sta",LEFT($AE39,3)="sta",LEFT($AI39,3)="sta",LEFT($AM39,3)="sta",LEFT($AQ39,3)="sta"),"oui","") | K39: =IF(OR(LEFT($O39,3)="Lib",LEFT($S39,3)="Lib",LEFT($W39,3)="Lib",LEFT($AA39,3)="Lib",LEFT($AE39,3)="Lib",LEFT($AI39,3)="Lib",LEFT($AM39,3)="Lib",LEFT($AQ39,3)="Lib"),"oui","") | L39: =IF(OR(LEFT($O39,3)="sta",LEFT($S39,3)="sta",LEFT($W39,3)="sta",LEFT($AA39,3)="sta",LEFT($AE39,3)="sta",LEFT($AI39,3)="sta",LEFT($AM39,3)="sta",LEFT($AQ39,3)="sta"),"oui","") | M39: =IF(OR(LEFT($O39,3)="Lib",LEFT($S39,3)="Lib",LEFT($W39,3)="Lib",LEFT($AA39,3)="Lib",LEFT($AE39,3)="Lib",LEFT($AI39,3)="Lib",LEFT($AM39,3)="Lib",LEFT($AQ39,3)="Lib"),"oui","")
A40: =1+A39 -> 31 | B40: =1+B39 -> 14 | C40: a | D40: =7+D39 -> 42094 | E40: M1 | I40: =IF(AND(J40="oui",K40="oui"),"Sta+Lib",IF(J40="oui","Stade",IF(K40="oui","Lib",""))) | J40: =IF(OR(LEFT($O40,3)="sta",LEFT($S40,3)="sta",LEFT($W40,3)="sta",LEFT($AA40,3)="sta",LEFT($AE40,3)="sta",LEFT($AI40,3)="sta",LEFT($AM40,3)="sta",LEFT($AQ40,3)="sta"),"oui","") | K40: =IF(OR(LEFT($O40,3)="Lib",LEFT($S40,3)="Lib",LEFT($W40,3)="Lib",LEFT($AA40,3)="Lib",LEFT($AE40,3)="Lib",LEFT($AI40,3)="Lib",LEFT($AM40,3)="Lib",LEFT($AQ40,3)="Lib"),"oui","") | L40: =IF(OR(LEFT($O40,3)="sta",LEFT($S40,3)="sta",LEFT($W40,3)="sta",LEFT($AA40,3)="sta",LEFT($AE40,3)="sta",LEFT($AI40,3)="sta",LEFT($AM40,3)="sta",LEFT($AQ40,3)="sta"),"oui","") | M40: =IF(OR(LEFT($O40,3)="Lib",LEFT($S40,3)="Lib",LEFT($W40,3)="Lib",LEFT($AA40,3)="Lib",LEFT($AE40,3)="Lib",LEFT($AI40,3)="Lib",LEFT($AM40,3)="Lib",LEFT($AQ40,3)="Lib"),"oui","")
A41: =1+A40 -> 32 | B41: =1+B40 -> 15 | C41: b | D41: =7+D40 -> 42101 | E41: M1 | I41: =IF(AND(J41="oui",K41="oui"),"Sta+Lib",IF(J41="oui","Stade",IF(K41="oui","Lib",""))) | J41: =IF(OR(LEFT($O41,3)="sta",LEFT($S41,3)="sta",LEFT($W41,3)="sta",LEFT($AA41,3)="sta",LEFT($AE41,3)="sta",LEFT($AI41,3)="sta",LEFT($AM41,3)="sta",LEFT($AQ41,3)="sta"),"oui","") | K41: =IF(OR(LEFT($O41,3)="Lib",LEFT($S41,3)="Lib",LEFT($W41,3)="Lib",LEFT($AA41,3)="Lib",LEFT($AE41,3)="Lib",LEFT($AI41,3)="Lib",LEFT($AM41,3)="Lib",LEFT($AQ41,3)="Lib"),"oui","") | L41: =IF(OR(LEFT($O41,3)="sta",LEFT($S41,3)="sta",LEFT($W41,3)="sta",LEFT($AA41,3)="sta",LEFT($AE41,3)="sta",LEFT($AI41,3)="sta",LEFT($AM41,3)="sta",LEFT($AQ41,3)="sta"),"oui","") | M41: =IF(OR(LEFT($O41,3)="Lib",LEFT($S41,3)="Lib",LEFT($W41,3)="Lib",LEFT($AA41,3)="Lib",LEFT($AE41,3)="Lib",LEFT($AI41,3)="Lib",LEFT($AM41,3)="Lib",LEFT($AQ41,3)="Lib"),"oui","")
A42: =1+A41 -> 33 | B42: =1+B41 -> 16 | C42: a | D42: =7+D41 -> 42108 | E42: M1 | I42: =IF(AND(J42="oui",K42="oui"),"Sta+Lib",IF(J42="oui","Stade",IF(K42="oui","Lib",""))) | J42: =IF(OR(LEFT($O42,3)="sta",LEFT($S42,3)="sta",LEFT($W42,3)="sta",LEFT($AA42,3)="sta",LEFT($AE42,3)="sta",LEFT($AI42,3)="sta",LEFT($AM42,3)="sta",LEFT($AQ42,3)="sta"),"oui","") | K42: =IF(OR(LEFT($O42,3)="Lib",LEFT($S42,3)="Lib",LEFT($W42,3)="Lib",LEFT($AA42,3)="Lib",LEFT($AE42,3)="Lib",LEFT($AI42,3)="Lib",LEFT($AM42,3)="Lib",LEFT($AQ42,3)="Lib"),"oui","") | L42: =IF(OR(LEFT($O42,3)="sta",LEFT($S42,3)="sta",LEFT($W42,3)="sta",LEFT($AA42,3)="sta",LEFT($AE42,3)="sta",LEFT($AI42,3)="sta",LEFT($AM42,3)="sta",LEFT($AQ42,3)="sta"),"oui","") | M42: =IF(OR(LEFT($O42,3)="Lib",LEFT($S42,3)="Lib",LEFT($W42,3)="Lib",LEFT($AA42,3)="Lib",LEFT($AE42,3)="Lib",LEFT($AI42,3)="Lib",LEFT($AM42,3)="Lib",LEFT($AQ42,3)="Lib"),"oui","")
A43: =1+A42 -> 34 | B43: =1+B42 -> 17 | C43: b | D43: =7+D42 -> 42115 | E43: M1 | I43: =IF(AND(J43="oui",K43="oui"),"Sta+Lib",IF(J43="oui","Stade",IF(K43="oui","Lib",""))) | J43: =IF(OR(LEFT($O43,3)="sta",LEFT($S43,3)="sta",LEFT($W43,3)="sta",LEFT($AA43,3)="sta",LEFT($AE43,3)="sta",LEFT($AI43,3)="sta",LEFT($AM43,3)="sta",LEFT($AQ43,3)="sta"),"oui","") | K43: =IF(OR(LEFT($O43,3)="Lib",LEFT($S43,3)="Lib",LEFT($W43,3)="Lib",LEFT($AA43,3)="Lib",LEFT($AE43,3)="Lib",LEFT($AI43,3)="Lib",LEFT($AM43,3)="Lib",LEFT($AQ43,3)="Lib"),"oui","")
A44: =1+A43 -> 35 | B44: =1+B43 -> 18 | C44: a | D44: =7+D43 -> 42122 | E44: M1 | I44: =IF(AND(J44="oui",K44="oui"),"Sta+Lib",IF(J44="oui","Stade",IF(K44="oui","Lib",""))) | J44: =IF(OR(LEFT($O44,3)="sta",LEFT($S44,3)="sta",LEFT($W44,3)="sta",LEFT($AA44,3)="sta",LEFT($AE44,3)="sta",LEFT($AI44,3)="sta",LEFT($AM44,3)="sta",LEFT($AQ44,3)="sta"),"oui","") | K44: =IF(OR(LEFT($O44,3)="Lib",LEFT($S44,3)="Lib",LEFT($W44,3)="Lib",LEFT($AA44,3)="Lib",LEFT($AE44,3)="Lib",LEFT($AI44,3)="Lib",LEFT($AM44,3)="Lib",LEFT($AQ44,3)="Lib"),"oui","")
A45: =1+A44 -> 36 | B45: =1+B44 -> 19 | C45: b | D45: =7+D44 -> 42129 | E45: M1 | I45: =IF(AND(J45="oui",K45="oui"),"Sta+Lib",IF(J45="oui","Stade",IF(K45="oui","Lib",""))) | J45: =IF(OR(LEFT($O45,3)="sta",LEFT($S45,3)="sta",LEFT($W45,3)="sta",LEFT($AA45,3)="sta",LEFT($AE45,3)="sta",LEFT($AI45,3)="sta",LEFT($AM45,3)="sta",LEFT($AQ45,3)="sta"),"oui","") | K45: =IF(OR(LEFT($O45,3)="Lib",LEFT($S45,3)="Lib",LEFT($W45,3)="Lib",LEFT($AA45,3)="Lib",LEFT($AE45,3)="Lib",LEFT($AI45,3)="Lib",LEFT($AM45,3)="Lib",LEFT($AQ45,3)="Lib"),"oui","") | L45: =IF(OR(LEFT($O45,3)="sta",LEFT($S45,3)="sta",LEFT($W45,3)="sta",LEFT($AA45,3)="sta",LEFT($AE45,3)="sta",LEFT($AI45,3)="sta",LEFT($AM45,3)="sta",LEFT($AQ45,3)="sta"),"oui","") | M45: =IF(OR(LEFT($O45,3)="Lib",LEFT($S45,3)="Lib",LEFT($W45,3)="Lib",LEFT($AA45,3)="Lib",LEFT($AE45,3)="Lib",LEFT($AI45,3)="Lib",LEFT($AM45,3)="Lib",LEFT($AQ45,3)="Lib"),"oui","")
A46: =1+A45 -> 37 | B46: =1+B45 -> 20 | C46: a | D46: =7+D45 -> 42136 | E46: M1 | I46: =IF(AND(J46="oui",K46="oui"),"Sta+Lib",IF(J46="oui","Stade",IF(K46="oui","Lib",""))) | J46: =IF(OR(LEFT($O46,3)="sta",LEFT($S46,3)="sta",LEFT($W46,3)="sta",LEFT($AA46,3)="sta",LEFT($AE46,3)="sta",LEFT($AI46,3)="sta",LEFT($AM46,3)="sta",LEFT($AQ46,3)="sta"),"oui","") | K46: =IF(OR(LEFT($O46,3)="Lib",LEFT($S46,3)="Lib",LEFT($W46,3)="Lib",LEFT($AA46,3)="Lib",LEFT($AE46,3)="Lib",LEFT($AI46,3)="Lib",LEFT($AM46,3)="Lib",LEFT($AQ46,3)="Lib"),"oui","") | L46: =IF(OR(LEFT($O46,3)="sta",LEFT($S46,3)="sta",LEFT($W46,3)="sta",LEFT($AA46,3)="sta",LEFT($AE46,3)="sta",LEFT($AI46,3)="sta",LEFT($AM46,3)="sta",LEFT($AQ46,3)="sta"),"oui","") | M46: =IF(OR(LEFT($O46,3)="Lib",LEFT($S46,3)="Lib",LEFT($W46,3)="Lib",LEFT($AA46,3)="Lib",LEFT($AE46,3)="Lib",LEFT($AI46,3)="Lib",LEFT($AM46,3)="Lib",LEFT($AQ46,3)="Lib"),"oui","")
A47: =1+A46 -> 38 | B47: =1+B46 -> 21 | C47: b | D47: =7+D46 -> 42143 | E47: M1 | I47: =IF(AND(J47="oui",K47="oui"),"Sta+Lib",IF(J47="oui","Stade",IF(K47="oui","Lib",""))) | J47: =IF(OR(LEFT($O47,3)="sta",LEFT($S47,3)="sta",LEFT($W47,3)="sta",LEFT($AA47,3)="sta",LEFT($AE47,3)="sta",LEFT($AI47,3)="sta",LEFT($AM47,3)="sta",LEFT($AQ47,3)="sta"),"oui","") | K47: =IF(OR(LEFT($O47,3)="Lib",LEFT($S47,3)="Lib",LEFT($W47,3)="Lib",LEFT($AA47,3)="Lib",LEFT($AE47,3)="Lib",LEFT($AI47,3)="Lib",LEFT($AM47,3)="Lib",LEFT($AQ47,3)="Lib"),"oui","") | L47: =IF(OR(LEFT($O47,3)="sta",LEFT($S47,3)="sta",LEFT($W47,3)="sta",LEFT($AA47,3)="sta",LEFT($AE47,3)="sta",LEFT($AI47,3)="sta",LEFT($AM47,3)="sta",LEFT($AQ47,3)="sta"),"oui","") | M47: =IF(OR(LEFT($O47,3)="Lib",LEFT($S47,3)="Lib",LEFT($W47,3)="Lib",LEFT($AA47,3)="Lib",LEFT($AE47,3)="Lib",LEFT($AI47,3)="Lib",LEFT($AM47,3)="Lib",LEFT($AQ47,3)="Lib"),"oui","")
A48: =1+A47 -> 39 | B48: =1+B47 -> 22 | C48: a | D48: =7+D47 -> 42150 | E48: M1 | I48: =IF(AND(J48="oui",K48="oui"),"Sta+Lib",IF(J48="oui","Stade",IF(K48="oui","Lib",""))) | J48: =IF(OR(LEFT($O48,3)="sta",LEFT($S48,3)="sta",LEFT($W48,3)="sta",LEFT($AA48,3)="sta",LEFT($AE48,3)="sta",LEFT($AI48,3)="sta",LEFT($AM48,3)="sta",LEFT($AQ48,3)="sta"),"oui","") | K48: =IF(OR(LEFT($O48,3)="Lib",LEFT($S48,3)="Lib",LEFT($W48,3)="Lib",LEFT($AA48,3)="Lib",LEFT($AE48,3)="Lib",LEFT($AI48,3)="Lib",LEFT($AM48,3)="Lib",LEFT($AQ48,3)="Lib"),"oui","") | L48: =IF(OR(LEFT($O48,3)="sta",LEFT($S48,3)="sta",LEFT($W48,3)="sta",LEFT($AA48,3)="sta",LEFT($AE48,3)="sta",LEFT($AI48,3)="sta",LEFT($AM48,3)="sta",LEFT($AQ48,3)="sta"),"oui","") | M48: =IF(OR(LEFT($O48,3)="Lib",LEFT($S48,3)="Lib",LEFT($W48,3)="Lib",LEFT($AA48,3)="Lib",LEFT($AE48,3)="Lib",LEFT($AI48,3)="Lib",LEFT($AM48,3)="Lib",LEFT($AQ48,3)="Lib"),"oui","")
A49: =1+A48 -> 40 | B49: =1+B48 -> 23 | C49: b | D49: =7+D48 -> 42157 | E49: M1 | I49: =IF(AND(J49="oui",K49="oui"),"Sta+Lib",IF(J49="oui","Stade",IF(K49="oui","Lib",""))) | J49: =IF(OR(LEFT($O49,3)="sta",LEFT($S49,3)="sta",LEFT($W49,3)="sta",LEFT($AA49,3)="sta",LEFT($AE49,3)="sta",LEFT($AI49,3)="sta",LEFT($AM49,3)="sta",LEFT($AQ49,3)="sta"),"oui","") | K49: =IF(OR(LEFT($O49,3)="Lib",LEFT($S49,3)="Lib",LEFT($W49,3)="Lib",LEFT($AA49,3)="Lib",LEFT($AE49,3)="Lib",LEFT($AI49,3)="Lib",LEFT($AM49,3)="Lib",LEFT($AQ49,3)="Lib"),"oui","") | L49: =IF(OR(LEFT($O49,3)="sta",LEFT($S49,3)="sta",LEFT($W49,3)="sta",LEFT($AA49,3)="sta",LEFT($AE49,3)="sta",LEFT($AI49,3)="sta",LEFT($AM49,3)="sta",LEFT($AQ49,3)="sta"),"oui","") | M49: =IF(OR(LEFT($O49,3)="Lib",LEFT($S49,3)="Lib",LEFT($W49,3)="Lib",LEFT($AA49,3)="Lib",LEFT($AE49,3)="Lib",LEFT($AI49,3)="Lib",LEFT($AM49,3)="Lib",LEFT($AQ49,3)="Lib"),"oui","")
A50: =1+A49 -> 41 | B50: =1+B49 -> 24 | C50: a | D50: =7+D49 -> 42164 | E50: M1 | I50: =IF(AND(J50="oui",K50="oui"),"Sta+Lib",IF(J50="oui","Stade",IF(K50="oui","Lib",""))) | J50: =IF(OR(LEFT($O50,3)="sta",LEFT($S50,3)="sta",LEFT($W50,3)="sta",LEFT($AA50,3)="sta",LEFT($AE50,3)="sta",LEFT($AI50,3)="sta",LEFT($AM50,3)="sta",LEFT($AQ50,3)="sta"),"oui","") | K50: =IF(OR(LEFT($O50,3)="Lib",LEFT($S50,3)="Lib",LEFT($W50,3)="Lib",LEFT($AA50,3)="Lib",LEFT($AE50,3)="Lib",LEFT($AI50,3)="Lib",LEFT($AM50,3)="Lib",LEFT($AQ50,3)="Lib"),"oui","") | L50: =IF(OR(LEFT($O50,3)="sta",LEFT($S50,3)="sta",LEFT($W50,3)="sta",LEFT($AA50,3)="sta",LEFT($AE50,3)="sta",LEFT($AI50,3)="sta",LEFT($AM50,3)="sta",LEFT($AQ50,3)="sta"),"oui","") | M50: =IF(OR(LEFT($O50,3)="Lib",LEFT($S50,3)="Lib",LEFT($W50,3)="Lib",LEFT($AA50,3)="Lib",LEFT($AE50,3)="Lib",LEFT($AI50,3)="Lib",LEFT($AM50,3)="Lib",LEFT($AQ50,3)="Lib"),"oui","")
A51: =1+A50 -> 42 | B51: =1+B50 -> 25 | C51: b | D51: =7+D50 -> 42171 | E51: M1 | I51: =IF(AND(J51="oui",K51="oui"),"Sta+Lib",IF(J51="oui","Stade",IF(K51="oui","Lib",""))) | J51: =IF(OR(LEFT($O51,3)="sta",LEFT($S51,3)="sta",LEFT($W51,3)="sta",LEFT($AA51,3)="sta",LEFT($AE51,3)="sta",LEFT($AI51,3)="sta",LEFT($AM51,3)="sta",LEFT($AQ51,3)="sta"),"oui","") | K51: =IF(OR(LEFT($O51,3)="Lib",LEFT($S51,3)="Lib",LEFT($W51,3)="Lib",LEFT($AA51,3)="Lib",LEFT($AE51,3)="Lib",LEFT($AI51,3)="Lib",LEFT($AM51,3)="Lib",LEFT($AQ51,3)="Lib"),"oui","") | L51: =IF(OR(LEFT($O51,3)="sta",LEFT($S51,3)="sta",LEFT($W51,3)="sta",LEFT($AA51,3)="sta",LEFT($AE51,3)="sta",LEFT($AI51,3)="sta",LEFT($AM51,3)="sta",LEFT($AQ51,3)="sta"),"oui","") | M51: =IF(OR(LEFT($O51,3)="Lib",LEFT($S51,3)="Lib",LEFT($W51,3)="Lib",LEFT($AA51,3)="Lib",LEFT($AE51,3)="Lib",LEFT($AI51,3)="Lib",LEFT($AM51,3)="Lib",LEFT($AQ51,3)="Lib"),"oui","")
A52: =1+A51 -> 43 | B52: =1+B51 -> 26 | C52: a | D52: =7+D51 -> 42178 | E52: M1 | I52: =IF(AND(J52="oui",K52="oui"),"Sta+Lib",IF(J52="oui","Stade",IF(K52="oui","Lib",""))) | J52: =IF(OR(LEFT($O52,3)="sta",LEFT($S52,3)="sta",LEFT($W52,3)="sta",LEFT($AA52,3)="sta",LEFT($AE52,3)="sta",LEFT($AI52,3)="sta",LEFT($AM52,3)="sta",LEFT($AQ52,3)="sta"),"oui","") | K52: =IF(OR(LEFT($O52,3)="Lib",LEFT($S52,3)="Lib",LEFT($W52,3)="Lib",LEFT($AA52,3)="Lib",LEFT($AE52,3)="Lib",LEFT($AI52,3)="Lib",LEFT($AM52,3)="Lib",LEFT($AQ52,3)="Lib"),"oui","") | L52: =IF(OR(LEFT($O52,3)="sta",LEFT($S52,3)="sta",LEFT($W52,3)="sta",LEFT($AA52,3)="sta",LEFT($AE52,3)="sta",LEFT($AI52,3)="sta",LEFT($AM52,3)="sta",LEFT($AQ52,3)="sta"),"oui","") | M52: =IF(OR(LEFT($O52,3)="Lib",LEFT($S52,3)="Lib",LEFT($W52,3)="Lib",LEFT($AA52,3)="Lib",LEFT($AE52,3)="Lib",LEFT($AI52,3)="Lib",LEFT($AM52,3)="Lib",LEFT($AQ52,3)="Lib"),"oui","")
A53: =1+A52 -> 44 | B53: =1+B52 -> 27 | C53: b | D53: =7+D52 -> 42185 | E53: M1 | I53: =IF(AND(J53="oui",K53="oui"),"Sta+Lib",IF(J53="oui","Stade",IF(K53="oui","Lib",""))) | J53: =IF(OR(LEFT($O53,3)="sta",LEFT($S53,3)="sta",LEFT($W53,3)="sta",LEFT($AA53,3)="sta",LEFT($AE53,3)="sta",LEFT($AI53,3)="sta",LEFT($AM53,3)="sta",LEFT($AQ53,3)="sta"),"oui","") | K53: =IF(OR(LEFT($O53,3)="Lib",LEFT($S53,3)="Lib",LEFT($W53,3)="Lib",LEFT($AA53,3)="Lib",LEFT($AE53,3)="Lib",LEFT($AI53,3)="Lib",LEFT($AM53,3)="Lib",LEFT($AQ53,3)="Lib"),"oui","") | L53: =IF(OR(LEFT($O53,3)="sta",LEFT($S53,3)="sta",LEFT($W53,3)="sta",LEFT($AA53,3)="sta",LEFT($AE53,3)="sta",LEFT($AI53,3)="sta",LEFT($AM53,3)="sta",LEFT($AQ53,3)="sta"),"oui","") | M53: =IF(OR(LEFT($O53,3)="Lib",LEFT($S53,3)="Lib",LEFT($W53,3)="Lib",LEFT($AA53,3)="Lib",LEFT($AE53,3)="Lib",LEFT($AI53,3)="Lib",LEFT($AM53,3)="Lib",LEFT($AQ53,3)="Lib"),"oui","")
B55: MARDI 10h45-12h30
F56: Indisponible | I56: Profs
B57: N° Sem | C57: Sem | D57: DATES | E57: Creneau | F57: Bouchard | G57: JC | H57: Coubertin | I57: Classes
I58: Semaines
I59: Nb elèves
I60: Niv Cp
I61: 2E COURS
I62: CP
I63: Navette | J63: Stade | K63: Lib | L63: Stade | M63: Lib
A64: 1 | B64: 36 | C64: a | D64: 41884 | E64: M3 | I64: =IF(AND(J64="oui",K64="oui"),"Sta+Lib",IF(J64="oui","Stade",IF(K64="oui","Lib",""))) | J64: =IF(OR(LEFT($O64,3)="sta",LEFT($S64,3)="sta",LEFT($W64,3)="sta",LEFT($AA64,3)="sta",LEFT($AE64,3)="sta",LEFT($AI64,3)="sta",LEFT($AM64,3)="sta",LEFT($AQ64,3)="sta"),"oui","") | K64: =IF(OR(LEFT($O64,3)="Lib",LEFT($S64,3)="Lib",LEFT($W64,3)="Lib",LEFT($AA64,3)="Lib",LEFT($AE64,3)="Lib",LEFT($AI64,3)="Lib",LEFT($AM64,3)="Lib",LEFT($AQ64,3)="Lib"),"oui","") | L64: =IF(OR(LEFT($O64,3)="sta",LEFT($S64,3)="sta",LEFT($W64,3)="sta",LEFT($AA64,3)="sta",LEFT($AE64,3)="sta",LEFT($AI64,3)="sta",LEFT($AM64,3)="sta",LEFT($AQ64,3)="sta"),"oui","") | M64: =IF(OR(LEFT($O64,3)="Lib",LEFT($S64,3)="Lib",LEFT($W64,3)="Lib",LEFT($AA64,3)="Lib",LEFT($AE64,3)="Lib",LEFT($AI64,3)="Lib",LEFT($AM64,3)="Lib",LEFT($AQ64,3)="Lib"),"oui","")
A65: =1+A64 -> 2 | B65: =1+B64 -> 37 | C65: b | D65: =7+D64 -> 41891 | E65: M3 | I65: =IF(AND(J65="oui",K65="oui"),"Sta+Lib",IF(J65="oui","Stade",IF(K65="oui","Lib",""))) | J65: =IF(OR(LEFT($O65,3)="sta",LEFT($S65,3)="sta",LEFT($W65,3)="sta",LEFT($AA65,3)="sta",LEFT($AE65,3)="sta",LEFT($AI65,3)="sta",LEFT($AM65,3)="sta",LEFT($AQ65,3)="sta"),"oui","") | K65: =IF(OR(LEFT($O65,3)="Lib",LEFT($S65,3)="Lib",LEFT($W65,3)="Lib",LEFT($AA65,3)="Lib",LEFT($AE65,3)="Lib",LEFT($AI65,3)="Lib",LEFT($AM65,3)="Lib",LEFT($AQ65,3)="Lib"),"oui","") | L65: =IF(OR(LEFT($O65,3)="sta",LEFT($S65,3)="sta",LEFT($W65,3)="sta",LEFT($AA65,3)="sta",LEFT($AE65,3)="sta",LEFT($AI65,3)="sta",LEFT($AM65,3)="sta",LEFT($AQ65,3)="sta"),"oui","") | M65: =IF(OR(LEFT($O65,3)="Lib",LEFT($S65,3)="Lib",LEFT($W65,3)="Lib",LEFT($AA65,3)="Lib",LEFT($AE65,3)="Lib",LEFT($AI65,3)="Lib",LEFT($AM65,3)="Lib",LEFT($AQ65,3)="Lib"),"oui","")
A66: =1+A65 -> 3 | B66: =1+B65 -> 38 | C66: a | D66: =7+D65 -> 41898 | E66: M3 | I66: =IF(AND(J66="oui",K66="oui"),"Sta+Lib",IF(J66="oui","Stade",IF(K66="oui","Lib",""))) | J66: =IF(OR(LEFT($O66,3)="sta",LEFT($S66,3)="sta",LEFT($W66,3)="sta",LEFT($AA66,3)="sta",LEFT($AE66,3)="sta",LEFT($AI66,3)="sta",LEFT($AM66,3)="sta",LEFT($AQ66,3)="sta"),"oui","") | K66: =IF(OR(LEFT($O66,3)="Lib",LEFT($S66,3)="Lib",LEFT($W66,3)="Lib",LEFT($AA66,3)="Lib",LEFT($AE66,3)="Lib",LEFT($AI66,3)="Lib",LEFT($AM66,3)="Lib",LEFT($AQ66,3)="Lib"),"oui","") | L66: =IF(OR(LEFT($O66,3)="sta",LEFT($S66,3)="sta",LEFT($W66,3)="sta",LEFT($AA66,3)="sta",LEFT($AE66,3)="sta",LEFT($AI66,3)="sta",LEFT($AM66,3)="sta",LEFT($AQ66,3)="sta"),"oui","") | M66: =IF(OR(LEFT($O66,3)="Lib",LEFT($S66,3)="Lib",LEFT($W66,3)="Lib",LEFT($AA66,3)="Lib",LEFT($AE66,3)="Lib",LEFT($AI66,3)="Lib",LEFT($AM66,3)="Lib",LEFT($AQ66,3)="Lib"),"oui","")
A67: =1+A66 -> 4 | B67: =1+B66 -> 39 | C67: b | D67: =7+D66 -> 41905 | E67: M3 | I67: =IF(AND(J67="oui",K67="oui"),"Sta+Lib",IF(J67="oui","Stade",IF(K67="oui","Lib",""))) | J67: =IF(OR(LEFT($O67,3)="sta",LEFT($S67,3)="sta",LEFT($W67,3)="sta",LEFT($AA67,3)="sta",LEFT($AE67,3)="sta",LEFT($AI67,3)="sta",LEFT($AM67,3)="sta",LEFT($AQ67,3)="sta"),"oui","") | K67: =IF(OR(LEFT($O67,3)="Lib",LEFT($S67,3)="Lib",LEFT($W67,3)="Lib",LEFT($AA67,3)="Lib",LEFT($AE67,3)="Lib",LEFT($AI67,3)="Lib",LEFT($AM67,3)="Lib",LEFT($AQ67,3)="Lib"),"oui","") | L67: =IF(OR(LEFT($O67,3)="sta",LEFT($S67,3)="sta",LEFT($W67,3)="sta",LEFT($AA67,3)="sta",LEFT($AE67,3)="sta",LEFT($AI67,3)="sta",LEFT($AM67,3)="sta",LEFT($AQ67,3)="sta"),"oui","") | M67: =IF(OR(LEFT($O67,3)="Lib",LEFT($S67,3)="Lib",LEFT($W67,3)="Lib",LEFT($AA67,3)="Lib",LEFT($AE67,3)="Lib",LEFT($AI67,3)="Lib",LEFT($AM67,3)="Lib",LEFT($AQ67,3)="Lib"),"oui","")
A68: =1+A67 -> 5 | B68: =1+B67 -> 40 | C68: a | D68: =7+D67 -> 41912 | E68: M3 | I68: =IF(AND(J68="oui",K68="oui"),"Sta+Lib",IF(J68="oui","Stade",IF(K68="oui","Lib",""))) | J68: =IF(OR(LEFT($O68,3)="sta",LEFT($S68,3)="sta",LEFT($W68,3)="sta",LEFT($AA68,3)="sta",LEFT($AE68,3)="sta",LEFT($AI68,3)="sta",LEFT($AM68,3)="sta",LEFT($AQ68,3)="sta"),"oui","") | K68: =IF(OR(LEFT($O68,3)="Lib",LEFT($S68,3)="Lib",LEFT($W68,3)="Lib",LEFT($AA68,3)="Lib",LEFT($AE68,3)="Lib",LEFT($AI68,3)="Lib",LEFT($AM68,3)="Lib",LEFT($AQ68,3)="Lib"),"oui","") | L68: =IF(OR(LEFT($O68,3)="sta",LEFT($S68,3)="sta",LEFT($W68,3)="sta",LEFT($AA68,3)="sta",LEFT($AE68,3)="sta",LEFT($AI68,3)="sta",LEFT($AM68,3)="sta",LEFT($AQ68,3)="sta"),"oui","") | M68: =IF(OR(LEFT($O68,3)="Lib",LEFT($S68,3)="Lib",LEFT($W68,3)="Lib",LEFT($AA68,3)="Lib",LEFT($AE68,3)="Lib",LEFT($AI68,3)="Lib",LEFT($AM68,3)="Lib",LEFT($AQ68,3)="Lib"),"oui","")
A69: =1+A68 -> 6 | B69: =1+B68 -> 41 | C69: b | D69: =7+D68 -> 41919 | E69: M3 | I69: =IF(AND(J69="oui",K69="oui"),"Sta+Lib",IF(J69="oui","Stade",IF(K69="oui","Lib",""))) | J69: =IF(OR(LEFT($O69,3)="sta",LEFT($S69,3)="sta",LEFT($W69,3)="sta",LEFT($AA69,3)="sta",LEFT($AE69,3)="sta",LEFT($AI69,3)="sta",LEFT($AM69,3)="sta",LEFT($AQ69,3)="sta"),"oui","") | K69: =IF(OR(LEFT($O69,3)="Lib",LEFT($S69,3)="Lib",LEFT($W69,3)="Lib",LEFT($AA69,3)="Lib",LEFT($AE69,3)="Lib",LEFT($AI69,3)="Lib",LEFT($AM69,3)="Lib",LEFT($AQ69,3)="Lib"),"oui","") | L69: =IF(OR(LEFT($O69,3)="sta",LEFT($S69,3)="sta",LEFT($W69,3)="sta",LEFT($AA69,3)="sta",LEFT($AE69,3)="sta",LEFT($AI69,3)="sta",LEFT($AM69,3)="sta",LEFT($AQ69,3)="sta"),"oui","") | M69: =IF(OR(LEFT($O69,3)="Lib",LEFT($S69,3)="Lib",LEFT($W69,3)="Lib",LEFT($AA69,3)="Lib",LEFT($AE69,3)="Lib",LEFT($AI69,3)="Lib",LEFT($AM69,3)="Lib",LEFT($AQ69,3)="Lib"),"oui","")
A70: =1+A69 -> 7 | B70: =1+B69 -> 42 | C70: a | D70: =7+D69 -> 41926 | E70: M3 | I70: =IF(AND(J70="oui",K70="oui"),"Sta+Lib",IF(J70="oui","Stade",IF(K70="oui","Lib",""))) | J70: =IF(OR(LEFT($O70,3)="sta",LEFT($S70,3)="sta",LEFT($W70,3)="sta",LEFT($AA70,3)="sta",LEFT($AE70,3)="sta",LEFT($AI70,3)="sta",LEFT($AM70,3)="sta",LEFT($AQ70,3)="sta"),"oui","") | K70: =IF(OR(LEFT($O70,3)="Lib",LEFT($S70,3)="Lib",LEFT($W70,3)="Lib",LEFT($AA70,3)="Lib",LEFT($AE70,3)="Lib",LEFT($AI70,3)="Lib",LEFT($AM70,3)="Lib",LEFT($AQ70,3)="Lib"),"oui","") | L70: =IF(OR(LEFT($O70,3)="sta",LEFT($S70,3)="sta",LEFT($W70,3)="sta",LEFT($AA70,3)="sta",LEFT($AE70,3)="sta",LEFT($AI70,3)="sta",LEFT($AM70,3)="sta",LEFT($AQ70,3)="sta"),"oui","") | M70: =IF(OR(LEFT($O70,3)="Lib",LEFT($S70,3)="Lib",LEFT($W70,3)="Lib",LEFT($AA70,3)="Lib",LEFT($AE70,3)="Lib",LEFT($AI70,3)="Lib",LEFT($AM70,3)="Lib",LEFT($AQ70,3)="Lib"),"oui","")
A71: =1+A70 -> 8 | B71: =1+B70 -> 43 | C71: b | D71: =7+D70 -> 41933 | E71: M3 | I71: =IF(AND(J71="oui",K71="oui"),"Sta+Lib",IF(J71="oui","Stade",IF(K71="oui","Lib",""))) | J71: =IF(OR(LEFT($O71,3)="sta",LEFT($S71,3)="sta",LEFT($W71,3)="sta",LEFT($AA71,3)="sta",LEFT($AE71,3)="sta",LEFT($AI71,3)="sta",LEFT($AM71,3)="sta",LEFT($AQ71,3)="sta"),"oui","") | K71: =IF(OR(LEFT($O71,3)="Lib",LEFT($S71,3)="Lib",LEFT($W71,3)="Lib",LEFT($AA71,3)="Lib",LEFT($AE71,3)="Lib",LEFT($AI71,3)="Lib",LEFT($AM71,3)="Lib",LEFT($AQ71,3)="Lib"),"oui","")
A72: =1+A71 -> 9 | B72: =1+B71 -> 44 | C72: a | D72: =7+D71 -> 41940 | E72: M3 | I72: =IF(AND(J72="oui",K72="oui"),"Sta+Lib",IF(J72="oui","Stade",IF(K72="oui","Lib",""))) | J72: =IF(OR(LEFT($O72,3)="sta",LEFT($S72,3)="sta",LEFT($W72,3)="sta",LEFT($AA72,3)="sta",LEFT($AE72,3)="sta",LEFT($AI72,3)="sta",LEFT($AM72,3)="sta",LEFT($AQ72,3)="sta"),"oui","") | K72: =IF(OR(LEFT($O72,3)="Lib",LEFT($S72,3)="Lib",LEFT($W72,3)="Lib",LEFT($AA72,3)="Lib",LEFT($AE72,3)="Lib",LEFT($AI72,3)="Lib",LEFT($AM72,3)="Lib",LEFT($AQ72,3)="Lib"),"oui","")
A73: =1+A72 -> 10 | B73: =1+B72 -> 45 | C73: b | D73: =7+D72 -> 41947 | E73: M3 | I73: =IF(AND(J73="oui",K73="oui"),"Sta+Lib",IF(J73="oui","Stade",IF(K73="oui","Lib",""))) | J73: =IF(OR(LEFT($O73,3)="sta",LEFT($S73,3)="sta",LEFT($W73,3)="sta",LEFT($AA73,3)="sta",LEFT($AE73,3)="sta",LEFT($AI73,3)="sta",LEFT($AM73,3)="sta",LEFT($AQ73,3)="sta"),"oui","") | K73: =IF(OR(LEFT($O73,3)="Lib",LEFT($S73,3)="Lib",LEFT($W73,3)="Lib",LEFT($AA73,3)="Lib",LEFT($AE73,3)="Lib",LEFT($AI73,3)="Lib",LEFT($AM73,3)="Lib",LEFT($AQ73,3)="Lib"),"oui","") | L73: =IF(OR(LEFT($O73,3)="sta",LEFT($S73,3)="sta",LEFT($W73,3)="sta",LEFT($AA73,3)="sta",LEFT($AE73,3)="sta",LEFT($AI73,3)="sta",LEFT($AM73,3)="sta",LEFT($AQ73,3)="sta"),"oui","") | M73: =IF(OR(LEFT($O73,3)="Lib",LEFT($S73,3)="Lib",LEFT($W73,3)="Lib",LEFT($AA73,3)="Lib",LEFT($AE73,3)="Lib",LEFT($AI73,3)="Lib",LEFT($AM73,3)="Lib",LEFT($AQ73,3)="Lib"),"oui","")
A74: =1+A73 -> 11 | B74: =1+B73 -> 46 | C74: a | D74: =7+D73 -> 41954 | E74: M3 | I74: =IF(AND(J74="oui",K74="oui"),"Sta+Lib",IF(J74="oui","Stade",IF(K74="oui","Lib",""))) | J74: =IF(OR(LEFT($O74,3)="sta",LEFT($S74,3)="sta",LEFT($W74,3)="sta",LEFT($AA74,3)="sta",LEFT($AE74,3)="sta",LEFT($AI74,3)="sta",LEFT($AM74,3)="sta",LEFT($AQ74,3)="sta"),"oui","") | K74: =IF(OR(LEFT($O74,3)="Lib",LEFT($S74,3)="Lib",LEFT($W74,3)="Lib",LEFT($AA74,3)="Lib",LEFT($AE74,3)="Lib",LEFT($AI74,3)="Lib",LEFT($AM74,3)="Lib",LEFT($AQ74,3)="Lib"),"oui","") | L74: =IF(OR(LEFT($O74,3)="sta",LEFT($S74,3)="sta",LEFT($W74,3)="sta",LEFT($AA74,3)="sta",LEFT($AE74,3)="sta",LEFT($AI74,3)="sta",LEFT($AM74,3)="sta",LEFT($AQ74,3)="sta"),"oui","") | M74: =IF(OR(LEFT($O74,3)="Lib",LEFT($S74,3)="Lib",LEFT($W74,3)="Lib",LEFT($AA74,3)="Lib",LEFT($AE74,3)="Lib",LEFT($AI74,3)="Lib",LEFT($AM74,3)="Lib",LEFT($AQ74,3)="Lib"),"oui","")
A75: =1+A74 -> 12 | B75: =1+B74 -> 47 | C75: b | D75: =7+D74 -> 41961 | E75: M3 | I75: =IF(AND(J75="oui",K75="oui"),"Sta+Lib",IF(J75="oui","Stade",IF(K75="oui","Lib",""))) | J75: =IF(OR(LEFT($O75,3)="sta",LEFT($S75,3)="sta",LEFT($W75,3)="sta",LEFT($AA75,3)="sta",LEFT($AE75,3)="sta",LEFT($AI75,3)="sta",LEFT($AM75,3)="sta",LEFT($AQ75,3)="sta"),"oui","") | K75: =IF(OR(LEFT($O75,3)="Lib",LEFT($S75,3)="Lib",LEFT($W75,3)="Lib",LEFT($AA75,3)="Lib",LEFT($AE75,3)="Lib",LEFT($AI75,3)="Lib",LEFT($AM75,3)="Lib",LEFT($AQ75,3)="Lib"),"oui","") | L75: =IF(OR(LEFT($O75,3)="sta",LEFT($S75,3)="sta",LEFT($W75,3)="sta",LEFT($AA75,3)="sta",LEFT($AE75,3)="sta",LEFT($AI75,3)="sta",LEFT($AM75,3)="sta",LEFT($AQ75,3)="sta"),"oui","") | M75: =IF(OR(LEFT($O75,3)="Lib",LEFT($S75,3)="Lib",LEFT($W75,3)="Lib",LEFT($AA75,3)="Lib",LEFT($AE75,3)="Lib",LEFT($AI75,3)="Lib",LEFT($AM75,3)="Lib",LEFT($AQ75,3)="Lib"),"oui","")
A76: =1+A75 -> 13 | B76: =1+B75 -> 48 | C76: a | D76: =7+D75 -> 41968 | E76: M3 | I76: =IF(AND(J76="oui",K76="oui"),"Sta+Lib",IF(J76="oui","Stade",IF(K76="oui","Lib",""))) | J76: =IF(OR(LEFT($O76,3)="sta",LEFT($S76,3)="sta",LEFT($W76,3)="sta",LEFT($AA76,3)="sta",LEFT($AE76,3)="sta",LEFT($AI76,3)="sta",LEFT($AM76,3)="sta",LEFT($AQ76,3)="sta"),"oui","") | K76: =IF(OR(LEFT($O76,3)="Lib",LEFT($S76,3)="Lib",LEFT($W76,3)="Lib",LEFT($AA76,3)="Lib",LEFT($AE76,3)="Lib",LEFT($AI76,3)="Lib",LEFT($AM76,3)="Lib",LEFT($AQ76,3)="Lib"),"oui","") | L76: =IF(OR(LEFT($O76,3)="sta",LEFT($S76,3)="sta",LEFT($W76,3)="sta",LEFT($AA76,3)="sta",LEFT($AE76,3)="sta",LEFT($AI76,3)="sta",LEFT($AM76,3)="sta",LEFT($AQ76,3)="sta"),"oui","") | M76: =IF(OR(LEFT($O76,3)="Lib",LEFT($S76,3)="Lib",LEFT($W76,3)="Lib",LEFT($AA76,3)="Lib",LEFT($AE76,3)="Lib",LEFT($AI76,3)="Lib",LEFT($AM76,3)="Lib",LEFT($AQ76,3)="Lib"),"oui","")
A77: =1+A76 -> 14 | B77: =1+B76 -> 49 | C77: b | D77: =7+D76 -> 41975 | E77: M3 | I77: =IF(AND(J77="oui",K77="oui"),"Sta+Lib",IF(J77="oui","Stade",IF(K77="oui","Lib",""))) | J77: =IF(OR(LEFT($O77,3)="sta",LEFT($S77,3)="sta",LEFT($W77,3)="sta",LEFT($AA77,3)="sta",LEFT($AE77,3)="sta",LEFT($AI77,3)="sta",LEFT($AM77,3)="sta",LEFT($AQ77,3)="sta"),"oui","") | K77: =IF(OR(LEFT($O77,3)="Lib",LEFT($S77,3)="Lib",LEFT($W77,3)="Lib",LEFT($AA77,3)="Lib",LEFT($AE77,3)="Lib",LEFT($AI77,3)="Lib",LEFT($AM77,3)="Lib",LEFT($AQ77,3)="Lib"),"oui","") | L77: =IF(OR(LEFT($O77,3)="sta",LEFT($S77,3)="sta",LEFT($W77,3)="sta",LEFT($AA77,3)="sta",LEFT($AE77,3)="sta",LEFT($AI77,3)="sta",LEFT($AM77,3)="sta",LEFT($AQ77,3)="sta"),"oui","") | M77: =IF(OR(LEFT($O77,3)="Lib",LEFT($S77,3)="Lib",LEFT($W77,3)="Lib",LEFT($AA77,3)="Lib",LEFT($AE77,3)="Lib",LEFT($AI77,3)="Lib",LEFT($AM77,3)="Lib",LEFT($AQ77,3)="Lib"),"oui","")
A78: =1+A77 -> 15 | B78: =1+B77 -> 50 | C78: a | D78: =7+D77 -> 41982 | E78: M3 | I78: =IF(AND(J78="oui",K78="oui"),"Sta+Lib",IF(J78="oui","Stade",IF(K78="oui","Lib",""))) | J78: =IF(OR(LEFT($O78,3)="sta",LEFT($S78,3)="sta",LEFT($W78,3)="sta",LEFT($AA78,3)="sta",LEFT($AE78,3)="sta",LEFT($AI78,3)="sta",LEFT($AM78,3)="sta",LEFT($AQ78,3)="sta"),"oui","") | K78: =IF(OR(LEFT($O78,3)="Lib",LEFT($S78,3)="Lib",LEFT($W78,3)="Lib",LEFT($AA78,3)="Lib",LEFT($AE78,3)="Lib",LEFT($AI78,3)="Lib",LEFT($AM78,3)="Lib",LEFT($AQ78,3)="Lib"),"oui","") | L78: =IF(OR(LEFT($O78,3)="sta",LEFT($S78,3)="sta",LEFT($W78,3)="sta",LEFT($AA78,3)="sta",LEFT($AE78,3)="sta",LEFT($AI78,3)="sta",LEFT($AM78,3)="sta",LEFT($AQ78,3)="sta"),"oui","") | M78: =IF(OR(LEFT($O78,3)="Lib",LEFT($S78,3)="Lib",LEFT($W78,3)="Lib",LEFT($AA78,3)="Lib",LEFT($AE78,3)="Lib",LEFT($AI78,3)="Lib",LEFT($AM78,3)="Lib",LEFT($AQ78,3)="Lib"),"oui","")
A79: =1+A78 -> 16 | B79: =1+B78 -> 51 | C79: b | D79: =7+D78 -> 41989 | E79: M3 | I79: =IF(AND(J79="oui",K79="oui"),"Sta+Lib",IF(J79="oui","Stade",IF(K79="oui","Lib",""))) | J79: =IF(OR(LEFT($O79,3)="sta",LEFT($S79,3)="sta",LEFT($W79,3)="sta",LEFT($AA79,3)="sta",LEFT($AE79,3)="sta",LEFT($AI79,3)="sta",LEFT($AM79,3)="sta",LEFT($AQ79,3)="sta"),"oui","") | K79: =IF(OR(LEFT($O79,3)="Lib",LEFT($S79,3)="Lib",LEFT($W79,3)="Lib",LEFT($AA79,3)="Lib",LEFT($AE79,3)="Lib",LEFT($AI79,3)="Lib",LEFT($AM79,3)="Lib",LEFT($AQ79,3)="Lib"),"oui","") | L79: =IF(OR(LEFT($O79,3)="sta",LEFT($S79,3)="sta",LEFT($W79,3)="sta",LEFT($AA79,3)="sta",LEFT($AE79,3)="sta",LEFT($AI79,3)="sta",LEFT($AM79,3)="sta",LEFT($AQ79,3)="sta"),"oui","") | M79: =IF(OR(LEFT($O79,3)="Lib",LEFT($S79,3)="Lib",LEFT($W79,3)="Lib",LEFT($AA79,3)="Lib",LEFT($AE79,3)="Lib",LEFT($AI79,3)="Lib",LEFT($AM79,3)="Lib",LEFT($AQ79,3)="Lib"),"oui","")
A80: =1+A79 -> 17 | B80: =1+B79 -> 52 | C80: a | D80: =7+D79 -> 41996 | E80: M3 | I80: =IF(AND(J80="oui",K80="oui"),"Sta+Lib",IF(J80="oui","Stade",IF(K80="oui","Lib",""))) | J80: =IF(OR(LEFT($O80,3)="sta",LEFT($S80,3)="sta",LEFT($W80,3)="sta",LEFT($AA80,3)="sta",LEFT($AE80,3)="sta",LEFT($AI80,3)="sta",LEFT($AM80,3)="sta",LEFT($AQ80,3)="sta"),"oui","") | K80: =IF(OR(LEFT($O80,3)="Lib",LEFT($S80,3)="Lib",LEFT($W80,3)="Lib",LEFT($AA80,3)="Lib",LEFT($AE80,3)="Lib",LEFT($AI80,3)="Lib",LEFT($AM80,3)="Lib",LEFT($AQ80,3)="Lib"),"oui","")
A81: =1+A80 -> 18 | B81: 1 | C81: b | D81: =7+D80 -> 42003 | E81: M3 | I81: =IF(AND(J81="oui",K81="oui"),"Sta+Lib",IF(J81="oui","Stade",IF(K81="oui","Lib",""))) | J81: =IF(OR(LEFT($O81,3)="sta",LEFT($S81,3)="sta",LEFT($W81,3)="sta",LEFT($AA81,3)="sta",LEFT($AE81,3)="sta",LEFT($AI81,3)="sta",LEFT($AM81,3)="sta",LEFT($AQ81,3)="sta"),"oui","") | K81: =IF(OR(LEFT($O81,3)="Lib",LEFT($S81,3)="Lib",LEFT($W81,3)="Lib",LEFT($AA81,3)="Lib",LEFT($AE81,3)="Lib",LEFT($AI81,3)="Lib",LEFT($AM81,3)="Lib",LEFT($AQ81,3)="Lib"),"oui","")
A82: =1+A81 -> 19 | B82: =1+B81 -> 2 | C82: a | D82: =7+D81 -> 42010 | E82: M3 | I82: =IF(AND(J82="oui",K82="oui"),"Sta+Lib",IF(J82="oui","Stade",IF(K82="oui","Lib",""))) | J82: =IF(OR(LEFT($O82,3)="sta",LEFT($S82,3)="sta",LEFT($W82,3)="sta",LEFT($AA82,3)="sta",LEFT($AE82,3)="sta",LEFT($AI82,3)="sta",LEFT($AM82,3)="sta",LEFT($AQ82,3)="sta"),"oui","") | K82: =IF(OR(LEFT($O82,3)="Lib",LEFT($S82,3)="Lib",LEFT($W82,3)="Lib",LEFT($AA82,3)="Lib",LEFT($AE82,3)="Lib",LEFT($AI82,3)="Lib",LEFT($AM82,3)="Lib",LEFT($AQ82,3)="Lib"),"oui","") | L82: =IF(OR(LEFT($O82,3)="sta",LEFT($S82,3)="sta",LEFT($W82,3)="sta",LEFT($AA82,3)="sta",LEFT($AE82,3)="sta",LEFT($AI82,3)="sta",LEFT($AM82,3)="sta",LEFT($AQ82,3)="sta"),"oui","") | M82: =IF(OR(LEFT($O82,3)="Lib",LEFT($S82,3)="Lib",LEFT($W82,3)="Lib",LEFT($AA82,3)="Lib",LEFT($AE82,3)="Lib",LEFT($AI82,3)="Lib",LEFT($AM82,3)="Lib",LEFT($AQ82,3)="Lib"),"oui","")
A83: =1+A82 -> 20 | B83: =1+B82 -> 3 | C83: b | D83: =7+D82 -> 42017 | E83: M3 | I83: =IF(AND(J83="oui",K83="oui"),"Sta+Lib",IF(J83="oui","Stade",IF(K83="oui","Lib",""))) | J83: =IF(OR(LEFT($O83,3)="sta",LEFT($S83,3)="sta",LEFT($W83,3)="sta",LEFT($AA83,3)="sta",LEFT($AE83,3)="sta",LEFT($AI83,3)="sta",LEFT($AM83,3)="sta",LEFT($AQ83,3)="sta"),"oui","") | K83: =IF(OR(LEFT($O83,3)="Lib",LEFT($S83,3)="Lib",LEFT($W83,3)="Lib",LEFT($AA83,3)="Lib",LEFT($AE83,3)="Lib",LEFT($AI83,3)="Lib",LEFT($AM83,3)="Lib",LEFT($AQ83,3)="Lib"),"oui","") | L83: =IF(OR(LEFT($O83,3)="sta",LEFT($S83,3)="sta",LEFT($W83,3)="sta",LEFT($AA83,3)="sta",LEFT($AE83,3)="sta",LEFT($AI83,3)="sta",LEFT($AM83,3)="sta",LEFT($AQ83,3)="sta"),"oui","") | M83: =IF(OR(LEFT($O83,3)="Lib",LEFT($S83,3)="Lib",LEFT($W83,3)="Lib",LEFT($AA83,3)="Lib",LEFT($AE83,3)="Lib",LEFT($AI83,3)="Lib",LEFT($AM83,3)="Lib",LEFT($AQ83,3)="Lib"),"oui","")
A84: =1+A83 -> 21 | B84: =1+B83 -> 4 | C84: a | D84: =7+D83 -> 42024 | E84: M3 | I84: =IF(AND(J84="oui",K84="oui"),"Sta+Lib",IF(J84="oui","Stade",IF(K84="oui","Lib",""))) | J84: =IF(OR(LEFT($O84,3)="sta",LEFT($S84,3)="sta",LEFT($W84,3)="sta",LEFT($AA84,3)="sta",LEFT($AE84,3)="sta",LEFT($AI84,3)="sta",LEFT($AM84,3)="sta",LEFT($AQ84,3)="sta"),"oui","") | K84: =IF(OR(LEFT($O84,3)="Lib",LEFT($S84,3)="Lib",LEFT($W84,3)="Lib",LEFT($AA84,3)="Lib",LEFT($AE84,3)="Lib",LEFT($AI84,3)="Lib",LEFT($AM84,3)="Lib",LEFT($AQ84,3)="Lib"),"oui","") | L84: =IF(OR(LEFT($O84,3)="sta",LEFT($S84,3)="sta",LEFT($W84,3)="sta",LEFT($AA84,3)="sta",LEFT($AE84,3)="sta",LEFT($AI84,3)="sta",LEFT($AM84,3)="sta",LEFT($AQ84,3)="sta"),"oui","") | M84: =IF(OR(LEFT($O84,3)="Lib",LEFT($S84,3)="Lib",LEFT($W84,3)="Lib",LEFT($AA84,3)="Lib",LEFT($AE84,3)="Lib",LEFT($AI84,3)="Lib",LEFT($AM84,3)="Lib",LEFT($AQ84,3)="Lib"),"oui","")
A85: =1+A84 -> 22 | B85: =1+B84 -> 5 | C85: b | D85: =7+D84 -> 42031 | E85: M3 | I85: =IF(AND(J85="oui",K85="oui"),"Sta+Lib",IF(J85="oui","Stade",IF(K85="oui","Lib",""))) | J85: =IF(OR(LEFT($O85,3)="sta",LEFT($S85,3)="sta",LEFT($W85,3)="sta",LEFT($AA85,3)="sta",LEFT($AE85,3)="sta",LEFT($AI85,3)="sta",LEFT($AM85,3)="sta",LEFT($AQ85,3)="sta"),"oui","") | K85: =IF(OR(LEFT($O85,3)="Lib",LEFT($S85,3)="Lib",LEFT($W85,3)="Lib",LEFT($AA85,3)="Lib",LEFT($AE85,3)="Lib",LEFT($AI85,3)="Lib",LEFT($AM85,3)="Lib",LEFT($AQ85,3)="Lib"),"oui","") | L85: =IF(OR(LEFT($O85,3)="sta",LEFT($S85,3)="sta",LEFT($W85,3)="sta",LEFT($AA85,3)="sta",LEFT($AE85,3)="sta",LEFT($AI85,3)="sta",LEFT($AM85,3)="sta",LEFT($AQ85,3)="sta"),"oui","") | M85: =IF(OR(LEFT($O85,3)="Lib",LEFT($S85,3)="Lib",LEFT($W85,3)="Lib",LEFT($AA85,3)="Lib",LEFT($AE85,3)="Lib",LEFT($AI85,3)="Lib",LEFT($AM85,3)="Lib",LEFT($AQ85,3)="Lib"),"oui","")
A86: =1+A85 -> 23 | B86: =1+B85 -> 6 | C86: a | D86: =7+D85 -> 42038 | E86: M3 | I86: =IF(AND(J86="oui",K86="oui"),"Sta+Lib",IF(J86="oui","Stade",IF(K86="oui","Lib",""))) | J86: =IF(OR(LEFT($O86,3)="sta",LEFT($S86,3)="sta",LEFT($W86,3)="sta",LEFT($AA86,3)="sta",LEFT($AE86,3)="sta",LEFT($AI86,3)="sta",LEFT($AM86,3)="sta",LEFT($AQ86,3)="sta"),"oui","") | K86: =IF(OR(LEFT($O86,3)="Lib",LEFT($S86,3)="Lib",LEFT($W86,3)="Lib",LEFT($AA86,3)="Lib",LEFT($AE86,3)="Lib",LEFT($AI86,3)="Lib",LEFT($AM86,3)="Lib",LEFT($AQ86,3)="Lib"),"oui","") | L86: =IF(OR(LEFT($O86,3)="sta",LEFT($S86,3)="sta",LEFT($W86,3)="sta",LEFT($AA86,3)="sta",LEFT($AE86,3)="sta",LEFT($AI86,3)="sta",LEFT($AM86,3)="sta",LEFT($AQ86,3)="sta"),"oui","") | M86: =IF(OR(LEFT($O86,3)="Lib",LEFT($S86,3)="Lib",LEFT($W86,3)="Lib",LEFT($AA86,3)="Lib",LEFT($AE86,3)="Lib",LEFT($AI86,3)="Lib",LEFT($AM86,3)="Lib",LEFT($AQ86,3)="Lib"),"oui","")
A87: =1+A86 -> 24 | B87: =1+B86 -> 7 | C87: b | D87: =7+D86 -> 42045 | E87: M3 | I87: =IF(AND(J87="oui",K87="oui"),"Sta+Lib",IF(J87="oui","Stade",IF(K87="oui","Lib",""))) | J87: =IF(OR(LEFT($O87,3)="sta",LEFT($S87,3)="sta",LEFT($W87,3)="sta",LEFT($AA87,3)="sta",LEFT($AE87,3)="sta",LEFT($AI87,3)="sta",LEFT($AM87,3)="sta",LEFT($AQ87,3)="sta"),"oui","") | K87: =IF(OR(LEFT($O87,3)="Lib",LEFT($S87,3)="Lib",LEFT($W87,3)="Lib",LEFT($AA87,3)="Lib",LEFT($AE87,3)="Lib",LEFT($AI87,3)="Lib",LEFT($AM87,3)="Lib",LEFT($AQ87,3)="Lib"),"oui","") | L87: =IF(OR(LEFT($O87,3)="sta",LEFT($S87,3)="sta",LEFT($W87,3)="sta",LEFT($AA87,3)="sta",LEFT($AE87,3)="sta",LEFT($AI87,3)="sta",LEFT($AM87,3)="sta",LEFT($AQ87,3)="sta"),"oui","") | M87: =IF(OR(LEFT($O87,3)="Lib",LEFT($S87,3)="Lib",LEFT($W87,3)="Lib",LEFT($AA87,3)="Lib",LEFT($AE87,3)="Lib",LEFT($AI87,3)="Lib",LEFT($AM87,3)="Lib",LEFT($AQ87,3)="Lib"),"oui","")
A88: =1+A87 -> 25 | B88: =1+B87 -> 8 | C88: a | D88: =7+D87 -> 42052 | E88: M3 | I88: =IF(AND(J88="oui",K88="oui"),"Sta+Lib",IF(J88="oui","Stade",IF(K88="oui","Lib",""))) | J88: =IF(OR(LEFT($O88,3)="sta",LEFT($S88,3)="sta",LEFT($W88,3)="sta",LEFT($AA88,3)="sta",LEFT($AE88,3)="sta",LEFT($AI88,3)="sta",LEFT($AM88,3)="sta",LEFT($AQ88,3)="sta"),"oui","") | K88: =IF(OR(LEFT($O88,3)="Lib",LEFT($S88,3)="Lib",LEFT($W88,3)="Lib",LEFT($AA88,3)="Lib",LEFT($AE88,3)="Lib",LEFT($AI88,3)="Lib",LEFT($AM88,3)="Lib",LEFT($AQ88,3)="Lib"),"oui","") | L88: =IF(OR(LEFT($O88,3)="sta",LEFT($S88,3)="sta",LEFT($W88,3)="sta",LEFT($AA88,3)="sta",LEFT($AE88,3)="sta",LEFT($AI88,3)="sta",LEFT($AM88,3)="sta",LEFT($AQ88,3)="sta"),"oui","") | M88: =IF(OR(LEFT($O88,3)="Lib",LEFT($S88,3)="Lib",LEFT($W88,3)="Lib",LEFT($AA88,3)="Lib",LEFT($AE88,3)="Lib",LEFT($AI88,3)="Lib",LEFT($AM88,3)="Lib",LEFT($AQ88,3)="Lib"),"oui","")
A89: =1+A88 -> 26 | B89: =1+B88 -> 9 | C89: b | D89: =7+D88 -> 42059 | E89: M3 | I89: =IF(AND(J89="oui",K89="oui"),"Sta+Lib",IF(J89="oui","Stade",IF(K89="oui","Lib",""))) | J89: =IF(OR(LEFT($O89,3)="sta",LEFT($S89,3)="sta",LEFT($W89,3)="sta",LEFT($AA89,3)="sta",LEFT($AE89,3)="sta",LEFT($AI89,3)="sta",LEFT($AM89,3)="sta",LEFT($AQ89,3)="sta"),"oui","") | K89: =IF(OR(LEFT($O89,3)="Lib",LEFT($S89,3)="Lib",LEFT($W89,3)="Lib",LEFT($AA89,3)="Lib",LEFT($AE89,3)="Lib",LEFT($AI89,3)="Lib",LEFT($AM89,3)="Lib",LEFT($AQ89,3)="Lib"),"oui","")
A90: =1+A89 -> 27 | B90: =1+B89 -> 10 | C90: a | D90: =7+D89 -> 42066 | E90: M3 | I90: =IF(AND(J90="oui",K90="oui"),"Sta+Lib",IF(J90="oui","Stade",IF(K90="oui","Lib",""))) | J90: =IF(OR(LEFT($O90,3)="sta",LEFT($S90,3)="sta",LEFT($W90,3)="sta",LEFT($AA90,3)="sta",LEFT($AE90,3)="sta",LEFT($AI90,3)="sta",LEFT($AM90,3)="sta",LEFT($AQ90,3)="sta"),"oui","") | K90: =IF(OR(LEFT($O90,3)="Lib",LEFT($S90,3)="Lib",LEFT($W90,3)="Lib",LEFT($AA90,3)="Lib",LEFT($AE90,3)="Lib",LEFT($AI90,3)="Lib",LEFT($AM90,3)="Lib",LEFT($AQ90,3)="Lib"),"oui","")
A91: =1+A90 -> 28 | B91: =1+B90 -> 11 | C91: b | D91: =7+D90 -> 42073 | E91: M3 | I91: =IF(AND(J91="oui",K91="oui"),"Sta+Lib",IF(J91="oui","Stade",IF(K91="oui","Lib",""))) | J91: =IF(OR(LEFT($O91,3)="sta",LEFT($S91,3)="sta",LEFT($W91,3)="sta",LEFT($AA91,3)="sta",LEFT($AE91,3)="sta",LEFT($AI91,3)="sta",LEFT($AM91,3)="sta",LEFT($AQ91,3)="sta"),"oui","") | K91: =IF(OR(LEFT($O91,3)="Lib",LEFT($S91,3)="Lib",LEFT($W91,3)="Lib",LEFT($AA91,3)="Lib",LEFT($AE91,3)="Lib",LEFT($AI91,3)="Lib",LEFT($AM91,3)="Lib",LEFT($AQ91,3)="Lib"),"oui","") | L91: =IF(OR(LEFT($O91,3)="sta",LEFT($S91,3)="sta",LEFT($W91,3)="sta",LEFT($AA91,3)="sta",LEFT($AE91,3)="sta",LEFT($AI91,3)="sta",LEFT($AM91,3)="sta",LEFT($AQ91,3)="sta"),"oui","") | M91: =IF(OR(LEFT($O91,3)="Lib",LEFT($S91,3)="Lib",LEFT($W91,3)="Lib",LEFT($AA91,3)="Lib",LEFT($AE91,3)="Lib",LEFT($AI91,3)="Lib",LEFT($AM91,3)="Lib",LEFT($AQ91,3)="Lib"),"oui","")
A92: =1+A91 -> 29 | B92: =1+B91 -> 12 | C92: b | D92: =7+D91 -> 42080 | E92: M3 | I92: =IF(AND(J92="oui",K92="oui"),"Sta+Lib",IF(J92="oui","Stade",IF(K92="oui","Lib",""))) | J92: =IF(OR(LEFT($O92,3)="sta",LEFT($S92,3)="sta",LEFT($W92,3)="sta",LEFT($AA92,3)="sta",LEFT($AE92,3)="sta",LEFT($AI92,3)="sta",LEFT($AM92,3)="sta",LEFT($AQ92,3)="sta"),"oui","") | K92: =IF(OR(LEFT($O92,3)="Lib",LEFT($S92,3)="Lib",LEFT($W92,3)="Lib",LEFT($AA92,3)="Lib",LEFT($AE92,3)="Lib",LEFT($AI92,3)="Lib",LEFT($AM92,3)="Lib",LEFT($AQ92,3)="Lib"),"oui","") | L92: =IF(OR(LEFT($O92,3)="sta",LEFT($S92,3)="sta",LEFT($W92,3)="sta",LEFT($AA92,3)="sta",LEFT($AE92,3)="sta",LEFT($AI92,3)="sta",LEFT($AM92,3)="sta",LEFT($AQ92,3)="sta"),"oui","") | M92: =IF(OR(LEFT($O92,3)="Lib",LEFT($S92,3)="Lib",LEFT($W92,3)="Lib",LEFT($AA92,3)="Lib",LEFT($AE92,3)="Lib",LEFT($AI92,3)="Lib",LEFT($AM92,3)="Lib",LEFT($AQ92,3)="Lib"),"oui","")
A93: =1+A92 -> 30 | B93: =1+B92 -> 13 | C93: b | D93: =7+D92 -> 42087 | E93: M3 | I93: =IF(AND(J93="oui",K93="oui"),"Sta+Lib",IF(J93="oui","Stade",IF(K93="oui","Lib",""))) | J93: =IF(OR(LEFT($O93,3)="sta",LEFT($S93,3)="sta",LEFT($W93,3)="sta",LEFT($AA93,3)="sta",LEFT($AE93,3)="sta",LEFT($AI93,3)="sta",LEFT($AM93,3)="sta",LEFT($AQ93,3)="sta"),"oui","") | K93: =IF(OR(LEFT($O93,3)="Lib",LEFT($S93,3)="Lib",LEFT($W93,3)="Lib",LEFT($AA93,3)="Lib",LEFT($AE93,3)="Lib",LEFT($AI93,3)="Lib",LEFT($AM93,3)="Lib",LEFT($AQ93,3)="Lib"),"oui","") | L93: =IF(OR(LEFT($O93,3)="sta",LEFT($S93,3)="sta",LEFT($W93,3)="sta",LEFT($AA93,3)="sta",LEFT($AE93,3)="sta",LEFT($AI93,3)="sta",LEFT($AM93,3)="sta",LEFT($AQ93,3)="sta"),"oui","") | M93: =IF(OR(LEFT($O93,3)="Lib",LEFT($S93,3)="Lib",LEFT($W93,3)="Lib",LEFT($AA93,3)="Lib",LEFT($AE93,3)="Lib",LEFT($AI93,3)="Lib",LEFT($AM93,3)="Lib",LEFT($AQ93,3)="Lib"),"oui","")
A94: =1+A93 -> 31 | B94: =1+B93 -> 14 | C94: a | D94: =7+D93 -> 42094 | E94: M3 | I94: =IF(AND(J94="oui",K94="oui"),"Sta+Lib",IF(J94="oui","Stade",IF(K94="oui","Lib",""))) | J94: =IF(OR(LEFT($O94,3)="sta",LEFT($S94,3)="sta",LEFT($W94,3)="sta",LEFT($AA94,3)="sta",LEFT($AE94,3)="sta",LEFT($AI94,3)="sta",LEFT($AM94,3)="sta",LEFT($AQ94,3)="sta"),"oui","") | K94: =IF(OR(LEFT($O94,3)="Lib",LEFT($S94,3)="Lib",LEFT($W94,3)="Lib",LEFT($AA94,3)="Lib",LEFT($AE94,3)="Lib",LEFT($AI94,3)="Lib",LEFT($AM94,3)="Lib",LEFT($AQ94,3)="Lib"),"oui","") | L94: =IF(OR(LEFT($O94,3)="sta",LEFT($S94,3)="sta",LEFT($W94,3)="sta",LEFT($AA94,3)="sta",LEFT($AE94,3)="sta",LEFT($AI94,3)="sta",LEFT($AM94,3)="sta",LEFT($AQ94,3)="sta"),"oui","") | M94: =IF(OR(LEFT($O94,3)="Lib",LEFT($S94,3)="Lib",LEFT($W94,3)="Lib",LEFT($AA94,3)="Lib",LEFT($AE94,3)="Lib",LEFT($AI94,3)="Lib",LEFT($AM94,3)="Lib",LEFT($AQ94,3)="Lib"),"oui","")
A95: =1+A94 -> 32 | B95: =1+B94 -> 15 | C95: b | D95: =7+D94 -> 42101 | E95: M3 | I95: =IF(AND(J95="oui",K95="oui"),"Sta+Lib",IF(J95="oui","Stade",IF(K95="oui","Lib",""))) | J95: =IF(OR(LEFT($O95,3)="sta",LEFT($S95,3)="sta",LEFT($W95,3)="sta",LEFT($AA95,3)="sta",LEFT($AE95,3)="sta",LEFT($AI95,3)="sta",LEFT($AM95,3)="sta",LEFT($AQ95,3)="sta"),"oui","") | K95: =IF(OR(LEFT($O95,3)="Lib",LEFT($S95,3)="Lib",LEFT($W95,3)="Lib",LEFT($AA95,3)="Lib",LEFT($AE95,3)="Lib",LEFT($AI95,3)="Lib",LEFT($AM95,3)="Lib",LEFT($AQ95,3)="Lib"),"oui","") | L95: =IF(OR(LEFT($O95,3)="sta",LEFT($S95,3)="sta",LEFT($W95,3)="sta",LEFT($AA95,3)="sta",LEFT($AE95,3)="sta",LEFT($AI95,3)="sta",LEFT($AM95,3)="sta",LEFT($AQ95,3)="sta"),"oui","") | M95: =IF(OR(LEFT($O95,3)="Lib",LEFT($S95,3)="Lib",LEFT($W95,3)="Lib",LEFT($AA95,3)="Lib",LEFT($AE95,3)="Lib",LEFT($AI95,3)="Lib",LEFT($AM95,3)="Lib",LEFT($AQ95,3)="Lib"),"oui","")
A96: =1+A95 -> 33 | B96: =1+B95 -> 16 | C96: a | D96: =7+D95 -> 42108 | E96: M3 | I96: =IF(AND(J96="oui",K96="oui"),"Sta+Lib",IF(J96="oui","Stade",IF(K96="oui","Lib",""))) | J96: =IF(OR(LEFT($O96,3)="sta",LEFT($S96,3)="sta",LEFT($W96,3)="sta",LEFT($AA96,3)="sta",LEFT($AE96,3)="sta",LEFT($AI96,3)="sta",LEFT($AM96,3)="sta",LEFT($AQ96,3)="sta"),"oui","") | K96: =IF(OR(LEFT($O96,3)="Lib",LEFT($S96,3)="Lib",LEFT($W96,3)="Lib",LEFT($AA96,3)="Lib",LEFT($AE96,3)="Lib",LEFT($AI96,3)="Lib",LEFT($AM96,3)="Lib",LEFT($AQ96,3)="Lib"),"oui","") | L96: =IF(OR(LEFT($O96,3)="sta",LEFT($S96,3)="sta",LEFT($W96,3)="sta",LEFT($AA96,3)="sta",LEFT($AE96,3)="sta",LEFT($AI96,3)="sta",LEFT($AM96,3)="sta",LEFT($AQ96,3)="sta"),"oui","") | M96: =IF(OR(LEFT($O96,3)="Lib",LEFT($S96,3)="Lib",LEFT($W96,3)="Lib",LEFT($AA96,3)="Lib",LEFT($AE96,3)="Lib",LEFT($AI96,3)="Lib",LEFT($AM96,3)="Lib",LEFT($AQ96,3)="Lib"),"oui","")
A97: =1+A96 -> 34 | B97: =1+B96 -> 17 | C97: b | D97: =7+D96 -> 42115 | E97: M3 | I97: =IF(AND(J97="oui",K97="oui"),"Sta+Lib",IF(J97="oui","Stade",IF(K97="oui","Lib",""))) | J97: =IF(OR(LEFT($O97,3)="sta",LEFT($S97,3)="sta",LEFT($W97,3)="sta",LEFT($AA97,3)="sta",LEFT($AE97,3)="sta",LEFT($AI97,3)="sta",LEFT($AM97,3)="sta",LEFT($AQ97,3)="sta"),"oui","") | K97: =IF(OR(LEFT($O97,3)="Lib",LEFT($S97,3)="Lib",LEFT($W97,3)="Lib",LEFT($AA97,3)="Lib",LEFT($AE97,3)="Lib",LEFT($AI97,3)="Lib",LEFT($AM97,3)="Lib",LEFT($AQ97,3)="Lib"),"oui","")
A98: =1+A97 -> 35 | B98: =1+B97 -> 18 | C98: a | D98: =7+D97 -> 42122 | E98: M3 | I98: =IF(AND(J98="oui",K98="oui"),"Sta+Lib",IF(J98="oui","Stade",IF(K98="oui","Lib",""))) | J98: =IF(OR(LEFT($O98,3)="sta",LEFT($S98,3)="sta",LEFT($W98,3)="sta",LEFT($AA98,3)="sta",LEFT($AE98,3)="sta",LEFT($AI98,3)="sta",LEFT($AM98,3)="sta",LEFT($AQ98,3)="sta"),"oui","") | K98: =IF(OR(LEFT($O98,3)="Lib",LEFT($S98,3)="Lib",LEFT($W98,3)="Lib",LEFT($AA98,3)="Lib",LEFT($AE98,3)="Lib",LEFT($AI98,3)="Lib",LEFT($AM98,3)="Lib",LEFT($AQ98,3)="Lib"),"oui","")
A99: =1+A98 -> 36 | B99: =1+B98 -> 19 | C99: b | D99: =7+D98 -> 42129 | E99: M3 | I99: =IF(AND(J99="oui",K99="oui"),"Sta+Lib",IF(J99="oui","Stade",IF(K99="oui","Lib",""))) | J99: =IF(OR(LEFT($O99,3)="sta",LEFT($S99,3)="sta",LEFT($W99,3)="sta",LEFT($AA99,3)="sta",LEFT($AE99,3)="sta",LEFT($AI99,3)="sta",LEFT($AM99,3)="sta",LEFT($AQ99,3)="sta"),"oui","") | K99: =IF(OR(LEFT($O99,3)="Lib",LEFT($S99,3)="Lib",LEFT($W99,3)="Lib",LEFT($AA99,3)="Lib",LEFT($AE99,3)="Lib",LEFT($AI99,3)="Lib",LEFT($AM99,3)="Lib",LEFT($AQ99,3)="Lib"),"oui","") | L99: =IF(OR(LEFT($O99,3)="sta",LEFT($S99,3)="sta",LEFT($W99,3)="sta",LEFT($AA99,3)="sta",LEFT($AE99,3)="sta",LEFT($AI99,3)="sta",LEFT($AM99,3)="sta",LEFT($AQ99,3)="sta"),"oui","") | M99: =IF(OR(LEFT($O99,3)="Lib",LEFT($S99,3)="Lib",LEFT($W99,3)="Lib",LEFT($AA99,3)="Lib",LEFT($AE99,3)="Lib",LEFT($AI99,3)="Lib",LEFT($AM99,3)="Lib",LEFT($AQ99,3)="Lib"),"oui","")
A100: =1+A99 -> 37 | B100: =1+B99 -> 20 | C100: a | D100: =7+D99 -> 42136 | E100: M3 | I100: =IF(AND(J100="oui",K100="oui"),"Sta+Lib",IF(J100="oui","Stade",IF(K100="oui","Lib",""))) | J100: =IF(OR(LEFT($O100,3)="sta",LEFT($S100,3)="sta",LEFT($W100,3)="sta",LEFT($AA100,3)="sta",LEFT($AE100,3)="sta",LEFT($AI100,3)="sta",LEFT($AM100,3)="sta",LEFT($AQ100,3)="sta"),"oui","") | K100: =IF(OR(LEFT($O100,3)="Lib",LEFT($S100,3)="Lib",LEFT($W100,3)="Lib",LEFT($AA100,3)="Lib",LEFT($AE100,3)="Lib",LEFT($AI100,3)="Lib",LEFT($AM100,3)="Lib",LEFT($AQ100,3)="Lib"),"oui","") | L100: =IF(OR(LEFT($O100,3)="sta",LEFT($S100,3)="sta",LEFT($W100,3)="sta",LEFT($AA100,3)="sta",LEFT($AE100,3)="sta",LEFT($AI100,3)="sta",LEFT($AM100,3)="sta",LEFT($AQ100,3)="sta"),"oui","") | M100: =IF(OR(LEFT($O100,3)="Lib",LEFT($S100,3)="Lib",LEFT($W100,3)="Lib",LEFT($AA100,3)="Lib",LEFT($AE100,3)="Lib",LEFT($AI100,3)="Lib",LEFT($AM100,3)="Lib",LEFT($AQ100,3)="Lib"),"oui","")
A101: =1+A100 -> 38 | B101: =1+B100 -> 21 | C101: b | D101: =7+D100 -> 42143 | E101: M3 | I101: =IF(AND(J101="oui",K101="oui"),"Sta+Lib",IF(J101="oui","Stade",IF(K101="oui","Lib",""))) | J101: =IF(OR(LEFT($O101,3)="sta",LEFT($S101,3)="sta",LEFT($W101,3)="sta",LEFT($AA101,3)="sta",LEFT($AE101,3)="sta",LEFT($AI101,3)="sta",LEFT($AM101,3)="sta",LEFT($AQ101,3)="sta"),"oui","") | K101: =IF(OR(LEFT($O101,3)="Lib",LEFT($S101,3)="Lib",LEFT($W101,3)="Lib",LEFT($AA101,3)="Lib",LEFT($AE101,3)="Lib",LEFT($AI101,3)="Lib",LEFT($AM101,3)="Lib",LEFT($AQ101,3)="Lib"),"oui","") | L101: =IF(OR(LEFT($O101,3)="sta",LEFT($S101,3)="sta",LEFT($W101,3)="sta",LEFT($AA101,3)="sta",LEFT($AE101,3)="sta",LEFT($AI101,3)="sta",LEFT($AM101,3)="sta",LEFT($AQ101,3)="sta"),"oui","") | M101: =IF(OR(LEFT($O101,3)="Lib",LEFT($S101,3)="Lib",LEFT($W101,3)="Lib",LEFT($AA101,3)="Lib",LEFT($AE101,3)="Lib",LEFT($AI101,3)="Lib",LEFT($AM101,3)="Lib",LEFT($AQ101,3)="Lib"),"oui","")
...

Sheet MARDI-PM
B1: MARDI 13H55-15H45
F2: Indisponible | I2: Profs
B3: N° Sem | C3: Sem | D3: DATES | E3: Creneau | F3: Bouchard | G3: JC | H3: Coubertin | I3: Classes
I4: Semaines
I5: Nb elèves
I6: Niv Cp
I7: 2E COURS
I8: CP
I9: Navette | J9: Stade | K9: Lib
A10: 1 | B10: 36 | C10: a | D10: 41884 | E10: S2 | I10: =IF(AND(J10="oui",K10="oui"),"Sta+Lib",IF(J10="oui","Stade",IF(K10="oui","Lib",""))) | J10: =IF(OR(LEFT($O10,3)="sta",LEFT($S10,3)="sta",LEFT($W10,3)="sta",LEFT($AA10,3)="sta",LEFT($AE10,3)="sta",LEFT($AI10,3)="sta",LEFT($AM10,3)="sta",LEFT($AQ10,3)="sta"),"oui","") | K10: =IF(OR(LEFT($O10,3)="Lib",LEFT($S10,3)="Lib",LEFT($W10,3)="Lib",LEFT($AA10,3)="Lib",LEFT($AE10,3)="Lib",LEFT($AI10,3)="Lib",LEFT($AM10,3)="Lib",LEFT($AQ10,3)="Lib"),"oui","")
A11: =1+A10 -> 2 | B11: =1+B10 -> 37 | C11: b | D11: =7+D10 -> 41891 | E11: S2 | I11: =IF(AND(J11="oui",K11="oui"),"Sta+Lib",IF(J11="oui","Stade",IF(K11="oui","Lib",""))) | J11: =IF(OR(LEFT($O11,3)="sta",LEFT($S11,3)="sta",LEFT($W11,3)="sta",LEFT($AA11,3)="sta",LEFT($AE11,3)="sta",LEFT($AI11,3)="sta",LEFT($AM11,3)="sta",LEFT($AQ11,3)="sta"),"oui","") | K11: =IF(OR(LEFT($O11,3)="Lib",LEFT($S11,3)="Lib",LEFT($W11,3)="Lib",LEFT($AA11,3)="Lib",LEFT($AE11,3)="Lib",LEFT($AI11,3)="Lib",LEFT($AM11,3)="Lib",LEFT($AQ11,3)="Lib"),"oui","")
A12: =1+A11 -> 3 | B12: =1+B11 -> 38 | C12: a | D12: =7+D11 -> 41898 | E12: S2 | I12: =IF(AND(J12="oui",K12="oui"),"Sta+Lib",IF(J12="oui","Stade",IF(K12="oui","Lib",""))) | J12: =IF(OR(LEFT($O12,3)="sta",LEFT($S12,3)="sta",LEFT($W12,3)="sta",LEFT($AA12,3)="sta",LEFT($AE12,3)="sta",LEFT($AI12,3)="sta",LEFT($AM12,3)="sta",LEFT($AQ12,3)="sta"),"oui","") | K12: =IF(OR(LEFT($O12,3)="Lib",LEFT($S12,3)="Lib",LEFT($W12,3)="Lib",LEFT($AA12,3)="Lib",LEFT($AE12,3)="Lib",LEFT($AI12,3)="Lib",LEFT($AM12,3)="Lib",LEFT($AQ12,3)="Lib"),"oui","")
A13: =1+A12 -> 4 | B13: =1+B12 -> 39 | C13: b | D13: =7+D12 -> 41905 | E13: S2 | I13: =IF(AND(J13="oui",K13="oui"),"Sta+Lib",IF(J13="oui","Stade",IF(K13="oui","Lib",""))) | J13: =IF(OR(LEFT($O13,3)="sta",LEFT($S13,3)="sta",LEFT($W13,3)="sta",LEFT($AA13,3)="sta",LEFT($AE13,3)="sta",LEFT($AI13,3)="sta",LEFT($AM13,3)="sta",LEFT($AQ13,3)="sta"),"oui","") | K13: =IF(OR(LEFT($O13,3)="Lib",LEFT($S13,3)="Lib",LEFT($W13,3)="Lib",LEFT($AA13,3)="Lib",LEFT($AE13,3)="Lib",LEFT($AI13,3)="Lib",LEFT($AM13,3)="Lib",LEFT($AQ13,3)="Lib"),"oui","")
A14: =1+A13 -> 5 | B14: =1+B13 -> 40 | C14: a | D14: =7+D13 -> 41912 | E14: S2 | I14: =IF(AND(J14="oui",K14="oui"),"Sta+Lib",IF(J14="oui","Stade",IF(K14="oui","Lib",""))) | J14: =IF(OR(LEFT($O14,3)="sta",LEFT($S14,3)="sta",LEFT($W14,3)="sta",LEFT($AA14,3)="sta",LEFT($AE14,3)="sta",LEFT($AI14,3)="sta",LEFT($AM14,3)="sta",LEFT($AQ14,3)="sta"),"oui","") | K14: =IF(OR(LEFT($O14,3)="Lib",LEFT($S14,3)="Lib",LEFT($W14,3)="Lib",LEFT($AA14,3)="Lib",LEFT($AE14,3)="Lib",LEFT($AI14,3)="Lib",LEFT($AM14,3)="Lib",LEFT($AQ14,3)="Lib"),"oui","")
A15: =1+A14 -> 6 | B15: =1+B14 -> 41 | C15: b | D15: =7+D14 -> 41919 | E15: S2 | I15: =IF(AND(J15="oui",K15="oui"),"Sta+Lib",IF(J15="oui","Stade",IF(K15="oui","Lib",""))) | J15: =IF(OR(LEFT($O15,3)="sta",LEFT($S15,3)="sta",LEFT($W15,3)="sta",LEFT($AA15,3)="sta",LEFT($AE15,3)="sta",LEFT($AI15,3)="sta",LEFT($AM15,3)="sta",LEFT($AQ15,3)="sta"),"oui","") | K15: =IF(OR(LEFT($O15,3)="Lib",LEFT($S15,3)="Lib",LEFT($W15,3)="Lib",LEFT($AA15,3)="Lib",LEFT($AE15,3)="Lib",LEFT($AI15,3)="Lib",LEFT($AM15,3)="Lib",LEFT($AQ15,3)="Lib"),"oui","")
A16: =1+A15 -> 7 | B16: =1+B15 -> 42 | C16: a | D16: =7+D15 -> 41926 | E16: S2 | I16: =IF(AND(J16="oui",K16="oui"),"Sta+Lib",IF(J16="oui","Stade",IF(K16="oui","Lib",""))) | J16: =IF(OR(LEFT($O16,3)="sta",LEFT($S16,3)="sta",LEFT($W16,3)="sta",LEFT($AA16,3)="sta",LEFT($AE16,3)="sta",LEFT($AI16,3)="sta",LEFT($AM16,3)="sta",LEFT($AQ16,3)="sta"),"oui","") | K16: =IF(OR(LEFT($O16,3)="Lib",LEFT($S16,3)="Lib",LEFT($W16,3)="Lib",LEFT($AA16,3)="Lib",LEFT($AE16,3)="Lib",LEFT($AI16,3)="Lib",LEFT($AM16,3)="Lib",LEFT($AQ16,3)="Lib"),"oui","")
A17: =1+A16 -> 8 | B17: =1+B16 -> 43 | C17: b | D17: =7+D16 -> 41933 | E17: S2 | I17: =IF(AND(J17="oui",K17="oui"),"Sta+Lib",IF(J17="oui","Stade",IF(K17="oui","Lib","")))
A18: =1+A17 -> 9 | B18: =1+B17 -> 44 | C18: a | D18: =7+D17 -> 41940 | E18: S2 | I18: =IF(AND(J18="oui",K18="oui"),"Sta+Lib",IF(J18="oui","Stade",IF(K18="oui","Lib","")))
A19: =1+A18 -> 10 | B19: =1+B18 -> 45 | C19: b | D19: =7+D18 -> 41947 | E19: S2 | I19: =IF(AND(J19="oui",K19="oui"),"Sta+Lib",IF(J19="oui","Stade",IF(K19="oui","Lib",""))) | J19: =IF(OR(LEFT($O19,3)="sta",LEFT($S19,3)="sta",LEFT($W19,3)="sta",LEFT($AA19,3)="sta",LEFT($AE19,3)="sta",LEFT($AI19,3)="sta",LEFT($AM19,3)="sta",LEFT($AQ19,3)="sta"),"oui","") | K19: =IF(OR(LEFT($O19,3)="Lib",LEFT($S19,3)="Lib",LEFT($W19,3)="Lib",LEFT($AA19,3)="Lib",LEFT($AE19,3)="Lib",LEFT($AI19,3)="Lib",LEFT($AM19,3)="Lib",LEFT($AQ19,3)="Lib"),"oui","")
A20: =1+A19 -> 11 | B20: =1+B19 -> 46 | C20: a | D20: =7+D19 -> 41954 | E20: S2 | I20: =IF(AND(J20="oui",K20="oui"),"Sta+Lib",IF(J20="oui","Stade",IF(K20="oui","Lib",""))) | J20: =IF(OR(LEFT($O20,3)="sta",LEFT($S20,3)="sta",LEFT($W20,3)="sta",LEFT($AA20,3)="sta",LEFT($AE20,3)="sta",LEFT($AI20,3)="sta",LEFT($AM20,3)="sta",LEFT($AQ20,3)="sta"),"oui","") | K20: =IF(OR(LEFT($O20,3)="Lib",LEFT($S20,3)="Lib",LEFT($W20,3)="Lib",LEFT($AA20,3)="Lib",LEFT($AE20,3)="Lib",LEFT($AI20,3)="Lib",LEFT($AM20,3)="Lib",LEFT($AQ20,3)="Lib"),"oui","")
A21: =1+A20 -> 12 | B21: =1+B20 -> 47 | C21: b | D21: =7+D20 -> 41961 | E21: S2 | I21: =IF(AND(J21="oui",K21="oui"),"Sta+Lib",IF(J21="oui","Stade",IF(K21="oui","Lib",""))) | J21: =IF(OR(LEFT($O21,3)="sta",LEFT($S21,3)="sta",LEFT($W21,3)="sta",LEFT($AA21,3)="sta",LEFT($AE21,3)="sta",LEFT($AI21,3)="sta",LEFT($AM21,3)="sta",LEFT($AQ21,3)="sta"),"oui","") | K21: =IF(OR(LEFT($O21,3)="Lib",LEFT($S21,3)="Lib",LEFT($W21,3)="Lib",LEFT($AA21,3)="Lib",LEFT($AE21,3)="Lib",LEFT($AI21,3)="Lib",LEFT($AM21,3)="Lib",LEFT($AQ21,3)="Lib"),"oui","")
A22: =1+A21 -> 13 | B22: =1+B21 -> 48 | C22: a | D22: =7+D21 -> 41968 | E22: S2 | I22: =IF(AND(J22="oui",K22="oui"),"Sta+Lib",IF(J22="oui","Stade",IF(K22="oui","Lib",""))) | J22: =IF(OR(LEFT($O22,3)="sta",LEFT($S22,3)="sta",LEFT($W22,3)="sta",LEFT($AA22,3)="sta",LEFT($AE22,3)="sta",LEFT($AI22,3)="sta",LEFT($AM22,3)="sta",LEFT($AQ22,3)="sta"),"oui","") | K22: =IF(OR(LEFT($O22,3)="Lib",LEFT($S22,3)="Lib",LEFT($W22,3)="Lib",LEFT($AA22,3)="Lib",LEFT($AE22,3)="Lib",LEFT($AI22,3)="Lib",LEFT($AM22,3)="Lib",LEFT($AQ22,3)="Lib"),"oui","")
A23: =1+A22 -> 14 | B23: =1+B22 -> 49 | C23: b | D23: =7+D22 -> 41975 | E23: S2 | I23: =IF(AND(J23="oui",K23="oui"),"Sta+Lib",IF(J23="oui","Stade",IF(K23="oui","Lib",""))) | J23: =IF(OR(LEFT($O23,3)="sta",LEFT($S23,3)="sta",LEFT($W23,3)="sta",LEFT($AA23,3)="sta",LEFT($AE23,3)="sta",LEFT($AI23,3)="sta",LEFT($AM23,3)="sta",LEFT($AQ23,3)="sta"),"oui","") | K23: =IF(OR(LEFT($O23,3)="Lib",LEFT($S23,3)="Lib",LEFT($W23,3)="Lib",LEFT($AA23,3)="Lib",LEFT($AE23,3)="Lib",LEFT($AI23,3)="Lib",LEFT($AM23,3)="Lib",LEFT($AQ23,3)="Lib"),"oui","")
A24: =1+A23 -> 15 | B24: =1+B23 -> 50 | C24: a | D24: =7+D23 -> 41982 | E24: S2 | I24: =IF(AND(J24="oui",K24="oui"),"Sta+Lib",IF(J24="oui","Stade",IF(K24="oui","Lib",""))) | J24: =IF(OR(LEFT($O24,3)="sta",LEFT($S24,3)="sta",LEFT($W24,3)="sta",LEFT($AA24,3)="sta",LEFT($AE24,3)="sta",LEFT($AI24,3)="sta",LEFT($AM24,3)="sta",LEFT($AQ24,3)="sta"),"oui","") | K24: =IF(OR(LEFT($O24,3)="Lib",LEFT($S24,3)="Lib",LEFT($W24,3)="Lib",LEFT($AA24,3)="Lib",LEFT($AE24,3)="Lib",LEFT($AI24,3)="Lib",LEFT($AM24,3)="Lib",LEFT($AQ24,3)="Lib"),"oui","")
A25: =1+A24 -> 16 | B25: =1+B24 -> 51 | C25: b | D25: =7+D24 -> 41989 | E25: S2 | I25: =IF(AND(J25="oui",K25="oui"),"Sta+Lib",IF(J25="oui","Stade",IF(K25="oui","Lib",""))) | J25: =IF(OR(LEFT($O25,3)="sta",LEFT($S25,3)="sta",LEFT($W25,3)="sta",LEFT($AA25,3)="sta",LEFT($AE25,3)="sta",LEFT($AI25,3)="sta",LEFT($AM25,3)="sta",LEFT($AQ25,3)="sta"),"oui","") | K25: =IF(OR(LEFT($O25,3)="Lib",LEFT($S25,3)="Lib",LEFT($W25,3)="Lib",LEFT($AA25,3)="Lib",LEFT($AE25,3)="Lib",LEFT($AI25,3)="Lib",LEFT($AM25,3)="Lib",LEFT($AQ25,3)="Lib"),"oui","")
A26: =1+A25 -> 17 | B26: =1+B25 -> 52 | C26: a | D26: =7+D25 -> 41996 | E26: S2 | I26: =IF(AND(J26="oui",K26="oui"),"Sta+Lib",IF(J26="oui","Stade",IF(K26="oui","Lib","")))
A27: =1+A26 -> 18 | B27: 1 | C27: b | D27: =7+D26 -> 42003 | E27: S2 | I27: =IF(AND(J27="oui",K27="oui"),"Sta+Lib",IF(J27="oui","Stade",IF(K27="oui","Lib","")))
A28: =1+A27 -> 19 | B28: =1+B27 -> 2 | C28: a | D28: =7+D27 -> 42010 | E28: S2 | I28: =IF(AND(J28="oui",K28="oui"),"Sta+Lib",IF(J28="oui","Stade",IF(K28="oui","Lib",""))) | J28: =IF(OR(LEFT($O28,3)="sta",LEFT($S28,3)="sta",LEFT($W28,3)="sta",LEFT($AA28,3)="sta",LEFT($AE28,3)="sta",LEFT($AI28,3)="sta",LEFT($AM28,3)="sta",LEFT($AQ28,3)="sta"),"oui","") | K28: =IF(OR(LEFT($O28,3)="Lib",LEFT($S28,3)="Lib",LEFT($W28,3)="Lib",LEFT($AA28,3)="Lib",LEFT($AE28,3)="Lib",LEFT($AI28,3)="Lib",LEFT($AM28,3)="Lib",LEFT($AQ28,3)="Lib"),"oui","")
A29: =1+A28 -> 20 | B29: =1+B28 -> 3 | C29: b | D29: =7+D28 -> 42017 | E29: S2 | I29: =IF(AND(J29="oui",K29="oui"),"Sta+Lib",IF(J29="oui","Stade",IF(K29="oui","Lib",""))) | J29: =IF(OR(LEFT($O29,3)="sta",LEFT($S29,3)="sta",LEFT($W29,3)="sta",LEFT($AA29,3)="sta",LEFT($AE29,3)="sta",LEFT($AI29,3)="sta",LEFT($AM29,3)="sta",LEFT($AQ29,3)="sta"),"oui","") | K29: =IF(OR(LEFT($O29,3)="Lib",LEFT($S29,3)="Lib",LEFT($W29,3)="Lib",LEFT($AA29,3)="Lib",LEFT($AE29,3)="Lib",LEFT($AI29,3)="Lib",LEFT($AM29,3)="Lib",LEFT($AQ29,3)="Lib"),"oui","")
A30: =1+A29 -> 21 | B30: =1+B29 -> 4 | C30: a | D30: =7+D29 -> 42024 | E30: S2 | I30: =IF(AND(J30="oui",K30="oui"),"Sta+Lib",IF(J30="oui","Stade",IF(K30="oui","Lib",""))) | J30: =IF(OR(LEFT($O30,3)="sta",LEFT($S30,3)="sta",LEFT($W30,3)="sta",LEFT($AA30,3)="sta",LEFT($AE30,3)="sta",LEFT($AI30,3)="sta",LEFT($AM30,3)="sta",LEFT($AQ30,3)="sta"),"oui","") | K30: =IF(OR(LEFT($O30,3)="Lib",LEFT($S30,3)="Lib",LEFT($W30,3)="Lib",LEFT($AA30,3)="Lib",LEFT($AE30,3)="Lib",LEFT($AI30,3)="Lib",LEFT($AM30,3)="Lib",LEFT($AQ30,3)="Lib"),"oui","")
A31: =1+A30 -> 22 | B31: =1+B30 -> 5 | C31: b | D31: =7+D30 -> 42031 | E31: S2 | I31: =IF(AND(J31="oui",K31="oui"),"Sta+Lib",IF(J31="oui","Stade",IF(K31="oui","Lib",""))) | J31: =IF(OR(LEFT($O31,3)="sta",LEFT($S31,3)="sta",LEFT($W31,3)="sta",LEFT($AA31,3)="sta",LEFT($AE31,3)="sta",LEFT($AI31,3)="sta",LEFT($AM31,3)="sta",LEFT($AQ31,3)="sta"),"oui","") | K31: =IF(OR(LEFT($O31,3)="Lib",LEFT($S31,3)="Lib",LEFT($W31,3)="Lib",LEFT($AA31,3)="Lib",LEFT($AE31,3)="Lib",LEFT($AI31,3)="Lib",LEFT($AM31,3)="Lib",LEFT($AQ31,3)="Lib"),"oui","")
A32: =1+A31 -> 23 | B32: =1+B31 -> 6 | C32: a | D32: =7+D31 -> 42038 | E32: S2 | I32: =IF(AND(J32="oui",K32="oui"),"Sta+Lib",IF(J32="oui","Stade",IF(K32="oui","Lib",""))) | J32: =IF(OR(LEFT($O32,3)="sta",LEFT($S32,3)="sta",LEFT($W32,3)="sta",LEFT($AA32,3)="sta",LEFT($AE32,3)="sta",LEFT($AI32,3)="sta",LEFT($AM32,3)="sta",LEFT($AQ32,3)="sta"),"oui","") | K32: =IF(OR(LEFT($O32,3)="Lib",LEFT($S32,3)="Lib",LEFT($W32,3)="Lib",LEFT($AA32,3)="Lib",LEFT($AE32,3)="Lib",LEFT($AI32,3)="Lib",LEFT($AM32,3)="Lib",LEFT($AQ32,3)="Lib"),"oui","")
A33: =1+A32 -> 24 | B33: =1+B32 -> 7 | C33: b | D33: =7+D32 -> 42045 | E33: S2 | I33: =IF(AND(J33="oui",K33="oui"),"Sta+Lib",IF(J33="oui","Stade",IF(K33="oui","Lib",""))) | J33: =IF(OR(LEFT($O33,3)="sta",LEFT($S33,3)="sta",LEFT($W33,3)="sta",LEFT($AA33,3)="sta",LEFT($AE33,3)="sta",LEFT($AI33,3)="sta",LEFT($AM33,3)="sta",LEFT($AQ33,3)="sta"),"oui","") | K33: =IF(OR(LEFT($O33,3)="Lib",LEFT($S33,3)="Lib",LEFT($W33,3)="Lib",LEFT($AA33,3)="Lib",LEFT($AE33,3)="Lib",LEFT($AI33,3)="Lib",LEFT($AM33,3)="Lib",LEFT($AQ33,3)="Lib"),"oui","")
A34: =1+A33 -> 25 | B34: =1+B33 -> 8 | C34: a | D34: =7+D33 -> 42052 | E34: S2 | I34: =IF(AND(J34="oui",K34="oui"),"Sta+Lib",IF(J34="oui","Stade",IF(K34="oui","Lib",""))) | J34: =IF(OR(LEFT($O34,3)="sta",LEFT($S34,3)="sta",LEFT($W34,3)="sta",LEFT($AA34,3)="sta",LEFT($AE34,3)="sta",LEFT($AI34,3)="sta",LEFT($AM34,3)="sta",LEFT($AQ34,3)="sta"),"oui","") | K34: =IF(OR(LEFT($O34,3)="Lib",LEFT($S34,3)="Lib",LEFT($W34,3)="Lib",LEFT($AA34,3)="Lib",LEFT($AE34,3)="Lib",LEFT($AI34,3)="Lib",LEFT($AM34,3)="Lib",LEFT($AQ34,3)="Lib"),"oui","")
A35: =1+A34 -> 26 | B35: =1+B34 -> 9 | C35: b | D35: =7+D34 -> 42059 | E35: S2 | I35: =IF(AND(J35="oui",K35="oui"),"Sta+Lib",IF(J35="oui","Stade",IF(K35="oui","Lib","")))
A36: =1+A35 -> 27 | B36: =1+B35 -> 10 | C36: a | D36: =7+D35 -> 42066 | E36: S2 | I36: =IF(AND(J36="oui",K36="oui"),"Sta+Lib",IF(J36="oui","Stade",IF(K36="oui","Lib","")))
A37: =1+A36 -> 28 | B37: =1+B36 -> 11 | C37: b | D37: =7+D36 -> 42073 | E37: S2 | I37: =IF(AND(J37="oui",K37="oui"),"Sta+Lib",IF(J37="oui","Stade",IF(K37="oui","Lib",""))) | J37: =IF(OR(LEFT($O37,3)="sta",LEFT($S37,3)="sta",LEFT($W37,3)="sta",LEFT($AA37,3)="sta",LEFT($AE37,3)="sta",LEFT($AI37,3)="sta",LEFT($AM37,3)="sta",LEFT($AQ37,3)="sta"),"oui","") | K37: =IF(OR(LEFT($O37,3)="Lib",LEFT($S37,3)="Lib",LEFT($W37,3)="Lib",LEFT($AA37,3)="Lib",LEFT($AE37,3)="Lib",LEFT($AI37,3)="Lib",LEFT($AM37,3)="Lib",LEFT($AQ37,3)="Lib"),"oui","")
A38: =1+A37 -> 29 | B38: =1+B37 -> 12 | C38: a | D38: =7+D37 -> 42080 | E38: S2 | I38: =IF(AND(J38="oui",K38="oui"),"Sta+Lib",IF(J38="oui","Stade",IF(K38="oui","Lib",""))) | J38: =IF(OR(LEFT($O38,3)="sta",LEFT($S38,3)="sta",LEFT($W38,3)="sta",LEFT($AA38,3)="sta",LEFT($AE38,3)="sta",LEFT($AI38,3)="sta",LEFT($AM38,3)="sta",LEFT($AQ38,3)="sta"),"oui","") | K38: =IF(OR(LEFT($O38,3)="Lib",LEFT($S38,3)="Lib",LEFT($W38,3)="Lib",LEFT($AA38,3)="Lib",LEFT($AE38,3)="Lib",LEFT($AI38,3)="Lib",LEFT($AM38,3)="Lib",LEFT($AQ38,3)="Lib"),"oui","")
A39: =1+A38 -> 30 | B39: =1+B38 -> 13 | C39: b | D39: =7+D38 -> 42087 | E39: S2 | I39: =IF(AND(J39="oui",K39="oui"),"Sta+Lib",IF(J39="oui","Stade",IF(K39="oui","Lib",""))) | J39: =IF(OR(LEFT($O39,3)="sta",LEFT($S39,3)="sta",LEFT($W39,3)="sta",LEFT($AA39,3)="sta",LEFT($AE39,3)="sta",LEFT($AI39,3)="sta",LEFT($AM39,3)="sta",LEFT($AQ39,3)="sta"),"oui","") | K39: =IF(OR(LEFT($O39,3)="Lib",LEFT($S39,3)="Lib",LEFT($W39,3)="Lib",LEFT($AA39,3)="Lib",LEFT($AE39,3)="Lib",LEFT($AI39,3)="Lib",LEFT($AM39,3)="Lib",LEFT($AQ39,3)="Lib"),"oui","")
A40: =1+A39 -> 31 | B40: =1+B39 -> 14 | C40: a | D40: =7+D39 -> 42094 | E40: S2 | I40: =IF(AND(J40="oui",K40="oui"),"Sta+Lib",IF(J40="oui","Stade",IF(K40="oui","Lib",""))) | J40: =IF(OR(LEFT($O40,3)="sta",LEFT($S40,3)="sta",LEFT($W40,3)="sta",LEFT($AA40,3)="sta",LEFT($AE40,3)="sta",LEFT($AI40,3)="sta",LEFT($AM40,3)="sta",LEFT($AQ40,3)="sta"),"oui","") | K40: =IF(OR(LEFT($O40,3)="Lib",LEFT($S40,3)="Lib",LEFT($W40,3)="Lib",LEFT($AA40,3)="Lib",LEFT($AE40,3)="Lib",LEFT($AI40,3)="Lib",LEFT($AM40,3)="Lib",LEFT($AQ40,3)="Lib"),"oui","")
A41: =1+A40 -> 32 | B41: =1+B40 -> 15 | C41: b | D41: =7+D40 -> 42101 | E41: S2 | I41: =IF(AND(J41="oui",K41="oui"),"Sta+Lib",IF(J41="oui","Stade",IF(K41="oui","Lib",""))) | J41: =IF(OR(LEFT($O41,3)="sta",LEFT($S41,3)="sta",LEFT($W41,3)="sta",LEFT($AA41,3)="sta",LEFT($AE41,3)="sta",LEFT($AI41,3)="sta",LEFT($AM41,3)="sta",LEFT($AQ41,3)="sta"),"oui","") | K41: =IF(OR(LEFT($O41,3)="Lib",LEFT($S41,3)="Lib",LEFT($W41,3)="Lib",LEFT($AA41,3)="Lib",LEFT($AE41,3)="Lib",LEFT($AI41,3)="Lib",LEFT($AM41,3)="Lib",LEFT($AQ41,3)="Lib"),"oui","")
A42: =1+A41 -> 33 | B42: =1+B41 -> 16 | C42: a | D42: =7+D41 -> 42108 | E42: S2 | I42: =IF(AND(J42="oui",K42="oui"),"Sta+Lib",IF(J42="oui","Stade",IF(K42="oui","Lib",""))) | J42: =IF(OR(LEFT($O42,3)="sta",LEFT($S42,3)="sta",LEFT($W42,3)="sta",LEFT($AA42,3)="sta",LEFT($AE42,3)="sta",LEFT($AI42,3)="sta",LEFT($AM42,3)="sta",LEFT($AQ42,3)="sta"),"oui","") | K42: =IF(OR(LEFT($O42,3)="Lib",LEFT($S42,3)="Lib",LEFT($W42,3)="Lib",LEFT($AA42,3)="Lib",LEFT($AE42,3)="Lib",LEFT($AI42,3)="Lib",LEFT($AM42,3)="Lib",LEFT($AQ42,3)="Lib"),"oui","")
A43: =1+A42 -> 34 | B43: =1+B42 -> 17 | C43: b | D43: =7+D42 -> 42115 | E43: S2 | I43: =IF(AND(J43="oui",K43="oui"),"Sta+Lib",IF(J43="oui","Stade",IF(K43="oui","Lib","")))
A44: =1+A43 -> 35 | B44: =1+B43 -> 18 | C44: a | D44: =7+D43 -> 42122 | E44: S2 | I44: =IF(AND(J44="oui",K44="oui"),"Sta+Lib",IF(J44="oui","Stade",IF(K44="oui","Lib","")))
A45: =1+A44 -> 36 | B45: =1+B44 -> 19 | C45: b | D45: =7+D44 -> 42129 | E45: S2 | I45: =IF(AND(J45="oui",K45="oui"),"Sta+Lib",IF(J45="oui","Stade",IF(K45="oui","Lib",""))) | J45: =IF(OR(LEFT($O45,3)="sta",LEFT($S45,3)="sta",LEFT($W45,3)="sta",LEFT($AA45,3)="sta",LEFT($AE45,3)="sta",LEFT($AI45,3)="sta",LEFT($AM45,3)="sta",LEFT($AQ45,3)="sta"),"oui","") | K45: =IF(OR(LEFT($O45,3)="Lib",LEFT($S45,3)="Lib",LEFT($W45,3)="Lib",LEFT($AA45,3)="Lib",LEFT($AE45,3)="Lib",LEFT($AI45,3)="Lib",LEFT($AM45,3)="Lib",LEFT($AQ45,3)="Lib"),"oui","")
A46: =1+A45 -> 37 | B46: =1+B45 -> 20 | C46: a | D46: =7+D45 -> 42136 | E46: S2 | I46: =IF(AND(J46="oui",K46="oui"),"Sta+Lib",IF(J46="oui","Stade",IF(K46="oui","Lib",""))) | J46: =IF(OR(LEFT($O46,3)="sta",LEFT($S46,3)="sta",LEFT($W46,3)="sta",LEFT($AA46,3)="sta",LEFT($AE46,3)="sta",LEFT($AI46,3)="sta",LEFT($AM46,3)="sta",LEFT($AQ46,3)="sta"),"oui","") | K46: =IF(OR(LEFT($O46,3)="Lib",LEFT($S46,3)="Lib",LEFT($W46,3)="Lib",LEFT($AA46,3)="Lib",LEFT($AE46,3)="Lib",LEFT($AI46,3)="Lib",LEFT($AM46,3)="Lib",LEFT($AQ46,3)="Lib"),"oui","")
