Workbook

Sheet Feuil1
B3: DATE | C3: NATURE | D3: RECETTES | E3: DEPENSES | F3: MOIS | G3: Comment calculer sur la feuil2 les recettes et les depenses par mois et par nature ? | I3: Mois
B4: 43852 | C4: KABAKO | D4: 26110 | F4: =VLOOKUP(MONTH(B4),I$4:J$15,2,FALSE) -> JANVIER | G4: MERCI D'AVANCE | I4: 1 | J4: JANVIER
B5: 43852 | C5: SPHNIX | D5: 20000 | F5: =VLOOKUP(MONTH(B5),I$4:J$15,2,FALSE) -> JANVIER | I5: 2 | J5: FEVRIER
B6: 43852 | C6: REVANCHE | D6: 125400 | F6: =VLOOKUP(MONTH(B6),I$4:J$15,2,FALSE) -> JANVIER | I6: 3 | J6: MARS
B7: 43853 | C7: HYPPO-IMPRESSION | D7: 5000000 | F7: =VLOOKUP(MONTH(B7),I$4:J$15,2,FALSE) -> JANVIER | I7: 4 | J7: AVRIL
B8: 43853 | C8: HYPPO-IMPRESSION | E8: 2000000 | F8: =VLOOKUP(MONTH(B8),I$4:J$15,2,FALSE) -> JANVIER | I8: 5 | J8: MAI
B9: 43853 | C9: SPHNIX | D9: 50000 | F9: =VLOOKUP(MONTH(B9),I$4:J$15,2,FALSE) -> JANVIER | I9: 6 | J9: JUIN
B10: 43853 | C10: SPHNIX | E10: 28000 | F10: =VLOOKUP(MONTH(B10),I$4:J$15,2,FALSE) -> JANVIER | I10: 7 | J10: JUILLET
B11: 43853 | C11: REVANCHE | E11: 20000 | F11: =VLOOKUP(MONTH(B11),I$4:J$15,2,FALSE) -> JANVIER | I11: 8 | J11: AOUT
B12: 43853 | C12: REVANCHE | E12: 40000 | F12: =VLOOKUP(MONTH(B12),I$4:J$15,2,FALSE) -> JANVIER | I12: 9 | J12: SEPTEMBRE
B13: 43853 | C13: REVANCHE | E13: 4000 | F13: =VLOOKUP(MONTH(B13),I$4:J$15,2,FALSE) -> JANVIER | I13: 10 | J13: OCTOBRE
B14: 43853 | C14: REVANCHE | E14: 1000 | F14: =VLOOKUP(MONTH(B14),I$4:J$15,2,FALSE) -> JANVIER | I14: 11 | J14: NOVEMBRE
B15: 43853 | C15: REVANCHE | E15: 2000 | F15: =VLOOKUP(MONTH(B15),I$4:J$15,2,FALSE) -> JANVIER | I15: 12 | J15: DÉCEMBRE
B16: 43853 | C16: REVANCHE | E16: 1000 | F16: =VLOOKUP(MONTH(B16),I$4:J$15,2,FALSE) -> JANVIER
B17: 43853 | C17: REVANCHE | E17: 5000 | F17: =VLOOKUP(MONTH(B17),I$4:J$15,2,FALSE) -> JANVIER
B18: 43853 | C18: MOUSSO TV | E18: 20000 | F18: =VLOOKUP(MONTH(B18),I$4:J$15,2,FALSE) -> JANVIER
B19: 43854 | C19: HYPPO-IMPRESSION | E19: 2000000 | F19: =VLOOKUP(MONTH(B19),I$4:J$15,2,FALSE) -> JANVIER
B20: 43854 | C20: HYPPO-IMPRESSION | E20: 291500 | F20: =VLOOKUP(MONTH(B20),I$4:J$15,2,FALSE) -> JANVIER
B21: 43854 | C21: HYPPO-IMPRESSION | E21: 10000 | F21: =VLOOKUP(MONTH(B21),I$4:J$15,2,FALSE) -> JANVIER
B22: 43854 | C22: HYPPO-IMPRESSION | E22: 40000 | F22: =VLOOKUP(MONTH(B22),I$4:J$15,2,FALSE) -> JANVIER
B23: 43854 | C23: HYPPO-IMPRESSION | E23: 10000 | F23: =VLOOKUP(MONTH(B23),I$4:J$15,2,FALSE) -> JANVIER
B24: 43854 | C24: HYPPO-IMPRESSION | E24: 70000 | F24: =VLOOKUP(MONTH(B24),I$4:J$15,2,FALSE) -> JANVIER
B25: 43854 | C25: HYPPO-IMPRESSION | E25: 22500 | F25: =VLOOKUP(MONTH(B25),I$4:J$15,2,FALSE) -> JANVIER
B26: 43854 | C26: HYPPO-IMPRESSION | E26: 10000 | F26: =VLOOKUP(MONTH(B26),I$4:J$15,2,FALSE) -> JANVIER
B27: 43854 | C27: HYPPO-IMPRESSION | E27: 25000 | F27: =VLOOKUP(MONTH(B27),I$4:J$15,2,FALSE) -> JANVIER
B28: 43854 | C28: HYPPO-IMPRESSION | E28: 15000 | F28: =VLOOKUP(MONTH(B28),I$4:J$15,2,FALSE) -> JANVIER
B29: 43854 | C29: KABAKO | D29: 75600 | F29: =VLOOKUP(MONTH(B29),I$4:J$15,2,FALSE) -> JANVIER
B30: 43854 | C30: KABAKO | E30: 11000 | F30: =VLOOKUP(MONTH(B30),I$4:J$15,2,FALSE) -> JANVIER
B31: 43855 | C31: HYPPO-IMPRESSION | E31: 8500 | F31: =VLOOKUP(MONTH(B31),I$4:J$15,2,FALSE) -> JANVIER
B32: 43855 | C32: HYPPO-IMPRESSION | E32: 24000 | F32: =VLOOKUP(MONTH(B32),I$4:J$15,2,FALSE) -> JANVIER
B33: 43855 | C33: HYPPO-IMPRESSION | E33: 20000 | F33: =VLOOKUP(MONTH(B33),I$4:J$15,2,FALSE) -> JANVIER
B34: 43855 | C34: HYPPO-IMPRESSION | E34: 5000 | F34: =VLOOKUP(MONTH(B34),I$4:J$15,2,FALSE) -> JANVIER
B35: 43855 | C35: HYPPO-IMPRESSION | E35: 10000 | F35: =VLOOKUP(MONTH(B35),I$4:J$15,2,FALSE) -> JANVIER
B36: 43855 | C36: MOUSSO TV | E36: 20000 | F36: =VLOOKUP(MONTH(B36),I$4:J$15,2,FALSE) -> JANVIER
B37: 43855 | C37: MOUSSO TV | E37: 5000 | F37: =VLOOKUP(MONTH(B37),I$4:J$15,2,FALSE) -> JANVIER
B38: 43857 | C38: HYPPO-IMPRESSION | E38: 30000 | F38: =VLOOKUP(MONTH(B38),I$4:J$15,2,FALSE) -> JANVIER
B39: 43857 | C39: HYPPO-IMPRESSION | E39: 2000 | F39: =VLOOKUP(MONTH(B39),I$4:J$15,2,FALSE) -> JANVIER
B40: 43857 | C40: HYPPO-IMPRESSION | E40: 231250 | F40: =VLOOKUP(MONTH(B40),I$4:J$15,2,FALSE) -> JANVIER
B41: 43857 | C41: HYPPO-IMPRESSION | E41: 15000 | F41: =VLOOKUP(MONTH(B41),I$4:J$15,2,FALSE) -> JANVIER
B42: 43857 | C42: HYPPO-IMPRESSION | E42: 5000 | F42: =VLOOKUP(MONTH(B42),I$4:J$15,2,FALSE) -> JANVIER
...

Sheet Feuil2
B4: HYPPO-IMPRESSION | P4: MOUSSO TV
B6: MOIS | C6: SOLDE INITIAL | D6: Recettes | E6: Dépenses | F6: Solde mois | G6: Trésorerie | P6: MOIS | Q6: SOLDE INITIAL | R6: Recettes | S6: Dépenses | T6: Solde mois | U6: Trésorerie
B7: JANVIER | C7: =+Feuil1!D7 -> 5000000 | D7: =SUMIFS(Feuil1!$D:$D,Feuil1!$C:$C,Feuil2!$B$4,Feuil1!$F:$F,Feuil2!$B7) -> 10950000 | E7: =SUMIFS(Feuil1!$E:$E,Feuil1!$C:$C,Feuil2!$B$4,Feuil1!$F:$F,Feuil2!$B7) -> 7288600 | F7: =+C7+D7-E7 -> 8661400 | G7: =F7 -> 8661400 | P7: JANVIER | T7: =R7-S7 -> 0 | U7: =T7 -> 0
B8: FEVRIER | C8: =IF(G7="","",G7) -> 8661400 | D8: =SUMIFS(Feuil1!$D:$D,Feuil1!$C:$C,Feuil2!$B$4,Feuil1!$F:$F,Feuil2!$B8) -> 4030000 | E8: =SUMIFS(Feuil1!$E:$E,Feuil1!$C:$C,Feuil2!$B$4,Feuil1!$F:$F,Feuil2!$B8) -> 6395300 | F8: =D8-E8 -> -2365300 | G8: =G7+F8 -> 6296100 | P8: FEVRIER | T8: =R8-S8 -> 0 | U8: =U7+T8 -> 0
B9: MARS | D9: =SUMIFS(Feuil1!$D:$D,Feuil1!$C:$C,Feuil2!$B$4,Feuil1!$F:$F,Feuil2!$B9) -> 0 | E9: =SUMIFS(Feuil1!$E:$E,Feuil1!$C:$C,Feuil2!$B$4,Feuil1!$F:$F,Feuil2!$B9) -> 0 | F9: =D9-E9 -> 0 | G9: =IF(C9="","",G8+F9) | P9: MARS | T9: =R9-S9 -> 0 | U9: =U8+T9 -> 0
B10: AVRIL | D10: =SUMIFS(Feuil1!$D:$D,Feuil1!$C:$C,Feuil2!$B$4,Feuil1!$F:$F,Feuil2!$B10) -> 0 | E10: =SUMIFS(Feuil1!$E:$E,Feuil1!$C:$C,Feuil2!$B$4,Feuil1!$F:$F,Feuil2!$B10) -> 0 | F10: =D10-E10 -> 0 | G10: =IF(C10="","",G9+F10) | P10: AVRIL | T10: =R10-S10 -> 0 | U10: =U9+T10 -> 0
B11: MAI | D11: =SUMIFS(Feuil1!$D:$D,Feuil1!$C:$C,Feuil2!$B$4,Feuil1!$F:$F,Feuil2!$B11) -> 0 | E11: =SUMIFS(Feuil1!$E:$E,Feuil1!$C:$C,Feuil2!$B$4,Feuil1!$F:$F,Feuil2!$B11) -> 0 | F11: =D11-E11 -> 0 | G11: =IF(C11="","",G10+F11) | P11: MAI | T11: =R11-S11 -> 0 | U11: =U10+T11 -> 0
B12: JUIN | D12: =SUMIFS(Feuil1!$D:$D,Feuil1!$C:$C,Feuil2!$B$4,Feuil1!$F:$F,Feuil2!$B12) -> 0 | E12: =SUMIFS(Feuil1!$E:$E,Feuil1!$C:$C,Feuil2!$B$4,Feuil1!$F:$F,Feuil2!$B12) -> 0 | F12: =D12-E12 -> 0 | G12: =IF(C12="","",G11+F12) | P12: JUIN | T12: =R12-S12 -> 0 | U12: =U11+T12 -> 0
B13: JUILLET | D13: =SUMIFS(Feuil1!$D:$D,Feuil1!$C:$C,Feuil2!$B$4,Feuil1!$F:$F,Feuil2!$B13) -> 0 | E13: =SUMIFS(Feuil1!$E:$E,Feuil1!$C:$C,Feuil2!$B$4,Feuil1!$F:$F,Feuil2!$B13) -> 0 | F13: =D13-E13 -> 0 | G13: =IF(C13="","",G12+F13) | P13: JUILLET | T13: =R13-S13 -> 0 | U13: =U12+T13 -> 0
B14: AOUT | D14: =SUMIFS(Feuil1!$D:$D,Feuil1!$C:$C,Feuil2!$B$4,Feuil1!$F:$F,Feuil2!$B14) -> 0 | E14: =SUMIFS(Feuil1!$E:$E,Feuil1!$C:$C,Feuil2!$B$4,Feuil1!$F:$F,Feuil2!$B14) -> 0 | F14: =D14-E14 -> 0 | G14: =IF(C14="","",G13+F14) | P14: AOUT | T14: =R14-S14 -> 0 | U14: =U13+T14 -> 0
B15: SEPTEMBRE | D15: =SUMIFS(Feuil1!$D:$D,Feuil1!$C:$C,Feuil2!$B$4,Feuil1!$F:$F,Feuil2!$B15) -> 0 | E15: =SUMIFS(Feuil1!$E:$E,Feuil1!$C:$C,Feuil2!$B$4,Feuil1!$F:$F,Feuil2!$B15) -> 0 | F15: =D15-E15 -> 0 | G15: =IF(C15="","",G14+F15) | P15: SEPTEMBRE | T15: =R15-S15 -> 0 | U15: =U14+T15 -> 0
B16: OCTOBRE | D16: =SUMIFS(Feuil1!$D:$D,Feuil1!$C:$C,Feuil2!$B$4,Feuil1!$F:$F,Feuil2!$B16) -> 0 | E16: =SUMIFS(Feuil1!$E:$E,Feuil1!$C:$C,Feuil2!$B$4,Feuil1!$F:$F,Feuil2!$B16) -> 0 | F16: =D16-E16 -> 0 | G16: =IF(C16="","",G15+F16) | P16: OCTOBRE | T16: =R16-S16 -> 0 | U16: =U15+T16 -> 0
B17: NOVEMBRE | D17: =SUMIFS(Feuil1!$D:$D,Feuil1!$C:$C,Feuil2!$B$4,Feuil1!$F:$F,Feuil2!$B17) -> 0 | E17: =SUMIFS(Feuil1!$E:$E,Feuil1!$C:$C,Feuil2!$B$4,Feuil1!$F:$F,Feuil2!$B17) -> 0 | F17: =D17-E17 -> 0 | G17: =IF(C17="","",G16+F17) | P17: NOVEMBRE | T17: =R17-S17 -> 0 | U17: =U16+T17 -> 0
B18: DECEMBRE | D18: =SUMIFS(Feuil1!$D:$D,Feuil1!$C:$C,Feuil2!$B$4,Feuil1!$F:$F,Feuil2!$B18) -> 0 | E18: =SUMIFS(Feuil1!$E:$E,Feuil1!$C:$C,Feuil2!$B$4,Feuil1!$F:$F,Feuil2!$B18) -> 0 | F18: =D18-E18 -> 0 | G18: =IF(C18="","",G17+F18) | P18: DECEMBRE | T18: =R18-S18 -> 0 | U18: =U17+T18 -> 0
B20: TOTAUX | D20: =SUM(D7:D18) -> 14980000 | E20: =SUM(E7:E18) -> 13683900 | P20: TOTAUX | R20: =SUM(R7:R18) -> 0 | S20: =SUM(S7:S18) -> 0
B21: SOLDE ANNEE | D21: =+D20-E20 -> 1296100 | P21: SOLDE ANNEE | R21: =+R20-S20 -> 0
B27: KABAKO | I27: SPHNIX | P27: REVANCHE
B29: MOIS | C29: SOLDE INITIAL | D29: Recettes | E29: Dépenses | F29: Solde mois | G29: Trésorerie | I29: MOIS | J29: SOLDE INITIAL | K29: Recettes | L29: Dépenses | M29: Solde mois | N29: Trésorerie | P29: MOIS | Q29: SOLDE INITIAL | R29: Recettes | S29: Dépenses | T29: Solde mois | U29: Trésorerie
B30: JANVIER | C30: =+'[1]REC ET DEP'!O7 -> 0 | D30: =SUMIFS(Feuil1!$D:$D,Feuil1!$C:$C,Feuil2!$B$27,Feuil1!$F:$F,Feuil2!$B30) -> 179470 | E30: =SUMIFS(Feuil1!$E:$E,Feuil1!$C:$C,Feuil2!$B$27,Feuil1!$F:$F,Feuil2!$B30) -> 80000 | F30: =D30-E30 -> 99470 | G30: =F30 -> 99470 | I30: JANVIER | J30: =+'[1]REC ET DEP'!O8 -> 0 | M30: =K30-L30 -> 0 | N30: =M30 -> 0 | P30: JANVIER | Q30: =+'[1]REC ET DEP'!O9 -> 0 | T30: =R30-S30 -> 0 | U30: =T30 -> 0
B31: FEVRIER | D31: =SUMIFS(Feuil1!$D:$D,Feuil1!$C:$C,Feuil2!$B$27,Feuil1!$F:$F,Feuil2!$B31) -> 0 | E31: =SUMIFS(Feuil1!$E:$E,Feuil1!$C:$C,Feuil2!$B$27,Feuil1!$F:$F,Feuil2!$B31) -> 58000 | F31: =D31-E31 -> -58000 | G31: =G30+F31 -> 41470 | I31: FEVRIER | M31: =K31-L31 -> 0 | N31: =N30+M31 -> 0 | P31: FEVRIER | T31: =R31-S31 -> 0 | U31: =U30+T31 -> 0
B32: MARS | D32: =SUMIFS(Feuil1!$D:$D,Feuil1!$C:$C,Feuil2!$B$27,Feuil1!$F:$F,Feuil2!$B32) -> 0 | E32: =SUMIFS(Feuil1!$E:$E,Feuil1!$C:$C,Feuil2!$B$27,Feuil1!$F:$F,Feuil2!$B32) -> 0 | F32: =D32-E32 -> 0 | G32: =G31+F32 -> 41470 | I32: MARS | M32: =K32-L32 -> 0 | N32: =N31+M32 -> 0 | P32: MARS | T32: =R32-S32 -> 0 | U32: =U31+T32 -> 0
B33: AVRIL | D33: =SUMIFS(Feuil1!$D:$D,Feuil1!$C:$C,Feuil2!$B$27,Feuil1!$F:$F,Feuil2!$B33) -> 0 | E33: =SUMIFS(Feuil1!$E:$E,Feuil1!$C:$C,Feuil2!$B$27,Feuil1!$F:$F,Feuil2!$B33) -> 0 | F33: =D33-E33 -> 0 | G33: =G32+F33 -> 41470 | I33: AVRIL | M33: =K33-L33 -> 0 | N33: =N32+M33 -> 0 | P33: AVRIL | T33: =R33-S33 -> 0 | U33: =U32+T33 -> 0
B34: MAI | D34: =SUMIFS(Feuil1!$D:$D,Feuil1!$C:$C,Feuil2!$B$27,Feuil1!$F:$F,Feuil2!$B34) -> 0 | E34: =SUMIFS(Feuil1!$E:$E,Feuil1!$C:$C,Feuil2!$B$27,Feuil1!$F:$F,Feuil2!$B34) -> 0 | F34: =D34-E34 -> 0 | G34: =G33+F34 -> 41470 | I34: MAI | M34: =K34-L34 -> 0 | N34: =N33+M34 -> 0 | P34: MAI | T34: =R34-S34 -> 0 | U34: =U33+T34 -> 0
B35: JUIN | D35: =SUMIFS(Feuil1!$D:$D,Feuil1!$C:$C,Feuil2!$B$27,Feuil1!$F:$F,Feuil2!$B35) -> 0 | E35: =SUMIFS(Feuil1!$E:$E,Feuil1!$C:$C,Feuil2!$B$27,Feuil1!$F:$F,Feuil2!$B35) -> 0 | F35: =D35-E35 -> 0 | G35: =G34+F35 -> 41470 | I35: JUIN | M35: =K35-L35 -> 0 | N35: =N34+M35 -> 0 | P35: JUIN | T35: =R35-S35 -> 0 | U35: =U34+T35 -> 0
B36: JUILLET | D36: =SUMIFS(Feuil1!$D:$D,Feuil1!$C:$C,Feuil2!$B$27,Feuil1!$F:$F,Feuil2!$B36) -> 0 | E36: =SUMIFS(Feuil1!$E:$E,Feuil1!$C:$C,Feuil2!$B$27,Feuil1!$F:$F,Feuil2!$B36) -> 0 | F36: =D36-E36 -> 0 | G36: =G35+F36 -> 41470 | I36: JUILLET | M36: =K36-L36 -> 0 | N36: =N35+M36 -> 0 | P36: JUILLET | T36: =R36-S36 -> 0 | U36: =U35+T36 -> 0
B37: AOUT | D37: =SUMIFS(Feuil1!$D:$D,Feuil1!$C:$C,Feuil2!$B$27,Feuil1!$F:$F,Feuil2!$B37) -> 0 | E37: =SUMIFS(Feuil1!$E:$E,Feuil1!$C:$C,Feuil2!$B$27,Feuil1!$F:$F,Feuil2!$B37) -> 0 | F37: =D37-E37 -> 0 | G37: =G36+F37 -> 41470 | I37: AOUT | M37: =K37-L37 -> 0 | N37: =N36+M37 -> 0 | P37: AOUT | T37: =R37-S37 -> 0 | U37: =U36+T37 -> 0
B38: SEPTEMBRE | D38: =SUMIFS(Feuil1!$D:$D,Feuil1!$C:$C,Feuil2!$B$27,Feuil1!$F:$F,Feuil2!$B38) -> 0 | E38: =SUMIFS(Feuil1!$E:$E,Feuil1!$C:$C,Feuil2!$B$27,Feuil1!$F:$F,Feuil2!$B38) -> 0 | F38: =D38-E38 -> 0 | G38: =G37+F38 -> 41470 | I38: SEPTEMBRE | M38: =K38-L38 -> 0 | N38: =N37+M38 -> 0 | P38: SEPTEMBRE | T38: =R38-S38 -> 0 | U38: =U37+T38 -> 0
B39: OCTOBRE | D39: =SUMIFS(Feuil1!$D:$D,Feuil1!$C:$C,Feuil2!$B$27,Feuil1!$F:$F,Feuil2!$B39) -> 0 | E39: =SUMIFS(Feuil1!$E:$E,Feuil1!$C:$C,Feuil2!$B$27,Feuil1!$F:$F,Feuil2!$B39) -> 0 | F39: =D39-E39 -> 0 | G39: =G38+F39 -> 41470 | I39: OCTOBRE | M39: =K39-L39 -> 0 | N39: =N38+M39 -> 0 | P39: OCTOBRE | T39: =R39-S39 -> 0 | U39: =U38+T39 -> 0
B40: NOVEMBRE | D40: =SUMIFS(Feuil1!$D:$D,Feuil1!$C:$C,Feuil2!$B$27,Feuil1!$F:$F,Feuil2!$B40) -> 0 | E40: =SUMIFS(Feuil1!$E:$E,Feuil1!$C:$C,Feuil2!$B$27,Feuil1!$F:$F,Feuil2!$B40) -> 0 | F40: =D40-E40 -> 0 | G40: =G39+F40 -> 41470 | I40: NOVEMBRE | M40: =K40-L40 -> 0 | N40: =N39+M40 -> 0 | P40: NOVEMBRE | T40: =R40-S40 -> 0 | U40: =U39+T40 -> 0
B41: DECEMBRE | D41: =SUMIFS(Feuil1!$D:$D,Feuil1!$C:$C,Feuil2!$B$27,Feuil1!$F:$F,Feuil2!$B41) -> 0 | E41: =SUMIFS(Feuil1!$E:$E,Feuil1!$C:$C,Feuil2!$B$27,Feuil1!$F:$F,Feuil2!$B41) -> 0 | F41: =D41-E41 -> 0 | G41: =G40+F41 -> 41470 | I41: DECEMBRE | M41: =K41-L41 -> 0 | N41: =N40+M41 -> 0 | P41: DECEMBRE | T41: =R41-S41 -> 0 | U41: =U40+T41 -> 0
B43: TOTAUX | D43: =SUM(D30:D41) -> 179470 | E43: =SUM(E30:E41) -> 138000 | I43: TOTAUX | K43: =SUM(K30:K41) -> 0 | L43: =SUM(L30:L41) -> 0 | P43: TOTAUX | R43: =SUM(R30:R41) -> 0 | S43: =SUM(S30:S41) -> 0
B44: SOLDE ANNEE | D44: =+D43-E43 -> 41470 | I44: SOLDE ANNEE | K44: =+K43-L43 -> 0 | P44: SOLDE ANNEE | R44: =+R43-S43 -> 0
