Workbook

Sheet Donnees
A1: Produit | B1: ID | C1: Produit | D1: caractéristiques
A2: Test 1 | B2: 14525 | C2: Test 5 | D2: blanc
A3: Test 2 | B3: 17532 | C3: Test 7 | D3: gris
A4: Test 3 | B4: 16544 | C4: Test 8 | D4: rose
A5: Test 4 | B5: 14588 | C5: Test 1 | D5: bleu
A6: Test 5 | B6: 1655 | C6: Test 4 | D6: vert
A7: Test 6 | B7: 1477 | C7: Test 3 | D7: rouge
A8: Test 7 | B8: 18546
A9: Test 8 | B9: 15555
E11: L'id de la colonne B correspond au nom du produit A et les caractéristiques de la colonne D correspondent au produit de la colonne C

Sheet Resultat
A1: Produit | B1: ID | C1: caractéristiques
A2: =Donnees!A2 -> Test 1 | B2: =Donnees!B2 -> 14525 | C2: =IFERROR(VLOOKUP(A2,Donnees!C:D,2,FALSE),"Manquant") -> bleu
A3: =Donnees!A3 -> Test 2 | B3: =Donnees!B3 -> 17532 | C3: =IFERROR(VLOOKUP(A3,Donnees!C:D,2,FALSE),"Manquant") -> Manquant
A4: =Donnees!A4 -> Test 3 | B4: =Donnees!B4 -> 16544 | C4: =IFERROR(VLOOKUP(A4,Donnees!C:D,2,FALSE),"Manquant") -> rouge
A5: =Donnees!A5 -> Test 4 | B5: =Donnees!B5 -> 14588 | C5: =IFERROR(VLOOKUP(A5,Donnees!C:D,2,FALSE),"Manquant") -> vert
A6: =Donnees!A6 -> Test 5 | B6: =Donnees!B6 -> 1655 | C6: =IFERROR(VLOOKUP(A6,Donnees!C:D,2,FALSE),"Manquant") -> blanc
A7: =Donnees!A7 -> Test 6 | B7: =Donnees!B7 -> 1477 | C7: =IFERROR(VLOOKUP(A7,Donnees!C:D,2,FALSE),"Manquant") -> Manquant
A8: =Donnees!A8 -> Test 7 | B8: =Donnees!B8 -> 18546 | C8: =IFERROR(VLOOKUP(A8,Donnees!C:D,2,FALSE),"Manquant") -> gris
A9: =Donnees!A9 -> Test 8 | B9: =Donnees!B9 -> 15555 | C9: =IFERROR(VLOOKUP(A9,Donnees!C:D,2,FALSE),"Manquant") -> rose
A10: =IF(Donnees!A10="","",Donnees!A10) | B10: =IF(A10="","",Donnees!B10) | C10: =IF(A10="","",VLOOKUP(A10,Donnees!C:D,2,FALSE))
A11: =IF(Donnees!A11="","",Donnees!A11) | B11: =IF(A11="","",Donnees!B11) | C11: =IF(A11="","",VLOOKUP(A11,Donnees!C:D,2,FALSE))
A12: =IF(Donnees!A12="","",Donnees!A12) | B12: =IF(A12="","",Donnees!B12) | C12: =IF(A12="","",VLOOKUP(A12,Donnees!C:D,2,FALSE))
A13: =IF(Donnees!A13="","",Donnees!A13) | B13: =IF(A13="","",Donnees!B13) | C13: =IF(A13="","",VLOOKUP(A13,Donnees!C:D,2,FALSE))
A14: =IF(Donnees!A14="","",Donnees!A14) | B14: =IF(A14="","",Donnees!B14) | C14: =IF(A14="","",VLOOKUP(A14,Donnees!C:D,2,FALSE))
A15: =IF(Donnees!A15="","",Donnees!A15) | B15: =IF(A15="","",Donnees!B15) | C15: =IF(A15="","",VLOOKUP(A15,Donnees!C:D,2,FALSE))
A16: =IF(Donnees!A16="","",Donnees!A16) | B16: =IF(A16="","",Donnees!B16) | C16: =IF(A16="","",VLOOKUP(A16,Donnees!C:D,2,FALSE))
A17: =IF(Donnees!A17="","",Donnees!A17) | B17: =IF(A17="","",Donnees!B17) | C17: =IF(A17="","",VLOOKUP(A17,Donnees!C:D,2,FALSE))
A18: =IF(Donnees!A18="","",Donnees!A18) | B18: =IF(A18="","",Donnees!B18) | C18: =IF(A18="","",VLOOKUP(A18,Donnees!C:D,2,FALSE))
A19: =IF(Donnees!A19="","",Donnees!A19) | B19: =IF(A19="","",Donnees!B19) | C19: =IF(A19="","",VLOOKUP(A19,Donnees!C:D,2,FALSE))
A20: =IF(Donnees!A20="","",Donnees!A20) | B20: =IF(A20="","",Donnees!B20) | C20: =IF(A20="","",VLOOKUP(A20,Donnees!C:D,2,FALSE))
A21: =IF(Donnees!A21="","",Donnees!A21) | B21: =IF(A21="","",Donnees!B21) | C21: =IF(A21="","",VLOOKUP(A21,Donnees!C:D,2,FALSE))
... A252: =IF(Donnees!A252="","",Donnees!A252) | B252: =IF(A252="","",Donnees!B252) | C252: =IF(A252="","",VLOOKUP(A252,Donnees!C:D,2,FALSE))
