Workbook

Sheet Feuil1
B1: Ilot soudure | C1: Ilot découpe/presse | D1: Ilot pièces clients/gerber | E1: Ilot usinage | F1: Ilot dechets
A2: S1 | B2: =Feuil2!A2 -> Employé 1 | C2: =Feuil2!A3 -> Employé 2 | D2: =Feuil2!A4 -> Employé 3 | E2: =Feuil2!A5 -> Employé 4 | F2: =Feuil2!A6 -> Employé 5
A3: S2 | B3: =F2 -> Employé 5 | C3: =B2 -> Employé 1 | D3: =C2 -> Employé 2 | E3: =D2 -> Employé 3 | F3: =E2 -> Employé 4
A4: S3 | B4: =F3 -> Employé 4 | C4: =B3 -> Employé 5 | D4: =C3 -> Employé 1 | E4: =D3 -> Employé 2 | F4: =E3 -> Employé 3
A5: S4 | B5: =F4 -> Employé 3 | C5: =B4 -> Employé 4 | D5: =C4 -> Employé 5 | E5: =D4 -> Employé 1 | F5: =E4 -> Employé 2
A6: S5 | B6: =F5 -> Employé 2 | C6: =B5 -> Employé 3 | D6: =C5 -> Employé 4 | E6: =D5 -> Employé 5 | F6: =E5 -> Employé 1
A7: S6 | B7: =F6 -> Employé 1 | C7: =B6 -> Employé 2 | D7: =C6 -> Employé 3 | E7: =D6 -> Employé 4 | F7: =E6 -> Employé 5
A8: S7 | B8: =F7 -> Employé 5 | C8: =B7 -> Employé 1 | D8: =C7 -> Employé 2 | E8: =D7 -> Employé 3 | F8: =E7 -> Employé 4
A9: S8 | B9: =F8 -> Employé 4 | C9: =B8 -> Employé 5 | D9: =C8 -> Employé 1 | E9: =D8 -> Employé 2 | F9: =E8 -> Employé 3
A10: S9 | B10: =F9 -> Employé 3 | C10: =B9 -> Employé 4 | D10: =C9 -> Employé 5 | E10: =D9 -> Employé 1 | F10: =E9 -> Employé 2
A11: S10 | B11: =F10 -> Employé 2 | C11: =B10 -> Employé 3 | D11: =C10 -> Employé 4 | E11: =D10 -> Employé 5 | F11: =E10 -> Employé 1
A12: S11 | B12: =F11 -> Employé 1 | C12: =B11 -> Employé 2 | D12: =C11 -> Employé 3 | E12: =D11 -> Employé 4 | F12: =E11 -> Employé 5
A13: S12 | B13: =F12 -> Employé 5 | C13: =B12 -> Employé 1 | D13: =C12 -> Employé 2 | E13: =D12 -> Employé 3 | F13: =E12 -> Employé 4
A14: S13 | B14: =F13 -> Employé 4 | C14: =B13 -> Employé 5 | D14: =C13 -> Employé 1 | E14: =D13 -> Employé 2 | F14: =E13 -> Employé 3
... A53: S52 | B53: =F52 -> Employé 5 | C53: =B52 -> Employé 1 | D53: =C52 -> Employé 2 | E53: =D52 -> Employé 3 | F53: =E52 -> Employé 4

Sheet Feuil2
A1: Personnel
A2: Employé 1
A3: Employé 2
A4: Employé 3
A5: Employé 4
A6: Employé 5

Sheet Feuil3
