Workbook

Sheet Base de donnée
A1: Clé | B1: Nom du logo | C1: Beauté | D1: Taille | E1: Couleur | F1: Catégorie | G1: autre variable 1 | H1: autre variable 2 | I1: autre variable 3
A2: 1 | B2: Triangle | C2: =VLOOKUP($B2,'Catégorisation des logos'!$A:$E,2,FALSE) -> moche | D2: =VLOOKUP($B2,'Catégorisation des logos'!$A:$E,3,FALSE) -> 2 | E2: =VLOOKUP($B2,'Catégorisation des logos'!$A:$E,4,FALSE) -> rouge | F2: =VLOOKUP($B2,'Catégorisation des logos'!$A:$E,5,FALSE) -> 3
A3: 2 | B3: Carré | C3: =VLOOKUP($B3,'Catégorisation des logos'!$A:$E,2,FALSE) -> Joli | D3: =VLOOKUP($B3,'Catégorisation des logos'!$A:$E,3,FALSE) -> 4 | E3: =VLOOKUP($B3,'Catégorisation des logos'!$A:$E,4,FALSE) -> Jaune | F3: =VLOOKUP($B3,'Catégorisation des logos'!$A:$E,5,FALSE) -> 4
A4: 3 | B4: Carré | C4: =VLOOKUP($B4,'Catégorisation des logos'!$A:$E,2,FALSE) -> Joli | D4: =VLOOKUP($B4,'Catégorisation des logos'!$A:$E,3,FALSE) -> 4 | E4: =VLOOKUP($B4,'Catégorisation des logos'!$A:$E,4,FALSE) -> Jaune | F4: =VLOOKUP($B4,'Catégorisation des logos'!$A:$E,5,FALSE) -> 4
A5: 4 | B5: Carré | C5: =VLOOKUP($B5,'Catégorisation des logos'!$A:$E,2,FALSE) -> Joli | D5: =VLOOKUP($B5,'Catégorisation des logos'!$A:$E,3,FALSE) -> 4 | E5: =VLOOKUP($B5,'Catégorisation des logos'!$A:$E,4,FALSE) -> Jaune | F5: =VLOOKUP($B5,'Catégorisation des logos'!$A:$E,5,FALSE) -> 4
A6: 5 | B6: Triangle | C6: =VLOOKUP($B6,'Catégorisation des logos'!$A:$E,2,FALSE) -> moche | D6: =VLOOKUP($B6,'Catégorisation des logos'!$A:$E,3,FALSE) -> 2 | E6: =VLOOKUP($B6,'Catégorisation des logos'!$A:$E,4,FALSE) -> rouge | F6: =VLOOKUP($B6,'Catégorisation des logos'!$A:$E,5,FALSE) -> 3
A7: 6 | B7: Triangle | C7: =VLOOKUP($B7,'Catégorisation des logos'!$A:$E,2,FALSE) -> moche | D7: =VLOOKUP($B7,'Catégorisation des logos'!$A:$E,3,FALSE) -> 2 | E7: =VLOOKUP($B7,'Catégorisation des logos'!$A:$E,4,FALSE) -> rouge | F7: =VLOOKUP($B7,'Catégorisation des logos'!$A:$E,5,FALSE) -> 3
A8: 7 | B8: Triangle | C8: =VLOOKUP($B8,'Catégorisation des logos'!$A:$E,2,FALSE) -> moche | D8: =VLOOKUP($B8,'Catégorisation des logos'!$A:$E,3,FALSE) -> 2 | E8: =VLOOKUP($B8,'Catégorisation des logos'!$A:$E,4,FALSE) -> rouge | F8: =VLOOKUP($B8,'Catégorisation des logos'!$A:$E,5,FALSE) -> 3
A9: 8 | B9: Triangle | C9: =VLOOKUP($B9,'Catégorisation des logos'!$A:$E,2,FALSE) -> moche | D9: =VLOOKUP($B9,'Catégorisation des logos'!$A:$E,3,FALSE) -> 2 | E9: =VLOOKUP($B9,'Catégorisation des logos'!$A:$E,4,FALSE) -> rouge | F9: =VLOOKUP($B9,'Catégorisation des logos'!$A:$E,5,FALSE) -> 3
A10: 9 | B10: Triangle | C10: =VLOOKUP($B10,'Catégorisation des logos'!$A:$E,2,FALSE) -> moche | D10: =VLOOKUP($B10,'Catégorisation des logos'!$A:$E,3,FALSE) -> 2 | E10: =VLOOKUP($B10,'Catégorisation des logos'!$A:$E,4,FALSE) -> rouge | F10: =VLOOKUP($B10,'Catégorisation des logos'!$A:$E,5,FALSE) -> 3
A11: 10 | B11: Triangle | C11: =VLOOKUP($B11,'Catégorisation des logos'!$A:$E,2,FALSE) -> moche | D11: =VLOOKUP($B11,'Catégorisation des logos'!$A:$E,3,FALSE) -> 2 | E11: =VLOOKUP($B11,'Catégorisation des logos'!$A:$E,4,FALSE) -> rouge | F11: =VLOOKUP($B11,'Catégorisation des logos'!$A:$E,5,FALSE) -> 3
A12: 11 | B12: Carré | C12: =VLOOKUP($B12,'Catégorisation des logos'!$A:$E,2,FALSE) -> Joli | D12: =VLOOKUP($B12,'Catégorisation des logos'!$A:$E,3,FALSE) -> 4 | E12: =VLOOKUP($B12,'Catégorisation des logos'!$A:$E,4,FALSE) -> Jaune | F12: =VLOOKUP($B12,'Catégorisation des logos'!$A:$E,5,FALSE) -> 4
A13: 12 | B13: Carré | C13: =VLOOKUP($B13,'Catégorisation des logos'!$A:$E,2,FALSE) -> Joli | D13: =VLOOKUP($B13,'Catégorisation des logos'!$A:$E,3,FALSE) -> 4 | E13: =VLOOKUP($B13,'Catégorisation des logos'!$A:$E,4,FALSE) -> Jaune | F13: =VLOOKUP($B13,'Catégorisation des logos'!$A:$E,5,FALSE) -> 4
... A21: 20 | B21: carré | C21: =VLOOKUP($B21,'Catégorisation des logos'!$A:$E,2,FALSE) -> Joli | D21: =VLOOKUP($B21,'Catégorisation des logos'!$A:$E,3,FALSE) -> 4 | E21: =VLOOKUP($B21,'Catégorisation des logos'!$A:$E,4,FALSE) -> Jaune | F21: =VLOOKUP($B21,'Catégorisation des logos'!$A:$E,5,FALSE) -> 4

Sheet Catégorisation des logos
A1: Nom du logo | B1: Beauté | C1: Taille | D1: Couleur | E1: nombre de côtés
A2: Triangle | B2: moche | C2: 2 | D2: rouge | E2: 3
A3: Carré | B3: Joli | C3: 4 | D3: Jaune | E3: 4
