Workbook
Name Machine: OFFSET([1]Feuil1!$D$2:$D$5000,,,COUNTA([1]Feuil1!$A:$A)-1)
Name Mois: OFFSET([1]Feuil1!$B$2:$B$5000,,,COUNTA([1]Feuil1!$A:$A)-1)
Name Semaine: OFFSET([1]Feuil1!$C$2:$C$5000,,,COUNTA([1]Feuil1!$A:$A)-1)
Name Taux__Nettoyage__Semaine: OFFSET([1]Feuil1!$E$2:$E$5000,,,COUNTA([1]Feuil1!$A:$A)-1)
Name Temps_d_ouverture: OFFSET([1]Feuil1!$F$2:$F$5000,,,COUNTA([1]Feuil1!$A:$A)-1)

Sheet Tableau enregistrement valeur
B2: ANNEE | C2: 2014
D5: SUIVI TAUX NETTOYAGE / SEMAINE
C6: utilisé pour le cumul | D6: =SUMIFS(Donnees!$F:$F,Donnees!$D:$D,D8,Donnees!$E:$E,RIGHT($B8,2)) -> 0.054861111 | E6: =D6+SUMIFS(Donnees!$F:$F,Donnees!$D:$D,E8,Donnees!$E:$E,RIGHT($B8,2)) -> 0.15625 | F6: =E6+SUMIFS(Donnees!$F:$F,Donnees!$D:$D,F8,Donnees!$E:$E,RIGHT($B8,2)) -> 0.29236111 | G6: =F6+SUMIFS(Donnees!$F:$F,Donnees!$D:$D,G8,Donnees!$E:$E,RIGHT($B8,2)) -> 0.35138889 | H6: =G6+SUMIFS(Donnees!$F:$F,Donnees!$D:$D,H8,Donnees!$E:$E,RIGHT($B8,2)) -> 0.46875 | I6: =H6+SUMIFS(Donnees!$F:$F,Donnees!$D:$D,I8,Donnees!$E:$E,RIGHT($B8,2)) -> 0.60208333 | J6: =I6+SUMIFS(Donnees!$F:$F,Donnees!$D:$D,J8,Donnees!$E:$E,RIGHT($B8,2)) -> 0.71736111 | K6: =J6+SUMIFS(Donnees!$F:$F,Donnees!$D:$D,K8,Donnees!$E:$E,RIGHT($B8,2)) -> 0.78194444 | L6: =K6+SUMIFS(Donnees!$F:$F,Donnees!$D:$D,L8,Donnees!$E:$E,RIGHT($B8,2)) -> 0.85277778 | ... AK6: =AJ6+SUMIFS(Donnees!$F:$F,Donnees!$D:$D,AK8,Donnees!$E:$E,RIGHT($B8,2)) -> 1.3118056
D7: =SUMIFS(Donnees!$G:$G,Donnees!$D:$D,D8,Donnees!$E:$E,RIGHT($B8,2),Donnees!$B:$B,$C$2) -> 1.6666667 | E7: =D7+SUMIFS(Donnees!$G:$G,Donnees!$D:$D,E8,Donnees!$E:$E,RIGHT($B8,2),Donnees!$B:$B,$C$2) -> 4.8333333 | F7: =E7+SUMIFS(Donnees!$G:$G,Donnees!$D:$D,F8,Donnees!$E:$E,RIGHT($B8,2),Donnees!$B:$B,$C$2) -> 8.8125 | G7: =F7+SUMIFS(Donnees!$G:$G,Donnees!$D:$D,G8,Donnees!$E:$E,RIGHT($B8,2),Donnees!$B:$B,$C$2) -> 11.364583 | H7: =G7+SUMIFS(Donnees!$G:$G,Donnees!$D:$D,H8,Donnees!$E:$E,RIGHT($B8,2),Donnees!$B:$B,$C$2) -> 14.84375 | I7: =H7+SUMIFS(Donnees!$G:$G,Donnees!$D:$D,I8,Donnees!$E:$E,RIGHT($B8,2),Donnees!$B:$B,$C$2) -> 17.708333 | J7: =I7+SUMIFS(Donnees!$G:$G,Donnees!$D:$D,J8,Donnees!$E:$E,RIGHT($B8,2),Donnees!$B:$B,$C$2) -> 21.1875 | K7: =J7+SUMIFS(Donnees!$G:$G,Donnees!$D:$D,K8,Donnees!$E:$E,RIGHT($B8,2),Donnees!$B:$B,$C$2) -> 23.822917 | L7: =K7+SUMIFS(Donnees!$G:$G,Donnees!$D:$D,L8,Donnees!$E:$E,RIGHT($B8,2),Donnees!$B:$B,$C$2) -> 25.541667 | ... AK7: =AJ7+SUMIFS(Donnees!$G:$G,Donnees!$D:$D,AK8,Donnees!$E:$E,RIGHT($B8,2),Donnees!$B:$B,$C$2) -> 40.427083
B8: 9 | C8: Semaine | D8: 19 | E8: 20 | F8: 21 | G8: 22 | H8: 23 | I8: 24 | J8: 25 | K8: 26 | L8: 27 | M8: 28 | N8: 29 | O8: 30 | P8: 31 | Q8: 32 | R8: 33 | S8: 34 | T8: 35 | U8: 36 | V8: 37 | W8: 38 | X8: 39 | Y8: 40 | Z8: 41 | AA8: 42 | AB8: 43 | AC8: 44 | AD8: 45 | AE8: 46 | AF8: 47 | AG8: 48 | AH8: 49 | AI8: 50 | AJ8: 51 | AK8: 52 | AQ8: Temps d'ouverture
C9: Taux Nettoyage/ Semaine | D9: =SUMIFS(Donnees!$F:$F,Donnees!$D:$D,D8,Donnees!$E:$E,RIGHT($B8,2)) / SUMIFS(Donnees!$G:$G,Donnees!$D:$D,D8,Donnees!$E:$E,RIGHT($B8,2),Donnees!$B:$B,$C$2) -> 0.032916667 | E9: =SUMIFS(Donnees!$F:$F,Donnees!$D:$D,E8,Donnees!$E:$E,RIGHT($B8,2)) / SUMIFS(Donnees!$G:$G,Donnees!$D:$D,E8,Donnees!$E:$E,RIGHT($B8,2),Donnees!$B:$B,$C$2) -> 0.032017544 | F9: =SUMIFS(Donnees!$F:$F,Donnees!$D:$D,F8,Donnees!$E:$E,RIGHT($B8,2)) / SUMIFS(Donnees!$G:$G,Donnees!$D:$D,F8,Donnees!$E:$E,RIGHT($B8,2),Donnees!$B:$B,$C$2) -> 0.034205934 | G9: =SUMIFS(Donnees!$F:$F,Donnees!$D:$D,G8,Donnees!$E:$E,RIGHT($B8,2)) / SUMIFS(Donnees!$G:$G,Donnees!$D:$D,G8,Donnees!$E:$E,RIGHT($B8,2),Donnees!$B:$B,$C$2) -> 0.023129252 | H9: =SUMIFS(Donnees!$F:$F,Donnees!$D:$D,H8,Donnees!$E:$E,RIGHT($B8,2)) / SUMIFS(Donnees!$G:$G,Donnees!$D:$D,H8,Donnees!$E:$E,RIGHT($B8,2),Donnees!$B:$B,$C$2) -> 0.033732535 | I9: =SUMIFS(Donnees!$F:$F,Donnees!$D:$D,I8,Donnees!$E:$E,RIGHT($B8,2)) / SUMIFS(Donnees!$G:$G,Donnees!$D:$D,I8,Donnees!$E:$E,RIGHT($B8,2),Donnees!$B:$B,$C$2) -> 0.046545455 | J9: =SUMIFS(Donnees!$F:$F,Donnees!$D:$D,J8,Donnees!$E:$E,RIGHT($B8,2)) / SUMIFS(Donnees!$G:$G,Donnees!$D:$D,J8,Donnees!$E:$E,RIGHT($B8,2),Donnees!$B:$B,$C$2) -> 0.033133733 | K9: =SUMIFS(Donnees!$F:$F,Donnees!$D:$D,K8,Donnees!$E:$E,RIGHT($B8,2)) / SUMIFS(Donnees!$G:$G,Donnees!$D:$D,K8,Donnees!$E:$E,RIGHT($B8,2),Donnees!$B:$B,$C$2) -> 0.024505929 | ... AK9: =SUMIFS(Donnees!$F:$F,Donnees!$D:$D,AK8,Donnees!$E:$E,RIGHT($B8,2)) / SUMIFS(Donnees!$G:$G,Donnees!$D:$D,AK8,Donnees!$E:$E,RIGHT($B8,2),Donnees!$B:$B,$C$2) -> #DIV/0!
C10: Cumul taux de nettoyage/ Semaine | D10: =D6/D7 -> 0.032916667 | E10: =E6/E7 -> 0.032327586 | F10: =F6/F7 -> 0.033175729 | G10: =G6/G7 -> 0.030919646 | H10: =H6/H7 -> 0.031578947 | I10: =I6/I7 -> 0.034 | J10: =J6/J7 -> 0.033857752 | K10: =K6/K7 -> 0.032823204 | ... AK10: =AK6/AK7 -> 0.032448682
C11: Année N-1 | D11: 0.043 | E11: 0.043 | F11: 0.043 | G11: 0.043 | H11: 0.043 | I11: 0.043 | J11: 0.043 | K11: 0.043 | L11: 0.043 | M11: 0.043 | N11: 0.043 | O11: 0.043 | P11: 0.043 | Q11: 0.043 | R11: 0.043 | S11: 0.043 | T11: 0.043 | U11: 0.043 | V11: 0.043 | W11: 0.043 | X11: 0.043 | Y11: 0.043 | Z11: 0.043 | AA11: 0.043 | AB11: 0.043 | AC11: 0.043 | AD11: 0.043 | AE11: 0.043 | AF11: 0.043 | AG11: 0.043 | AH11: 0.043 | AI11: 0.043 | AJ11: 0.043 | AK11: 0.043
C12: Cible N+1 à 40% | D12: 0.039 | E12: 0.039 | F12: 0.039 | G12: 0.039 | H12: 0.039 | I12: 0.039 | J12: 0.039 | K12: 0.039 | L12: 0.039 | M12: 0.039 | N12: 0.039 | O12: 0.039 | P12: 0.039 | Q12: 0.039 | R12: 0.039 | S12: 0.039 | T12: 0.039 | U12: 0.039 | V12: 0.039 | W12: 0.039 | X12: 0.039 | Y12: 0.039 | Z12: 0.039 | AA12: 0.039 | AB12: 0.039 | AC12: 0.039 | AD12: 0.039 | AE12: 0.039 | AF12: 0.039 | AG12: 0.039 | AH12: 0.039 | AI12: 0.039 | AJ12: 0.039 | AK12: 0.039
C13: Cible N+1 à 100% | D13: 0.033 | E13: 0.033 | F13: 0.033 | G13: 0.033 | H13: 0.033 | I13: 0.033 | J13: 0.033 | K13: 0.033 | L13: 0.033 | M13: 0.033 | N13: 0.033 | O13: 0.033 | P13: 0.033 | Q13: 0.033 | R13: 0.033 | S13: 0.033 | T13: 0.033 | U13: 0.033 | V13: 0.033 | W13: 0.033 | X13: 0.033 | Y13: 0.033 | Z13: 0.033 | AA13: 0.033 | AB13: 0.033 | AC13: 0.033 | AD13: 0.033 | AE13: 0.033 | AF13: 0.033 | AG13: 0.033 | AH13: 0.033 | AI13: 0.033 | AJ13: 0.033 | AK13: 0.033
C16: utilisé pour le cumul | D16: =SUMIFS(Donnees!$F:$F,Donnees!$D:$D,D18,Donnees!$E:$E,RIGHT($B18,2)) -> 0.088888889 | E16: =D16+SUMIFS(Donnees!$F:$F,Donnees!$D:$D,E18,Donnees!$E:$E,RIGHT($B18,2)) -> 0.27291667 | F16: =E16+SUMIFS(Donnees!$F:$F,Donnees!$D:$D,F18,Donnees!$E:$E,RIGHT($B18,2)) -> 0.48125 | G16: =F16+SUMIFS(Donnees!$F:$F,Donnees!$D:$D,G18,Donnees!$E:$E,RIGHT($B18,2)) -> 0.64722222 | H16: =G16+SUMIFS(Donnees!$F:$F,Donnees!$D:$D,H18,Donnees!$E:$E,RIGHT($B18,2)) -> 0.81180556 | I16: =H16+SUMIFS(Donnees!$F:$F,Donnees!$D:$D,I18,Donnees!$E:$E,RIGHT($B18,2)) -> 0.9625 | J16: =I16+SUMIFS(Donnees!$F:$F,Donnees!$D:$D,J18,Donnees!$E:$E,RIGHT($B18,2)) -> 1.1409722 | K16: =J16+SUMIFS(Donnees!$F:$F,Donnees!$D:$D,K18,Donnees!$E:$E,RIGHT($B18,2)) -> 1.2555556 | L16: =K16+SUMIFS(Donnees!$F:$F,Donnees!$D:$D,L18,Donnees!$E:$E,RIGHT($B18,2)) -> 1.4194444 | ... AK16: =AJ16+SUMIFS(Donnees!$F:$F,Donnees!$D:$D,AK18,Donnees!$E:$E,RIGHT($B18,2)) -> 2.2055556
D17: =SUMIFS(Donnees!$G:$G,Donnees!$D:$D,D18,Donnees!$E:$E,RIGHT($B18,2),Donnees!$B:$B,$C$2) -> 2.6875 | E17: =D17+SUMIFS(Donnees!$G:$G,Donnees!$D:$D,E18,Donnees!$E:$E,RIGHT($B18,2),Donnees!$B:$B,$C$2) -> 7.9166667 | F17: =E17+SUMIFS(Donnees!$G:$G,Donnees!$D:$D,F18,Donnees!$E:$E,RIGHT($B18,2),Donnees!$B:$B,$C$2) -> 13.145833 | G17: =F17+SUMIFS(Donnees!$G:$G,Donnees!$D:$D,G18,Donnees!$E:$E,RIGHT($B18,2),Donnees!$B:$B,$C$2) -> 17.333333 | H17: =G17+SUMIFS(Donnees!$G:$G,Donnees!$D:$D,H18,Donnees!$E:$E,RIGHT($B18,2),Donnees!$B:$B,$C$2) -> 22.53125 | I17: =H17+SUMIFS(Donnees!$G:$G,Donnees!$D:$D,I18,Donnees!$E:$E,RIGHT($B18,2),Donnees!$B:$B,$C$2) -> 27.75 | J17: =I17+SUMIFS(Donnees!$G:$G,Donnees!$D:$D,J18,Donnees!$E:$E,RIGHT($B18,2),Donnees!$B:$B,$C$2) -> 32.916667 | K17: =J17+SUMIFS(Donnees!$G:$G,Donnees!$D:$D,K18,Donnees!$E:$E,RIGHT($B18,2),Donnees!$B:$B,$C$2) -> 36.447917 | L17: =K17+SUMIFS(Donnees!$G:$G,Donnees!$D:$D,L18,Donnees!$E:$E,RIGHT($B18,2),Donnees!$B:$B,$C$2) -> 40.302083 | ... AK17: =AJ17+SUMIFS(Donnees!$G:$G,Donnees!$D:$D,AK18,Donnees!$E:$E,RIGHT($B18,2),Donnees!$B:$B,$C$2) -> 74.6875
B18: 10 | C18: Semaine | D18: 19 | E18: 20 | F18: 21 | G18: 22 | H18: 23 | I18: 24 | J18: 25 | K18: 26 | L18: 27 | M18: 28 | N18: 29 | O18: 30 | P18: 31 | Q18: 32 | R18: 33 | S18: 34 | T18: 35 | U18: 36 | V18: 37 | W18: 38 | X18: 39 | Y18: 40 | Z18: 41 | AA18: 42 | AB18: 43 | AC18: 44 | AD18: 45 | AE18: 46 | AF18: 47 | AG18: 48 | AH18: 49 | AI18: 50 | AJ18: 51 | AK18: 52
C19: Taux Nettoyage/Semaine | D19: =SUMIFS(Donnees!$F:$F,Donnees!$D:$D,D18,Donnees!$E:$E,RIGHT($B18,2)) / SUMIFS(Donnees!$G:$G,Donnees!$D:$D,D18,Donnees!$E:$E,RIGHT($B18,2),Donnees!$B:$B,$C$2) -> 0.033074935 | E19: =SUMIFS(Donnees!$F:$F,Donnees!$D:$D,E18,Donnees!$E:$E,RIGHT($B18,2)) / SUMIFS(Donnees!$G:$G,Donnees!$D:$D,E18,Donnees!$E:$E,RIGHT($B18,2),Donnees!$B:$B,$C$2) -> 0.035192563 | F19: =SUMIFS(Donnees!$F:$F,Donnees!$D:$D,F18,Donnees!$E:$E,RIGHT($B18,2)) / SUMIFS(Donnees!$G:$G,Donnees!$D:$D,F18,Donnees!$E:$E,RIGHT($B18,2),Donnees!$B:$B,$C$2) -> 0.039840637 | G19: =SUMIFS(Donnees!$F:$F,Donnees!$D:$D,G18,Donnees!$E:$E,RIGHT($B18,2)) / SUMIFS(Donnees!$G:$G,Donnees!$D:$D,G18,Donnees!$E:$E,RIGHT($B18,2),Donnees!$B:$B,$C$2) -> 0.039635158 | H19: =SUMIFS(Donnees!$F:$F,Donnees!$D:$D,H18,Donnees!$E:$E,RIGHT($B18,2)) / SUMIFS(Donnees!$G:$G,Donnees!$D:$D,H18,Donnees!$E:$E,RIGHT($B18,2),Donnees!$B:$B,$C$2) -> 0.031663327 | I19: =SUMIFS(Donnees!$F:$F,Donnees!$D:$D,I18,Donnees!$E:$E,RIGHT($B18,2)) / SUMIFS(Donnees!$G:$G,Donnees!$D:$D,I18,Donnees!$E:$E,RIGHT($B18,2),Donnees!$B:$B,$C$2) -> 0.028875582 | J19: =SUMIFS(Donnees!$F:$F,Donnees!$D:$D,J18,Donnees!$E:$E,RIGHT($B18,2)) / SUMIFS(Donnees!$G:$G,Donnees!$D:$D,J18,Donnees!$E:$E,RIGHT($B18,2),Donnees!$B:$B,$C$2) -> 0.034543011 | K19: =SUMIFS(Donnees!$F:$F,Donnees!$D:$D,K18,Donnees!$E:$E,RIGHT($B18,2)) / SUMIFS(Donnees!$G:$G,Donnees!$D:$D,K18,Donnees!$E:$E,RIGHT($B18,2),Donnees!$B:$B,$C$2) -> 0.032448378 | ... AK19: =SUMIFS(Donnees!$F:$F,Donnees!$D:$D,AK18,Donnees!$E:$E,RIGHT($B18,2)) / SUMIFS(Donnees!$G:$G,Donnees!$D:$D,AK18,Donnees!$E:$E,RIGHT($B18,2),Donnees!$B:$B,$C$2) -> #DIV/0!
C20: Cumul taux de nettoyage/ Semaine | D20: =D16/D17 -> 0.033074935 | E20: =E16/E17 -> 0.034473684 | F20: =F16/F17 -> 0.036608558 | G20: =G16/G17 -> 0.037339744 | H20: =H16/H17 -> 0.036030205 | I20: =I16/I17 -> 0.034684685 | J20: =J16/J17 -> 0.034662447 | K20: =K16/K17 -> 0.034447938 | ... AK20: =AK16/AK17 -> 0.029530451
C21: Année N-1 | D21: 0.041 | E21: 0.041 | F21: 0.041 | G21: 0.041 | H21: 0.041 | I21: 0.041 | J21: 0.041 | K21: 0.041 | L21: 0.041 | M21: 0.041 | N21: 0.041 | O21: 0.041 | P21: 0.041 | Q21: 0.041 | R21: 0.041 | S21: 0.041 | T21: 0.041 | U21: 0.041 | V21: 0.041 | W21: 0.041 | X21: 0.041 | Y21: 0.041 | Z21: 0.041 | AA21: 0.041 | AB21: 0.041 | AC21: 0.041 | AD21: 0.041 | AE21: 0.041 | AF21: 0.041 | AG21: 0.041 | AH21: 0.041 | AI21: 0.041 | AJ21: 0.041 | AK21: 0.041
C22: Cible N+1 à 40% | D22: 0.037 | E22: 0.037 | F22: 0.037 | G22: 0.037 | H22: 0.037 | I22: 0.037 | J22: 0.037 | K22: 0.037 | L22: 0.037 | M22: 0.037 | N22: 0.037 | O22: 0.037 | P22: 0.037 | Q22: 0.037 | R22: 0.037 | S22: 0.037 | T22: 0.037 | U22: 0.037 | V22: 0.037 | W22: 0.037 | X22: 0.037 | Y22: 0.037 | Z22: 0.037 | AA22: 0.037 | AB22: 0.037 | AC22: 0.037 | AD22: 0.037 | AE22: 0.037 | AF22: 0.037 | AG22: 0.037 | AH22: 0.037 | AI22: 0.037 | AJ22: 0.037 | AK22: 0.037
C23: Cible N+1 à 100% | D23: 0.031 | E23: 0.031 | F23: 0.031 | G23: 0.031 | H23: 0.031 | I23: 0.031 | J23: 0.031 | K23: 0.031 | L23: 0.031 | M23: 0.031 | N23: 0.031 | O23: 0.031 | P23: 0.031 | Q23: 0.031 | R23: 0.031 | S23: 0.031 | T23: 0.031 | U23: 0.031 | V23: 0.031 | W23: 0.031 | X23: 0.031 | Y23: 0.031 | Z23: 0.031 | AA23: 0.031 | AB23: 0.031 | AC23: 0.031 | AD23: 0.031 | AE23: 0.031 | AF23: 0.031 | AG23: 0.031 | AH23: 0.031 | AI23: 0.031 | AJ23: 0.031 | AK23: 0.031
C26: utilisé pour le cumul | D26: =SUMIFS(Donnees!$F:$F,Donnees!$D:$D,D28,Donnees!$E:$E,RIGHT($B28,2)) -> 0.055555556 | E26: =D26+SUMIFS(Donnees!$F:$F,Donnees!$D:$D,E28,Donnees!$E:$E,RIGHT($B28,2)) -> 0.18819444 | F26: =E26+SUMIFS(Donnees!$F:$F,Donnees!$D:$D,F28,Donnees!$E:$E,RIGHT($B28,2)) -> 0.26458333 | G26: =F26+SUMIFS(Donnees!$F:$F,Donnees!$D:$D,G28,Donnees!$E:$E,RIGHT($B28,2)) -> 0.36875 | H26: =G26+SUMIFS(Donnees!$F:$F,Donnees!$D:$D,H28,Donnees!$E:$E,RIGHT($B28,2)) -> 0.43472222 | I26: =H26+SUMIFS(Donnees!$F:$F,Donnees!$D:$D,I28,Donnees!$E:$E,RIGHT($B28,2)) -> 0.49930556 | J26: =I26+SUMIFS(Donnees!$F:$F,Donnees!$D:$D,J28,Donnees!$E:$E,RIGHT($B28,2)) -> 0.55486111 | K26: =J26+SUMIFS(Donnees!$F:$F,Donnees!$D:$D,K28,Donnees!$E:$E,RIGHT($B28,2)) -> 0.61041667 | L26: =K26+SUMIFS(Donnees!$F:$F,Donnees!$D:$D,L28,Donnees!$E:$E,RIGHT($B28,2)) -> 0.65902778 | ... AK26: =AJ26+SUMIFS(Donnees!$F:$F,Donnees!$D:$D,AK28,Donnees!$E:$E,RIGHT($B28,2)) -> 1.1118056
D27: =SUMIFS(Donnees!$G:$G,Donnees!$D:$D,D28,Donnees!$E:$E,RIGHT($B28,2),Donnees!$B:$B,$C$2) -> 1.7916667 | E27: =D27+SUMIFS(Donnees!$G:$G,Donnees!$D:$D,E28,Donnees!$E:$E,RIGHT($B28,2),Donnees!$B:$B,$C$2) -> 6.3958333 | F27: =E27+SUMIFS(Donnees!$G:$G,Donnees!$D:$D,F28,Donnees!$E:$E,RIGHT($B28,2),Donnees!$B:$B,$C$2) -> 9.3541667 | G27: =F27+SUMIFS(Donnees!$G:$G,Donnees!$D:$D,G28,Donnees!$E:$E,RIGHT($B28,2),Donnees!$B:$B,$C$2) -> 13.78125 | H27: =G27+SUMIFS(Donnees!$G:$G,Donnees!$D:$D,H28,Donnees!$E:$E,RIGHT($B28,2),Donnees!$B:$B,$C$2) -> 17.302083 | I27: =H27+SUMIFS(Donnees!$G:$G,Donnees!$D:$D,I28,Donnees!$E:$E,RIGHT($B28,2),Donnees!$B:$B,$C$2) -> 20.260417 | J27: =I27+SUMIFS(Donnees!$G:$G,Donnees!$D:$D,J28,Donnees!$E:$E,RIGHT($B28,2),Donnees!$B:$B,$C$2) -> 23.239583 | K27: =J27+SUMIFS(Donnees!$G:$G,Donnees!$D:$D,K28,Donnees!$E:$E,RIGHT($B28,2),Donnees!$B:$B,$C$2) -> 26.135417 | L27: =K27+SUMIFS(Donnees!$G:$G,Donnees!$D:$D,L28,Donnees!$E:$E,RIGHT($B28,2),Donnees!$B:$B,$C$2) -> 28.28125 | ... AK27: =AJ27+SUMIFS(Donnees!$G:$G,Donnees!$D:$D,AK28,Donnees!$E:$E,RIGHT($B28,2),Donnees!$B:$B,$C$2) -> 52.395833
B28: 14 | C28: Semaine | D28: 19 | E28: 20 | F28: 21 | G28: 22 | H28: 23 | I28: 24 | J28: 25 | K28: 26 | L28: 27 | M28: 28 | N28: 29 | O28: 30 | P28: 31 | Q28: 32 | R28: 33 | S28: 34 | T28: 35 | U28: 36 | V28: 37 | W28: 38 | X28: 39 | Y28: 40 | Z28: 41 | AA28: 42 | AB28: 43 | AC28: 44 | AD28: 45 | AE28: 46 | AF28: 47 | AG28: 48 | AH28: 49 | AI28: 50 | AJ28: 51 | AK28: 52
C29: Taux Nettoyage/Semaine | D29: =SUMIFS(Donnees!$F:$F,Donnees!$D:$D,D28,Donnees!$E:$E,RIGHT($B28,2)) / SUMIFS(Donnees!$G:$G,Donnees!$D:$D,D28,Donnees!$E:$E,RIGHT($B28,2),Donnees!$B:$B,$C$2) -> 0.031007752 | E29: =SUMIFS(Donnees!$F:$F,Donnees!$D:$D,E28,Donnees!$E:$E,RIGHT($B28,2)) / SUMIFS(Donnees!$G:$G,Donnees!$D:$D,E28,Donnees!$E:$E,RIGHT($B28,2),Donnees!$B:$B,$C$2) -> 0.028808446 | F29: =SUMIFS(Donnees!$F:$F,Donnees!$D:$D,F28,Donnees!$E:$E,RIGHT($B28,2)) / SUMIFS(Donnees!$G:$G,Donnees!$D:$D,F28,Donnees!$E:$E,RIGHT($B28,2),Donnees!$B:$B,$C$2) -> 0.025821596 | G29: =SUMIFS(Donnees!$F:$F,Donnees!$D:$D,G28,Donnees!$E:$E,RIGHT($B28,2)) / SUMIFS(Donnees!$G:$G,Donnees!$D:$D,G28,Donnees!$E:$E,RIGHT($B28,2),Donnees!$B:$B,$C$2) -> 0.023529412 | H29: =SUMIFS(Donnees!$F:$F,Donnees!$D:$D,H28,Donnees!$E:$E,RIGHT($B28,2)) / SUMIFS(Donnees!$G:$G,Donnees!$D:$D,H28,Donnees!$E:$E,RIGHT($B28,2),Donnees!$B:$B,$C$2) -> 0.018737673 | I29: =SUMIFS(Donnees!$F:$F,Donnees!$D:$D,I28,Donnees!$E:$E,RIGHT($B28,2)) / SUMIFS(Donnees!$G:$G,Donnees!$D:$D,I28,Donnees!$E:$E,RIGHT($B28,2),Donnees!$B:$B,$C$2) -> 0.021830986 | J29: =SUMIFS(Donnees!$F:$F,Donnees!$D:$D,J28,Donnees!$E:$E,RIGHT($B28,2)) / SUMIFS(Donnees!$G:$G,Donnees!$D:$D,J28,Donnees!$E:$E,RIGHT($B28,2),Donnees!$B:$B,$C$2) -> 0.018648019 | K29: =SUMIFS(Donnees!$F:$F,Donnees!$D:$D,K28,Donnees!$E:$E,RIGHT($B28,2)) / SUMIFS(Donnees!$G:$G,Donnees!$D:$D,K28,Donnees!$E:$E,RIGHT($B28,2),Donnees!$B:$B,$C$2) -> 0.019184652 | ... AK29: =SUMIFS(Donnees!$F:$F,Donnees!$D:$D,AK28,Donnees!$E:$E,RIGHT($B28,2)) / SUMIFS(Donnees!$G:$G,Donnees!$D:$D,AK28,Donnees!$E:$E,RIGHT($B28,2),Donnees!$B:$B,$C$2) -> #DIV/0!
C30: Cumul taux de nettoyage/ Semaine | D30: =D26/D27 -> 0.031007752 | E30: =E26/E27 -> 0.029424539 | F30: =F26/F27 -> 0.028285078 | G30: =G26/G27 -> 0.02675737 | H30: =H26/H27 -> 0.025125426 | I30: =I26/I27 -> 0.024644387 | J30: =J26/J27 -> 0.023875691 | K30: =K26/K27 -> 0.023355919 | ... AK30: =AK26/AK27 -> 0.021219351
C31: Année N-1 | D31: 0.031 | E31: 0.031 | F31: 0.031 | G31: 0.031 | H31: 0.031 | I31: 0.031 | J31: 0.031 | K31: 0.031 | L31: 0.031 | M31: 0.031 | N31: 0.031 | O31: 0.031 | P31: 0.031 | Q31: 0.031 | R31: 0.031 | S31: 0.031 | T31: 0.031 | U31: 0.031 | V31: 0.031 | W31: 0.031 | X31: 0.031 | Y31: 0.031 | Z31: 0.031 | AA31: 0.031 | AB31: 0.031 | AC31: 0.031 | AD31: 0.031 | AE31: 0.031 | AF31: 0.031 | AG31: 0.031 | AH31: 0.031 | AI31: 0.031 | AJ31: 0.031 | AK31: 0.031
C32: Cible N+1 à 40% | D32: 0.027 | E32: 0.027 | F32: 0.027 | G32: 0.027 | H32: 0.027 | I32: 0.027 | J32: 0.027 | K32: 0.027 | L32: 0.027 | M32: 0.027 | N32: 0.027 | O32: 0.027 | P32: 0.027 | Q32: 0.027 | R32: 0.027 | S32: 0.027 | T32: 0.027 | U32: 0.027 | V32: 0.027 | W32: 0.027 | X32: 0.027 | Y32: 0.027 | Z32: 0.027 | AA32: 0.027 | AB32: 0.027 | AC32: 0.027 | AD32: 0.027 | AE32: 0.027 | AF32: 0.027 | AG32: 0.027 | AH32: 0.027 | AI32: 0.027 | AJ32: 0.027 | AK32: 0.027
C33: Cible N+1 à 100% | D33: 0.021 | E33: 0.021 | F33: 0.021 | G33: 0.021 | H33: 0.021 | I33: 0.021 | J33: 0.021 | K33: 0.021 | L33: 0.021 | M33: 0.021 | N33: 0.021 | O33: 0.021 | P33: 0.021 | Q33: 0.021 | R33: 0.021 | S33: 0.021 | T33: 0.021 | U33: 0.021 | V33: 0.021 | W33: 0.021 | X33: 0.021 | Y33: 0.021 | Z33: 0.021 | AA33: 0.021 | AB33: 0.021 | AC33: 0.021 | AD33: 0.021 | AE33: 0.021 | AF33: 0.021 | AG33: 0.021 | AH33: 0.021 | AI33: 0.021 | AJ33: 0.021 | AK33: 0.021
D37: SUIVI TAUX NETTOYAGE / MOIS
C38: utilisé pour le cumul | E38: =SUMIFS(Donnees!$F:$F,Donnees!$C:$C,MONTH(D40),Donnees!$B:$B,YEAR(E40),Donnees!$E:$E,RIGHT($B40,2)) -> 0.35138889 | F38: =E38+SUMIFS(Donnees!$F:$F,Donnees!$C:$C,MONTH(E40),Donnees!$B:$B,YEAR(F40),Donnees!$E:$E,RIGHT($B40,2)) -> 0.78194444 | G38: =F38+SUMIFS(Donnees!$F:$F,Donnees!$C:$C,MONTH(F40),Donnees!$B:$B,YEAR(G40),Donnees!$E:$E,RIGHT($B40,2)) -> 1.0020833 | H38: =G38+SUMIFS(Donnees!$F:$F,Donnees!$C:$C,MONTH(G40),Donnees!$B:$B,YEAR(H40),Donnees!$E:$E,RIGHT($B40,2)) -> 1.2215278 | I38: =H38+SUMIFS(Donnees!$F:$F,Donnees!$C:$C,MONTH(H40),Donnees!$B:$B,YEAR(I40),Donnees!$E:$E,RIGHT($B40,2)) -> 1.3118056 | J38: =I38+SUMIFS(Donnees!$F:$F,Donnees!$C:$C,MONTH(I40),Donnees!$B:$B,YEAR(J40),Donnees!$E:$E,RIGHT($B40,2)) -> 1.3118056 | K38: =J38+SUMIFS(Donnees!$F:$F,Donnees!$C:$C,MONTH(J40),Donnees!$B:$B,YEAR(K40),Donnees!$E:$E,RIGHT($B40,2)) -> 1.3118056 | L38: =K38+SUMIFS(Donnees!$F:$F,Donnees!$C:$C,MONTH(K40),Donnees!$B:$B,YEAR(L40),Donnees!$E:$E,RIGHT($B40,2)) -> 1.3118056 | M38: =L38+SUMIFS(Donnees!$F:$F,Donnees!$C:$C,MONTH(L40),Donnees!$B:$B,YEAR(M40),Donnees!$E:$E,RIGHT($B40,2)) -> 1.3118056 | ... X38: =W38+SUMIFS(Donnees!$F:$F,Donnees!$C:$C,MONTH(W40),Donnees!$B:$B,YEAR(X40),Donnees!$E:$E,RIGHT($B40,2)) -> 1.3118056
E39: =SUMIFS(Donnees!$G:$G,Donnees!$C:$C,MONTH(D40),Donnees!$B:$B,YEAR(E40),Donnees!$E:$E,RIGHT($B40,2),Donnees!$B:$B,$C$2) -> 11.364583 | F39: =E39+SUMIFS(Donnees!$G:$G,Donnees!$C:$C,MONTH(E40),Donnees!$B:$B,YEAR(F40),Donnees!$E:$E,RIGHT($B40,2),Donnees!$B:$B,$C$2) -> 23.822917 | G39: =F39+SUMIFS(Donnees!$G:$G,Donnees!$C:$C,MONTH(F40),Donnees!$B:$B,YEAR(G40),Donnees!$E:$E,RIGHT($B40,2),Donnees!$B:$B,$C$2) -> 31.0625 | H39: =G39+SUMIFS(Donnees!$G:$G,Donnees!$C:$C,MONTH(G40),Donnees!$B:$B,YEAR(H40),Donnees!$E:$E,RIGHT($B40,2),Donnees!$B:$B,$C$2) -> 37.989583 | I39: =H39+SUMIFS(Donnees!$G:$G,Donnees!$C:$C,MONTH(H40),Donnees!$B:$B,YEAR(I40),Donnees!$E:$E,RIGHT($B40,2),Donnees!$B:$B,$C$2) -> 40.427083 | J39: =I39+SUMIFS(Donnees!$G:$G,Donnees!$C:$C,MONTH(I40),Donnees!$B:$B,YEAR(J40),Donnees!$E:$E,RIGHT($B40,2),Donnees!$B:$B,$C$2) -> 40.427083 | K39: =J39+SUMIFS(Donnees!$G:$G,Donnees!$C:$C,MONTH(J40),Donnees!$B:$B,YEAR(K40),Donnees!$E:$E,RIGHT($B40,2),Donnees!$B:$B,$C$2) -> 40.427083 | L39: =K39+SUMIFS(Donnees!$G:$G,Donnees!$C:$C,MONTH(K40),Donnees!$B:$B,YEAR(L40),Donnees!$E:$E,RIGHT($B40,2),Donnees!$B:$B,$C$2) -> 40.427083 | M39: =L39+SUMIFS(Donnees!$G:$G,Donnees!$C:$C,MONTH(L40),Donnees!$B:$B,YEAR(M40),Donnees!$E:$E,RIGHT($B40,2),Donnees!$B:$B,$C$2) -> 40.427083 | ... X39: =W39+SUMIFS(Donnees!$G:$G,Donnees!$C:$C,MONTH(W40),Donnees!$B:$B,YEAR(X40),Donnees!$E:$E,RIGHT($B40,2),Donnees!$B:$B,$C$2) -> 40.427083
B40: 9 | C40: Mois | D40: 41760 | E40: 41791 | F40: 41821 | G40: 41852 | H40: 41883 | I40: 41913 | J40: 41944 | K40: 41974 | L40: 42005 | M40: 42036 | N40: 42064 | O40: 42095 | P40: 42125 | Q40: 42156 | R40: 42186 | S40: 42217 | T40: 42248 | U40: 42278 | V40: 42309 | W40: 42339
C41: Taux Nettoyage | D41: =SUMIFS(Donnees!$F:$F,Donnees!$C:$C,MONTH(D40),Donnees!$E:$E,RIGHT($B40,2),Donnees!$B:$B,YEAR(E40)) / SUMIFS(Donnees!$G:$G,Donnees!$C:$C,MONTH(D40),Donnees!$E:$E,RIGHT($B40,2),Donnees!$B:$B,YEAR(E40)) -> 0.030919646 | E41: =SUMIFS(Donnees!$F:$F,Donnees!$C:$C,MONTH(E40),Donnees!$E:$E,RIGHT($B40,2),Donnees!$B:$B,YEAR(F40)) / SUMIFS(Donnees!$G:$G,Donnees!$C:$C,MONTH(E40),Donnees!$E:$E,RIGHT($B40,2),Donnees!$B:$B,YEAR(F40)) -> 0.034559643 | F41: =SUMIFS(Donnees!$F:$F,Donnees!$C:$C,MONTH(F40),Donnees!$E:$E,RIGHT($B40,2),Donnees!$B:$B,YEAR(G40)) / SUMIFS(Donnees!$G:$G,Donnees!$C:$C,MONTH(F40),Donnees!$E:$E,RIGHT($B40,2),Donnees!$B:$B,YEAR(G40)) -> 0.030407674 | G41: =SUMIFS(Donnees!$F:$F,Donnees!$C:$C,MONTH(G40),Donnees!$E:$E,RIGHT($B40,2),Donnees!$B:$B,YEAR(H40)) / SUMIFS(Donnees!$G:$G,Donnees!$C:$C,MONTH(G40),Donnees!$E:$E,RIGHT($B40,2),Donnees!$B:$B,YEAR(H40)) -> 0.031679198 | H41: =SUMIFS(Donnees!$F:$F,Donnees!$C:$C,MONTH(H40),Donnees!$E:$E,RIGHT($B40,2),Donnees!$B:$B,YEAR(I40)) / SUMIFS(Donnees!$G:$G,Donnees!$C:$C,MONTH(H40),Donnees!$E:$E,RIGHT($B40,2),Donnees!$B:$B,YEAR(I40)) -> 0.037037037 | I41: =SUMIFS(Donnees!$F:$F,Donnees!$C:$C,MONTH(I40),Donnees!$E:$E,RIGHT($B40,2),Donnees!$B:$B,YEAR(J40)) / SUMIFS(Donnees!$G:$G,Donnees!$C:$C,MONTH(I40),Donnees!$E:$E,RIGHT($B40,2),Donnees!$B:$B,YEAR(J40)) -> #DIV/0! | J41: =SUMIFS(Donnees!$F:$F,Donnees!$C:$C,MONTH(J40),Donnees!$E:$E,RIGHT($B40,2),Donnees!$B:$B,YEAR(K40)) / SUMIFS(Donnees!$G:$G,Donnees!$C:$C,MONTH(J40),Donnees!$E:$E,RIGHT($B40,2),Donnees!$B:$B,YEAR(K40)) -> #DIV/0! | K41: =SUMIFS(Donnees!$F:$F,Donnees!$C:$C,MONTH(K40),Donnees!$E:$E,RIGHT($B40,2),Donnees!$B:$B,YEAR(L40)) / SUMIFS(Donnees!$G:$G,Donnees!$C:$C,MONTH(K40),Donnees!$E:$E,RIGHT($B40,2),Donnees!$B:$B,YEAR(L40)) -> #DIV/0! | ... W41: =SUMIFS(Donnees!$F:$F,Donnees!$C:$C,MONTH(W40),Donnees!$E:$E,RIGHT($B40,2),Donnees!$B:$B,YEAR(X40)) / SUMIFS(Donnees!$G:$G,Donnees!$C:$C,MONTH(W40),Donnees!$E:$E,RIGHT($B40,2),Donnees!$B:$B,YEAR(X40)) -> #DIV/0!
C42: Cumul taux de nettoyage/ Mois | D42: =E38/E39 -> 0.030919646 | E42: =F38/F39 -> 0.032823204 | F42: =G38/G39 -> 0.032260228 | G42: =H38/H39 -> 0.032154282 | H42: =I38/I39 -> 0.032448682 | I42: =J38/J39 -> 0.032448682 | J42: =K38/K39 -> 0.032448682 | K42: =L38/L39 -> 0.032448682 | ... W42: =X38/X39 -> 0.032448682
C43: Année N-1 | D43: 0.043 | E43: 0.043 | F43: 0.043 | G43: 0.043 | H43: 0.043 | I43: 0.043 | J43: 0.043 | K43: 0.043 | L43: 0.043 | M43: 0.043 | N43: 0.043 | O43: 0.043 | P43: 0.043 | Q43: 0.043 | R43: 0.043 | S43: 0.043 | T43: 0.043 | U43: 0.043 | V43: 0.043 | W43: 0.043
C44: Cible N+1 à 40% | D44: 0.039 | E44: 0.039 | F44: 0.039 | G44: 0.039 | H44: 0.039 | I44: 0.039 | J44: 0.039 | K44: 0.039 | L44: 0.039 | M44: 0.039 | N44: 0.039 | O44: 0.039 | P44: 0.039 | Q44: 0.039 | R44: 0.039 | S44: 0.039 | T44: 0.039 | U44: 0.039 | V44: 0.039 | W44: 0.039
C45: Cible N+1 à 100% | D45: 0.033 | E45: 0.033 | F45: 0.033 | G45: 0.033 | H45: 0.033 | I45: 0.033 | J45: 0.033 | K45: 0.033 | L45: 0.033 | M45: 0.033 | N45: 0.033 | O45: 0.033 | P45: 0.033 | Q45: 0.033 | R45: 0.033 | S45: 0.033 | T45: 0.033 | U45: 0.033 | V45: 0.033 | W45: 0.033
C48: utilisé pour le cumul | E48: =SUMIFS(Donnees!$F:$F,Donnees!$C:$C,MONTH(D50),Donnees!$B:$B,YEAR(E50),Donnees!$E:$E,RIGHT($B50,2)) -> 0.64722222 | F48: =E48+SUMIFS(Donnees!$F:$F,Donnees!$C:$C,MONTH(E50),Donnees!$B:$B,YEAR(F50),Donnees!$E:$E,RIGHT($B50,2)) -> 1.3270833 | G48: =F48+SUMIFS(Donnees!$F:$F,Donnees!$C:$C,MONTH(F50),Donnees!$B:$B,YEAR(G50),Donnees!$E:$E,RIGHT($B50,2)) -> 1.7555556 | H48: =G48+SUMIFS(Donnees!$F:$F,Donnees!$C:$C,MONTH(G50),Donnees!$B:$B,YEAR(H50),Donnees!$E:$E,RIGHT($B50,2)) -> 2.05625 | I48: =H48+SUMIFS(Donnees!$F:$F,Donnees!$C:$C,MONTH(H50),Donnees!$B:$B,YEAR(I50),Donnees!$E:$E,RIGHT($B50,2)) -> 2.2055556 | J48: =I48+SUMIFS(Donnees!$F:$F,Donnees!$C:$C,MONTH(I50),Donnees!$B:$B,YEAR(J50),Donnees!$E:$E,RIGHT($B50,2)) -> 2.2055556 | K48: =J48+SUMIFS(Donnees!$F:$F,Donnees!$C:$C,MONTH(J50),Donnees!$B:$B,YEAR(K50),Donnees!$E:$E,RIGHT($B50,2)) -> 2.2055556 | L48: =K48+SUMIFS(Donnees!$F:$F,Donnees!$C:$C,MONTH(K50),Donnees!$B:$B,YEAR(L50),Donnees!$E:$E,RIGHT($B50,2)) -> 2.2055556 | M48: =L48+SUMIFS(Donnees!$F:$F,Donnees!$C:$C,MONTH(L50),Donnees!$B:$B,YEAR(M50),Donnees!$E:$E,RIGHT($B50,2)) -> 2.2055556 | ... X48: =W48+SUMIFS(Donnees!$F:$F,Donnees!$C:$C,MONTH(W50),Donnees!$B:$B,YEAR(X50),Donnees!$E:$E,RIGHT($B50,2)) -> 2.2055556
E49: =SUMIFS(Donnees!$G:$G,Donnees!$C:$C,MONTH(D50),Donnees!$B:$B,YEAR(E50),Donnees!$E:$E,RIGHT($B50,2),Donnees!$B:$B,$C$2) -> 17.333333 | F49: =E49+SUMIFS(Donnees!$G:$G,Donnees!$C:$C,MONTH(E50),Donnees!$B:$B,YEAR(F50),Donnees!$E:$E,RIGHT($B50,2),Donnees!$B:$B,$C$2) -> 37.385417 | G49: =F49+SUMIFS(Donnees!$G:$G,Donnees!$C:$C,MONTH(F50),Donnees!$B:$B,YEAR(G50),Donnees!$E:$E,RIGHT($B50,2),Donnees!$B:$B,$C$2) -> 53.302083 | H49: =G49+SUMIFS(Donnees!$G:$G,Donnees!$C:$C,MONTH(G50),Donnees!$B:$B,YEAR(H50),Donnees!$E:$E,RIGHT($B50,2),Donnees!$B:$B,$C$2) -> 68.03125 | I49: =H49+SUMIFS(Donnees!$G:$G,Donnees!$C:$C,MONTH(H50),Donnees!$B:$B,YEAR(I50),Donnees!$E:$E,RIGHT($B50,2),Donnees!$B:$B,$C$2) -> 74.6875 | J49: =I49+SUMIFS(Donnees!$G:$G,Donnees!$C:$C,MONTH(I50),Donnees!$B:$B,YEAR(J50),Donnees!$E:$E,RIGHT($B50,2),Donnees!$B:$B,$C$2) -> 74.6875 | K49: =J49+SUMIFS(Donnees!$G:$G,Donnees!$C:$C,MONTH(J50),Donnees!$B:$B,YEAR(K50),Donnees!$E:$E,RIGHT($B50,2),Donnees!$B:$B,$C$2) -> 74.6875 | L49: =K49+SUMIFS(Donnees!$G:$G,Donnees!$C:$C,MONTH(K50),Donnees!$B:$B,YEAR(L50),Donnees!$E:$E,RIGHT($B50,2),Donnees!$B:$B,$C$2) -> 74.6875 | M49: =L49+SUMIFS(Donnees!$G:$G,Donnees!$C:$C,MONTH(L50),Donnees!$B:$B,YEAR(M50),Donnees!$E:$E,RIGHT($B50,2),Donnees!$B:$B,$C$2) -> 74.6875 | ... X49: =W49+SUMIFS(Donnees!$G:$G,Donnees!$C:$C,MONTH(W50),Donnees!$B:$B,YEAR(X50),Donnees!$E:$E,RIGHT($B50,2),Donnees!$B:$B,$C$2) -> 74.6875
B50: 10 | C50: Mois | D50: 41760 | E50: 41791 | F50: 41821 | G50: 41852 | H50: 41883 | I50: 41913 | J50: 41944 | K50: 41974 | L50: 42005 | M50: 42036 | N50: 42064 | O50: 42095 | P50: 42125 | Q50: 42156 | R50: 42186 | S50: 42217 | T50: 42248 | U50: 42278 | V50: 42309 | W50: 42339
C51: Taux Nettoyage | D51: =SUMIFS(Donnees!$F:$F,Donnees!$C:$C,MONTH(D50),Donnees!$E:$E,RIGHT($B50,2),Donnees!$B:$B,YEAR(E50)) / SUMIFS(Donnees!$G:$G,Donnees!$C:$C,MONTH(D50),Donnees!$E:$E,RIGHT($B50,2),Donnees!$B:$B,YEAR(E50)) -> 0.037339744 | E51: =SUMIFS(Donnees!$F:$F,Donnees!$C:$C,MONTH(E50),Donnees!$E:$E,RIGHT($B50,2),Donnees!$B:$B,YEAR(F50)) / SUMIFS(Donnees!$G:$G,Donnees!$C:$C,MONTH(E50),Donnees!$E:$E,RIGHT($B50,2),Donnees!$B:$B,YEAR(F50)) -> 0.033904762 | F51: =SUMIFS(Donnees!$F:$F,Donnees!$C:$C,MONTH(F50),Donnees!$E:$E,RIGHT($B50,2),Donnees!$B:$B,YEAR(G50)) / SUMIFS(Donnees!$G:$G,Donnees!$C:$C,MONTH(F50),Donnees!$E:$E,RIGHT($B50,2),Donnees!$B:$B,YEAR(G50)) -> 0.026919721 | G51: =SUMIFS(Donnees!$F:$F,Donnees!$C:$C,MONTH(G50),Donnees!$E:$E,RIGHT($B50,2),Donnees!$B:$B,YEAR(H50)) / SUMIFS(Donnees!$G:$G,Donnees!$C:$C,MONTH(G50),Donnees!$E:$E,RIGHT($B50,2),Donnees!$B:$B,YEAR(H50)) -> 0.020414899 | H51: =SUMIFS(Donnees!$F:$F,Donnees!$C:$C,MONTH(H50),Donnees!$E:$E,RIGHT($B50,2),Donnees!$B:$B,YEAR(I50)) / SUMIFS(Donnees!$G:$G,Donnees!$C:$C,MONTH(H50),Donnees!$E:$E,RIGHT($B50,2),Donnees!$B:$B,YEAR(I50)) -> 0.022430882 | I51: =SUMIFS(Donnees!$F:$F,Donnees!$C:$C,MONTH(I50),Donnees!$E:$E,RIGHT($B50,2),Donnees!$B:$B,YEAR(J50)) / SUMIFS(Donnees!$G:$G,Donnees!$C:$C,MONTH(I50),Donnees!$E:$E,RIGHT($B50,2),Donnees!$B:$B,YEAR(J50)) -> #DIV/0! | J51: =SUMIFS(Donnees!$F:$F,Donnees!$C:$C,MONTH(J50),Donnees!$E:$E,RIGHT($B50,2),Donnees!$B:$B,YEAR(K50)) / SUMIFS(Donnees!$G:$G,Donnees!$C:$C,MONTH(J50),Donnees!$E:$E,RIGHT($B50,2),Donnees!$B:$B,YEAR(K50)) -> #DIV/0! | K51: =SUMIFS(Donnees!$F:$F,Donnees!$C:$C,MONTH(K50),Donnees!$E:$E,RIGHT($B50,2),Donnees!$B:$B,YEAR(L50)) / SUMIFS(Donnees!$G:$G,Donnees!$C:$C,MONTH(K50),Donnees!$E:$E,RIGHT($B50,2),Donnees!$B:$B,YEAR(L50)) -> #DIV/0! | ... W51: =SUMIFS(Donnees!$F:$F,Donnees!$C:$C,MONTH(W50),Donnees!$E:$E,RIGHT($B50,2),Donnees!$B:$B,YEAR(X50)) / SUMIFS(Donnees!$G:$G,Donnees!$C:$C,MONTH(W50),Donnees!$E:$E,RIGHT($B50,2),Donnees!$B:$B,YEAR(X50)) -> #DIV/0!
C52: Cumul taux de nettoyage/ Mois | D52: =E48/E49 -> 0.037339744 | E52: =F48/F49 -> 0.035497353 | F52: =G48/G49 -> 0.032935965 | G52: =H48/H49 -> 0.03022508 | H52: =I48/I49 -> 0.029530451 | I52: =J48/J49 -> 0.029530451 | J52: =K48/K49 -> 0.029530451 | K52: =L48/L49 -> 0.029530451 | ... W52: =X48/X49 -> 0.029530451
C53: Année N-1 | D53: 0.041 | E53: 0.041 | F53: 0.041 | G53: 0.041 | H53: 0.041 | I53: 0.041 | J53: 0.041 | K53: 0.041 | L53: 0.041 | M53: 0.041 | N53: 0.041 | O53: 0.041 | P53: 0.041 | Q53: 0.041 | R53: 0.041 | S53: 0.041 | T53: 0.041 | U53: 0.041 | V53: 0.041 | W53: 0.041
C54: Cible N+1 à 40% | D54: 0.037 | E54: 0.037 | F54: 0.037 | G54: 0.037 | H54: 0.037 | I54: 0.037 | J54: 0.037 | K54: 0.037 | L54: 0.037 | M54: 0.037 | N54: 0.037 | O54: 0.037 | P54: 0.037 | Q54: 0.037 | R54: 0.037 | S54: 0.037 | T54: 0.037 | U54: 0.037 | V54: 0.037 | W54: 0.037
C55: Cible N+1 à 100% | D55: 0.031 | E55: 0.031 | F55: 0.031 | G55: 0.031 | H55: 0.031 | I55: 0.031 | J55: 0.031 | K55: 0.031 | L55: 0.031 | M55: 0.031 | N55: 0.031 | O55: 0.031 | P55: 0.031 | Q55: 0.031 | R55: 0.031 | S55: 0.031 | T55: 0.031 | U55: 0.031 | V55: 0.031 | W55: 0.031
C57: utilisé pour le cumul | E57: =SUMIFS(Donnees!$F:$F,Donnees!$C:$C,MONTH(D59),Donnees!$B:$B,YEAR(E59),Donnees!$E:$E,RIGHT($B59,2)) -> 0.36875 | F57: =E57+SUMIFS(Donnees!$F:$F,Donnees!$C:$C,MONTH(E59),Donnees!$B:$B,YEAR(F59),Donnees!$E:$E,RIGHT($B59,2)) -> 0.61388889 | G57: =F57+SUMIFS(Donnees!$F:$F,Donnees!$C:$C,MONTH(F59),Donnees!$B:$B,YEAR(G59),Donnees!$E:$E,RIGHT($B59,2)) -> 0.79444444 | H57: =G57+SUMIFS(Donnees!$F:$F,Donnees!$C:$C,MONTH(G59),Donnees!$B:$B,YEAR(H59),Donnees!$E:$E,RIGHT($B59,2)) -> 1.0180556 | I57: =H57+SUMIFS(Donnees!$F:$F,Donnees!$C:$C,MONTH(H59),Donnees!$B:$B,YEAR(I59),Donnees!$E:$E,RIGHT($B59,2)) -> 1.1118056 | J57: =I57+SUMIFS(Donnees!$F:$F,Donnees!$C:$C,MONTH(I59),Donnees!$B:$B,YEAR(J59),Donnees!$E:$E,RIGHT($B59,2)) -> 1.1118056 | K57: =J57+SUMIFS(Donnees!$F:$F,Donnees!$C:$C,MONTH(J59),Donnees!$B:$B,YEAR(K59),Donnees!$E:$E,RIGHT($B59,2)) -> 1.1118056 | L57: =K57+SUMIFS(Donnees!$F:$F,Donnees!$C:$C,MONTH(K59),Donnees!$B:$B,YEAR(L59),Donnees!$E:$E,RIGHT($B59,2)) -> 1.1118056 | M57: =L57+SUMIFS(Donnees!$F:$F,Donnees!$C:$C,MONTH(L59),Donnees!$B:$B,YEAR(M59),Donnees!$E:$E,RIGHT($B59,2)) -> 1.1118056 | ... X57: =W57+SUMIFS(Donnees!$F:$F,Donnees!$C:$C,MONTH(W59),Donnees!$B:$B,YEAR(X59),Donnees!$E:$E,RIGHT($B59,2)) -> 1.1118056
E58: =SUMIFS(Donnees!$G:$G,Donnees!$C:$C,MONTH(D59),Donnees!$B:$B,YEAR(E59),Donnees!$E:$E,RIGHT($B59,2),Donnees!$B:$B,$C$2) -> 13.78125 | F58: =E58+SUMIFS(Donnees!$G:$G,Donnees!$C:$C,MONTH(E59),Donnees!$B:$B,YEAR(F59),Donnees!$E:$E,RIGHT($B59,2),Donnees!$B:$B,$C$2) -> 26.447917 | G58: =F58+SUMIFS(Donnees!$G:$G,Donnees!$C:$C,MONTH(F59),Donnees!$B:$B,YEAR(G59),Donnees!$E:$E,RIGHT($B59,2),Donnees!$B:$B,$C$2) -> 36.8125 | H58: =G58+SUMIFS(Donnees!$G:$G,Donnees!$C:$C,MONTH(G59),Donnees!$B:$B,YEAR(H59),Donnees!$E:$E,RIGHT($B59,2),Donnees!$B:$B,$C$2) -> 47.729167 | I58: =H58+SUMIFS(Donnees!$G:$G,Donnees!$C:$C,MONTH(H59),Donnees!$B:$B,YEAR(I59),Donnees!$E:$E,RIGHT($B59,2),Donnees!$B:$B,$C$2) -> 52.395833 | J58: =I58+SUMIFS(Donnees!$G:$G,Donnees!$C:$C,MONTH(I59),Donnees!$B:$B,YEAR(J59),Donnees!$E:$E,RIGHT($B59,2),Donnees!$B:$B,$C$2) -> 52.395833 | K58: =J58+SUMIFS(Donnees!$G:$G,Donnees!$C:$C,MONTH(J59),Donnees!$B:$B,YEAR(K59),Donnees!$E:$E,RIGHT($B59,2),Donnees!$B:$B,$C$2) -> 52.395833 | L58: =K58+SUMIFS(Donnees!$G:$G,Donnees!$C:$C,MONTH(K59),Donnees!$B:$B,YEAR(L59),Donnees!$E:$E,RIGHT($B59,2),Donnees!$B:$B,$C$2) -> 52.395833 | M58: =L58+SUMIFS(Donnees!$G:$G,Donnees!$C:$C,MONTH(L59),Donnees!$B:$B,YEAR(M59),Donnees!$E:$E,RIGHT($B59,2),Donnees!$B:$B,$C$2) -> 52.395833 | ... X58: =W58+SUMIFS(Donnees!$G:$G,Donnees!$C:$C,MONTH(W59),Donnees!$B:$B,YEAR(X59),Donnees!$E:$E,RIGHT($B59,2),Donnees!$B:$B,$C$2) -> 52.395833
B59: 14 | C59: Mois | D59: 41760 | E59: 41791 | F59: 41821 | G59: 41852 | H59: 41883 | I59: 41913 | J59: 41944 | K59: 41974 | L59: 42005 | M59: 42036 | N59: 42064 | O59: 42095 | P59: 42125 | Q59: 42156 | R59: 42186 | S59: 42217 | T59: 42248 | U59: 42278 | V59: 42309 | W59: 42339
C60: Taux Nettoyage | D60: =SUMIFS(Donnees!$F:$F,Donnees!$C:$C,MONTH(D59),Donnees!$E:$E,RIGHT($B59,2),Donnees!$B:$B,YEAR(E59)) / SUMIFS(Donnees!$G:$G,Donnees!$C:$C,MONTH(D59),Donnees!$E:$E,RIGHT($B59,2),Donnees!$B:$B,YEAR(E59)) -> 0.02675737 | E60: =SUMIFS(Donnees!$F:$F,Donnees!$C:$C,MONTH(E59),Donnees!$E:$E,RIGHT($B59,2),Donnees!$B:$B,YEAR(F59)) / SUMIFS(Donnees!$G:$G,Donnees!$C:$C,MONTH(E59),Donnees!$E:$E,RIGHT($B59,2),Donnees!$B:$B,YEAR(F59)) -> 0.01935307 | F60: =SUMIFS(Donnees!$F:$F,Donnees!$C:$C,MONTH(F59),Donnees!$E:$E,RIGHT($B59,2),Donnees!$B:$B,YEAR(G59)) / SUMIFS(Donnees!$G:$G,Donnees!$C:$C,MONTH(F59),Donnees!$E:$E,RIGHT($B59,2),Donnees!$B:$B,YEAR(G59)) -> 0.017420436 | G60: =SUMIFS(Donnees!$F:$F,Donnees!$C:$C,MONTH(G59),Donnees!$E:$E,RIGHT($B59,2),Donnees!$B:$B,YEAR(H59)) / SUMIFS(Donnees!$G:$G,Donnees!$C:$C,MONTH(G59),Donnees!$E:$E,RIGHT($B59,2),Donnees!$B:$B,YEAR(H59)) -> 0.020483461 | H60: =SUMIFS(Donnees!$F:$F,Donnees!$C:$C,MONTH(H59),Donnees!$E:$E,RIGHT($B59,2),Donnees!$B:$B,YEAR(I59)) / SUMIFS(Donnees!$G:$G,Donnees!$C:$C,MONTH(H59),Donnees!$E:$E,RIGHT($B59,2),Donnees!$B:$B,YEAR(I59)) -> 0.020089286 | I60: =SUMIFS(Donnees!$F:$F,Donnees!$C:$C,MONTH(I59),Donnees!$E:$E,RIGHT($B59,2),Donnees!$B:$B,YEAR(J59)) / SUMIFS(Donnees!$G:$G,Donnees!$C:$C,MONTH(I59),Donnees!$E:$E,RIGHT($B59,2),Donnees!$B:$B,YEAR(J59)) -> #DIV/0! | J60: =SUMIFS(Donnees!$F:$F,Donnees!$C:$C,MONTH(J59),Donnees!$E:$E,RIGHT($B59,2),Donnees!$B:$B,YEAR(K59)) / SUMIFS(Donnees!$G:$G,Donnees!$C:$C,MONTH(J59),Donnees!$E:$E,RIGHT($B59,2),Donnees!$B:$B,YEAR(K59)) -> #DIV/0! | K60: =SUMIFS(Donnees!$F:$F,Donnees!$C:$C,MONTH(K59),Donnees!$E:$E,RIGHT($B59,2),Donnees!$B:$B,YEAR(L59)) / SUMIFS(Donnees!$G:$G,Donnees!$C:$C,MONTH(K59),Donnees!$E:$E,RIGHT($B59,2),Donnees!$B:$B,YEAR(L59)) -> #DIV/0! | ... W60: =SUMIFS(Donnees!$F:$F,Donnees!$C:$C,MONTH(W59),Donnees!$E:$E,RIGHT($B59,2),Donnees!$B:$B,YEAR(X59)) / SUMIFS(Donnees!$G:$G,Donnees!$C:$C,MONTH(W59),Donnees!$E:$E,RIGHT($B59,2),Donnees!$B:$B,YEAR(X59)) -> #DIV/0!
C61: Cumul taux de nettoyage/ Mois | D61: =E57/E58 -> 0.02675737 | E61: =F57/F58 -> 0.023211238 | F61: =G57/G58 -> 0.021580834 | G61: =H57/H58 -> 0.021329841 | H61: =I57/I58 -> 0.021219351 | I61: =J57/J58 -> 0.021219351 | J61: =K57/K58 -> 0.021219351 | K61: =L57/L58 -> 0.021219351 | ... W61: =X57/X58 -> 0.021219351
C62: Année N-1 | D62: 0.031 | E62: 0.031 | F62: 0.031 | G62: 0.031 | H62: 0.031 | I62: 0.031 | J62: 0.031 | K62: 0.031 | L62: 0.031 | M62: 0.031 | N62: 0.031 | O62: 0.031 | P62: 0.031 | Q62: 0.031 | R62: 0.031 | S62: 0.031 | T62: 0.031 | U62: 0.031 | V62: 0.031 | W62: 0.031
C63: Cible N+1 à 40% | D63: 0.027 | E63: 0.027 | F63: 0.027 | G63: 0.027 | H63: 0.027 | I63: 0.027 | J63: 0.027 | K63: 0.027 | L63: 0.027 | M63: 0.027 | N63: 0.027 | O63: 0.027 | P63: 0.027 | Q63: 0.027 | R63: 0.027 | S63: 0.027 | T63: 0.027 | U63: 0.027 | V63: 0.027 | W63: 0.027
C64: Cible N+1 à 100% | D64: 0.021 | E64: 0.021 | F64: 0.021 | G64: 0.021 | H64: 0.021 | I64: 0.021 | J64: 0.021 | K64: 0.021 | L64: 0.021 | M64: 0.021 | N64: 0.021 | O64: 0.021 | P64: 0.021 | Q64: 0.021 | R64: 0.021 | S64: 0.021 | T64: 0.021 | U64: 0.021 | V64: 0.021 | W64: 0.021

Sheet Donnees
A1: DATE | B1: ANNEE | C1: MOIS | D1: N° SEMAINE | E1: N° MACHINE | F1: NETTOYAGE | G1: Temps ouverture
A2: 41763 | B2: =YEAR(A2) -> 2014 | C2: 5 | D2: 19 | E2: 10 | F2: 0.0034722222 | G2: 0.16666667
A3: 41763 | B3: =YEAR(A3) -> 2014 | C3: 5 | D3: 19 | E3: 10 | F3: 0.0034722222 | G3: 0.072916667
A4: 41763 | B4: =YEAR(A4) -> 2014 | C4: 5 | D4: 19 | E4: 10 | F4: 0.013888889 | G4: 0.072916667
A5: 41763 | B5: =YEAR(A5) -> 2014 | C5: 5 | D5: 19 | E5: 10 | F5: 0 | G5: 0.14583333
A6: 41763 | B6: =YEAR(A6) -> 2014 | C6: 5 | D6: 19 | E6: 10 | F6: 0 | G6: 0.16666667
A7: 41763 | B7: =YEAR(A7) -> 2014 | C7: 5 | D7: 19 | E7: 10 | F7: 0.010416667 | G7: 0.3125
A8: 41763 | B8: =YEAR(A8) -> 2014 | C8: 5 | D8: 19 | E8: 14 | F8: 0.0069444444 | G8: 0.3125
A9: 41763 | B9: =YEAR(A9) -> 2014 | C9: 5 | D9: 19 | E9: 14 | F9: 0.0069444444 | G9: 0.3125
A10: 41764 | B10: =YEAR(A10) -> 2014 | C10: 5 | D10: 19 | E10: 9 | F10: 0.0041666667 | G10: 0.17708333
A11: 41764 | B11: =YEAR(A11) -> 2014 | C11: 5 | D11: 19 | E11: 9 | F11: 0.010416667 | G11: 0.22916667
A12: 41764 | B12: =YEAR(A12) -> 2014 | C12: 5 | D12: 19 | E12: 10 | F12: 0.017361111 | G12: 0.3125
A13: 41764 | B13: =YEAR(A13) -> 2014 | C13: 5 | D13: 19 | E13: 10 | F13: 0.011111111 | G13: 0.3125
... A799: 41891 | B799: =YEAR(A799) -> 2014 | C799: 9 | D799: 37 | E799: 14 | F799: 0.0069444444 | G799: 0.27083333
