Workbook
Name nom: Données!$A$4:$C$28

Sheet Données
B1: Listing élève | D1: Année scolaire : | E1: 2014 -2015 | G1: Professeur : | H1: SORY
D2: Classe : | G2: Cours de | H2: Sciences
B3: Nom | C3: Prénom | D3: Date de naissance | E3: Nat | F3: Adresse | G3: Téléphone responsable
A4: 1 | B4: AA | C4: AA | D4: =IF(B4="","",SUM(D4:Q4))
A5: 2 | B5: BB | C5: bb
A6: 3 | B6: cc | C6: cc
A7: 4 | B7: dd | C7: dd
A8: 5
A9: 6
A10: 7
A11: 8
A12: 9
A13: 10
A14: 11
A15: 12
A16: 13
A17: 14
A18: 15
A19: 16
... A28: 25

Sheet Période 1
B1: Classe : | C1: Période 1 | U1: Total | V1: Période
B3: Nom | C3: Prénom | D3: 4 | E3: 4 | F3: 4 | G3: 4 | H3: 4 | I3: 3 | U3: 20 | V3: 100
A4: 1 | B4: AA | C4: AA | D4: 3 | E4: 1 | F4: 1 | G4: 1 | H4: 1 | I4: 1 | U4: =IF(B4="","",SUMIF(D4:T4,"<>""",D4:T4)/(SUM($D$3:$T$3)-SUMIF(D4:T4,"",$D$3:$T$3))*$U$3) -> 6.9565217 | V4: =IF(U4="","",IF(U4="","",(U4/$U$3)*100)) -> 34.782609
A5: 2 | B5: BB | C5: bb | D5: 1 | E5: 0 | G5: 1 | I5: 1 | U5: =IF(B5="","",SUMIF(D5:T5,"<>""",D5:T5)/(SUM($D$3:$T$3)-SUMIF(D5:T5,"",$D$3:$T$3))*$U$3) -> 4 | V5: =IF(U5="","",IF(U5="","",(U5/$U$3)*100)) -> 20
A6: 3 | B6: cc | C6: cc | E6: 2 | F6: 3 | G6: 3 | U6: =IF(B6="","",SUMIF(D6:T6,"<>""",D6:T6)/(SUM($D$3:$T$3)-SUMIF(D6:T6,"",$D$3:$T$3))*$U$3) -> 13.333333 | V6: =IF(U6="","",IF(U6="","",(U6/$U$3)*100)) -> 66.666667
A7: 4 | U7: =IF(B7="","",SUMIF(D7:T7,"<>""",D7:T7)/(SUM($D$3:$T$3)-SUMIF(D7:T7,"",$D$3:$T$3))*$U$3) | V7: =IF(U7="","",IF(U7="","",(U7/$U$3)*100))
A8: 5 | U8: =IF(B8="","",SUMIF(D8:T8,"<>""",D8:T8)/(SUM($D$3:$T$3)-SUMIF(D8:T8,"",$D$3:$T$3))*$U$3) | V8: =IF(U8="","",IF(U8="","",(U8/$U$3)*100))
A9: 6 | V9: =IF(U9="","",IF(U9="","",(U9/$U$3)*100))
A10: 7 | U10: =IF(B10="","",SUMIF(D10:T10,"<>""",D10:T10)/(SUM($D$3:$T$3)-SUMIF(D10:T10,"",$D$3:$T$3))*$U$3) | V10: =IF(U10="","",IF(U10="","",(U10/$U$3)*100))
A11: 8 | U11: =IF(B11="","",SUMIF(D11:T11,"<>""",D11:T11)/(SUM($D$3:$T$3)-SUMIF(D11:T11,"",$D$3:$T$3))*$U$3) | V11: =IF(U11="","",IF(U11="","",(U11/$U$3)*100))
A12: 9 | U12: =IF(B12="","",SUMIF(D12:T12,"<>""",D12:T12)/(SUM($D$3:$T$3)-SUMIF(D12:T12,"",$D$3:$T$3))*$U$3) | V12: =IF(U12="","",IF(U12="","",(U12/$U$3)*100))
A13: 10 | U13: =IF(B13="","",SUMIF(D13:T13,"<>""",D13:T13)/(SUM($D$3:$T$3)-SUMIF(D13:T13,"",$D$3:$T$3))*$U$3) | V13: =IF(U13="","",IF(U13="","",(U13/$U$3)*100))
A14: 11 | U14: =IF(B14="","",SUMIF(D14:T14,"<>""",D14:T14)/(SUM($D$3:$T$3)-SUMIF(D14:T14,"",$D$3:$T$3))*$U$3) | V14: =IF(U14="","",IF(U14="","",(U14/$U$3)*100))
A15: 12 | U15: =IF(B15="","",SUMIF(D15:T15,"<>""",D15:T15)/(SUM($D$3:$T$3)-SUMIF(D15:T15,"",$D$3:$T$3))*$U$3) | V15: =IF(U15="","",IF(U15="","",(U15/$U$3)*100))
A16: 13 | U16: =IF(B16="","",SUMIF(D16:T16,"<>""",D16:T16)/(SUM($D$3:$T$3)-SUMIF(D16:T16,"",$D$3:$T$3))*$U$3) | V16: =IF(U16="","",IF(U16="","",(U16/$U$3)*100))
A17: 14 | U17: =IF(B17="","",SUMIF(D17:T17,"<>""",D17:T17)/(SUM($D$3:$T$3)-SUMIF(D17:T17,"",$D$3:$T$3))*$U$3) | V17: =IF(U17="","",IF(U17="","",(U17/$U$3)*100))
A18: 15 | U18: =IF(B18="","",SUMIF(D18:T18,"<>""",D18:T18)/(SUM($D$3:$T$3)-SUMIF(D18:T18,"",$D$3:$T$3))*$U$3) | V18: =IF(U18="","",IF(U18="","",(U18/$U$3)*100))
A19: 16 | U19: =IF(B19="","",SUMIF(D19:T19,"<>""",D19:T19)/(SUM($D$3:$T$3)-SUMIF(D19:T19,"",$D$3:$T$3))*$U$3) | V19: =IF(U19="","",IF(U19="","",(U19/$U$3)*100))
A20: 17 | U20: =IF(B20="","",SUMIF(D20:T20,"<>""",D20:T20)/(SUM($D$3:$T$3)-SUMIF(D20:T20,"",$D$3:$T$3))*$U$3) | V20: =IF(U20="","",IF(U20="","",(U20/$U$3)*100))
A21: 18 | U21: =IF(B21="","",SUMIF(D21:T21,"<>""",D21:T21)/(SUM($D$3:$T$3)-SUMIF(D21:T21,"",$D$3:$T$3))*$U$3) | V21: =IF(U21="","",IF(U21="","",(U21/$U$3)*100))
... A28: 25 | U28: =IF(B28="","",SUMIF(D28:T28,"<>""",D28:T28)/(SUM($D$3:$T$3)-SUMIF(D28:T28,"",$D$3:$T$3))*$U$3) | V28: =IF(U28="","",IF(U28="","",(U28/$U$3)*100))

Sheet Période 2
B1: Classe : | C1: Période 2 | U1: Total | V1: Période
B3: Nom | C3: Prénom | D3: 4 | E3: 4 | F3: 4 | G3: 4 | H3: 4 | U3: 20 | V3: 100
A4: 1 | B4: AA | C4: AA | D4: 1 | E4: 1 | F4: 1 | G4: 1 | H4: 1 | U4: =IF(B4="","",SUMIF(D4:T4,"<>""",D4:T4)/(SUM($D$3:$T$3)-SUMIF(D4:T4,"",$D$3:$T$3))*$U$3) -> 5 | V4: =IF(B4="","",(U4/$U$3)*100) -> 25
A5: 2 | B5: BB | C5: bb | D5: 2 | E5: 2 | F5: 2 | G5: 2 | H5: 2 | U5: =IF(B5="","",SUMIF(D5:T5,"<>""",D5:T5)/(SUM($D$3:$T$3)-SUMIF(D5:T5,"",$D$3:$T$3))*$U$3) -> 10 | V5: =IF(B5="","",(U5/$U$3)*100) -> 50
A6: 3 | B6: cc | C6: cc | D6: 3 | F6: 3 | G6: 3 | U6: =IF(B6="","",SUMIF(D6:T6,"<>""",D6:T6)/(SUM($D$3:$T$3)-SUMIF(D6:T6,"",$D$3:$T$3))*$U$3) -> 15 | V6: =IF(B6="","",(U6/$U$3)*100) -> 75
A7: 4 | U7: =IF(B7="","",SUMIF(D7:T7,"<>""",D7:T7)/(SUM($D$3:$T$3)-SUMIF(D7:T7,"",$D$3:$T$3))*$U$3) | V7: =IF(B7="","",(U7/$U$3)*100)
A8: 5 | U8: =IF(B8="","",SUMIF(D8:T8,"<>""",D8:T8)/(SUM($D$3:$T$3)-SUMIF(D8:T8,"",$D$3:$T$3))*$U$3) | V8: =IF(B8="","",(U8/$U$3)*100)
A9: 6 | U9: =IF(B9="","",SUMIF(D9:T9,"<>""",D9:T9)/(SUM($D$3:$T$3)-SUMIF(D9:T9,"",$D$3:$T$3))*$U$3) | V9: =IF(B9="","",(U9/$U$3)*100)
A10: 7 | U10: =IF(B10="","",SUMIF(D10:T10,"<>""",D10:T10)/(SUM($D$3:$T$3)-SUMIF(D10:T10,"",$D$3:$T$3))*$U$3) | V10: =IF(B10="","",(U10/$U$3)*100)
A11: 8 | U11: =IF(B11="","",SUMIF(D11:T11,"<>""",D11:T11)/(SUM($D$3:$T$3)-SUMIF(D11:T11,"",$D$3:$T$3))*$U$3) | V11: =IF(B11="","",(U11/$U$3)*100)
A12: 9 | U12: =IF(B12="","",SUMIF(D12:T12,"<>""",D12:T12)/(SUM($D$3:$T$3)-SUMIF(D12:T12,"",$D$3:$T$3))*$U$3) | V12: =IF(B12="","",(U12/$U$3)*100)
A13: 10 | U13: =IF(B13="","",SUMIF(D13:T13,"<>""",D13:T13)/(SUM($D$3:$T$3)-SUMIF(D13:T13,"",$D$3:$T$3))*$U$3) | V13: =IF(B13="","",(U13/$U$3)*100)
A14: 11 | U14: =IF(B14="","",SUMIF(D14:T14,"<>""",D14:T14)/(SUM($D$3:$T$3)-SUMIF(D14:T14,"",$D$3:$T$3))*$U$3) | V14: =IF(B14="","",(U14/$U$3)*100)
A15: 12 | U15: =IF(B15="","",SUMIF(D15:T15,"<>""",D15:T15)/(SUM($D$3:$T$3)-SUMIF(D15:T15,"",$D$3:$T$3))*$U$3) | V15: =IF(B15="","",(U15/$U$3)*100)
A16: 13 | U16: =IF(B16="","",SUMIF(D16:T16,"<>""",D16:T16)/(SUM($D$3:$T$3)-SUMIF(D16:T16,"",$D$3:$T$3))*$U$3) | V16: =IF(B16="","",(U16/$U$3)*100)
A17: 14 | U17: =IF(B17="","",SUMIF(D17:T17,"<>""",D17:T17)/(SUM($D$3:$T$3)-SUMIF(D17:T17,"",$D$3:$T$3))*$U$3) | V17: =IF(B17="","",(U17/$U$3)*100)
A18: 15 | U18: =IF(B18="","",SUMIF(D18:T18,"<>""",D18:T18)/(SUM($D$3:$T$3)-SUMIF(D18:T18,"",$D$3:$T$3))*$U$3) | V18: =IF(B18="","",(U18/$U$3)*100)
... A28: 25 | U28: =IF(B28="","",SUMIF(D28:T28,"<>""",D28:T28)/(SUM($D$3:$T$3)-SUMIF(D28:T28,"",$D$3:$T$3))*$U$3) | V28: =IF(B28="","",(U28/$U$3)*100)

Sheet Noel
B1: Classe : | C1: Examen de Noël | U1: Total | V1: Période
B3: Nom | C3: Prénom | D3: 4 | E3: 4 | F3: 4 | G3: 4 | H3: 4 | U3: 20 | V3: 100
A4: 1 | B4: AA | C4: AA | D4: 1 | E4: 1 | F4: 1 | G4: 1 | H4: 1 | U4: =IF(B4="","",SUMIF(D4:T4,"<>""",D4:T4)/(SUM($D$3:$T$3)-SUMIF(D4:T4,"",$D$3:$T$3))*$U$3) -> 5 | V4: =IF(U4="","",IF(U4="","",(U4/$U$3)*100)) -> 25
A5: 2 | B5: BB | C5: bb | D5: 2 | E5: 2 | F5: 2 | G5: 2 | H5: 2 | U5: =IF(B5="","",SUMIF(D5:T5,"<>""",D5:T5)/(SUM($D$3:$T$3)-SUMIF(D5:T5,"",$D$3:$T$3))*$U$3) -> 10 | V5: =IF(U5="","",IF(U5="","",(U5/$U$3)*100)) -> 50
A6: 3 | B6: cc | C6: cc | D6: 3 | F6: 3 | G6: 3 | U6: =IF(B6="","",SUMIF(D6:T6,"<>""",D6:T6)/(SUM($D$3:$T$3)-SUMIF(D6:T6,"",$D$3:$T$3))*$U$3) -> 15 | V6: =IF(U6="","",IF(U6="","",(U6/$U$3)*100)) -> 75
A7: 4 | B7: dd | C7: dd | D7: 2 | H7: 2 | U7: =IF(B7="","",SUMIF(D7:T7,"<>""",D7:T7)/(SUM($D$3:$T$3)-SUMIF(D7:T7,"",$D$3:$T$3))*$U$3) -> 10 | V7: =IF(U7="","",IF(U7="","",(U7/$U$3)*100)) -> 50
A8: 5 | U8: =IF(B8="","",SUMIF(D8:T8,"<>""",D8:T8)/(SUM($D$3:$T$3)-SUMIF(D8:T8,"",$D$3:$T$3))*$U$3) | V8: =IF(U8="","",IF(U8="","",(U8/$U$3)*100))
A9: 6 | U9: =IF(B9="","",SUMIF(D9:T9,"<>""",D9:T9)/(SUM($D$3:$T$3)-SUMIF(D9:T9,"",$D$3:$T$3))*$U$3) | V9: =IF(U9="","",IF(U9="","",(U9/$U$3)*100))
A10: 7 | U10: =IF(B10="","",SUMIF(D10:T10,"<>""",D10:T10)/(SUM($D$3:$T$3)-SUMIF(D10:T10,"",$D$3:$T$3))*$U$3) | V10: =IF(U10="","",IF(U10="","",(U10/$U$3)*100))
A11: 8 | U11: =IF(B11="","",SUMIF(D11:T11,"<>""",D11:T11)/(SUM($D$3:$T$3)-SUMIF(D11:T11,"",$D$3:$T$3))*$U$3) | V11: =IF(U11="","",IF(U11="","",(U11/$U$3)*100))
A12: 9 | U12: =IF(B12="","",SUMIF(D12:T12,"<>""",D12:T12)/(SUM($D$3:$T$3)-SUMIF(D12:T12,"",$D$3:$T$3))*$U$3) | V12: =IF(U12="","",IF(U12="","",(U12/$U$3)*100))
A13: 10 | U13: =IF(B13="","",SUMIF(D13:T13,"<>""",D13:T13)/(SUM($D$3:$T$3)-SUMIF(D13:T13,"",$D$3:$T$3))*$U$3) | V13: =IF(U13="","",IF(U13="","",(U13/$U$3)*100))
A14: 11 | U14: =IF(B14="","",SUMIF(D14:T14,"<>""",D14:T14)/(SUM($D$3:$T$3)-SUMIF(D14:T14,"",$D$3:$T$3))*$U$3) | V14: =IF(U14="","",IF(U14="","",(U14/$U$3)*100))
A15: 12 | U15: =IF(B15="","",SUMIF(D15:T15,"<>""",D15:T15)/(SUM($D$3:$T$3)-SUMIF(D15:T15,"",$D$3:$T$3))*$U$3) | V15: =IF(U15="","",IF(U15="","",(U15/$U$3)*100))
A16: 13 | U16: =IF(B16="","",SUMIF(D16:T16,"<>""",D16:T16)/(SUM($D$3:$T$3)-SUMIF(D16:T16,"",$D$3:$T$3))*$U$3) | V16: =IF(U16="","",IF(U16="","",(U16/$U$3)*100))
A17: 14 | U17: =IF(B17="","",SUMIF(D17:T17,"<>""",D17:T17)/(SUM($D$3:$T$3)-SUMIF(D17:T17,"",$D$3:$T$3))*$U$3) | V17: =IF(U17="","",IF(U17="","",(U17/$U$3)*100))
A18: 15 | U18: =IF(B18="","",SUMIF(D18:T18,"<>""",D18:T18)/(SUM($D$3:$T$3)-SUMIF(D18:T18,"",$D$3:$T$3))*$U$3) | V18: =IF(U18="","",IF(U18="","",(U18/$U$3)*100))
A19: 16 | U19: =IF(B19="","",SUMIF(D19:T19,"<>""",D19:T19)/(SUM($D$3:$T$3)-SUMIF(D19:T19,"",$D$3:$T$3))*$U$3) | V19: =IF(U19="","",IF(U19="","",(U19/$U$3)*100))
... A28: 25 | U28: =IF(B28="","",SUMIF(D28:T28,"<>""",D28:T28)/(SUM($D$3:$T$3)-SUMIF(D28:T28,"",$D$3:$T$3))*$U$3) | V28: =IF(U28="","",IF(U28="","",(U28/$U$3)*100))

Sheet Période 3
B1: Classe : | C1: Période 3 | U1: Total | V1: Période
B3: Nom | C3: Prénom | D3: 4 | E3: 4 | F3: 4 | G3: 4 | H3: 4 | U3: 20 | V3: 100
A4: 1 | B4: AA | C4: AA | D4: 1 | E4: 1 | F4: 1 | G4: 1 | H4: 1 | U4: =IF(B4="","",SUMIF(D4:T4,"<>""",D4:T4)/(SUM($D$3:$T$3)-SUMIF(D4:T4,"",$D$3:$T$3))*$U$3) -> 5 | V4: =IF(U4="","",IF(U4="","",(U4/$U$3)*100)) -> 25
A5: 2 | B5: BB | C5: bb | D5: 2 | E5: 2 | F5: 2 | G5: 2 | H5: 2 | U5: =IF(B5="","",SUMIF(D5:T5,"<>""",D5:T5)/(SUM($D$3:$T$3)-SUMIF(D5:T5,"",$D$3:$T$3))*$U$3) -> 10 | V5: =IF(U5="","",IF(U5="","",(U5/$U$3)*100)) -> 50
A6: 3 | B6: cc | C6: cc | D6: 3 | F6: 3 | G6: 3 | U6: =IF(B6="","",SUMIF(D6:T6,"<>""",D6:T6)/(SUM($D$3:$T$3)-SUMIF(D6:T6,"",$D$3:$T$3))*$U$3) -> 15 | V6: =IF(U6="","",IF(U6="","",(U6/$U$3)*100)) -> 75
A7: 4 | B7: dd | C7: dd | D7: 2 | H7: 2 | U7: =IF(B7="","",SUMIF(D7:T7,"<>""",D7:T7)/(SUM($D$3:$T$3)-SUMIF(D7:T7,"",$D$3:$T$3))*$U$3) -> 10 | V7: =IF(U7="","",IF(U7="","",(U7/$U$3)*100)) -> 50
A8: 5 | U8: =IF(B8="","",SUMIF(D8:T8,"<>""",D8:T8)/(SUM($D$3:$T$3)-SUMIF(D8:T8,"",$D$3:$T$3))*$U$3) | V8: =IF(U8="","",IF(U8="","",(U8/$U$3)*100))
A9: 6 | V9: =IF(U9="","",IF(U9="","",(U9/$U$3)*100))
A10: 7 | U10: =IF(B10="","",SUMIF(D10:T10,"<>""",D10:T10)/(SUM($D$3:$T$3)-SUMIF(D10:T10,"",$D$3:$T$3))*$U$3) | V10: =IF(U10="","",IF(U10="","",(U10/$U$3)*100))
A11: 8 | U11: =IF(B11="","",SUMIF(D11:T11,"<>""",D11:T11)/(SUM($D$3:$T$3)-SUMIF(D11:T11,"",$D$3:$T$3))*$U$3) | V11: =IF(U11="","",IF(U11="","",(U11/$U$3)*100))
A12: 9 | V12: =IF(U12="","",IF(U12="","",(U12/$U$3)*100))
A13: 10 | U13: =IF(B13="","",SUMIF(D13:T13,"<>""",D13:T13)/(SUM($D$3:$T$3)-SUMIF(D13:T13,"",$D$3:$T$3))*$U$3) | V13: =IF(U13="","",IF(U13="","",(U13/$U$3)*100))
A14: 11 | U14: =IF(B14="","",SUMIF(D14:T14,"<>""",D14:T14)/(SUM($D$3:$T$3)-SUMIF(D14:T14,"",$D$3:$T$3))*$U$3) | V14: =IF(U14="","",IF(U14="","",(U14/$U$3)*100))
A15: 12 | U15: =IF(B15="","",SUMIF(D15:T15,"<>""",D15:T15)/(SUM($D$3:$T$3)-SUMIF(D15:T15,"",$D$3:$T$3))*$U$3) | V15: =IF(U15="","",IF(U15="","",(U15/$U$3)*100))
A16: 13 | U16: =IF(B16="","",SUMIF(D16:T16,"<>""",D16:T16)/(SUM($D$3:$T$3)-SUMIF(D16:T16,"",$D$3:$T$3))*$U$3) | V16: =IF(U16="","",IF(U16="","",(U16/$U$3)*100))
A17: 14 | U17: =IF(B17="","",SUMIF(D17:T17,"<>""",D17:T17)/(SUM($D$3:$T$3)-SUMIF(D17:T17,"",$D$3:$T$3))*$U$3) | V17: =IF(U17="","",IF(U17="","",(U17/$U$3)*100))
A18: 15 | U18: =IF(B18="","",SUMIF(D18:T18,"<>""",D18:T18)/(SUM($D$3:$T$3)-SUMIF(D18:T18,"",$D$3:$T$3))*$U$3) | V18: =IF(U18="","",IF(U18="","",(U18/$U$3)*100))
A19: 16 | U19: =IF(B19="","",SUMIF(D19:T19,"<>""",D19:T19)/(SUM($D$3:$T$3)-SUMIF(D19:T19,"",$D$3:$T$3))*$U$3) | V19: =IF(U19="","",IF(U19="","",(U19/$U$3)*100))
A20: 17 | U20: =IF(B20="","",SUMIF(D20:T20,"<>""",D20:T20)/(SUM($D$3:$T$3)-SUMIF(D20:T20,"",$D$3:$T$3))*$U$3) | V20: =IF(U20="","",IF(U20="","",(U20/$U$3)*100))
A21: 18 | U21: =IF(B21="","",SUMIF(D21:T21,"<>""",D21:T21)/(SUM($D$3:$T$3)-SUMIF(D21:T21,"",$D$3:$T$3))*$U$3) | V21: =IF(U21="","",IF(U21="","",(U21/$U$3)*100))
A22: 19 | U22: =IF(B22="","",SUMIF(D22:T22,"<>""",D22:T22)/(SUM($D$3:$T$3)-SUMIF(D22:T22,"",$D$3:$T$3))*$U$3) | V22: =IF(U22="","",IF(U22="","",(U22/$U$3)*100))
A23: 20 | U23: =IF(B23="","",SUMIF(D23:T23,"<>""",D23:T23)/(SUM($D$3:$T$3)-SUMIF(D23:T23,"",$D$3:$T$3))*$U$3) | V23: =IF(U23="","",IF(U23="","",(U23/$U$3)*100))
A24: 21 | U24: =IF(B24="","",SUMIF(D24:T24,"<>""",D24:T24)/(SUM($D$3:$T$3)-SUMIF(D24:T24,"",$D$3:$T$3))*$U$3) | V24: =IF(U24="","",IF(U24="","",(U24/$U$3)*100))
... A28: 25 | U28: =IF(B28="","",SUMIF(D28:T28,"<>""",D28:T28)/(SUM($D$3:$T$3)-SUMIF(D28:T28,"",$D$3:$T$3))*$U$3) | V28: =IF(U28="","",IF(U28="","",(U28/$U$3)*100))

Sheet Période 4
B1: Classe : | C1: Période 4 | U1: Total | V1: Période
B3: Nom | C3: Prénom | D3: 4 | E3: 4 | F3: 4 | G3: 4 | H3: 4 | U3: 20 | V3: 100
A4: 1 | B4: AA | C4: AA | D4: 1 | E4: 1 | F4: 1 | G4: 1 | H4: 1 | U4: =IF(B4="","",SUMIF(D4:T4,"<>""",D4:T4)/(SUM($D$3:$T$3)-SUMIF(D4:T4,"",$D$3:$T$3))*$U$3) -> 5 | V4: =IF(U4="","",IF(U4="","",(U4/$U$3)*100)) -> 25
A5: 2 | B5: BB | C5: bb | D5: 2 | E5: 2 | F5: 2 | G5: 2 | H5: 2 | U5: =IF(B5="","",SUMIF(D5:T5,"<>""",D5:T5)/(SUM($D$3:$T$3)-SUMIF(D5:T5,"",$D$3:$T$3))*$U$3) -> 10 | V5: =IF(U5="","",IF(U5="","",(U5/$U$3)*100)) -> 50
A6: 3 | B6: cc | C6: cc | D6: 3 | F6: 3 | G6: 3 | U6: =IF(B6="","",SUMIF(D6:T6,"<>""",D6:T6)/(SUM($D$3:$T$3)-SUMIF(D6:T6,"",$D$3:$T$3))*$U$3) -> 15 | V6: =IF(U6="","",IF(U6="","",(U6/$U$3)*100)) -> 75
A7: 4 | B7: dd | C7: dd | D7: 2 | H7: 2 | U7: =IF(B7="","",SUMIF(D7:T7,"<>""",D7:T7)/(SUM($D$3:$T$3)-SUMIF(D7:T7,"",$D$3:$T$3))*$U$3) -> 10 | V7: =IF(U7="","",IF(U7="","",(U7/$U$3)*100)) -> 50
A8: 5 | U8: =IF(B8="","",SUMIF(D8:T8,"<>""",D8:T8)/(SUM($D$3:$T$3)-SUMIF(D8:T8,"",$D$3:$T$3))*$U$3) | V8: =IF(U8="","",IF(U8="","",(U8/$U$3)*100))
A9: 6 | U9: =IF(B9="","",SUMIF(D9:T9,"<>""",D9:T9)/(SUM($D$3:$T$3)-SUMIF(D9:T9,"",$D$3:$T$3))*$U$3) | V9: =IF(U9="","",IF(U9="","",(U9/$U$3)*100))
A10: 7 | U10: =IF(B10="","",SUMIF(D10:T10,"<>""",D10:T10)/(SUM($D$3:$T$3)-SUMIF(D10:T10,"",$D$3:$T$3))*$U$3) | V10: =IF(U10="","",IF(U10="","",(U10/$U$3)*100))
A11: 8 | U11: =IF(B11="","",SUMIF(D11:T11,"<>""",D11:T11)/(SUM($D$3:$T$3)-SUMIF(D11:T11,"",$D$3:$T$3))*$U$3) | V11: =IF(U11="","",IF(U11="","",(U11/$U$3)*100))
A12: 9 | U12: =IF(B12="","",SUMIF(D12:T12,"<>""",D12:T12)/(SUM($D$3:$T$3)-SUMIF(D12:T12,"",$D$3:$T$3))*$U$3) | V12: =IF(U12="","",IF(U12="","",(U12/$U$3)*100))
A13: 10 | U13: =IF(B13="","",SUMIF(D13:T13,"<>""",D13:T13)/(SUM($D$3:$T$3)-SUMIF(D13:T13,"",$D$3:$T$3))*$U$3) | V13: =IF(U13="","",IF(U13="","",(U13/$U$3)*100))
A14: 11 | V14: =IF(U14="","",IF(U14="","",(U14/$U$3)*100))
A15: 12 | U15: =IF(B15="","",SUMIF(D15:T15,"<>""",D15:T15)/(SUM($D$3:$T$3)-SUMIF(D15:T15,"",$D$3:$T$3))*$U$3) | V15: =IF(U15="","",IF(U15="","",(U15/$U$3)*100))
A16: 13 | U16: =IF(B16="","",SUMIF(D16:T16,"<>""",D16:T16)/(SUM($D$3:$T$3)-SUMIF(D16:T16,"",$D$3:$T$3))*$U$3) | V16: =IF(U16="","",IF(U16="","",(U16/$U$3)*100))
A17: 14 | U17: =IF(B17="","",SUMIF(D17:T17,"<>""",D17:T17)/(SUM($D$3:$T$3)-SUMIF(D17:T17,"",$D$3:$T$3))*$U$3) | V17: =IF(U17="","",IF(U17="","",(U17/$U$3)*100))
A18: 15 | U18: =IF(B18="","",SUMIF(D18:T18,"<>""",D18:T18)/(SUM($D$3:$T$3)-SUMIF(D18:T18,"",$D$3:$T$3))*$U$3) | V18: =IF(U18="","",IF(U18="","",(U18/$U$3)*100))
A19: 16 | U19: =IF(B19="","",SUMIF(D19:T19,"<>""",D19:T19)/(SUM($D$3:$T$3)-SUMIF(D19:T19,"",$D$3:$T$3))*$U$3) | V19: =IF(U19="","",IF(U19="","",(U19/$U$3)*100))
A20: 17 | U20: =IF(B20="","",SUMIF(D20:T20,"<>""",D20:T20)/(SUM($D$3:$T$3)-SUMIF(D20:T20,"",$D$3:$T$3))*$U$3) | V20: =IF(U20="","",IF(U20="","",(U20/$U$3)*100))
A21: 18 | U21: =IF(B21="","",SUMIF(D21:T21,"<>""",D21:T21)/(SUM($D$3:$T$3)-SUMIF(D21:T21,"",$D$3:$T$3))*$U$3) | V21: =IF(U21="","",IF(U21="","",(U21/$U$3)*100))
A22: 19 | U22: =IF(B22="","",SUMIF(D22:T22,"<>""",D22:T22)/(SUM($D$3:$T$3)-SUMIF(D22:T22,"",$D$3:$T$3))*$U$3) | V22: =IF(U22="","",IF(U22="","",(U22/$U$3)*100))
A23: 20 | U23: =IF(B23="","",SUMIF(D23:T23,"<>""",D23:T23)/(SUM($D$3:$T$3)-SUMIF(D23:T23,"",$D$3:$T$3))*$U$3) | V23: =IF(U23="","",IF(U23="","",(U23/$U$3)*100))
A24: 21 | U24: =IF(B24="","",SUMIF(D24:T24,"<>""",D24:T24)/(SUM($D$3:$T$3)-SUMIF(D24:T24,"",$D$3:$T$3))*$U$3) | V24: =IF(U24="","",IF(U24="","",(U24/$U$3)*100))
A25: 22 | U25: =IF(B25="","",SUMIF(D25:T25,"<>""",D25:T25)/(SUM($D$3:$T$3)-SUMIF(D25:T25,"",$D$3:$T$3))*$U$3) | V25: =IF(U25="","",IF(U25="","",(U25/$U$3)*100))
A26: 23 | U26: =IF(B26="","",SUMIF(D26:T26,"<>""",D26:T26)/(SUM($D$3:$T$3)-SUMIF(D26:T26,"",$D$3:$T$3))*$U$3) | V26: =IF(U26="","",IF(U26="","",(U26/$U$3)*100))
... A28: 25 | U28: =IF(B28="","",SUMIF(D28:T28,"<>""",D28:T28)/(SUM($D$3:$T$3)-SUMIF(D28:T28,"",$D$3:$T$3))*$U$3) | V28: =IF(U28="","",IF(U28="","",(U28/$U$3)*100))

Sheet Juin
B1: Classe : | C1: Examen de Juin | U1: Total | V1: Période
B3: Nom | C3: Prénom | D3: 4 | E3: 4 | F3: 4 | G3: 4 | H3: 4 | U3: 20 | V3: 100
A4: 1 | B4: AA | C4: AA | D4: 1 | E4: 1 | F4: 1 | G4: 1 | H4: 1 | U4: =IF(B4="","",SUMIF(D4:T4,"<>""",D4:T4)/(SUM($D$3:$T$3)-SUMIF(D4:T4,"",$D$3:$T$3))*$U$3) -> 5 | V4: =IF(U4="","",IF(U4="","",(U4/$U$3)*100)) -> 25
A5: 2 | B5: BB | C5: bb | D5: 2 | E5: 2 | F5: 2 | G5: 2 | H5: 2 | U5: =IF(B5="","",SUMIF(D5:T5,"<>""",D5:T5)/(SUM($D$3:$T$3)-SUMIF(D5:T5,"",$D$3:$T$3))*$U$3) -> 10 | V5: =IF(U5="","",IF(U5="","",(U5/$U$3)*100)) -> 50
A6: 3 | B6: cc | C6: cc | D6: 3 | F6: 3 | G6: 3 | U6: =IF(B6="","",SUMIF(D6:T6,"<>""",D6:T6)/(SUM($D$3:$T$3)-SUMIF(D6:T6,"",$D$3:$T$3))*$U$3) -> 15 | V6: =IF(U6="","",IF(U6="","",(U6/$U$3)*100)) -> 75
A7: 4 | B7: dd | C7: dd | D7: 2 | H7: 2 | U7: =IF(B7="","",SUMIF(D7:T7,"<>""",D7:T7)/(SUM($D$3:$T$3)-SUMIF(D7:T7,"",$D$3:$T$3))*$U$3) -> 10 | V7: =IF(U7="","",IF(U7="","",(U7/$U$3)*100)) -> 50
A8: 5 | U8: =IF(B8="","",SUMIF(D8:T8,"<>""",D8:T8)/(SUM($D$3:$T$3)-SUMIF(D8:T8,"",$D$3:$T$3))*$U$3) | V8: =IF(U8="","",IF(U8="","",(U8/$U$3)*100))
A9: 6 | U9: =IF(B9="","",SUMIF(D9:T9,"<>""",D9:T9)/(SUM($D$3:$T$3)-SUMIF(D9:T9,"",$D$3:$T$3))*$U$3) | V9: =IF(U9="","",IF(U9="","",(U9/$U$3)*100))
A10: 7 | U10: =IF(B10="","",SUMIF(D10:T10,"<>""",D10:T10)/(SUM($D$3:$T$3)-SUMIF(D10:T10,"",$D$3:$T$3))*$U$3) | V10: =IF(U10="","",IF(U10="","",(U10/$U$3)*100))
A11: 8 | U11: =IF(B11="","",SUMIF(D11:T11,"<>""",D11:T11)/(SUM($D$3:$T$3)-SUMIF(D11:T11,"",$D$3:$T$3))*$U$3) | V11: =IF(U11="","",IF(U11="","",(U11/$U$3)*100))
A12: 9 | U12: =IF(B12="","",SUMIF(D12:T12,"<>""",D12:T12)/(SUM($D$3:$T$3)-SUMIF(D12:T12,"",$D$3:$T$3))*$U$3) | V12: =IF(U12="","",IF(U12="","",(U12/$U$3)*100))
A13: 10 | U13: =IF(B13="","",SUMIF(D13:T13,"<>""",D13:T13)/(SUM($D$3:$T$3)-SUMIF(D13:T13,"",$D$3:$T$3))*$U$3) | V13: =IF(U13="","",IF(U13="","",(U13/$U$3)*100))
A14: 11 | U14: =IF(B14="","",SUMIF(D14:T14,"<>""",D14:T14)/(SUM($D$3:$T$3)-SUMIF(D14:T14,"",$D$3:$T$3))*$U$3) | V14: =IF(U14="","",IF(U14="","",(U14/$U$3)*100))
A15: 12 | U15: =IF(B15="","",SUMIF(D15:T15,"<>""",D15:T15)/(SUM($D$3:$T$3)-SUMIF(D15:T15,"",$D$3:$T$3))*$U$3) | V15: =IF(U15="","",IF(U15="","",(U15/$U$3)*100))
A16: 13 | U16: =IF(B16="","",SUMIF(D16:T16,"<>""",D16:T16)/(SUM($D$3:$T$3)-SUMIF(D16:T16,"",$D$3:$T$3))*$U$3) | V16: =IF(U16="","",IF(U16="","",(U16/$U$3)*100))
A17: 14 | U17: =IF(B17="","",SUMIF(D17:T17,"<>""",D17:T17)/(SUM($D$3:$T$3)-SUMIF(D17:T17,"",$D$3:$T$3))*$U$3) | V17: =IF(U17="","",IF(U17="","",(U17/$U$3)*100))
A18: 15 | U18: =IF(B18="","",SUMIF(D18:T18,"<>""",D18:T18)/(SUM($D$3:$T$3)-SUMIF(D18:T18,"",$D$3:$T$3))*$U$3) | V18: =IF(U18="","",IF(U18="","",(U18/$U$3)*100))
A19: 16 | U19: =IF(B19="","",SUMIF(D19:T19,"<>""",D19:T19)/(SUM($D$3:$T$3)-SUMIF(D19:T19,"",$D$3:$T$3))*$U$3) | V19: =IF(U19="","",IF(U19="","",(U19/$U$3)*100))
... A28: 25 | U28: =IF(B28="","",SUMIF(D28:T28,"<>""",D28:T28)/(SUM($D$3:$T$3)-SUMIF(D28:T28,"",$D$3:$T$3))*$U$3) | V28: =IF(U28="","",IF(U28="","",(U28/$U$3)*100))

Sheet Récap
B1: Classe : | C1: Récapitulatif | D1: Période 1 | E1: Période 2 | F1: Période 3 | G1: Période 4 | H1: Examen Noel | I1: Examen Juin | J1: Total Périodes | K1: Pourcentage - période | L1: Total Examen | M1: Pourcentage - examen | N1: Total
B2: Nom | C2: Prénom | D2: 100 | E2: 100 | F2: 100 | G2: 100 | H2: 100 | I2: 100 | J2: 400 | K2: 100 | L2: 200 | M2: 100 | N2: 100
A3: 1 | B3: Nom | C3: Prénom | D3: =SUM('Période 1'!V4) -> 34.782609 | E3: =SUM('Période 2'!V4) -> 25 | F3: =SUM('Période 3'!V4) -> 25 | G3: =SUM('Période 4'!V4) -> 25 | H3: =SUM(Noel!V4) -> 25 | I3: =SUM(Juin!V4) -> 25 | J3: =SUMIF(D3:G3,"<>""",D3:G3)/(SUM($D$2:$G$2)-SUMIF(D3:G3,"",$D$2:$G$2))*$J$2 -> 109.78261 | K3: =IF(B3="","",SUMIF(D3:G3,"<>""",D3:G3)/(SUM($D$2:$G$2)-SUMIF(D3:G3,"",$D$2:$G$2))*$J$2/COUNTIF(D3:G3,">0")) -> 27.445652 | L3: =SUMIF(H3:I3,"<>""",H3:I3)/(SUM($H$2:$I$2)-SUMIF(H3:I3,"",$H$2:$I$2))*$L$2 -> 50 | M3: =IF(B3="","",SUMIF(H3:I3,"<>""",H3:I3)/(SUM($H$2:$I$2)-SUMIF(H3:I3,"",$H$2:$I$2))*$L$2/COUNTIF(H3:I3,">0")) -> 25 | N3: =SUM(IF(K3="",0,(K3*0.7))+IF(M3="",0,(M3*0.3))) -> 26.711957
A4: 2 | B4: BB | C4: bb | D4: =SUM('Période 1'!V5) -> 20 | E4: =SUM('Période 2'!V5) -> 50 | F4: =SUM('Période 3'!V5) -> 50 | G4: =SUM('Période 4'!V5) -> 50 | H4: =SUM(Noel!V5) -> 50 | I4: =SUM(Juin!V5) -> 50 | J4: =SUMIF(D4:G4,"<>""",D4:G4)/(SUM($D$2:$G$2)-SUMIF(D4:G4,"",$D$2:$G$2))*$J$2 -> 170 | K4: =IF(B4="","",SUMIF(D4:G4,"<>""",D4:G4)/(SUM($D$2:$G$2)-SUMIF(D4:G4,"",$D$2:$G$2))*$J$2/COUNTIF(D4:G4,">0")) -> 42.5 | L4: =SUMIF(H4:I4,"<>""",H4:I4)/(SUM($H$2:$I$2)-SUMIF(H4:I4,"",$H$2:$I$2))*$L$2 -> 100 | M4: =IF(B4="","",SUMIF(H4:I4,"<>""",H4:I4)/(SUM($H$2:$I$2)-SUMIF(H4:I4,"",$H$2:$I$2))*$L$2/COUNTIF(H4:I4,">0")) -> 50 | N4: =SUM(IF(K4="",0,(K4*0.7))+IF(M4="",0,(M4*0.3))) -> 44.75
A5: 3 | B5: cc | C5: cc | D5: =SUM('Période 1'!V6) -> 66.666667 | E5: =SUM('Période 2'!V6) -> 75 | F5: =SUM('Période 3'!V6) -> 75 | G5: =SUM('Période 4'!V6) -> 75 | H5: =SUM(Noel!V6) -> 75 | I5: =SUM(Juin!V6) -> 75 | J5: =SUMIF(D5:G5,"<>""",D5:G5)/(SUM($D$2:$G$2)-SUMIF(D5:G5,"",$D$2:$G$2))*$J$2 -> 291.66667 | K5: =IF(B5="","",SUMIF(D5:G5,"<>""",D5:G5)/(SUM($D$2:$G$2)-SUMIF(D5:G5,"",$D$2:$G$2))*$J$2/COUNTIF(D5:G5,">0")) -> 72.916667 | L5: =SUMIF(H5:I5,"<>""",H5:I5)/(SUM($H$2:$I$2)-SUMIF(H5:I5,"",$H$2:$I$2))*$L$2 -> 150 | M5: =IF(B5="","",SUMIF(H5:I5,"<>""",H5:I5)/(SUM($H$2:$I$2)-SUMIF(H5:I5,"",$H$2:$I$2))*$L$2/COUNTIF(H5:I5,">0")) -> 75 | N5: =SUM(IF(K5="",0,(K5*0.7))+IF(M5="",0,(M5*0.3))) -> 73.541667
A6: 4 | B6: dd | C6: dd | D6: =SUM('Période 1'!V7) -> 0 | E6: =SUM('Période 2'!V7) -> 0 | F6: =SUM('Période 3'!V7) -> 50 | G6: =SUM('Période 4'!V7) -> 50 | H6: =SUM(Noel!V7) -> 50 | I6: =SUM(Juin!V7) -> 50 | J6: =SUMIF(D6:G6,"<>""",D6:G6)/(SUM($D$2:$G$2)-SUMIF(D6:G6,"",$D$2:$G$2))*$J$2 -> 100 | K6: =IF(B6="","",SUMIF(D6:G6,"<>""",D6:G6)/(SUM($D$2:$G$2)-SUMIF(D6:G6,"",$D$2:$G$2))*$J$2/COUNTIF(D6:G6,">0")) -> 50 | L6: =SUMIF(H6:I6,"<>""",H6:I6)/(SUM($H$2:$I$2)-SUMIF(H6:I6,"",$H$2:$I$2))*$L$2 -> 100 | M6: =IF(B6="","",SUMIF(H6:I6,"<>""",H6:I6)/(SUM($H$2:$I$2)-SUMIF(H6:I6,"",$H$2:$I$2))*$L$2/COUNTIF(H6:I6,">0")) -> 50 | N6: =SUM(IF(K6="",0,(K6*0.7))+IF(M6="",0,(M6*0.3))) -> 50
A7: 5 | D7: =SUM('Période 1'!V8) -> 0 | F7: =SUM('Période 3'!V8) -> 0 | G7: =SUM('Période 4'!V8) -> 0 | H7: =SUM(Noel!V8) -> 0 | I7: =SUM(Juin!V8) -> 0 | J7: =SUMIF(D7:G7,"<>""",D7:G7)/(SUM($D$2:$G$2)-SUMIF(D7:G7,"",$D$2:$G$2))*$J$2 -> 0 | K7: =IF(B7="","",SUMIF(D7:G7,"<>""",D7:G7)/(SUM($D$2:$G$2)-SUMIF(D7:G7,"",$D$2:$G$2))*$J$2/COUNTIF(D7:G7,">0")) | L7: =SUMIF(H7:I7,"<>""",H7:I7)/(SUM($H$2:$I$2)-SUMIF(H7:I7,"",$H$2:$I$2))*$L$2 -> 0 | M7: =IF(B7="","",SUMIF(H7:I7,"<>""",H7:I7)/(SUM($H$2:$I$2)-SUMIF(H7:I7,"",$H$2:$I$2))*$L$2/COUNTIF(H7:I7,">0")) | N7: =SUM(IF(K7="",0,(K7*0.7))+IF(M7="",0,(M7*0.3))) -> 0
A8: 6 | D8: =SUM('Période 1'!V9) -> 0 | E8: =SUM('Période 2'!V9) -> 0 | F8: =SUM('Période 3'!V9) -> 0 | G8: =SUM('Période 4'!V9) -> 0 | H8: =SUM(Noel!V9) -> 0 | I8: =SUM(Juin!V9) -> 0 | J8: =SUMIF(D8:G8,"<>""",D8:G8)/(SUM($D$2:$G$2)-SUMIF(D8:G8,"",$D$2:$G$2))*$J$2 -> 0 | K8: =IF(B8="","",SUMIF(D8:G8,"<>""",D8:G8)/(SUM($D$2:$G$2)-SUMIF(D8:G8,"",$D$2:$G$2))*$J$2/COUNTIF(D8:G8,">0")) | L8: =SUMIF(H8:I8,"<>""",H8:I8)/(SUM($H$2:$I$2)-SUMIF(H8:I8,"",$H$2:$I$2))*$L$2 -> 0 | M8: =IF(B8="","",SUMIF(H8:I8,"<>""",H8:I8)/(SUM($H$2:$I$2)-SUMIF(H8:I8,"",$H$2:$I$2))*$L$2/COUNTIF(H8:I8,">0")) | N8: =SUM(IF(K8="",0,(K8*0.7))+IF(M8="",0,(M8*0.3))) -> 0
A9: 7 | D9: =SUM('Période 1'!V10) -> 0 | E9: =SUM('Période 2'!V10) -> 0 | F9: =SUM('Période 3'!V10) -> 0 | G9: =SUM('Période 4'!V10) -> 0 | H9: =SUM(Noel!V10) -> 0 | I9: =SUM(Juin!V10) -> 0 | J9: =SUMIF(D9:G9,"<>""",D9:G9)/(SUM($D$2:$G$2)-SUMIF(D9:G9,"",$D$2:$G$2))*$J$2 -> 0 | K9: =IF(B9="","",SUMIF(D9:G9,"<>""",D9:G9)/(SUM($D$2:$G$2)-SUMIF(D9:G9,"",$D$2:$G$2))*$J$2/COUNTIF(D9:G9,">0")) | L9: =SUMIF(H9:I9,"<>""",H9:I9)/(SUM($H$2:$I$2)-SUMIF(H9:I9,"",$H$2:$I$2))*$L$2 -> 0 | M9: =IF(B9="","",SUMIF(H9:I9,"<>""",H9:I9)/(SUM($H$2:$I$2)-SUMIF(H9:I9,"",$H$2:$I$2))*$L$2/COUNTIF(H9:I9,">0")) | N9: =SUM(IF(K9="",0,(K9*0.7))+IF(M9="",0,(M9*0.3))) -> 0
A10: 8 | D10: =SUM('Période 1'!V11) -> 0 | E10: =SUM('Période 2'!V11) -> 0 | F10: =SUM('Période 3'!V11) -> 0 | G10: =SUM('Période 4'!V11) -> 0 | H10: =SUM(Noel!V11) -> 0 | I10: =SUM(Juin!V11) -> 0 | J10: =SUMIF(D10:G10,"<>""",D10:G10)/(SUM($D$2:$G$2)-SUMIF(D10:G10,"",$D$2:$G$2))*$J$2 -> 0 | K10: =IF(B10="","",SUMIF(D10:G10,"<>""",D10:G10)/(SUM($D$2:$G$2)-SUMIF(D10:G10,"",$D$2:$G$2))*$J$2/COUNTIF(D10:G10,">0")) | L10: =SUMIF(H10:I10,"<>""",H10:I10)/(SUM($H$2:$I$2)-SUMIF(H10:I10,"",$H$2:$I$2))*$L$2 -> 0 | M10: =IF(B10="","",SUMIF(H10:I10,"<>""",H10:I10)/(SUM($H$2:$I$2)-SUMIF(H10:I10,"",$H$2:$I$2))*$L$2/COUNTIF(H10:I10,">0")) | N10: =SUM(IF(K10="",0,(K10*0.7))+IF(M10="",0,(M10*0.3))) -> 0
A11: 9 | D11: =SUM('Période 1'!V12) -> 0 | E11: =SUM('Période 2'!V12) -> 0 | F11: =SUM('Période 3'!V12) -> 0 | G11: =SUM('Période 4'!V12) -> 0 | H11: =SUM(Noel!V12) -> 0 | I11: =SUM(Juin!V12) -> 0 | J11: =SUMIF(D11:G11,"<>""",D11:G11)/(SUM($D$2:$G$2)-SUMIF(D11:G11,"",$D$2:$G$2))*$J$2 -> 0 | K11: =IF(B11="","",SUMIF(D11:G11,"<>""",D11:G11)/(SUM($D$2:$G$2)-SUMIF(D11:G11,"",$D$2:$G$2))*$J$2/COUNTIF(D11:G11,">0")) | L11: =SUMIF(H11:I11,"<>""",H11:I11)/(SUM($H$2:$I$2)-SUMIF(H11:I11,"",$H$2:$I$2))*$L$2 -> 0 | M11: =IF(B11="","",SUMIF(H11:I11,"<>""",H11:I11)/(SUM($H$2:$I$2)-SUMIF(H11:I11,"",$H$2:$I$2))*$L$2/COUNTIF(H11:I11,">0")) | N11: =SUM(IF(K11="",0,(K11*0.7))+IF(M11="",0,(M11*0.3))) -> 0
A12: 10 | D12: =SUM('Période 1'!V13) -> 0 | E12: =SUM('Période 2'!V13) -> 0 | F12: =SUM('Période 3'!V13) -> 0 | G12: =SUM('Période 4'!V13) -> 0 | H12: =SUM(Noel!V13) -> 0 | I12: =SUM(Juin!V13) -> 0 | J12: =SUMIF(D12:G12,"<>""",D12:G12)/(SUM($D$2:$G$2)-SUMIF(D12:G12,"",$D$2:$G$2))*$J$2 -> 0 | K12: =IF(B12="","",SUMIF(D12:G12,"<>""",D12:G12)/(SUM($D$2:$G$2)-SUMIF(D12:G12,"",$D$2:$G$2))*$J$2/COUNTIF(D12:G12,">0")) | L12: =SUMIF(H12:I12,"<>""",H12:I12)/(SUM($H$2:$I$2)-SUMIF(H12:I12,"",$H$2:$I$2))*$L$2 -> 0 | M12: =IF(B12="","",SUMIF(H12:I12,"<>""",H12:I12)/(SUM($H$2:$I$2)-SUMIF(H12:I12,"",$H$2:$I$2))*$L$2/COUNTIF(H12:I12,">0")) | N12: =SUM(IF(K12="",0,(K12*0.7))+IF(M12="",0,(M12*0.3))) -> 0
A13: 11 | D13: =SUM('Période 1'!V14) -> 0 | E13: =SUM('Période 2'!V14) -> 0 | F13: =SUM('Période 3'!V14) -> 0 | G13: =SUM('Période 4'!V14) -> 0 | H13: =SUM(Noel!V14) -> 0 | I13: =SUM(Juin!V14) -> 0 | J13: =SUMIF(D13:G13,"<>""",D13:G13)/(SUM($D$2:$G$2)-SUMIF(D13:G13,"",$D$2:$G$2))*$J$2 -> 0 | K13: =IF(B13="","",SUMIF(D13:G13,"<>""",D13:G13)/(SUM($D$2:$G$2)-SUMIF(D13:G13,"",$D$2:$G$2))*$J$2/COUNTIF(D13:G13,">0")) | L13: =SUMIF(H13:I13,"<>""",H13:I13)/(SUM($H$2:$I$2)-SUMIF(H13:I13,"",$H$2:$I$2))*$L$2 -> 0 | M13: =IF(B13="","",SUMIF(H13:I13,"<>""",H13:I13)/(SUM($H$2:$I$2)-SUMIF(H13:I13,"",$H$2:$I$2))*$L$2/COUNTIF(H13:I13,">0")) | N13: =SUM(IF(K13="",0,(K13*0.7))+IF(M13="",0,(M13*0.3))) -> 0
A14: 12 | D14: =SUM('Période 1'!V15) -> 0 | E14: =SUM('Période 2'!V15) -> 0 | F14: =SUM('Période 3'!V15) -> 0 | G14: =SUM('Période 4'!V15) -> 0 | H14: =SUM(Noel!V15) -> 0 | I14: =SUM(Juin!V15) -> 0 | J14: =SUMIF(D14:G14,"<>""",D14:G14)/(SUM($D$2:$G$2)-SUMIF(D14:G14,"",$D$2:$G$2))*$J$2 -> 0 | K14: =IF(B14="","",SUMIF(D14:G14,"<>""",D14:G14)/(SUM($D$2:$G$2)-SUMIF(D14:G14,"",$D$2:$G$2))*$J$2/COUNTIF(D14:G14,">0")) | L14: =SUMIF(H14:I14,"<>""",H14:I14)/(SUM($H$2:$I$2)-SUMIF(H14:I14,"",$H$2:$I$2))*$L$2 -> 0 | M14: =IF(B14="","",SUMIF(H14:I14,"<>""",H14:I14)/(SUM($H$2:$I$2)-SUMIF(H14:I14,"",$H$2:$I$2))*$L$2/COUNTIF(H14:I14,">0")) | N14: =SUM(IF(K14="",0,(K14*0.7))+IF(M14="",0,(M14*0.3))) -> 0
A15: 13 | D15: =SUM('Période 1'!V16) -> 0 | E15: =SUM('Période 2'!V16) -> 0 | F15: =SUM('Période 3'!V16) -> 0 | G15: =SUM('Période 4'!V16) -> 0 | H15: =SUM(Noel!V16) -> 0 | I15: =SUM(Juin!V16) -> 0 | J15: =SUMIF(D15:G15,"<>""",D15:G15)/(SUM($D$2:$G$2)-SUMIF(D15:G15,"",$D$2:$G$2))*$J$2 -> 0 | K15: =IF(B15="","",SUMIF(D15:G15,"<>""",D15:G15)/(SUM($D$2:$G$2)-SUMIF(D15:G15,"",$D$2:$G$2))*$J$2/COUNTIF(D15:G15,">0")) | L15: =SUMIF(H15:I15,"<>""",H15:I15)/(SUM($H$2:$I$2)-SUMIF(H15:I15,"",$H$2:$I$2))*$L$2 -> 0 | M15: =IF(B15="","",SUMIF(H15:I15,"<>""",H15:I15)/(SUM($H$2:$I$2)-SUMIF(H15:I15,"",$H$2:$I$2))*$L$2/COUNTIF(H15:I15,">0")) | N15: =SUM(IF(K15="",0,(K15*0.7))+IF(M15="",0,(M15*0.3))) -> 0
A16: 14 | D16: =SUM('Période 1'!V17) -> 0 | E16: =SUM('Période 2'!V17) -> 0 | F16: =SUM('Période 3'!V17) -> 0 | G16: =SUM('Période 4'!V17) -> 0 | H16: =SUM(Noel!V17) -> 0 | I16: =SUM(Juin!V17) -> 0 | J16: =SUMIF(D16:G16,"<>""",D16:G16)/(SUM($D$2:$G$2)-SUMIF(D16:G16,"",$D$2:$G$2))*$J$2 -> 0 | K16: =IF(B16="","",SUMIF(D16:G16,"<>""",D16:G16)/(SUM($D$2:$G$2)-SUMIF(D16:G16,"",$D$2:$G$2))*$J$2/COUNTIF(D16:G16,">0")) | L16: =SUMIF(H16:I16,"<>""",H16:I16)/(SUM($H$2:$I$2)-SUMIF(H16:I16,"",$H$2:$I$2))*$L$2 -> 0 | M16: =IF(B16="","",SUMIF(H16:I16,"<>""",H16:I16)/(SUM($H$2:$I$2)-SUMIF(H16:I16,"",$H$2:$I$2))*$L$2/COUNTIF(H16:I16,">0")) | N16: =SUM(IF(K16="",0,(K16*0.7))+IF(M16="",0,(M16*0.3))) -> 0
A17: 15 | D17: =SUM('Période 1'!V18) -> 0 | E17: =SUM('Période 2'!V18) -> 0 | F17: =SUM('Période 3'!V18) -> 0 | G17: =SUM('Période 4'!V18) -> 0 | H17: =SUM(Noel!V18) -> 0 | I17: =SUM(Juin!V18) -> 0 | J17: =SUMIF(D17:G17,"<>""",D17:G17)/(SUM($D$2:$G$2)-SUMIF(D17:G17,"",$D$2:$G$2))*$J$2 -> 0 | K17: =IF(B17="","",SUMIF(D17:G17,"<>""",D17:G17)/(SUM($D$2:$G$2)-SUMIF(D17:G17,"",$D$2:$G$2))*$J$2/COUNTIF(D17:G17,">0")) | L17: =SUMIF(H17:I17,"<>""",H17:I17)/(SUM($H$2:$I$2)-SUMIF(H17:I17,"",$H$2:$I$2))*$L$2 -> 0 | M17: =IF(B17="","",SUMIF(H17:I17,"<>""",H17:I17)/(SUM($H$2:$I$2)-SUMIF(H17:I17,"",$H$2:$I$2))*$L$2/COUNTIF(H17:I17,">0")) | N17: =SUM(IF(K17="",0,(K17*0.7))+IF(M17="",0,(M17*0.3))) -> 0
A18: 16 | D18: =SUM('Période 1'!V19) -> 0 | E18: =SUM('Période 2'!V19) -> 0 | F18: =SUM('Période 3'!V19) -> 0 | G18: =SUM('Période 4'!V19) -> 0 | H18: =SUM(Noel!V19) -> 0 | I18: =SUM(Juin!V19) -> 0 | J18: =SUMIF(D18:G18,"<>""",D18:G18)/(SUM($D$2:$G$2)-SUMIF(D18:G18,"",$D$2:$G$2))*$J$2 -> 0 | K18: =IF(B18="","",SUMIF(D18:G18,"<>""",D18:G18)/(SUM($D$2:$G$2)-SUMIF(D18:G18,"",$D$2:$G$2))*$J$2/COUNTIF(D18:G18,">0")) | L18: =SUMIF(H18:I18,"<>""",H18:I18)/(SUM($H$2:$I$2)-SUMIF(H18:I18,"",$H$2:$I$2))*$L$2 -> 0 | M18: =IF(B18="","",SUMIF(H18:I18,"<>""",H18:I18)/(SUM($H$2:$I$2)-SUMIF(H18:I18,"",$H$2:$I$2))*$L$2/COUNTIF(H18:I18,">0")) | N18: =SUM(IF(K18="",0,(K18*0.7))+IF(M18="",0,(M18*0.3))) -> 0
A19: 17 | D19: =SUM('Période 1'!V20) -> 0 | E19: =SUM('Période 2'!V20) -> 0 | F19: =SUM('Période 3'!V20) -> 0 | G19: =SUM('Période 4'!V20) -> 0 | H19: =SUM(Noel!V20) -> 0 | I19: =SUM(Juin!V20) -> 0 | J19: =SUMIF(D19:G19,"<>""",D19:G19)/(SUM($D$2:$G$2)-SUMIF(D19:G19,"",$D$2:$G$2))*$J$2 -> 0 | K19: =IF(B19="","",SUMIF(D19:G19,"<>""",D19:G19)/(SUM($D$2:$G$2)-SUMIF(D19:G19,"",$D$2:$G$2))*$J$2/COUNTIF(D19:G19,">0")) | L19: =SUMIF(H19:I19,"<>""",H19:I19)/(SUM($H$2:$I$2)-SUMIF(H19:I19,"",$H$2:$I$2))*$L$2 -> 0 | M19: =IF(B19="","",SUMIF(H19:I19,"<>""",H19:I19)/(SUM($H$2:$I$2)-SUMIF(H19:I19,"",$H$2:$I$2))*$L$2/COUNTIF(H19:I19,">0")) | N19: =SUM(IF(K19="",0,(K19*0.7))+IF(M19="",0,(M19*0.3))) -> 0
... A27: 25 | D27: =SUM('Période 1'!V28) -> 0 | E27: =SUM('Période 2'!V28) -> 0 | F27: =SUM('Période 3'!V28) -> 0 | G27: =SUM('Période 4'!V28) -> 0 | H27: =SUM(Noel!V28) -> 0 | I27: =SUM(Juin!V28) -> 0 | J27: =SUMIF(D27:G27,"<>""",D27:G27)/(SUM($D$2:$G$2)-SUMIF(D27:G27,"",$D$2:$G$2))*$J$2 -> 0 | K27: =IF(B27="","",SUMIF(D27:G27,"<>""",D27:G27)/(SUM($D$2:$G$2)-SUMIF(D27:G27,"",$D$2:$G$2))*$J$2/COUNTIF(D27:G27,">0")) | L27: =SUMIF(H27:I27,"<>""",H27:I27)/(SUM($H$2:$I$2)-SUMIF(H27:I27,"",$H$2:$I$2))*$L$2 -> 0 | M27: =IF(B27="","",SUMIF(H27:I27,"<>""",H27:I27)/(SUM($H$2:$I$2)-SUMIF(H27:I27,"",$H$2:$I$2))*$L$2/COUNTIF(H27:I27,">0")) | N27: =SUM(IF(K27="",0,(K27*0.7))+IF(M27="",0,(M27*0.3))) -> 0
