Workbook
Name CAT: #REF!
Name feries: Paramètres!$F$2:$F$14
Name Fériés: Paramètres!$F$2:$F$14
Name jours_fériés_année_en_cours: Paramètres!$F$2:$F$14
Name JSFERIE: Planning!$B$1:$B$31
Name Liste_affectation_deroulante: Paramètres!$L$2:$L$51
Name liste_deroulante_structure: #REF!
Name Liste_jours: Paramètres!$D$2:$D$30
Name liste_mois: Paramètres!$I$2:$I$140
Name Menu_planning: Paramètres!$O$1:$O$12
Name mois_cours: Planning!$A$40
Name vendredi_01_janvier_2016: Paramètres!$F$2:$F$14

Sheet Planning
A1: =IF(ROWS(Paramètres!$B$1:'Paramètres'!B1)-1<Paramètres!$B$2,Paramètres!$B$1+ROWS(Paramètres!$B$1:'Paramètres'!B1)-1,"") -> 42917 | B1: =IF(AND(WEEKDAY(A1,2)<6,ISERROR(MATCH(A1,Fériés,0))),"JRS","FERI") -> FERI
A2: =IF(ROWS(Paramètres!$B$1:'Paramètres'!B2)-1<Paramètres!$B$2,Paramètres!$B$1+ROWS(Paramètres!$B$1:'Paramètres'!B2)-1,"") -> 42918 | B2: =IF(AND(WEEKDAY(A2,2)<6,ISERROR(MATCH(A2,Fériés,0))),"JRS","FERI") -> FERI
A3: =IF(ROWS(Paramètres!$B$1:'Paramètres'!B3)-1<Paramètres!$B$2,Paramètres!$B$1+ROWS(Paramètres!$B$1:'Paramètres'!B3)-1,"") -> 42919 | B3: =IF(AND(WEEKDAY(A3,2)<6,ISERROR(MATCH(A3,Fériés,0))),"JRS","FERI") -> JRS
A4: =IF(ROWS(Paramètres!$B$1:'Paramètres'!B4)-1<Paramètres!$B$2,Paramètres!$B$1+ROWS(Paramètres!$B$1:'Paramètres'!B4)-1,"") -> 42920 | B4: =IF(AND(WEEKDAY(A4,2)<6,ISERROR(MATCH(A4,Fériés,0))),"JRS","FERI") -> JRS
A5: =IF(ROWS(Paramètres!$B$1:'Paramètres'!B5)-1<Paramètres!$B$2,Paramètres!$B$1+ROWS(Paramètres!$B$1:'Paramètres'!B5)-1,"") -> 42921 | B5: =IF(AND(WEEKDAY(A5,2)<6,ISERROR(MATCH(A5,Fériés,0))),"JRS","FERI") -> JRS
A6: =IF(ROWS(Paramètres!$B$1:'Paramètres'!B6)-1<Paramètres!$B$2,Paramètres!$B$1+ROWS(Paramètres!$B$1:'Paramètres'!B6)-1,"") -> 42922 | B6: =IF(AND(WEEKDAY(A6,2)<6,ISERROR(MATCH(A6,Fériés,0))),"JRS","FERI") -> JRS
A7: =IF(ROWS(Paramètres!$B$1:'Paramètres'!B7)-1<Paramètres!$B$2,Paramètres!$B$1+ROWS(Paramètres!$B$1:'Paramètres'!B7)-1,"") -> 42923 | B7: =IF(AND(WEEKDAY(A7,2)<6,ISERROR(MATCH(A7,Fériés,0))),"JRS","FERI") -> JRS
A8: =IF(ROWS(Paramètres!$B$1:'Paramètres'!B8)-1<Paramètres!$B$2,Paramètres!$B$1+ROWS(Paramètres!$B$1:'Paramètres'!B8)-1,"") -> 42924 | B8: =IF(AND(WEEKDAY(A8,2)<6,ISERROR(MATCH(A8,Fériés,0))),"JRS","FERI") -> FERI
A9: =IF(ROWS(Paramètres!$B$1:'Paramètres'!B9)-1<Paramètres!$B$2,Paramètres!$B$1+ROWS(Paramètres!$B$1:'Paramètres'!B9)-1,"") -> 42925 | B9: =IF(AND(WEEKDAY(A9,2)<6,ISERROR(MATCH(A9,Fériés,0))),"JRS","FERI") -> FERI
A10: =IF(ROWS(Paramètres!$B$1:'Paramètres'!B10)-1<Paramètres!$B$2,Paramètres!$B$1+ROWS(Paramètres!$B$1:'Paramètres'!B10)-1,"") -> 42926 | B10: =IF(AND(WEEKDAY(A10,2)<6,ISERROR(MATCH(A10,Fériés,0))),"JRS","FERI") -> JRS
A11: =IF(ROWS(Paramètres!$B$1:'Paramètres'!B11)-1<Paramètres!$B$2,Paramètres!$B$1+ROWS(Paramètres!$B$1:'Paramètres'!B11)-1,"") -> 42927 | B11: =IF(AND(WEEKDAY(A11,2)<6,ISERROR(MATCH(A11,Fériés,0))),"JRS","FERI") -> JRS
A12: =IF(ROWS(Paramètres!$B$1:'Paramètres'!B12)-1<Paramètres!$B$2,Paramètres!$B$1+ROWS(Paramètres!$B$1:'Paramètres'!B12)-1,"") -> 42928 | B12: =IF(AND(WEEKDAY(A12,2)<6,ISERROR(MATCH(A12,Fériés,0))),"JRS","FERI") -> JRS
A13: =IF(ROWS(Paramètres!$B$1:'Paramètres'!B13)-1<Paramètres!$B$2,Paramètres!$B$1+ROWS(Paramètres!$B$1:'Paramètres'!B13)-1,"") -> 42929 | B13: =IF(AND(WEEKDAY(A13,2)<6,ISERROR(MATCH(A13,Fériés,0))),"JRS","FERI") -> JRS
A14: =IF(ROWS(Paramètres!$B$1:'Paramètres'!B14)-1<Paramètres!$B$2,Paramètres!$B$1+ROWS(Paramètres!$B$1:'Paramètres'!B14)-1,"") -> 42930 | B14: =IF(AND(WEEKDAY(A14,2)<6,ISERROR(MATCH(A14,Fériés,0))),"JRS","FERI") -> FERI | C14: A
A15: =IF(ROWS(Paramètres!$B$1:'Paramètres'!B15)-1<Paramètres!$B$2,Paramètres!$B$1+ROWS(Paramètres!$B$1:'Paramètres'!B15)-1,"") -> 42931 | B15: =IF(AND(WEEKDAY(A15,2)<6,ISERROR(MATCH(A15,Fériés,0))),"JRS","FERI") -> FERI | C15: A
A16: =IF(ROWS(Paramètres!$B$1:'Paramètres'!B16)-1<Paramètres!$B$2,Paramètres!$B$1+ROWS(Paramètres!$B$1:'Paramètres'!B16)-1,"") -> 42932 | B16: =IF(AND(WEEKDAY(A16,2)<6,ISERROR(MATCH(A16,Fériés,0))),"JRS","FERI") -> FERI | C16: A
A17: =IF(ROWS(Paramètres!$B$1:'Paramètres'!B17)-1<Paramètres!$B$2,Paramètres!$B$1+ROWS(Paramètres!$B$1:'Paramètres'!B17)-1,"") -> 42933 | B17: =IF(AND(WEEKDAY(A17,2)<6,ISERROR(MATCH(A17,Fériés,0))),"JRS","FERI") -> JRS | C17: A
A18: =IF(ROWS(Paramètres!$B$1:'Paramètres'!B18)-1<Paramètres!$B$2,Paramètres!$B$1+ROWS(Paramètres!$B$1:'Paramètres'!B18)-1,"") -> 42934 | B18: =IF(AND(WEEKDAY(A18,2)<6,ISERROR(MATCH(A18,Fériés,0))),"JRS","FERI") -> JRS | C18: A
A19: =IF(ROWS(Paramètres!$B$1:'Paramètres'!B19)-1<Paramètres!$B$2,Paramètres!$B$1+ROWS(Paramètres!$B$1:'Paramètres'!B19)-1,"") -> 42935 | B19: =IF(AND(WEEKDAY(A19,2)<6,ISERROR(MATCH(A19,Fériés,0))),"JRS","FERI") -> JRS | C19: A
A20: =IF(ROWS(Paramètres!$B$1:'Paramètres'!B20)-1<Paramètres!$B$2,Paramètres!$B$1+ROWS(Paramètres!$B$1:'Paramètres'!B20)-1,"") -> 42936 | B20: =IF(AND(WEEKDAY(A20,2)<6,ISERROR(MATCH(A20,Fériés,0))),"JRS","FERI") -> JRS | C20: A
A21: =IF(ROWS(Paramètres!$B$1:'Paramètres'!B21)-1<Paramètres!$B$2,Paramètres!$B$1+ROWS(Paramètres!$B$1:'Paramètres'!B21)-1,"") -> 42937 | B21: =IF(AND(WEEKDAY(A21,2)<6,ISERROR(MATCH(A21,Fériés,0))),"JRS","FERI") -> JRS
A22: =IF(ROWS(Paramètres!$B$1:'Paramètres'!B22)-1<Paramètres!$B$2,Paramètres!$B$1+ROWS(Paramètres!$B$1:'Paramètres'!B22)-1,"") -> 42938 | B22: =IF(AND(WEEKDAY(A22,2)<6,ISERROR(MATCH(A22,Fériés,0))),"JRS","FERI") -> FERI
A23: =IF(ROWS(Paramètres!$B$1:'Paramètres'!B23)-1<Paramètres!$B$2,Paramètres!$B$1+ROWS(Paramètres!$B$1:'Paramètres'!B23)-1,"") -> 42939 | B23: =IF(AND(WEEKDAY(A23,2)<6,ISERROR(MATCH(A23,Fériés,0))),"JRS","FERI") -> FERI | C23: A
A24: =IF(ROWS(Paramètres!$B$1:'Paramètres'!B24)-1<Paramètres!$B$2,Paramètres!$B$1+ROWS(Paramètres!$B$1:'Paramètres'!B24)-1,"") -> 42940 | B24: =IF(AND(WEEKDAY(A24,2)<6,ISERROR(MATCH(A24,Fériés,0))),"JRS","FERI") -> JRS
A25: =IF(ROWS(Paramètres!$B$1:'Paramètres'!B25)-1<Paramètres!$B$2,Paramètres!$B$1+ROWS(Paramètres!$B$1:'Paramètres'!B25)-1,"") -> 42941 | B25: =IF(AND(WEEKDAY(A25,2)<6,ISERROR(MATCH(A25,Fériés,0))),"JRS","FERI") -> JRS
A26: =IF(ROWS(Paramètres!$B$1:'Paramètres'!B26)-1<Paramètres!$B$2,Paramètres!$B$1+ROWS(Paramètres!$B$1:'Paramètres'!B26)-1,"") -> 42942 | B26: =IF(AND(WEEKDAY(A26,2)<6,ISERROR(MATCH(A26,Fériés,0))),"JRS","FERI") -> JRS
A27: =IF(ROWS(Paramètres!$B$1:'Paramètres'!B27)-1<Paramètres!$B$2,Paramètres!$B$1+ROWS(Paramètres!$B$1:'Paramètres'!B27)-1,"") -> 42943 | B27: =IF(AND(WEEKDAY(A27,2)<6,ISERROR(MATCH(A27,Fériés,0))),"JRS","FERI") -> JRS
A28: =IF(ROWS(Paramètres!$B$1:'Paramètres'!B28)-1<Paramètres!$B$2,Paramètres!$B$1+ROWS(Paramètres!$B$1:'Paramètres'!B28)-1,"") -> 42944 | B28: =IF(AND(WEEKDAY(A28,2)<6,ISERROR(MATCH(A28,Fériés,0))),"JRS","FERI") -> JRS
A29: =IF(ROWS(Paramètres!$B$1:'Paramètres'!B29)-1<Paramètres!$B$2,Paramètres!$B$1+ROWS(Paramètres!$B$1:'Paramètres'!B29)-1,"") -> 42945 | B29: =IF(AND(WEEKDAY(A29,2)<6,ISERROR(MATCH(A29,Fériés,0))),"JRS","FERI") -> FERI
A30: =IF(ROWS(Paramètres!$B$1:'Paramètres'!B30)-1<Paramètres!$B$2,Paramètres!$B$1+ROWS(Paramètres!$B$1:'Paramètres'!B30)-1,"") -> 42946 | B30: =IF(AND(WEEKDAY(A30,2)<6,ISERROR(MATCH(A30,Fériés,0))),"JRS","FERI") -> FERI
A31: =IF(ROWS(Paramètres!$B$1:'Paramètres'!B31)-1<Paramètres!$B$2,Paramètres!$B$1+ROWS(Paramètres!$B$1:'Paramètres'!B31)-1,"") -> 42947 | B31: =IF(AND(WEEKDAY(A31,2)<6,ISERROR(MATCH(A31,Fériés,0))),"JRS","FERI") -> JRS
A33: Total de jours en semaine non fériés | B33: TotJRS | C33: =COUNTIFS(C$1:C$31,"A",JSFERIE,"Jrs") -> 4 | D33: 4
A34: Total samedi ou dimanche isolé ou jours férié en semaine | B34: TotFeri | C34: =C38-(C35*2) -> 2 | D34: 2
A35: Total week-end entier (samedi+dimanche) | C35: =SUMPRODUCT((C1:C30="A")*(WEEKDAY(A1:A30)=7)*(C2:C31="A")*(WEEKDAY(A2:A31)=1)) -> 1 | D35: 1
A38: Formule pour trouver les isolés. | C38: =COUNTIFS(C$1:C$31,"A",JSFERIE,"Feri") -> 4
A40: 42917

Sheet Paramètres
A1: Mois considéré | B1: =Planning!A40 -> 42917 | D1: Liste_jours | F1: Fériés | G1: Année | I1: Liste_mois | J1: Liste_décalée | L1: Affectation | M1: Code affectation | O1: A
A2: Nombre de jours | B2: =DAY(EOMONTH(B1,0)) -> 31 | D2: =IF(ROWS($B$1:B1)-1<$B$2,$B$1+ROWS($B$1:B1)-1,"") -> 42917 | F2: =DATE(G2,1,1) -> 42736 | G2: =UPPER(TEXT(D11,"AAAA")) -> 2017 | I2: 41791 | J2: =EDATE(I2,2+(MONTH(I2)=6)*2+(OR(MONTH(I2)=7,MONTH(I2)=8))*1) -> 41913 | O2: PEN
A3: =UPPER(TEXT(B1,"mmmm AAAA")) -> JUILLET 2017 | D3: =IF(ROWS($B$1:B2)-1<$B$2,$B$1+ROWS($B$1:B2)-1,"") -> 42918 | F3: =ROUND(DATE(G2,4,MOD(234-11*MOD(G2,19),30))/7,)*7-6 -> 42841 | G3: Pâques | I3: 41821 | J3: =EDATE(I3,2+(MONTH(I3)=6)*2+(OR(MONTH(I3)=7,MONTH(I3)=8))*1) -> 41913 | O3: 6
D4: =IF(ROWS($B$1:B3)-1<$B$2,$B$1+ROWS($B$1:B3)-1,"") -> 42919 | F4: =SUM(F3+1) -> 42842 | G4: Lundi de Pâques | I4: 41852 | J4: =EDATE(I4,2+(MONTH(I4)=6)*2+(OR(MONTH(I4)=7,MONTH(I4)=8))*1) -> 41944 | O4: 7
D5: =IF(ROWS($B$1:B5)-1<$B$2,$B$1+ROWS($B$1:B5)-1,"") -> 42921 | F5: =DATE(G2,5,1) -> 42856 | G5: Fête du travail | I5: 41883 | J5: =EDATE(I5,2+(MONTH(I5)=6)*2+(OR(MONTH(I5)=7,MONTH(I5)=8))*1) -> 41944 | O5: 8
D6: =IF(ROWS($B$1:B6)-1<$B$2,$B$1+ROWS($B$1:B6)-1,"") -> 42922 | F6: =DATE(G2,5,8) -> 42863 | G6: Victoire 1945 | I6: 41913 | J6: =EDATE(I6,2+(MONTH(I6)=6)*2+(OR(MONTH(I6)=7,MONTH(I6)=8))*1) -> 41974 | O6: 9
D7: =IF(ROWS($B$1:B7)-1<$B$2,$B$1+ROWS($B$1:B7)-1,"") -> 42923 | F7: =F3+39 -> 42880 | G7: Ascension | I7: 41944 | J7: =EDATE(I7,2+(MONTH(I7)=6)*2+(OR(MONTH(I7)=7,MONTH(I7)=8))*1) -> 42005 | O7: 10
D8: =IF(ROWS($B$1:B8)-1<$B$2,$B$1+ROWS($B$1:B8)-1,"") -> 42924 | F8: =F3+49 -> 42890 | G8: Pentecôte | I8: 41974 | J8: =EDATE(I8,2+(MONTH(I8)=6)*2+(OR(MONTH(I8)=7,MONTH(I8)=8))*1) -> 42036 | O8: 11
D9: =IF(ROWS($B$1:B9)-1<$B$2,$B$1+ROWS($B$1:B9)-1,"") -> 42925 | F9: =F8+1 -> 42891 | G9: Lundi de Pentecôte | I9: 42005 | J9: =EDATE(I9,2+(MONTH(I9)=6)*2+(OR(MONTH(I9)=7,MONTH(I9)=8))*1) -> 42064 | O9: 12
D10: =IF(ROWS($B$1:B10)-1<$B$2,$B$1+ROWS($B$1:B10)-1,"") -> 42926 | F10: =DATE(G2,7,14) -> 42930 | G10: Fête Nationale | I10: 42036 | J10: =EDATE(I10,2+(MONTH(I10)=6)*2+(OR(MONTH(I10)=7,MONTH(I10)=8))*1) -> 42095 | O10: 13
D11: =IF(ROWS($B$1:B11)-1<$B$2,$B$1+ROWS($B$1:B11)-1,"") -> 42927 | F11: =DATE(G2,8,15) -> 42962 | G11: Assomption | I11: 42064 | J11: =EDATE(I11,2+(MONTH(I11)=6)*2+(OR(MONTH(I11)=7,MONTH(I11)=8))*1) -> 42125 | O11: 14
D12: =IF(ROWS($B$1:B12)-1<$B$2,$B$1+ROWS($B$1:B12)-1,"") -> 42928 | F12: =DATE(G2,11,1) -> 43040 | G12: Toussaint | I12: 42095 | J12: =EDATE(I12,2+(MONTH(I12)=6)*2+(OR(MONTH(I12)=7,MONTH(I12)=8))*1) -> 42156 | O12: 15
D13: =IF(ROWS($B$1:B13)-1<$B$2,$B$1+ROWS($B$1:B13)-1,"") -> 42929 | F13: =DATE(G2,11,11) -> 43050 | G13: Armistice 1914 | I13: 42125 | J13: =EDATE(I13,2+(MONTH(I13)=6)*2+(OR(MONTH(I13)=7,MONTH(I13)=8))*1) -> 42186
D14: =IF(ROWS($B$1:B14)-1<$B$2,$B$1+ROWS($B$1:B14)-1,"") -> 42930 | F14: =DATE(G2,12,25) -> 43094 | G14: Noël | I14: 42156 | J14: =EDATE(I14,2+(MONTH(I14)=6)*2+(OR(MONTH(I14)=7,MONTH(I14)=8))*1) -> 42278
D15: =IF(ROWS($B$1:B15)-1<$B$2,$B$1+ROWS($B$1:B15)-1,"") -> 42931 | I15: 42186 | J15: =EDATE(I15,2+(MONTH(I15)=6)*2+(OR(MONTH(I15)=7,MONTH(I15)=8))*1) -> 42278
D16: =IF(ROWS($B$1:B16)-1<$B$2,$B$1+ROWS($B$1:B16)-1,"") -> 42932 | I16: 42217 | J16: =EDATE(I16,2+(MONTH(I16)=6)*2+(OR(MONTH(I16)=7,MONTH(I16)=8))*1) -> 42309
D17: =IF(ROWS($B$1:B17)-1<$B$2,$B$1+ROWS($B$1:B17)-1,"") -> 42933 | I17: 42248 | J17: =EDATE(I17,2+(MONTH(I17)=6)*2+(OR(MONTH(I17)=7,MONTH(I17)=8))*1) -> 42309
D18: =IF(ROWS($B$1:B18)-1<$B$2,$B$1+ROWS($B$1:B18)-1,"") -> 42934 | I18: 42278 | J18: =EDATE(I18,2+(MONTH(I18)=6)*2+(OR(MONTH(I18)=7,MONTH(I18)=8))*1) -> 42339
D19: =IF(ROWS($B$1:B19)-1<$B$2,$B$1+ROWS($B$1:B19)-1,"") -> 42935 | I19: 42309 | J19: =EDATE(I19,2+(MONTH(I19)=6)*2+(OR(MONTH(I19)=7,MONTH(I19)=8))*1) -> 42370
D20: =IF(ROWS($B$1:B20)-1<$B$2,$B$1+ROWS($B$1:B20)-1,"") -> 42936 | I20: 42339 | J20: =EDATE(I20,2+(MONTH(I20)=6)*2+(OR(MONTH(I20)=7,MONTH(I20)=8))*1) -> 42401
D21: =IF(ROWS($B$1:B21)-1<$B$2,$B$1+ROWS($B$1:B21)-1,"") -> 42937 | I21: 42370 | J21: =EDATE(I21,2+(MONTH(I21)=6)*2+(OR(MONTH(I21)=7,MONTH(I21)=8))*1) -> 42430
D22: =IF(ROWS($B$1:B22)-1<$B$2,$B$1+ROWS($B$1:B22)-1,"") -> 42938 | I22: 42401 | J22: =EDATE(I22,2+(MONTH(I22)=6)*2+(OR(MONTH(I22)=7,MONTH(I22)=8))*1) -> 42461
D23: =IF(ROWS($B$1:B23)-1<$B$2,$B$1+ROWS($B$1:B23)-1,"") -> 42939 | I23: 42430 | J23: =EDATE(I23,2+(MONTH(I23)=6)*2+(OR(MONTH(I23)=7,MONTH(I23)=8))*1) -> 42491
D24: =IF(ROWS($B$1:B24)-1<$B$2,$B$1+ROWS($B$1:B24)-1,"") -> 42940 | I24: 42461 | J24: =EDATE(I24,2+(MONTH(I24)=6)*2+(OR(MONTH(I24)=7,MONTH(I24)=8))*1) -> 42522
D25: =IF(ROWS($B$1:B25)-1<$B$2,$B$1+ROWS($B$1:B25)-1,"") -> 42941 | I25: 42491 | J25: =EDATE(I25,2+(MONTH(I25)=6)*2+(OR(MONTH(I25)=7,MONTH(I25)=8))*1) -> 42552
D26: =IF(ROWS($B$1:B26)-1<$B$2,$B$1+ROWS($B$1:B26)-1,"") -> 42942 | I26: 42522 | J26: =EDATE(I26,2+(MONTH(I26)=6)*2+(OR(MONTH(I26)=7,MONTH(I26)=8))*1) -> 42644
... D30: =IF(ROWS($B$1:B30)-1<$B$2,$B$1+ROWS($B$1:B30)-1,"") -> 42946 | I30: 42644 | J30: =EDATE(I30,2+(MONTH(I30)=6)*2+(OR(MONTH(I30)=7,MONTH(I30)=8))*1) -> 42705
I31: 42675 | J31: =EDATE(I31,2+(MONTH(I31)=6)*2+(OR(MONTH(I31)=7,MONTH(I31)=8))*1) -> 42736
E32: =IF(ROWS($B$1:B32)-1<$B$2,$B$1+ROWS($B$1:B32)-1,"") | I32: 42705 | J32: =EDATE(I32,2+(MONTH(I32)=6)*2+(OR(MONTH(I32)=7,MONTH(I32)=8))*1) -> 42767
I33: 42736 | J33: =EDATE(I33,2+(MONTH(I33)=6)*2+(OR(MONTH(I33)=7,MONTH(I33)=8))*1) -> 42795
I34: 42767 | J34: =EDATE(I34,2+(MONTH(I34)=6)*2+(OR(MONTH(I34)=7,MONTH(I34)=8))*1) -> 42826
I35: 42795 | J35: =EDATE(I35,2+(MONTH(I35)=6)*2+(OR(MONTH(I35)=7,MONTH(I35)=8))*1) -> 42856
I36: 42826 | J36: =EDATE(I36,2+(MONTH(I36)=6)*2+(OR(MONTH(I36)=7,MONTH(I36)=8))*1) -> 42887
B37: =SUMPRODUCT((C1:C30="A")*(WEEKDAY(A1:A30)=7)*(C2:C31="A")*(WEEKDAY(A2:A31)=1)) -> #VALUE! | I37: 42856 | J37: =EDATE(I37,2+(MONTH(I37)=6)*2+(OR(MONTH(I37)=7,MONTH(I37)=8))*1) -> 42917
I38: 42887 | J38: =EDATE(I38,2+(MONTH(I38)=6)*2+(OR(MONTH(I38)=7,MONTH(I38)=8))*1) -> 43009
I39: 42917 | J39: =EDATE(I39,2+(MONTH(I39)=6)*2+(OR(MONTH(I39)=7,MONTH(I39)=8))*1) -> 43009
I40: 42948 | J40: =EDATE(I40,2+(MONTH(I40)=6)*2+(OR(MONTH(I40)=7,MONTH(I40)=8))*1) -> 43040
I41: 42979 | J41: =EDATE(I41,2+(MONTH(I41)=6)*2+(OR(MONTH(I41)=7,MONTH(I41)=8))*1) -> 43040
I42: 43009 | J42: =EDATE(I42,2+(MONTH(I42)=6)*2+(OR(MONTH(I42)=7,MONTH(I42)=8))*1) -> 43070
I43: 43040 | J43: =EDATE(I43,2+(MONTH(I43)=6)*2+(OR(MONTH(I43)=7,MONTH(I43)=8))*1) -> 43101
...
