Workbook

Sheet BD
A4: 1200 | B4: =RAND() -> 0.83328731 | C4: A1
A5: 1200 | B5: =RAND() -> 0.67384624 | C5: A2
A6: 1200 | B6: =RAND() -> 0.66295422 | C6: A3
A7: 1200 | B7: =RAND() -> 0.4259545 | C7: A4
A8: 1200 | B8: =RAND() -> 0.052943798 | C8: A5
A9: 1200 | B9: =RAND() -> 0.15349345 | C9: A6
A10: 1200 | B10: =RAND() -> 0.93852753 | C10: A7
A11: 1200 | B11: =RAND() -> 0.0029459154 | C11: A8
A12: 1200 | B12: =RAND() -> 0.061136037 | C12: A9
A13: 1200 | B13: =RAND() -> 0.57643699 | C13: A10
A14: 1200 | B14: =RAND() -> 0.76138701 | C14: A11
A15: 1200 | B15: =RAND() -> 0.60221543 | C15: A12
... A76: 1600 | B76: =RAND() -> 0.67340826 | C76: A73

Sheet Repart
C7: =VLOOKUP(SMALL(BD!$B$4:$C$76,COLUMN()),BD!$B$4:$C$76,2,0) -> A5 | D7: =VLOOKUP(SMALL(BD!$B$4:$C$76,COLUMN()),BD!$B$4:$C$76,2,0) -> A9 | E7: =VLOOKUP(SMALL(BD!$B$4:$C$76,COLUMN()),BD!$B$4:$C$76,2,0) -> A53 | F7: =VLOOKUP(SMALL(BD!$B$4:$C$76,COLUMN()),BD!$B$4:$C$76,2,0) -> A57 | G7: =VLOOKUP(SMALL(BD!$B$4:$C$76,COLUMN()),BD!$B$4:$C$76,2,0) -> A52 | H7: =VLOOKUP(SMALL(BD!$B$4:$C$76,COLUMN()),BD!$B$4:$C$76,2,0) -> A50 | I7: =VLOOKUP(SMALL(BD!$B$4:$C$76,COLUMN()),BD!$B$4:$C$76,2,0) -> A71 | J7: =VLOOKUP(SMALL(BD!$B$4:$C$76,COLUMN()),BD!$B$4:$C$76,2,0) -> A68 | ... L7: =VLOOKUP(SMALL(BD!$B$4:$C$76,COLUMN()),BD!$B$4:$C$76,2,0) -> A6
