Workbook

Sheet Outil de saisie
A1: Ecole | B1: 1 | D1: En bleu, zones de listes déroulantes qui correspondant aux trois variables
A2: Epreuve | B2: 2 | D2: Chaque école passent 4 épreuves. 4 jurys notent chacune des épreuves des écoles
A3: Jury | B3: 3
B4: Note | D4: Chaque épreuve est associé à des critères qui changent en fonction de l'épreuve
A5: Critére | B5: 2 | D5: Ici non automatisé
A6: Critére | B6: 2
A7: Critére | B7: 2
A8: Critére | B8: 2
A9: Critére | B9: 2
A10: Critére | B10: 2
A12: Total | B12: =SUM(B5:B10) -> 12 | D12: En fonction de la saisie des notes en face de chaque critère la somme est calculée pour avoir un total
E15: Je souhaiterai faire un bouton pour enregistrer ce résultat dans un tableau correspondant dans un autre onglet
E16: Sachant que chaque résultat est associé à un code concaténer (voir onglet suivant)
E17: si école 1, épreuve 1 et jury 1 code 111

Sheet Fiche Résultat
A1: Ecole 1
D3: Jury 1 | E3: jury 2 | F3: Jury 3 | G3: Jury 4 | H3: Moyenne | L3: Exemple avec l'école 1
A4: Epreuve 1 | D4: =IF($F$22="111",'Outil de saisie'!$B$12,"") | E4: =IF($F$22="121",'Outil de saisie'!$B$12,"") | F4: =IF($F$22="131",'Outil de saisie'!$B$12,"") | G4: =IF($F$22="141",'Outil de saisie'!$B$12,"") | H4: =AVERAGE(D4:G4) -> #DIV/0!
A6: Epreuve 2 | D6: =IF($F$22="112",'Outil de saisie'!$B$12,"") | E6: =IF($F$22="122",'Outil de saisie'!$B$12,"") | F6: =IF($F$22="132",'Outil de saisie'!$B$12,"") -> 12 | G6: =IF($F$22="142",'Outil de saisie'!$B$12,"") | H6: =AVERAGE(D6:G6) -> 12
A8: Epreuve 3 | D8: =IF($F$22="113",'Outil de saisie'!$B$12,"") | E8: =IF($F$22="123",'Outil de saisie'!$B$12,"") | F8: =IF($F$22="133",'Outil de saisie'!$B$12,"") | G8: =IF($F$22="143",'Outil de saisie'!$B$12,"") | H8: =AVERAGE(D8:G8) -> #DIV/0!
A10: Epreuve 4 | D10: =IF($F$22="114",'Outil de saisie'!$B$12,"") | E10: =IF($F$22="124",'Outil de saisie'!$B$12,"") | F10: =IF($F$22="134",'Outil de saisie'!$B$12,"") | G10: =IF($F$22="144",'Outil de saisie'!$B$12,"") | H10: =AVERAGE(D10:G10) -> #DIV/0!
F12: Moyenne générale | H12: =AVERAGE(H4:H10) -> #DIV/0!
B19: Exemple Formule dans chaque case : si code = 111 alors la case = la valeur de la moyenne
A21: Lycée | B21: Jury | C21: Epreuves | F21: Concaténer
A22: ='Outil de saisie'!B1 -> 1 | B22: ='Outil de saisie'!B3 -> 3 | C22: ='Outil de saisie'!B2 -> 2 | F22: =A22&B22&C22 -> 132
