Workbook
Name _13m: '[1]indem expat'!$C$15
Name Animatlog: #REF!
Name Animatlog: #REF!
Name Animatlog: #REF!
Name annee: #REF!
Name annee: #REF!
Name annee: #REF!
Name annee: #REF!
Name annee: #REF!
Name bud: #REF!
Name bud: #REF!
Name bud: #REF!
Name bud: #REF!
Name bud: #REF!
Name cong: '[1]indem expat'!$C$17
Name coût_standard: #REF!
Name coût_standard: #REF!
Name coût_standard: #REF!
Name coût_standard: #REF!
Name coût_standard: #REF!
Name coût_total: #REF!
Name coût_total: #REF!
Name coût_total: #REF!
Name coût_total: #REF!
Name coût_total: #REF!
Name coûts_directs: #REF!
Name coûts_directs: #REF!
Name coûts_directs: #REF!
Name coûts_directs: #REF!
Name coûts_directs: #REF!
Name coûts_suivi: #REF!
Name coûts_suivi: #REF!
Name coûts_suivi: #REF!
Name coûts_suivi: #REF!
Name coûts_suivi: #REF!
Name cpte: #REF!
Name cpte: #REF!
Name cpte: #REF!
Name cpte: #REF!
Name cpte: #REF!
Name critera: #REF!
Name critera: #REF!
Name critera: #REF!
Name critera: #REF!
Name critera: #REF!
Name dd: #REF!
Name dd: #REF!
Name dd: #REF!
Name dev: #REF!
Name dev: #REF!
Name dev: #REF!
Name dev: #REF!
Name dev: #REF!
Name fincont: '[1]indem expat'!$C$16
Name GRC: '[1]Grille de référence'!$C$6:$E$12
Name GRNC: '[1]Grille de référence'!$I$6:$K$9
Name joursex: '[2]prix de revient'!$AC$2
Name joursiege: '[2]prix de revient'!$AC$1
Name matFS: #REF!
Name matFS: #REF!

Sheet Positionnement

Sheet Grille rémunération (ok)

Sheet Coûts salariaux actuels (ok)
A1: Coûts salariaux GRET CG
A3: Noms et prénoms | B3: Classification | D3: a. Salaire de base | G3: Primes et indemnités fiscalisées | O3: b. Salaire brut | R3: Charges sociales employé | W3: Charges de l'employeur | AE3: c. Salaire net | AH3: nb parts | AJ3: Avantages | AQ3: d. Salaire net à payer | AT3: 13e mois | AV3: Salaire net 13e mois inclus | AY3: type de contrat | AZ3: durée (année) | BA3: Indemnité de fin de contrat | BD3: Provision formation (2%) | BG3: Marges d'augmentation | BJ3: f. Coût salarial global mensuel | BM3: f. Coût salarial global annuel
D4: F Cfa | E4: € | G4: (Dé) localisation | H4: Frais pro et assimilés | I4: Assiduité | J4: Heures sup. except. | K4: Logement | L4: Prime de salissure | M4: Responsabilité | O4: XAF | P4: € | R4: Cnss employé | S4: base Irpp | T4: Taxe régionale | U4: IRPP employé | W4: Cnss Pvid | X4: Cnss AF | Y4: Cnss AT/MP | Z4: Visites médicales | AA4: TUS | AB4: Assurance globale annuelle | AC4: Assurance expatriation | AE4: XAF | AF4: € | AJ4: Transport | AK4: Santé | AL4: Panier | AM4: Expatriation | AN4: Supplément famille | AO4: Rep | AQ4: XAF | AR4: € | AT4: XAF | AU4: € | AV4: XAF | AW4: € | BA4: F CFA | BB4: € | BD4: F Cfa | BE4: € | BG4: F Cfa | BH4: € | BJ4: (F Cfa) | BK4: (€) | BM4: (F Cfa) | BN4: (€)
A6: I. Personnel local
A8: GANDZOUNOU MAKANY Presley | B8: ='[4]Par filière métier'!A36 -> Agent administratif | D8: =+#REF! -> #REF! | E8: =D8/655.957 -> #REF! | G8: 0 | H8: 0 | I8: 0 | J8: 0 | K8: 0 | L8: 10000 | M8: 0 | O8: =SUM(D8,G8:M8) -> #REF! | P8: =O8/655.957 -> #REF! | R8: =O8*4% -> #REF! | S8: =(O8-R8)*80% -> #REF! | T8: =24000/12 -> 2000 | U8: 7750 | W8: =8%*O8 -> #REF! | X8: =O8*10.03% -> #REF! | Y8: =O8*2.25% -> #REF! | Z8: =15000/12 -> 1250 | AA8: =O8*7.5% -> #REF! | AE8: =O8-R8-U8-T8 -> #REF! | AF8: =S8/655.957 -> #REF! | AH8: 2 | AJ8: 40000 | AK8: 25000 | AL8: 12000 | AQ8: =AE8+AJ8+AK8+AL8+AM8+AN8+AO8 -> #REF! | AR8: =+AQ8/655.957 -> #REF! | AT8: =(O8-R8-U8)/12 -> #REF! | AU8: =+AT8/655.957 -> #REF! | AV8: =(AT8/12)+AQ8 -> #REF! | AW8: =+AV8/655.957 -> #REF! | AY8: CDI | BA8: =((D8*25%)*6)/12 -> #REF! | BB8: =+BA8/655.957 -> #REF! | BD8: =O8*0.02 -> #REF! | BE8: =BD8/655.957 -> #REF! | BG8: =(D8/36)*10 -> #REF! | BH8: =BG8/655.957 -> #REF! | BJ8: =SUM(O8,Z8,AA8,AC8,AJ8,AK8,AL8,AM8,AN8,AO8,AT8,BA8,BD8,BG8) -> #REF! | BK8: =BJ8/655.957 -> #REF! | BM8: =BJ8*10 -> #REF! | BN8: =BM8/655.957 -> #REF!
A9: GANDZOUNOU MATOMBOU Reiye | B9: ='[4]Par filière métier'!A5 -> Coordinateur niveau 1 | D9: =#REF! -> #REF! | E9: =D9/655.957 -> #REF! | G9: 0 | H9: 0 | I9: 0 | J9: 0 | K9: 0 | L9: 0 | M9: 133000 | O9: =SUM(D9,G9:M9) -> #REF! | P9: =O9/655.957 -> #REF! | R9: =O9*4% -> #REF! | S9: =(O9-R9)*80% -> #REF! | T9: =24000/12 -> 2000 | U9: 165791 | W9: =8%*O9 -> #REF! | X9: =O9*10.03% -> #REF! | Y9: =O9*2.25% -> #REF! | Z9: =15000/12 -> 1250 | AA9: =O9*7.5% -> #REF! | AE9: =O9-R9-U9-T9 -> #REF! | AF9: =S9/655.957 -> #REF! | AH9: 4.5 | AJ9: 40000 | AK9: ='[4]Grille rémunération'!F16 -> 85000 | AL9: 12000 | AO9: 50000 | AQ9: =AE9+AJ9+AK9+AL9+AM9+AN9+AO9 -> #REF! | AR9: =+AQ9/655.957 -> #REF! | AT9: =(O9-R9-U9)/12 -> #REF! | AU9: =+AT9/655.957 -> #REF! | AV9: =(AT9/12)+AQ9 -> #REF! | AW9: =+AV9/655.957 -> #REF! | AY9: CDI | BA9: =((D9*25%)*6)/12 -> #REF! | BB9: =+BA9/655.957 -> #REF! | BD9: =O9*0.02 -> #REF! | BE9: =BD9/655.957 -> #REF! | BG9: =(D9/36)*10 -> #REF! | BH9: =BG9/655.957 -> #REF! | BJ9: =SUM(O9,Z9,AA9,AC9,AJ9,AK9,AL9,AM9,AN9,AO9,AT9,BA9,BD9,BG9) -> #REF! | BK9: =BJ9/655.957 -> #REF! | BM9: =BJ9*12 -> #REF! | BN9: =BM9/655.957 -> #REF!
A10: MILANDOU Pascal | B10: ='[4]Par filière métier'!A27 -> Responsable administratif niv 2 | D10: 395000 | E10: =D10/655.957 -> 602.17362 | G10: 0 | H10: 0 | I10: 0 | J10: 0 | K10: 0 | L10: 0 | M10: 20000 | O10: =SUM(D10,G10:M10) -> 415000 | P10: =O10/655.957 -> 632.66342 | R10: =O10*4% -> 16600 | S10: =(O10-R10)*80% -> 318720 | T10: =24000/12 -> 2000 | U10: 33687 | W10: =8%*O10 -> 33200 | X10: =O10*10.03% -> 41624.5 | Y10: =O10*2.25% -> 9337.5 | Z10: =15000/12 -> 1250 | AA10: =O10*7.5% -> 31125 | AE10: =O10-R10-U10-T10 -> 362713 | AF10: =S10/655.957 -> 485.88551 | AH10: 4 | AJ10: 40000 | AK10: 75000 | AL10: 12000 | AQ10: =AE10+AJ10+AK10+AL10+AM10+AN10+AO10 -> 489713 | AR10: =+AQ10/655.957 -> 746.56266 | AT10: =(O10-R10-U10)/12 -> 30392.75 | AU10: =+AT10/655.957 -> 46.333449 | AV10: =(AT10/12)+AQ10 -> 492245.73 | AW10: =+AV10/655.957 -> 750.42378 | AY10: CDI | BA10: =((D10*25%)*6)/12 -> 49375 | BB10: =+BA10/655.957 -> 75.271702 | BD10: =O10*0.02 -> 8300 | BE10: =BD10/655.957 -> 12.653268 | BG10: =(D10/36)*10 -> 109722.22 | BH10: =BG10/655.957 -> 167.27045 | BJ10: =SUM(O10,Z10,AA10,AC10,AJ10,AK10,AL10,AM10,AN10,AO10,AT10,BA10,BD10,BG10) -> 772164.97 | BK10: =BJ10/655.957 -> 1177.1579 | BM10: =BJ10*12 -> 9265979.7 | BN10: =BM10/655.957 -> 14125.895
A11: KOUAKOUA KEDJOUANI Armel | B11: ='[4]Par filière métier'!A10 -> Responsable opérationnel | D11: =#REF! -> #REF! | E11: =D11/655.957 -> #REF! | G11: 0 | H11: 0 | I11: 0 | J11: 0 | K11: 0 | L11: 0 | M11: 0 | O11: =SUM(D11,G11:M11) -> #REF! | P11: =O11/655.957 -> #REF! | R11: =O11*4% -> #REF! | S11: =(O11-R11)*80% -> #REF! | T11: =24000/12 -> 2000 | U11: 26958 | W11: =8%*O11 -> #REF! | X11: =O11*10.03% -> #REF! | Y11: =O11*2.25% -> #REF! | Z11: =15000/12 -> 1250 | AA11: =O11*7.5% -> #REF! | AE11: =O11-R11-U11-T11 -> #REF! | AF11: =S11/655.957 -> #REF! | AH11: 3 | AJ11: 40000 | AK11: ='[4]Grille rémunération'!F10 -> 30000 | AL11: 12000 | AQ11: =AE11+AJ11+AK11+AL11+AM11+AN11+AO11 -> #REF! | AR11: =+AQ11/655.957 -> #REF! | AT11: =(O11-AJ11-AK11-AL11-AM11-AN11-AO11)/12 -> #REF! | AU11: =+AT11/655.957 -> #REF! | AV11: =(AT11/12)+AQ11 -> #REF! | AW11: =+AV11/655.957 -> #REF! | AY11: CDI | BA11: =((D11*25%)*6)/12 -> #REF! | BB11: =+BA11/655.957 -> #REF! | BD11: =O11*0.02 -> #REF! | BE11: =BD11/655.957 -> #REF! | BG11: =(D11/36)*10 -> #REF! | BH11: =BG11/655.957 -> #REF! | BJ11: =SUM(O11,Z11,AA11,AC11,AJ11,AK11,AL11,AM11,AN11,AO11,AT11,BA11,BD11,BG11) -> #REF! | BK11: =BJ11/655.957 -> #REF! | BM11: =BJ11*12 -> #REF! | BN11: =BM11/655.957 -> #REF!
A12: MOUKENDI MAWEJA Stève | B12: ='[4]Par filière métier'!A10 -> Responsable opérationnel | D12: ='[4]GI Moukendi'!C49 -> 365000 | E12: =D12/655.957 -> 556.43891 | G12: 0 | H12: 0 | I12: 0 | J12: 0 | K12: 0 | L12: 0 | M12: 0 | O12: =SUM(D12,G12:M12) -> 365000 | P12: =O12/655.957 -> 556.43891 | R12: =O12*4% -> 14600 | S12: =(O12-R12)*80% -> 280320 | T12: =24000/12 -> 2000 | U12: 33666 | W12: =8%*O12 -> 29200 | X12: =O12*10.03% -> 36609.5 | Y12: =O12*2.25% -> 8212.5 | Z12: =15000/12 -> 1250 | AA12: =O12*7.5% -> 27375 | AE12: =O12-R12-U12-T12 -> 314734 | AF12: =S12/655.957 -> 427.34509 | AH12: 2 | AJ12: 40000 | AK12: ='[4]Grille rémunération'!F10 -> 30000 | AL12: 12000 | AQ12: =AE12+AJ12+AK12+AL12+AM12+AN12+AO12 -> 396734 | AR12: =+AQ12/655.957 -> 604.81708 | AT12: =(O12-R12-U12)/12 -> 26394.5 | AU12: =+AT12/655.957 -> 40.238156 | AV12: =(AT12/12)+AQ12 -> 398933.54 | AW12: =+AV12/655.957 -> 608.17026 | AY12: CDI | BA12: =((D12*25%)*6)/12 -> 45625 | BB12: =+BA12/655.957 -> 69.554864 | BD12: =O12*0.02 -> 7300 | BE12: =BD12/655.957 -> 11.128778 | BG12: =(D12/36)*10 -> 101388.89 | BH12: =BG12/655.957 -> 154.56636 | BJ12: =SUM(O12,Z12,AA12,AC12,AJ12,AK12,AL12,AM12,AN12,AO12,AT12,BA12,BD12,BG12) -> 656333.39 | BK12: =BJ12/655.957 -> 1000.5738 | BM12: =BJ12*12 -> 7876000.7 | BN12: =BM12/655.957 -> 12006.886
A13: MANTE Elite Mylla | B13: ='[4]Par filière métier'!A8 -> Responsable opérationnel confirmé | D13: 420000 | E13: =D13/655.957 -> 640.28587 | G13: 0 | H13: 0 | I13: 0 | J13: 0 | K13: 0 | L13: 0 | M13: 80000 | O13: =SUM(D13,G13:M13) -> 500000 | P13: =O13/655.957 -> 762.24509 | R13: =O13*4% -> 20000 | S13: =(O13-R13)*80% -> 384000 | T13: =24000/12 -> 2000 | U13: 55750 | W13: =8%*O13 -> 40000 | X13: =O13*10.03% -> 50150 | Y13: =O13*2.25% -> 11250 | Z13: =15000/12 -> 1250 | AA13: =O13*7.5% -> 37500 | AE13: =O13-R13-U13-T13 -> 422250 | AF13: =S13/655.957 -> 585.40423 | AH13: 3.5 | AJ13: 40000 | AK13: ='[4]Grille rémunération'!F15 -> 75000 | AL13: 12000 | AQ13: =AE13+AJ13+AK13+AL13+AM13+AN13+AO13 -> 549250 | AR13: =+AQ13/655.957 -> 837.32623 | AT13: =(O13-R13-U13)/12 -> 35354.167 | AU13: =+AT13/655.957 -> 53.89708 | AV13: =(AT13/12)+AQ13 -> 552196.18 | AW13: =+AV13/655.957 -> 841.81765 | AY13: CDI | BA13: =((D13*25%)*6)/12 -> 52500 | BB13: =+BA13/655.957 -> 80.035734 | BD13: =O13*0.02 -> 10000 | BE13: =BD13/655.957 -> 15.244902 | BG13: =(D13/36)*10 -> 116666.67 | BH13: =BG13/655.957 -> 177.85719 | BJ13: =SUM(O13,Z13,AA13,AC13,AJ13,AK13,AL13,AM13,AN13,AO13,AT13,BA13,BD13,BG13) -> 880270.83 | BK13: =BJ13/655.957 -> 1341.9642 | BM13: =BJ13*12 -> 10563250 | BN13: =BM13/655.957 -> 16103.571
A14: KONDO MOUHINGOU Aldyss Jarland | B14: =+'[4]GSR Kondo'!B6 -> Agent administratif | D14: 180000 | E14: =D14/655.957 -> 274.40823 | G14: 0 | H14: 0 | I14: 0 | J14: 0 | K14: 0 | L14: 0 | M14: 20000 | O14: =SUM(D14,G14:M14) -> 200000 | P14: =O14/655.957 -> 304.89803 | R14: =O14*4% -> 8000 | S14: =(O14-R14)*80% -> 153600 | T14: =24000/12 -> 2000 | U14: 10866 | W14: =8%*O14 -> 16000 | X14: =O14*10.03% -> 20060 | Y14: =O14*2.25% -> 4500 | Z14: =15000/12 -> 1250 | AA14: =O14*7.5% -> 15000 | AE14: =O14-R14-U14-T14 -> 179134 | AF14: =S14/655.957 -> 234.16169 | AH14: 3.5 | AJ14: 40000 | AK14: 55000 | AL14: 12000 | AQ14: =AE14+AJ14+AK14+AL14+AM14+AN14+AO14 -> 286134 | AR14: =+AQ14/655.957 -> 436.20847 | AT14: =(O14-R14-U14)/12 -> 15094.5 | AU14: =+AT14/655.957 -> 23.011417 | AV14: =(AT14/12)+AQ14 -> 287391.88 | AW14: =+AV14/655.957 -> 438.12609 | AY14: CDD | AZ14: 3 | BA14: =((D14*25%)*3)/12 -> 11250 | BB14: =+BA14/655.957 -> 17.150514 | BD14: =O14*0.02 -> 4000 | BE14: =BD14/655.957 -> 6.0979607 | BG14: =(D14/36)*10 -> 50000 | BH14: =BG14/655.957 -> 76.224509 | BJ14: =SUM(O14,Z14,AA14,AC14,AJ14,AK14,AL14,AM14,AN14,AO14,AT14,BA14,BD14,BG14) -> 403594.5 | BK14: =BJ14/655.957 -> 615.27585 | BM14: =BJ14*12 -> 4843134 | BN14: =BM14/655.957 -> 7383.3102
A15: NKIE Armel | B15: ='[4]Par filière métier'!A18 -> Agent technique | D15: ='[4]GI Nkié'!C50 -> 190000 | E15: =D15/655.957 -> 289.65313 | G15: 0 | H15: 0 | I15: 0 | J15: 0 | K15: 0 | L15: 0 | M15: 0 | O15: =SUM(D15,G15:M15) -> 190000 | P15: =O15/655.957 -> 289.65313 | R15: =O15*4% -> 7600 | S15: =(O15-R15)*80% -> 145920 | T15: =24000/12 -> 2000 | U15: 9291 | W15: =8%*O15 -> 15200 | X15: =O15*10.03% -> 19057 | Y15: =O15*2.25% -> 4275 | Z15: =15000/12 -> 1250 | AA15: =O15*7.5% -> 14250 | AE15: =O15-R15-U15-T15 -> 171109 | AF15: =S15/655.957 -> 222.45361 | AH15: 1 | AJ15: 40000 | AK15: ='[4]Grille rémunération'!F9 -> 25000 | AL15: 12000 | AQ15: =AE15+AJ15+AK15+AL15+AM15+AN15+AO15 -> 248109 | AR15: =+AQ15/655.957 -> 378.23973 | AT15: =(O15-R15-U15)/12 -> 14425.75 | AU15: =+AT15/655.957 -> 21.991914 | AV15: =(AT15/12)+AQ15 -> 249311.15 | AW15: =+AV15/655.957 -> 380.07239 | AY15: CDI | BA15: =((D15*25%)*6)/12 -> 23750 | BB15: =+BA15/655.957 -> 36.206642 | BD15: =O15*0.02 -> 3800 | BE15: =BD15/655.957 -> 5.7930627 | BG15: =(D15/36)*10 -> 52777.778 | BH15: =BG15/655.957 -> 80.459204 | BJ15: =SUM(O15,Z15,AA15,AC15,AJ15,AK15,AL15,AM15,AN15,AO15,AT15,BA15,BD15,BG15) -> 377253.53 | BK15: =BJ15/655.957 -> 575.1193 | BM15: =BJ15*12 -> 4527042.3 | BN15: =BM15/655.957 -> 6901.4315
A16: DAKE Muthis Arries | B16: ='[4]Par filière métier'!A18 -> Agent technique | D16: ='[4]GI Dake'!C50 -> 170000 | E16: =D16/655.957 -> 259.16333 | G16: 0 | H16: 0 | I16: 0 | J16: 0 | K16: 0 | L16: 0 | M16: 0 | O16: =SUM(D16,G16:M16) -> 170000 | P16: =O16/655.957 -> 259.16333 | R16: =O16*4% -> 6800 | S16: =(O16-R16)*80% -> 130560 | T16: =24000/12 -> 2000 | U16: 7758 | W16: =8%*O16 -> 13600 | X16: =O16*10.03% -> 17051 | Y16: =O16*2.25% -> 3825 | Z16: =15000/12 -> 1250 | AA16: =O16*7.5% -> 12750 | AE16: =O16-R16-U16-T16 -> 153442 | AF16: =S16/655.957 -> 199.03744 | AH16: 2 | AJ16: 40000 | AK16: ='[4]GI Dake'!B55 -> 30000 | AL16: 12000 | AQ16: =AE16+AJ16+AK16+AL16+AM16+AN16+AO16 -> 235442 | AR16: =+AQ16/655.957 -> 358.92902 | AT16: =(O16-R16-U16)/12 -> 12953.5 | AU16: =+AT16/655.957 -> 19.747483 | AV16: =(AT16/12)+AQ16 -> 236521.46 | AW16: =+AV16/655.957 -> 360.57464 | AY16: CDI | BA16: =((D16*25%)*6)/12 -> 21250 | BB16: =+BA16/655.957 -> 32.395416 | BD16: =O16*0.02 -> 3400 | BE16: =BD16/655.957 -> 5.1832666 | BG16: =(D16/36)*10 -> 47222.222 | BH16: =BG16/655.957 -> 71.989814 | BJ16: =SUM(O16,Z16,AA16,AC16,AJ16,AK16,AL16,AM16,AN16,AO16,AT16,BA16,BD16,BG16) -> 350825.72 | BK16: =BJ16/655.957 -> 534.83037 | BM16: =BJ16*12 -> 4209908.7 | BN16: =BM16/655.957 -> 6417.9644
A17: KOUTOUMA NSONA Raïssa Edwige | B17: =+'[4]GI Koutouna'!A36 -> Agent technique | D17: ='[4]GI Koutouna'!C50 -> 240000 | E17: =D17/655.957 -> 365.87764 | G17: 0 | H17: 0 | I17: 0 | J17: 0 | K17: 0 | L17: 0 | M17: 0 | O17: =SUM(D17,G17:M17) -> 240000 | P17: =O17/655.957 -> 365.87764 | R17: =O17*4% -> 9600 | S17: =(O17-R17)*80% -> 184320 | T17: =24000/12 -> 2000 | U17: 12383 | W17: =8%*O17 -> 19200 | X17: =O17*10.03% -> 24072 | Y17: =O17*2.25% -> 5400 | Z17: =15000/12 -> 1250 | AA17: =O17*7.5% -> 18000 | AE17: =O17-R17-U17-T17 -> 216017 | AF17: =S17/655.957 -> 280.99403 | AH17: 2 | AJ17: ='[4]GI Koutouna'!B53 -> 40000 | AK17: 40000 | AL17: 12000 | AQ17: =AE17+AJ17+AK17+AL17+AM17+AN17+AO17 -> 308017 | AR17: =+AQ17/655.957 -> 469.56889 | AT17: =(O17-R17-U17)/12 -> 18168.083 | AU17: =+AT17/655.957 -> 27.697064 | AV17: =(AT17/12)+AQ17 -> 309531.01 | AW17: =+AV17/655.957 -> 471.87698 | AY17: CDI | BA17: =((D17*25%)*6)/12 -> 30000 | BB17: =+BA17/655.957 -> 45.734705 | BD17: =O17*0.02 -> 4800 | BE17: =BD17/655.957 -> 7.3175528 | BG17: =(D17/36)*10 -> 66666.667 | BH17: =BG17/655.957 -> 101.63268 | BJ17: =SUM(O17,Z17,AA17,AC17,AJ17,AK17,AL17,AM17,AN17,AO17,AT17,BA17,BD17,BG17) -> 470884.75 | BK17: =BJ17/655.957 -> 717.85917 | BM17: =BJ17*12 -> 5650617 | BN17: =BM17/655.957 -> 8614.3101
A18: MAYIMA Hervé | B18: ='[4]Par filière métier'!A31 -> Assistant administratif | D18: 320000 | E18: =D18/655.957 -> 487.83686 | G18: 0 | H18: 0 | I18: 0 | J18: 0 | K18: 0 | L18: 0 | M18: 0 | O18: =SUM(D18,G18:M18) -> 320000 | P18: =O18/655.957 -> 487.83686 | R18: =O18*4% -> 12800 | S18: =(O18-R18)*80% -> 245760 | T18: =24000/12 -> 2000 | U18: 34625 | W18: =8%*O18 -> 25600 | X18: =O18*10.03% -> 32096 | Y18: =O18*2.25% -> 7200 | Z18: =15000/12 -> 1250 | AA18: =O18*7.5% -> 24000 | AE18: =O18-R18-U18-T18 -> 270575 | AF18: =S18/655.957 -> 374.6587 | AH18: 2 | AJ18: ='[4]GSI Serge'!B53 -> 40000 | AK18: 30000 | AL18: 12000 | AQ18: =AE18+AJ18+AK18+AL18+AM18+AN18+AO18 -> 352575 | AR18: =+AQ18/655.957 -> 537.49712 | AT18: =(O18-R18-U18)/12 -> 22714.583 | AU18: =+AT18/655.957 -> 34.628159 | AV18: =(AT18/12)+AQ18 -> 354467.88 | AW18: =+AV18/655.957 -> 540.3828 | AY18: CDD | AZ18: 3 | BA18: =((D18*25%)*3)/12 -> 20000 | BB18: =+BA18/655.957 -> 30.489803 | BD18: =O18*0.02 -> 6400 | BE18: =BD18/655.957 -> 9.7567371 | BG18: =(D18/36)*10 -> 88888.889 | BH18: =BG18/655.957 -> 135.51024 | BJ18: =SUM(O18,Z18,AA18,AC18,AJ18,AK18,AL18,AM18,AN18,AO18,AT18,BA18,BD18,BG18) -> 565253.47 | BK18: =BJ18/655.957 -> 861.72336 | BM18: =BJ18*12 -> 6783041.7 | BN18: =BM18/655.957 -> 10340.68
A19: NSEMBO Arnaud Valère | B19: Employé | D19: 55000 | E19: =D19/655.957 -> 83.846959 | G19: 0 | H19: 0 | I19: 0 | J19: 0 | K19: 0 | L19: 0 | M19: 0 | O19: =SUM(D19,G19:M19) -> 55000 | P19: =O19/655.957 -> 83.846959 | R19: =O19*4% -> 2200 | S19: =(O19-R19)*80% -> 42240 | T19: =24000/12 -> 2000 | U19: 422 | W19: =8%*O19 -> 4400 | X19: =O19*10.03% -> 5516.5 | Y19: =O19*2.25% -> 1237.5 | Z19: =15000/12 -> 1250 | AA19: =O19*7.5% -> 4125 | AB19: =(169964/2)/12 -> 7081.8333 | AE19: =O19-R19-U19-T19 -> 50378 | AF19: =S19/655.957 -> 64.394465 | AH19: 3 | AJ19: 25000 | AK19: 30000 | AQ19: =AE19+AJ19+AK19+AL19+AM19+AN19+AO19 -> 105378 | AR19: =+AQ19/655.957 -> 160.64773 | AT19: =(O19-R19-U19)/12 -> 4364.8333 | AU19: =+AT19/655.957 -> 6.6541455 | AV19: =(AT19/12)+AQ19 -> 105741.74 | AW19: =+AV19/655.957 -> 161.20224 | AY19: CDD | AZ19: 3 | BA19: =((D19*25%)*3)/12 -> 3437.5 | BB19: =+BA19/655.957 -> 5.240435 | BD19: =O19*0.02 -> 1100 | BE19: =BD19/655.957 -> 1.6769392 | BG19: =(D19/36)*10 -> 15277.778 | BH19: =BG19/655.957 -> 23.290822 | BJ19: =SUM(O19,Z19,AA19,AC19,AJ19,AK19,AL19,AM19,AN19,AO19,AT19,BA19,BD19,BG19) -> 139555.11 | BK19: =BJ19/655.957 -> 212.7504 | BM19: =BJ19*12 -> 1674661.3 | BN19: =BM19/655.957 -> 2553.0047
A20: SAMBA Tedy Arly | B20: Employé | D20: 55000 | E20: =D20/655.957 -> 83.846959 | G20: 0 | H20: 0 | I20: 0 | J20: 0 | K20: 0 | L20: 0 | M20: 0 | O20: =SUM(D20,G20:M20) -> 55000 | P20: =O20/655.957 -> 83.846959 | R20: =O20*4% -> 2200 | S20: =(O20-R20)*80% -> 42240 | T20: =24000/12 -> 2000 | U20: 422 | W20: =8%*O20 -> 4400 | X20: =O20*10.03% -> 5516.5 | Y20: =O20*2.25% -> 1237.5 | Z20: =15000/12 -> 1250 | AA20: =O20*7.5% -> 4125 | AB20: =(169964/2)/12 -> 7081.8333 | AE20: =O20-R20-U20-T20 -> 50378 | AF20: =S20/655.957 -> 64.394465 | AH20: 4 | AJ20: 25000 | AK20: 30000 | AQ20: =AE20+AJ20+AK20+AL20+AM20+AN20+AO20 -> 105378 | AR20: =+AQ20/655.957 -> 160.64773 | AT20: =(O20-R20-U20)/12 -> 4364.8333 | AU20: =+AT20/655.957 -> 6.6541455 | AV20: =(AT20/12)+AQ20 -> 105741.74 | AW20: =+AV20/655.957 -> 161.20224 | AY20: CDD | AZ20: 3 | BA20: =((D20*25%)*3)/12 -> 3437.5 | BB20: =+BA20/655.957 -> 5.240435 | BD20: =O20*0.02 -> 1100 | BE20: =BD20/655.957 -> 1.6769392 | BG20: =(D20/36)*10 -> 15277.778 | BH20: =BG20/655.957 -> 23.290822 | BJ20: =SUM(O20,Z20,AA20,AC20,AJ20,AK20,AL20,AM20,AN20,AO20,AT20,BA20,BD20,BG20) -> 139555.11 | BK20: =BJ20/655.957 -> 212.7504 | BM20: =BJ20*12 -> 1674661.3 | BN20: =BM20/655.957 -> 2553.0047
A21: BOUKAKA Jordan Vénal | B21: =+#REF! -> #REF! | D21: =#REF! -> #REF! | E21: =D21/655.957 -> #REF! | G21: 0 | H21: 0 | I21: 0 | J21: 0 | K21: 0 | L21: 0 | M21: 0 | O21: =SUM(D21,G21:M21) -> #REF! | P21: =O21/655.957 -> #REF! | R21: =O21*4% -> #REF! | S21: =(O21-R21)*80% -> #REF! | T21: =24000/12 -> 2000 | U21: 5491 | W21: =8%*O21 -> #REF! | X21: =O21*10.03% -> #REF! | Y21: =O21*2.25% -> #REF! | Z21: =15000/12 -> 1250 | AA21: =O21*7.5% -> #REF! | AE21: =O21-R21-U21-T21 -> #REF! | AF21: =S21/655.957 -> #REF! | AH21: 2.5 | AJ21: =#REF! -> #REF! | AK21: =#REF! -> #REF! | AL21: =#REF! -> #REF! | AQ21: =AE21+AJ21+AK21+AL21+AM21+AN21+AO21 -> #REF! | AR21: =+AQ21/655.957 -> #REF! | AT21: =(O21-R21-U21)/12 -> #REF! | AU21: =+AT21/655.957 -> #REF! | AV21: =(AT21/12)+AQ21 -> #REF! | AW21: =+AV21/655.957 -> #REF! | AY21: CDD | AZ21: 3 | BA21: =((D21*25%)*3)/12 -> #REF! | BB21: =+BA21/655.957 -> #REF! | BD21: =O21*0.02 -> #REF! | BE21: =BD21/655.957 -> #REF! | BG21: =(D21/36)*10 -> #REF! | BH21: =BG21/655.957 -> #REF! | BJ21: =SUM(O21,Z21,AA21,AC21,AJ21,AK21,AL21,AM21,AN21,AO21,AT21,BA21,BD21,BG21) -> #REF! | BK21: =BJ21/655.957 -> #REF! | BM21: =BJ21*12 -> #REF! | BN21: =BM21/655.957 -> #REF!
A22: OUBOUKOULOU - LEHOT Carmella Guevelle | B22: =#REF! -> #REF! | D22: =#REF! -> #REF! | E22: =D22/655.957 -> #REF! | G22: 0 | H22: 0 | I22: 0 | J22: 0 | K22: 0 | M22: 0 | O22: =SUM(D22,G22:M22) -> #REF! | P22: =O22/655.957 -> #REF! | R22: =O22*4% -> #REF! | S22: =(O22-R22)*80% -> #REF! | T22: =24000/12 -> 2000 | U22: 27000 | W22: =8%*O22 -> #REF! | X22: =O22*10.03% -> #REF! | Y22: =O22*2.25% -> #REF! | Z22: =15000/12 -> 1250 | AA22: =O22*7.5% -> #REF! | AE22: =O22-R22-U22-T22 -> #REF! | AF22: =S22/655.957 -> #REF! | AH22: 2 | AJ22: =+#REF! -> #REF! | AK22: =#REF! -> #REF! | AL22: =#REF! -> #REF! | AQ22: =AE22+AJ22+AK22+AL22+AM22+AN22+AO22 -> #REF! | AR22: =+AQ22/655.957 -> #REF! | AT22: =(O22-R22-U22)/12 -> #REF! | AU22: =+AT22/655.957 -> #REF! | AV22: =(AT22/12)+AQ22 -> #REF! | AW22: =+AV22/655.957 -> #REF! | AY22: CDD | AZ22: 3 | BA22: =((D22*25%)*3)/12 -> #REF! | BB22: =+BA22/655.957 -> #REF! | BD22: =O22*0.02 -> #REF! | BE22: =BD22/655.957 -> #REF! | BG22: =(D22/36)*10 -> #REF! | BH22: =BG22/655.957 -> #REF! | BJ22: =SUM(O22,Z22,AA22,AC22,AJ22,AK22,AL22,AM22,AN22,AO22,AT22,BA22,BD22,BG22) -> #REF! | BK22: =BJ22/655.957 -> #REF! | BM22: =BJ22*12 -> #REF! | BN22: =BM22/655.957 -> #REF!
A23: BIKOUYA Giglah Helburge | B23: =#REF! -> #REF! | D23: =#REF! -> #REF! | E23: =D23/655.957 -> #REF! | G23: 0 | H23: 0 | I23: 0 | J23: 0 | K23: 0 | L23: 10000 | M23: 0 | O23: =SUM(D23,G23:M23) -> #REF! | P23: =O23/655.957 -> #REF! | R23: =O23*4% -> #REF! | S23: =(O23-R23)*80% -> #REF! | T23: =24000/12 -> 2000 | U23: 67250 | W23: =8%*O23 -> #REF! | X23: =O23*10.03% -> #REF! | Y23: =O23*2.25% -> #REF! | Z23: =15000/12 -> 1250 | AA23: =O23*7.5% -> #REF! | AE23: =O23-R23-U23-T23 -> #REF! | AF23: =S23/655.957 -> #REF! | AH23: 2.5 | AJ23: =+#REF! -> #REF! | AK23: =+#REF! -> #REF! | AL23: =+#REF! -> #REF! | AQ23: =AE23+AJ23+AK23+AL23+AM23+AN23+AO23 -> #REF! | AR23: =+AQ23/655.957 -> #REF! | AT23: =(O23-R23-U23)/12 -> #REF! | AU23: =+AT23/655.957 -> #REF! | AV23: =(AT23/12)+AQ23 -> #REF! | AW23: =+AV23/655.957 -> #REF! | AY23: CDD | AZ23: 3 | BA23: =((D23*25%)*3)/12 -> #REF! | BB23: =+BA23/655.957 -> #REF! | BD23: =O23*0.02 -> #REF! | BE23: =BD23/655.957 -> #REF! | BG23: =(D23/36)*10 -> #REF! | BH23: =BG23/655.957 -> #REF! | BJ23: =SUM(O23,Z23,AA23,AC23,AJ23,AK23,AL23,AM23,AN23,AO23,AT23,BA23,BD23,BG23) -> #REF! | BK23: =BJ23/655.957 -> #REF! | BM23: =BJ23*12 -> #REF! | BN23: =BM23/655.957 -> #REF!
A24: MALEKA BADINGA Amour Ferande | B24: =#REF! -> #REF! | D24: =#REF! -> #REF! | E24: =D24/655.957 -> #REF! | G24: 0 | H24: 0 | I24: 0 | J24: 0 | K24: 0 | L24: =+#REF! -> #REF! | M24: 0 | O24: =SUM(D24,G24:M24) -> #REF! | P24: =O24/655.957 -> #REF! | R24: =O24*4% -> #REF! | S24: =(O24-R24)*80% -> #REF! | T24: =24000/12 -> 2000 | U24: 335 | W24: =8%*O24 -> #REF! | X24: =O24*10.03% -> #REF! | Y24: =O24*2.25% -> #REF! | Z24: =15000/12 -> 1250 | AA24: =O24*7.5% -> #REF! | AE24: =O24-R24-U24-T24 -> #REF! | AF24: =S24/655.957 -> #REF! | AH24: 2.5 | AJ24: =+#REF! -> #REF! | AK24: =#REF! -> #REF! | AL24: =#REF! -> #REF! | AQ24: =AE24+AJ24+AK24+AL24+AM24+AN24+AO24 -> #REF! | AR24: =+AQ24/655.957 -> #REF! | AT24: =(O24-R24-U24)/12 -> #REF! | AU24: =+AT24/655.957 -> #REF! | AV24: =(AT24/12)+AQ24 -> #REF! | AW24: =+AV24/655.957 -> #REF! | AY24: CDD | BA24: =(AV24*3)*20% -> #REF! | BB24: 1 | BD24: =O24*0.02 -> #REF! | BE24: =BD24/655.957 -> #REF! | BJ24: =SUM(O24,Z24,AA24,AC24,AJ24,AK24,AL24,AM24,AN24,AO24,AT24,BA24,BD24) -> #REF! | BK24: =BJ24/655.957 -> #REF! | BM24: =BJ24*12 -> #REF! | BN24: =BM24/655.957 -> #REF!
BD25: =SUM(BD8:BD24)*12 -> #REF! | BE25: =BD25/655.957 -> #REF!
A26: II. Personnel expatrié
A28: AIHOU Roger | B28: ='[4]Par filière métier'!A8 -> Responsable opérationnel confirmé | D28: 780000 | E28: =D28/655.957 -> 1189.1023 | O28: =SUM(D28,G28:M28) -> 780000 | P28: =O28/655.957 -> 1189.1023 | R28: =O28*4% -> 31200 | U28: 109250 | W28: =8%*O28 -> 62400 | X28: =O28*10.03% -> 78234 | Y28: =O28*12.28% -> 95784 | Z28: =15000/12 -> 1250 | AA28: =O28*7.5% -> 58500 | AE28: =O28-R28-U28 -> 639550 | AF28: =AE28/655.957 -> 974.98769 | AH28: 3.5 | AM28: 670000 | AQ28: =SUM(AE28,AJ28,AK28,AL28,AM28,AN28,AO28) -> 1309550 | AR28: =+AQ28/655.957 -> 1996.3961 | AT28: =AQ28*1.0833333 -> 1418679.1 | AU28: =+AT28/655.957 -> 2162.7624 | AV28: =(AT28/12)+AQ28 -> 1427773.3 | AW28: =+AV28/655.957 -> 2176.6263 | AY28: CDD | AZ28: 48 | BA28: =D28*35%*AZ28/12 -> 1092000 | BB28: =+BA28/655.957 -> 1664.7433 | BD28: =170799/12 -> 14233.25 | BJ28: =SUM(O28,Z28,AA28,AC28,AJ28,AK28,AL28,AM28,AN28,AO28,AT28,BA28,BD28) -> 4034662.4 | BK28: =BJ28/655.957 -> 6150.8031 | BM28: =BJ28*12 -> 48415948 | BN28: =BM28/655.957 -> 73809.638
A30: Total masse salariale mensuelle | BJ30: =SUM(BJ8:BJ23,BJ28) -> #REF! | BK30: =SUM(BK8:BK23,BK28) -> #REF! | BM30: =SUM(BM8:BM23,BM28) -> #REF! | BN30: =SUM(BN8:BN23,BN28) -> #REF!

Sheet Coûts salariaux
A2: Coûts salariaux Gret CG
AC3: Prise en charge sur projets
A4: Noms et Prénoms | B4: Classification | C4: Salaire brut | D4: Retenue CNSS | F4: Base | G4: Retenue | H4: nb de parts | I4: Primes | M4: Net à payer mensuel | N4: Net à payer mensuel en euros | O4: Net à payer avec 13e | Q4: Employeur | R4: Visite médicale (coût annuel) | S4: Charge totale | U4: Charge totale par mois 13e mois inclus | W4: type de contrat | X4: durée (mois) | Y4: Prime de fin de contrat | AA4: Charge totale (€) par mois 13e mois inclus et prime de fin de contrat | AC4: Promaiss | AE4: Micab II | AH4: Budget total sur durée initiale du projet | AI4: Budget total sur durée du contrat de travail | AJ4: solde (= marge d'évolution) | AL4: Commentaires
D5: Employé | E5: Employeur | F5: Imposable | G5: IRPP | I5: Transport | J5: Pharmacie | K5: Panier | L5: Représentation | O5: F Cfa | P5: € | Q5: TUS | S5: (F Cfa) | T5: (€) | U5: (F Cfa) | V5: (€) | Y5: F CFA | Z5: en Euros | AC5: budget | AD5: solde | AE5: budget | AF5: solde
A6: GANDZOUNOU M. Reiye | B6: Cadre supérieur | C6: =#REF! -> #REF! | D6: =C6*4% -> #REF! | E6: =C6*20.28% -> #REF! | F6: =(C6-D6)*80% -> #REF! | G6: 99533 | H6: 6.5 | I6: 40000 | J6: 85000 | K6: 10000 | L6: 40000 | M6: =C6+I6+J6+K6+L6-D6-G6 -> #REF! | N6: =+M6/655.957 -> #REF! | O6: =+M6*1.08333333333333 -> #REF! | P6: =+O6/655.957 -> #REF! | Q6: =C6*7.5% -> #REF! | R6: 10000 | S6: =Q6+L6+J6+I6+E6+C6+R6/13 -> #REF! | T6: =S6/655.957 -> #REF! | U6: =+S6*1.08333333333333 -> #REF! | V6: =U6/655.957 -> #REF! | W6: CDI | AE6: 1950 | AF6: =AE6-V6 -> #REF! | AH6: =AE6*36 -> 70200 | AI6: =AE6*36 -> 70200 | AJ6: =AH6-AI6 -> 0
A7: MANTE Mylla Elyte | B7: Agent d'encadrement | C7: =+'[5]Positions salariés nouv grille'!E30 -> 500000 | D7: =C7*4% -> 20000 | E7: =C7*20.28% -> 101400 | F7: =(C7-D7)*80% -> 384000 | G7: 72033 | H7: 3.5 | I7: 40000 | J7: 75000 | K7: 10000 | M7: =C7+I7+J7+K7+L7-D7-G7 -> 532967 | N7: =+M7/655.957 -> 812.50295 | O7: =+M7*1.08333333333333 -> 577380.92 | P7: =+O7/655.957 -> 880.21153 | Q7: =C7*7.5% -> 37500 | R7: 10000 | S7: =Q7+L7+J7+I7+E7+C7+R7/13 -> 754669.23 | T7: =S7/655.957 -> 1150.4858 | U7: =+S7*1.08333333333333 -> 817558.33 | V7: =U7/655.957 -> 1246.3596 | W7: CDI | AC7: 1200 | AD7: =+AC7-V7 -> -46.359645 | AH7: =AC7*30 -> 36000 | AI7: =AC7*30 -> 36000 | AJ7: =AH7-AI7 -> 0
A8: MILANDOU Pascal | B8: Agent de maîtrise | C8: =+'[5]Positions salariés nouv grille'!F30 -> 335000 | D8: =C8*4% -> 13400 | E8: =C8*20.28% -> 67938 | F8: =(C8-D8)*80% -> 257280 | G8: 34033 | H8: 4.5 | I8: 40000 | J8: 65000 | K8: 10000 | M8: =C8+I8+J8+K8+L8-D8-G8 -> 402567 | N8: =+M8/655.957 -> 613.70944 | O8: =+M8*1.08333333333333 -> 436114.25 | P8: =+O8/655.957 -> 664.85189 | Q8: =C8*7.5% -> 25125 | R8: 10000 | S8: =Q8+L8+J8+I8+E8+C8+R8/13 -> 533832.23 | T8: =S8/655.957 -> 813.82199 | U8: =+S8*1.08333333333333 -> 578318.25 | V8: =U8/655.957 -> 881.64049 | W8: CDI | AE8: 900 | AF8: =AE8-V8 -> 18.359511 | AH8: =AE8*36 -> 32400 | AI8: =AE8*36 -> 32400 | AJ8: =AH8-AI8 -> 0
A9: SOLO Guy Bertin | B9: Agent technique | C9: =+'[5]Positions salariés nouv grille'!H30 -> 170000 | D9: =C9*4% -> 6800 | E9: =C9*20.28% -> 34476 | F9: =(C9-D9)*80% -> 130560 | G9: 9087 | H9: 4.5 | I9: 40000 | J9: 65000 | K9: 10000 | M9: =C9+I9+J9+K9+L9-D9-G9 -> 269113 | N9: =+M9/655.957 -> 410.26012 | O9: =+M9*1.08333333333333 -> 291539.08 | P9: =+O9/655.957 -> 444.44847 | Q9: =C9*7.5% -> 12750 | R9: 10000 | S9: =Q9+L9+J9+I9+E9+C9+R9/13 -> 322995.23 | T9: =S9/655.957 -> 492.40306 | U9: =+S9*1.08333333333333 -> 349911.5 | V9: =U9/655.957 -> 533.43664 | W9: CDD | X9: 26 | Y9: =F9*35%*X9/12 -> 99008 | Z9: =+Y9/655.957 -> 150.93672 | AA9: =+V9+Z9/X9 -> 539.2419 | AC9: 900 | AD9: =+AC9-AA9 -> 360.7581 | AH9: =AC9*30 -> 27000 | AI9: =AC9*26 -> 23400 | AJ9: =AH9-AI9 -> 3600
A10: Employé mini | B10: Agent d'exécution | C10: ='[5]Positions salariés nouv grille'!I30 -> 30000 | D10: =C10*4% -> 1200 | E10: =C10*20.28% -> 6084 | F10: =(C10-D10)*80% -> 23040 | G10: 9087 | H10: 3 | I10: 40000 | J10: 55000 | K10: 10000 | M10: =C10+I10+J10+K10+L10-D10-G10 -> 124713 | N10: =+M10/655.957 -> 190.12374 | O10: =+M10*1.08333333333333 -> 135105.75 | P10: =+O10/655.957 -> 205.96739 | Q10: =C10*7.5% -> 2250 | R10: 10000 | S10: =Q10+L10+J10+I10+E10+C10+R10/13 -> 134103.23 | T10: =S10/655.957 -> 204.43906 | U10: =+S10*1.08333333333333 -> 145278.5 | V10: =U10/655.957 -> 221.47565 | Y10: =F10*35%*X10/12 -> 0 | Z10: =+Y10/655.957 -> 0 | AA10: =+V10+Z10/X10 -> #DIV/0! | AJ10: =AH10-AI10 -> 0
A11: Employé maxi | B11: Agent d'exécution | C11: =+'[5]Positions salariés nouv grille'!J30 -> 140000 | D11: =C11*4% -> 5600 | E11: =C11*20.28% -> 28392 | F11: =(C11-D11)*80% -> 107520 | G11: 9087 | H11: 5 - 5,5 | I11: 40000 | J11: 75000 | K11: 10000 | M11: =C11+I11+J11+K11+L11-D11-G11 -> 250313 | N11: =+M11/655.957 -> 381.59971 | O11: =+M11*1.08333333333333 -> 271172.42 | P11: =+O11/655.957 -> 413.39968 | Q11: =C11*7.5% -> 10500 | R11: 10000 | S11: =Q11+L11+J11+I11+E11+C11+R11/13 -> 294661.23 | T11: =S11/655.957 -> 449.20815 | U11: =+S11*1.08333333333333 -> 319216.33 | V11: =U11/655.957 -> 486.64216 | Y11: =F11*35%*X11/12 -> 0 | Z11: =+Y11/655.957 -> 0 | AA11: =+V11+Z11/X11 -> #DIV/0! | AJ11: =AH11-AI11 -> 0
A12: Représentant (mini) | B12: Cadre supérieur | C12: =+'[5]Positions salariés nouv grille'!AC30 -> 650000 | D12: =C12*4% -> 26000 | E12: =C12*20.28% -> 131820 | F12: =(C12-D12)*80% -> 499200 | G12: 9087 | H12: 4 - 4,5 | I12: 40000 | J12: 65000 | K12: 10000 | M12: =C12+I12+J12+K12+L12-D12-G12 -> 729913 | N12: =+M12/655.957 -> 1112.7452 | O12: =+M12*1.08333333333333 -> 790739.08 | P12: =+O12/655.957 -> 1205.474 | Q12: =C12*7.5% -> 48750 | R12: 10000 | S12: =Q12+L12+J12+I12+E12+C12+R12/13 -> 936339.23 | T12: =S12/655.957 -> 1427.44 | U12: =+S12*1.08333333333333 -> 1014367.5 | V12: =U12/655.957 -> 1546.3933 | Y12: =F12*35%*X12/12 -> 0 | Z12: =+Y12/655.957 -> 0 | AA12: =+V12+Z12/X12 -> #DIV/0! | AJ12: =AH12-AI12 -> 0
A13: Chef de projet (mini) | B13: Resposnable opérationnel | C13: =+'[5]Positions salariés nouv grille'!S30 -> 300000 | D13: =C13*4% -> 12000 | E13: =C13*20.28% -> 60840 | F13: =(C13-D13)*80% -> 230400 | G13: 9087 | H13: 3 | I13: 40000 | J13: 55000 | K13: 10000 | M13: =C13+I13+J13+K13+L13-D13-G13 -> 383913 | N13: =+M13/655.957 -> 585.2716 | O13: =+M13*1.08333333333333 -> 415905.75 | P13: =+O13/655.957 -> 634.04423 | Q13: =C13*7.5% -> 22500 | R13: 10000 | S13: =Q13+L13+J13+I13+E13+C13+R13/13 -> 479109.23 | T13: =S13/655.957 -> 730.39731 | U13: =+S13*1.08333333333333 -> 519035 | V13: =U13/655.957 -> 791.26376 | Y13: =F13*35%*X13/12 -> 0 | Z13: =+Y13/655.957 -> 0 | AA13: =+V13+Z13/X13 -> #DIV/0! | AJ13: =AH13-AI13 -> 0
A14: Chef de projet (maxi) | B14: Resposnable opérationnel | C14: =+'[5]Positions salariés nouv grille'!T30 -> 500000 | D14: =C14*4% -> 20000 | E14: =C14*20.28% -> 101400 | F14: =(C14-D14)*80% -> 384000 | G14: 9087 | H14: 5 - 5,5 | I14: 40000 | J14: 75000 | K14: 10000 | M14: =C14+I14+J14+K14+L14-D14-G14 -> 595913 | N14: =+M14/655.957 -> 908.46351 | O14: =+M14*1.08333333333333 -> 645572.42 | P14: =+O14/655.957 -> 984.1688 | Q14: =C14*7.5% -> 37500 | R14: 10000 | S14: =Q14+L14+J14+I14+E14+C14+R14/13 -> 754669.23 | T14: =S14/655.957 -> 1150.4858 | U14: =+S14*1.08333333333333 -> 817558.33 | V14: =U14/655.957 -> 1246.3596 | Y14: =F14*35%*X14/12 -> 0 | Z14: =+Y14/655.957 -> 0 | AA14: =+V14+Z14/X14 -> #DIV/0! | AJ14: =AH14-AI14 -> 0
A15: KOUBEMBA Eddy Séraphin | B15: Agent technique | C15: 220000 | D15: =C15*4% -> 8800 | E15: =C15*20.28% -> 44616 | F15: =(C15-D15)*80% -> 168960 | G15: 17183 | H15: 3 | I15: 40000 | J15: 60000 | K15: 10000 | M15: =C15+I15+J15+K15+L15-D15-G15 -> 304017 | N15: =+M15/655.957 -> 463.47093 | O15: =+M15*1.08333333333333 -> 329351.75 | P15: =+O15/655.957 -> 502.09351 | Q15: =C15*7.5% -> 16500 | R15: 10000 | S15: =Q15+L15+J15+I15+E15+C15+R15/13 -> 381885.23 | T15: =S15/655.957 -> 582.18028 | U15: =+S15*1.08333333333333 -> 413709 | V15: =U15/655.957 -> 630.6953 | W15: CDD | X15: 7 | Y15: =F15*35%*X15/12 -> 34496 | Z15: =+Y15/655.957 -> 52.588813 | AA15: =+V15+Z15/X15 -> 638.20799 | AE15: 705 | AF15: =+AE15-V15 -> 74.304695 | AH15: =AE15*36 -> 25380 | AI15: =AE15*33 -> 23265 | AJ15: =AH15-AI15 -> 2115
A16: Responsable de volet (mini) | B16: Responsable opérationnel | C16: =+'[5]Positions salariés nouv grille'!U30 -> 300000 | D16: =C16*4% -> 12000 | E16: =C16*20.28% -> 60840 | F16: =(C16-D16)*80% -> 230400 | G16: 25200 | H16: 3 | I16: 40000 | J16: 55000 | K16: 10000 | M16: =C16+I16+J16+K16+L16-D16-G16 -> 367800 | N16: =+M16/655.957 -> 560.70749 | O16: =+M16*1.08333333333333 -> 398450 | P16: =+O16/655.957 -> 607.43311 | Q16: =C16*7.5% -> 22500 | R16: 10000 | S16: =Q16+L16+J16+I16+E16+C16+R16/13 -> 479109.23 | T16: =S16/655.957 -> 730.39731 | U16: =+S16*1.08333333333333 -> 519035 | V16: =U16/655.957 -> 791.26376 | W16: CDD | X16: 33 | Y16: =F16*35%*X16/12 -> 221760 | Z16: =+Y16/655.957 -> 338.07094 | AA16: =+V16+Z16/X16 -> 801.50833 | AE16: 950 | AF16: =+AE16-V16 -> 158.73624 | AH16: =AE16*34 -> 32300 | AI16: =AE16*33 -> 31350 | AJ16: =AH16-AI16 -> 950
A17: Responsable de volet (maxi) | B17: Responsable opérationnel | C17: =+'[5]Positions salariés nouv grille'!V30 -> 500000 | D17: =C17*4% -> 20000 | E17: =C17*20.28% -> 101400 | F17: =(C17-D17)*80% -> 384000 | G17: 31000 | H17: 5 - 5,5 | I17: 40000 | J17: 75000 | K17: 10000 | M17: =C17+I17+J17+K17+L17-D17-G17 -> 574000 | N17: =+M17/655.957 -> 875.05736 | O17: =+M17*1.08333333333333 -> 621833.33 | P17: =+O17/655.957 -> 947.97881 | Q17: =C17*7.5% -> 37500 | R17: 10000 | S17: =Q17+L17+J17+I17+E17+C17+R17/13 -> 754669.23 | T17: =S17/655.957 -> 1150.4858 | U17: =+S17*1.08333333333333 -> 817558.33 | V17: =U17/655.957 -> 1246.3596 | W17: CDD | X17: 33 | Y17: =F17*35%*X17/12 -> 369600 | Z17: =+Y17/655.957 -> 563.45157 | AA17: =+V17+Z17/X17 -> 1263.4339 | AE17: 950 | AF17: =+AE17-V17 -> -296.35964 | AH17: =AE17*34 -> 32300 | AI17: =AE17*33 -> 31350 | AJ17: =AH17-AI17 -> 950
A18: Comptable (mini) | B18: Assistant administratif | C18: =+'[5]Positions salariés nouv grille'!O30 -> 155000 | D18: =C18*4% -> 6200 | E18: =C18*20.28% -> 31434 | F18: =(C18-D18)*80% -> 119040 | G18: 8500 | H18: 3 | I18: 40000 | J18: 55000 | K18: 10000 | M18: =C18+I18+J18+K18+L18-D18-G18 -> 245300 | N18: =+M18/655.957 -> 373.95744 | O18: =+M18*1.08333333333333 -> 265741.67 | P18: =+O18/655.957 -> 405.12056 | Q18: =C18*7.5% -> 11625 | R18: 10000 | S18: =Q18+L18+J18+I18+E18+C18+R18/13 -> 293828.23 | T18: =S18/655.957 -> 447.93825 | U18: =+S18*1.08333333333333 -> 318313.92 | V18: =U18/655.957 -> 485.26644 | AE18: 500 | AF18: =+AE18-V18 -> 14.733562 | AJ18: =AH18-AI18 -> 0
A19: Comptable (maxi) | B19: Assistant administratif | C19: =+'[5]Positions salariés nouv grille'!P30 -> 350000 | D19: =C19*4% -> 14000 | E19: =C19*20.28% -> 70980 | F19: =(C19-D19)*80% -> 268800 | G19: 14000 | H19: 5 - 5,5 | I19: 40000 | J19: 75000 | K19: 10000 | M19: =C19+I19+J19+K19+L19-D19-G19 -> 447000 | N19: =+M19/655.957 -> 681.44711 | O19: =+M19*1.08333333333333 -> 484250 | P19: =+O19/655.957 -> 738.23437 | Q19: =C19*7.5% -> 26250 | R19: 10000 | S19: =Q19+L19+J19+I19+E19+C19+R19/13 -> 562999.23 | T19: =S19/655.957 -> 858.28679 | U19: =+S19*1.08333333333333 -> 609915.83 | V19: =U19/655.957 -> 929.81069 | AE19: 500 | AF19: =+AE19-V19 -> -429.81069 | AJ19: =AH19-AI19 -> 0
A20: Raf (mini) | B20: Responsable administratif | C20: =+'[5]Positions salariés nouv grille'!AA30 -> 560000 | D20: =C20*4% -> 22400 | E20: =C20*20.28% -> 113568 | F20: =(C20-D20)*80% -> 430080 | G20: 94325 | H20: 3 | I20: 40000 | J20: 55000 | K20: 10000 | M20: =C20+I20+J20+K20+L20-D20-G20 -> 548275 | N20: =+M20/655.957 -> 835.83985 | O20: =+M20*1.08333333333333 -> 593964.58 | P20: =+O20/655.957 -> 905.49317 | Q20: =C20*7.5% -> 42000 | R20: 10000 | S20: =Q20+L20+J20+I20+E20+C20+R20/13 -> 811337.23 | T20: =S20/655.957 -> 1236.8756 | U20: =+S20*1.08333333333333 -> 878948.67 | V20: =U20/655.957 -> 1339.9486 | AE20: 1500 | AF20: =+AE20-V20 -> 160.0514 | AJ20: =AH20-AI20 -> 0
A21: Raf (maxi) | B21: Responsable administratif | C21: =+'[5]Positions salariés nouv grille'!AB30 -> 780000 | D21: =C21*4% -> 31200 | E21: =C21*20.28% -> 158184 | F21: =(C21-D21)*80% -> 599040 | G21: 91000 | H21: 5 - 5,5 | I21: 40000 | J21: 75000 | K21: 10000 | M21: =C21+I21+J21+K21+L21-D21-G21 -> 782800 | N21: =+M21/655.957 -> 1193.3709 | O21: =+M21*1.08333333333333 -> 848033.33 | P21: =+O21/655.957 -> 1292.8185 | Q21: =C21*7.5% -> 58500 | R21: 10000 | S21: =Q21+L21+J21+I21+E21+C21+R21/13 -> 1112453.2 | T21: =S21/655.957 -> 1695.924 | U21: =+S21*1.08333333333333 -> 1205157.7 | V21: =U21/655.957 -> 1837.251 | AE21: 1500 | AF21: =+AE21-V21 -> -337.25102 | AJ21: =AH21-AI21 -> 0
A22: Animateur (mini) | B22: Agent technique | C22: ='[5]Positions salariés nouv grille'!M30 -> 140000 | D22: =C22*4% -> 5600 | E22: =C22*20.28% -> 28392 | F22: =(C22-D22)*80% -> 107520 | G22: 9000 | H22: 3 | I22: 40000 | J22: 55000 | K22: 10000 | M22: =C22+I22+J22+K22+L22-D22-G22 -> 230400 | N22: =+M22/655.957 -> 351.24254 | O22: =+M22*1.08333333333333 -> 249600 | P22: =+O22/655.957 -> 380.51275 | Q22: =C22*7.5% -> 10500 | R22: 10000 | S22: =Q22+L22+J22+I22+E22+C22+R22/13 -> 274661.23 | T22: =S22/655.957 -> 418.71835 | U22: =+S22*1.08333333333333 -> 297549.67 | V22: =U22/655.957 -> 453.61154 | W22: CDD | X22: 33 | Y22: =F22*35%*X22/12 -> 103488 | Z22: =+Y22/655.957 -> 157.76644 | AA22: =+V22+Z22/X22 -> 458.39234 | AE22: 720 | AF22: =+AE22-V22 -> 266.38846 | AH22: =AE22*34 -> 24480 | AI22: =AE22*33 -> 23760 | AJ22: =AH22-AI22 -> 720
A23: Animateur (maxi) | B23: Agent de maîtrise | C23: ='[5]Positions salariés nouv grille'!N30 -> 260000 | D23: =C23*4% -> 10400 | E23: =C23*20.28% -> 52728 | F23: =(C23-D23)*80% -> 199680 | G23: 20000 | H23: 5 - 5,5 | I23: 40000 | J23: 75000 | K23: 10000 | M23: =C23+I23+J23+K23+L23-D23-G23 -> 354600 | N23: =+M23/655.957 -> 540.58422 | O23: =+M23*1.08333333333333 -> 384150 | P23: =+O23/655.957 -> 585.6329 | Q23: =C23*7.5% -> 19500 | R23: 10000 | S23: =Q23+L23+J23+I23+E23+C23+R23/13 -> 447997.23 | T23: =S23/655.957 -> 682.96738 | U23: =+S23*1.08333333333333 -> 485330.33 | V23: =U23/655.957 -> 739.88132 | W23: CDD | X23: 33 | Y23: =F23*35%*X23/12 -> 192192 | Z23: =+Y23/655.957 -> 292.99482 | AA23: =+V23+Z23/X23 -> 748.75995 | AE23: 720 | AF23: =+AE23-V23 -> -19.881324 | AH23: =AE23*34 -> 24480 | AI23: =AE23*33 -> 23760 | AJ23: =AH23-AI23 -> 720
A24: Secrétaire (mini) | B24: Assistant administratif | C24: ='[5]Positions salariés nouv grille'!K30 -> 95000 | D24: =C24*4% -> 3800 | E24: =C24*20.28% -> 19266 | F24: =(C24-D24)*80% -> 72960 | G24: 2000 | H24: 3 | I24: 40000 | J24: 55000 | K24: 10000 | M24: =C24+I24+J24+K24+L24-D24-G24 -> 194200 | N24: =+M24/655.957 -> 296.05599 | O24: =+M24*1.08333333333333 -> 210383.33 | P24: =+O24/655.957 -> 320.72732 | Q24: =C24*7.5% -> 7125 | R24: 10000 | S24: =Q24+L24+J24+I24+E24+C24+R24/13 -> 217160.23 | T24: =S24/655.957 -> 331.05864 | U24: =+S24*1.08333333333333 -> 235256.92 | V24: =U24/655.957 -> 358.64686 | AE24: 500 | AF24: =+AE24-V24 -> 141.35314 | AJ24: =AH24-AI24 -> 0
A25: Secrétaire (maxi) | B25: Assistant administratif | C25: ='[5]Positions salariés nouv grille'!L30 -> 235000 | D25: =C25*4% -> 9400 | E25: =C25*20.28% -> 47658 | F25: =(C25-D25)*80% -> 180480 | G25: 9000 | H25: 5 - 5,5 | I25: 40000 | J25: 75000 | K25: 10000 | M25: =C25+I25+J25+K25+L25-D25-G25 -> 341600 | N25: =+M25/655.957 -> 520.76584 | O25: =+M25*1.08333333333333 -> 370066.67 | P25: =+O25/655.957 -> 564.163 | Q25: =C25*7.5% -> 17625 | R25: 10000 | S25: =Q25+L25+J25+I25+E25+C25+R25/13 -> 416052.23 | T25: =S25/655.957 -> 634.26754 | U25: =+S25*1.08333333333333 -> 450723.25 | V25: =U25/655.957 -> 687.12317 | AE25: 500 | AF25: =+AE25-V25 -> -187.12317 | AJ25: =AH25-AI25 -> 0
A26: Logisticien (mini) | B26: Assistant administratif | C26: ='[5]Positions salariés nouv grille'!Q30 -> 170000 | D26: =C26*4% -> 6800 | E26: =C26*20.28% -> 34476 | F26: =(C26-D26)*80% -> 130560 | G26: 2000 | H26: 3 | I26: 40000 | J26: 55000 | K26: 10000 | M26: =C26+I26+J26+K26+L26-D26-G26 -> 266200 | N26: =+M26/655.957 -> 405.81928 | O26: =+M26*1.08333333333333 -> 288383.33 | P26: =+O26/655.957 -> 439.63756 | Q26: =C26*7.5% -> 12750 | R26: 10000 | S26: =Q26+L26+J26+I26+E26+C26+R26/13 -> 312995.23 | T26: =S26/655.957 -> 477.15815 | U26: =+S26*1.08333333333333 -> 339078.17 | V26: =U26/655.957 -> 516.92133 | W26: CDD | X26: 33 | Y26: =F26*35%*X26/12 -> 125664 | Z26: =+Y26/655.957 -> 191.57353 | AA26: =+V26+Z26/X26 -> 522.72659 | AE26: 500 | AF26: =+AE26-V26 -> -16.921333 | AH26: =AE26*36 -> 18000 | AI26: =AE26*33 -> 16500 | AJ26: =AH26-AI26 -> 1500
A27: Lgisticien (maxi) | B27: Assistant administratif | C27: ='[5]Positions salariés nouv grille'!R30 -> 350000 | D27: =C27*4% -> 14000 | E27: =C27*20.28% -> 70980 | F27: =(C27-D27)*80% -> 268800 | G27: 9000 | H27: 5 - 5,5 | I27: 40000 | J27: 75000 | K27: 10000 | M27: =C27+I27+J27+K27+L27-D27-G27 -> 452000 | N27: =+M27/655.957 -> 689.06956 | O27: =+M27*1.08333333333333 -> 489666.67 | P27: =+O27/655.957 -> 746.49202 | Q27: =C27*7.5% -> 26250 | R27: 10000 | S27: =Q27+L27+J27+I27+E27+C27+R27/13 -> 562999.23 | T27: =S27/655.957 -> 858.28679 | U27: =+S27*1.08333333333333 -> 609915.83 | V27: =U27/655.957 -> 929.81069 | W27: CDD | X27: 33 | Y27: =F27*35%*X27/12 -> 258720 | Z27: =+Y27/655.957 -> 394.4161 | AA27: =+V27+Z27/X27 -> 941.7627 | AE27: 500 | AF27: =+AE27-V27 -> -429.81069 | AH27: =AE27*36 -> 18000 | AI27: =AE27*33 -> 16500 | AJ27: =AH27-AI27 -> 1500
A28: TOTAL GENERAL | C28: =SUM(C6:C27) -> #REF! | D28: =SUM(D6:D27) -> #REF! | E28: =SUM(E6:E27) -> #REF! | F28: =SUM(F6:F27) -> #REF! | G28: =SUM(G6:G27) -> 592329 | H28: =SUM(H6:H27) -> 46 | I28: =SUM(I6:I27) -> 880000 | J28: =SUM(J6:J27) -> 1455000 | ... AJ28: =SUM(AJ6:AJ27) -> 12055
O30: =+O23/655.957 -> 585.6329

Sheet économie
B1: solde au 31Decembre 2016 | C1: COMPENSATION | D1: coût mensuel | E1: échéance
B4: solde au 30 sept16 | C4: complément rémunération suite aux augmentations | D4: solde ligne après régularisation | E4: nouveau coût mensuel | F4: Coûts à terminaison du projet | G4: 13è mois 2017&2018 | H4: ind fin conrat ttc | I4: sal moyen | J4: durée | K4: 3.75 | L4: cnss employeur | M4: tus | N4: coût clôture projet | O4: écart
A5: TATY Huguette Franche | B5: 9508615.2 | C5: 51373.212 | D5: =B5-C5 -> 9457242 | E5: ='Recapitulatif Taxes'!#REF! -> #REF! | F5: =E5*24 -> #REF! | G5: 820534 | H5: =I5*35%*K4+L5+M5 -> 394575.02 | I5: 248176 | K5: =9/12 -> 0.75 | L5: =I5*20.24% -> 50230.822 | M5: =I5*7.5% -> 18613.2 | N5: =F5+G5+H5 -> #REF! | O5: =D5-N5 -> #REF!
A6: NSAKALA Serge Alain | B6: 8604041 | C6: 0 | D6: =B6-C6 -> 8604041 | E6: 397220 | F6: =E6*12 -> 4766640 | G6: 507365 | H6: =I6*35%*K4+L6+M6 -> 494656.05 | I6: 311124 | L6: =I6*20.24% -> 62971.498 | M6: =I6*7.5% -> 23334.3 | N6: =F6+G6+H6 -> 5768661 | O6: =D6-N6 -> 2835380
A7: LIBA NZAOU Georges | B7: 9946089.4 | C7: 84739.923 | D7: =B7-C7 -> 9861349.5 | E7: ='Recapitulatif Taxes'!#REF! -> #REF! | F7: =E7*24 -> #REF! | G7: 564179 | H7: =I7*35%*K4+L7+M7 -> 270753.61 | I7: 170296 | L7: =I7*20.24% -> 34467.91 | M7: =I7*7.5% -> 12772.2 | N7: =F7+G7+H7 -> #REF! | O7: =D7-N7 -> #REF!
A8: MBOUNGOU Edwige | B8: 9293992 | C8: 205309.04 | D8: =B8-C8 -> 9088683 | E8: ='Recapitulatif Taxes'!#REF! -> #REF! | F8: =E8*24 -> #REF! | G8: 1331238 | H8: =I8*35%*K4+L8+M8 -> 606799.64 | I8: 381659 | L8: =I8*20.24% -> 77247.782 | M8: =I8*7.5% -> 28624.425 | N8: =F8+G8+H8 -> #REF! | O8: =D8-N8 -> #REF!
A9: AMOUSSA S. Nadirathou A. | B9: 16873792 | C9: 95697.59 | D9: =B9-C9 -> 16778095 | E9: ='Recapitulatif Taxes'!#REF! -> #REF! | F9: =E9*24 -> #REF! | G9: 920890 | H9: =I9*35%*K4+L9+M9 -> 443046.3 | I9: 278663 | L9: =I9*20.24% -> 56401.391 | M9: =I9*7.5% -> 20899.725 | N9: =F9+G9+H9 -> #REF! | O9: =D9-N9 -> #REF!
A10: BINGOUA Marise | B10: 16873792 | C10: 63635.39 | D10: =B10-C10 -> 16810157 | E10: ='Recapitulatif Taxes'!#REF! -> #REF! | F10: =E10*24 -> #REF! | G10: 920890 | H10: =I10*35%*K4+L10+M10 -> 443046.3 | I10: 278663 | L10: =I10*20.24% -> 56401.391 | M10: =I10*7.5% -> 20899.725 | N10: =F10+G10+H10 -> #REF! | O10: =D10-N10 -> #REF!
A11: NZILA Otave | B11: 24645483 | C11: 245717.68 | D11: =B11-C11 -> 24399765 | E11: ='Recapitulatif Taxes'!#REF! -> #REF! | F11: =E11*24 -> #REF! | G11: 1331238 | H11: =I11*35%*K4+L11+M11 -> 641246.42 | I11: 403325 | L11: =I11*20.24% -> 81632.98 | M11: =I11*7.5% -> 30249.375 | N11: =F11+G11+H11 -> #REF! | O11: =D11-N11 -> #REF!
E14: =SUM(E5:E13) -> #REF!

Sheet Payroll
G1: Période: du 01/10 au 31/10/2023
BI2: =5000/26 -> 192.30769 | BJ2: =24*BI2 -> 4615.3846
B3: Noms et prénoms | C3: Matricule | D3: Classification | E3: Fonction | F3: Date d'entrée | G3: Situation matrimoniale | H3: Nbr d'enfants | I3: Nbr personne a charge | J3: type de contrat | K3: date de fin | L3: Temps de travail | N3: a. Salaire de base | Q3: Primes et indemnités fiscalisées | AI3: b. Salaire brut | AL3: Charges soc. Employé | AN3: Charges de l'employeur | AV3: Total charge employeur | AX3: c. Salaire net | BA3: nb parts | BC3: Impôts | BI3: Avantages | BS3: Acompte | BU3: d. Salaire net à payer | BX3: 13e mois | BZ3: Salaire net 13e mois inclus | CC3: Indemnité de fin de contrat | CF3: Provision formation (2%) | CJ3: f. Coût salarial global mensuel | CM3: f. Coût salarial global annuel
N4: F CFA | O4: € | Q4: Sursalaire | R4: Forfait Heure supplémentaires | S4: Logement | T4: Diplôme | U4: Langue | V4: Responsabilité | W4: Risque | X4: Astreinte | Y4: HS 6 premières heures 10% | Z4: HS à partir de la 7ème heure 25% | AA4: HS de nuit et h supp sur tps de repos et h sur jour férié 50% | AB4: Ancienneté | AC4: Prime de caisse | AD4: STC | AE4: Prime de chantier | AF4: 13e mois | AG4: Regularisation | AI4: XAF | AJ4: € | AL4: Cnss employé 4% | AN4: Cnss 8% | AO4: Cnss 12,28% | AP4: Cnss AT/MP 2,25% | AQ4: TUS IMPOT 4,5% | AR4: TUS CNSS 3% | AS4: RAS 10% | AT4: Assurance expatriation | AU4: Taxe régionale | AX4: XAF | AY4: € | BC4: base IRPP | BD4: Quotion familial | BE4: IRPP employé | BF4: CAMU 0,5% | BG4: TOL | BI4: Transport | BJ4: Représentation | BK4: Panier | BL4: Salissure | BM4: Volume Production | BN4: Prix FCFA | BO4: Indemnitéde Production | BP4: Indemnité de tenue | BQ4: Rep | BU4: XAF | BV4: € | BX4: XAF | BY4: € | BZ4: XAF | CA4: € | CC4: F CFA | CD4: € | CF4: F CFA | CG4: € | CJ4: (F CFA) | CK4: (€) | CM4: (F CFA) | CN4: (€)
A8: 1 | H8: 0 | I8: 0 | L8: 1 | O8: =N8/655.957 -> 0 | Y8: =((N8+AB8)*10%)*0 -> 0 | Z8: =((O8+AC8)*25%)*0 -> 0 | AA8: =((P8+AD8)*50%)*0 -> 0 | AI8: =SUM(N8,Q8:AG8)*L8 -> 0 | AJ8: =AI8/655.957 -> 0 | AL8: =IF(AI8>1200000,48000,AI8*0.04) -> 0 | AN8: =IF(AI8>1200000,96000,AI8*0.08) -> 0 | AO8: =IF(AI8>600000,600000*12.28%,AI8*12.28%) -> 0 | AP8: =IF(AI8>600000,600000*2.25%,AI8*2.25%)*0 -> 0 | AQ8: =AI8*4.5% -> 0 | AR8: =AI8*3% -> 0 | AS8: =AI8*10%*0 -> 0 | AV8: =SUM(AN8:AU8) -> 0 | AX8: =AI8-AL8 -> 0 | AY8: =BC8/655.957 -> 0 | BA8: 1 | BC8: =((AI8*12)-(AL8*12))*80% -> 0 | BD8: =BC8/BA8 -> 0 | BE8: =(IF(BD8<464000,BA8*0.01*BD8,IF(BD8<1000000,(4640+(BD8-464000)*0.1)*BA8,IF(BD8<3000000,(4640+53600+(BD8-1000000)*0.25)*BA8,(4640+53600+500000+(BD8-3000000)*0.4)*BA8))))/12 -> 0 | BF8: =((AI8-AL8)-500000)*0.5% -> -2500 | BO8: =BM8*BN8 -> 0 | BU8: =AX8-BE8+SUM(BI8:BQ8)-BS8-BG8 -> 0 | BV8: =+BU8/655.957 -> 0 | BX8: =(AI8-BI8-BJ8-BK8-BO8-BP8-BQ8)/12 -> 0 | BY8: =+BX8/655.957 -> 0 | BZ8: =(BX8/12)+BU8 -> 0 | CA8: =+BZ8/655.957 -> 0 | CC8: =((N8*13/12)*35%)/12 -> 0 | CD8: =+CC8/655.957 -> 0 | CF8: =AI8*0.02 -> 0 | CG8: =CF8/655.957 -> 0 | CJ8: =(AI8+AV8+CC8+CF8)*(13/12)+SUM(BI8:BQ8) -> 0 | CK8: =CJ8/655.957 -> 0 | CM8: =CJ8*12 -> 0 | CN8: =CM8/655.957 -> 0
A9: 2 | H9: 0 | I9: 0 | L9: 1 | O9: =N9/655.957 -> 0 | Y9: =((N9+AB9)*10%)*0 -> 0 | Z9: =((O9+AC9)*25%)*0 -> 0 | AA9: =((P9+AD9)*50%)*0 -> 0 | AI9: =SUM(N9,Q9:AG9)*L9 -> 0 | AJ9: =AI9/655.957 -> 0 | AL9: =IF(AI9>1200000,48000,AI9*0.04) -> 0 | AN9: =IF(AI9>1200000,96000,AI9*0.08) -> 0 | AO9: =IF(AI9>600000,600000*12.28%,AI9*12.28%) -> 0 | AP9: =IF(AI9>600000,600000*2.25%,AI9*2.25%)*0 -> 0 | AQ9: =AI9*4.5% -> 0 | AR9: =AI9*3% -> 0 | AS9: =AI9*10%*0 -> 0 | AV9: =SUM(AN9:AU9) -> 0 | AX9: =AI9-AL9 -> 0 | AY9: =BC9/655.957 -> 0 | BA9: 1 | BC9: =((AI9*12)-(AL9*12))*80% -> 0 | BD9: =BC9/BA9 -> 0 | BE9: =(IF(BD9<464000,BA9*0.01*BD9,IF(BD9<1000000,(4640+(BD9-464000)*0.1)*BA9,IF(BD9<3000000,(4640+53600+(BD9-1000000)*0.25)*BA9,(4640+53600+500000+(BD9-3000000)*0.4)*BA9))))/12 -> 0 | BF9: =((AI9-AL9)-500000)*0.5% -> -2500 | BO9: =BM9*BN9 -> 0 | BU9: =AX9-BE9+SUM(BI9:BQ9)-BS9-BG9 -> 0 | BV9: =+BU9/655.957 -> 0 | BX9: =(AI9-BI9-BJ9-BK9-BG245-BP9-BQ9)/12 -> 0 | BY9: =+BX9/655.957 -> 0 | BZ9: =(BX9/12)+BU9 -> 0 | CA9: =+BZ9/655.957 -> 0 | CC9: =((N9*13/12)*35%)/12 -> 0 | CD9: =+CC9/655.957 -> 0 | CF9: =AI9*0.02 -> 0 | CG9: =CF9/655.957 -> 0 | CJ9: =(AI9+AV9+CC9+CF9)*(13/12)+SUM(BI9:BQ9) -> 0 | CK9: =CJ9/655.957 -> 0 | CM9: =CJ9*12 -> 0 | CN9: =CM9/655.957 -> 0
A10: 3 | H10: 0 | I10: 0 | L10: 1 | M10: 84343 | O10: =N10/655.957 -> 0 | Y10: =((N10+AB10)*10%)*0 -> 0 | Z10: =((O10+AC10)*25%)*0 -> 0 | AA10: =((P10+AD10)*50%)*0 -> 0 | AI10: =SUM(N10,Q10:AG10)*L10 -> 0 | AJ10: =AI10/655.957 -> 0 | AL10: =IF(AI10>1200000,48000,AI10*0.04) -> 0 | AN10: =IF(AI10>1200000,96000,AI10*0.08) -> 0 | AO10: =IF(AI10>600000,600000*12.28%,AI10*12.28%) -> 0 | AP10: =IF(AI10>600000,600000*2.25%,AI10*2.25%)*0 -> 0 | AQ10: =AI10*4.5% -> 0 | AR10: =AI10*3% -> 0 | AS10: =AI10*10%*0 -> 0 | AV10: =SUM(AN10:AU10) -> 0 | AX10: =AI10-AL10 -> 0 | AY10: =BC10/655.957 -> 0 | BA10: 1 | BC10: =((AI10*12)-(AL10*12))*80% -> 0 | BD10: =BC10/BA10 -> 0 | BE10: =(IF(BD10<464000,BA10*0.01*BD10,IF(BD10<1000000,(4640+(BD10-464000)*0.1)*BA10,IF(BD10<3000000,(4640+53600+(BD10-1000000)*0.25)*BA10,(4640+53600+500000+(BD10-3000000)*0.4)*BA10))))/12 -> 0 | BF10: =((AI10-AL10)-500000)*0.5% -> -2500 | BO10: =BM10*BN10 -> 0 | BU10: =AX10-BE10+SUM(BI10:BQ10)-BS10-BG10 -> 0 | BV10: =+BU10/655.957 -> 0 | BX10: =(AI10-BI10-BJ10-BK10-BG240-BP10-BQ10)/12 -> 0 | BY10: =+BX10/655.957 -> 0 | BZ10: =(BX10/12)+BU10 -> 0 | CA10: =+BZ10/655.957 -> 0 | CC10: =((N10*13/12)*35%)/12 -> 0 | CD10: =+CC10/655.957 -> 0 | CF10: =AI10*0.02 -> 0 | CG10: =CF10/655.957 -> 0 | CJ10: =(AI10+AV10+CC10+CF10)*(13/12)+SUM(BI10:BQ10) -> 0 | CK10: =CJ10/655.957 -> 0 | CM10: =CJ10*12 -> 0 | CN10: =CM10/655.957 -> 0
A11: 4 | H11: 0 | I11: 0 | L11: 1 | M11: 84343 | O11: =N11/655.957 -> 0 | Y11: =((N11+AB11)*10%)*0 -> 0 | Z11: =((O11+AC11)*25%)*0 -> 0 | AA11: =((P11+AD11)*50%)*0 -> 0 | AI11: =SUM(N11,Q11:AG11)*L11 -> 0 | AJ11: =AI11/655.957 -> 0 | AL11: =IF(AI11>1200000,48000,AI11*0.04) -> 0 | AN11: =IF(AI11>1200000,96000,AI11*0.08) -> 0 | AO11: =IF(AI11>600000,600000*12.28%,AI11*12.28%) -> 0 | AP11: =IF(AI11>600000,600000*2.25%,AI11*2.25%)*0 -> 0 | AQ11: =AI11*4.5% -> 0 | AR11: =AI11*3% -> 0 | AS11: =AI11*10%*0 -> 0 | AV11: =SUM(AN11:AU11) -> 0 | AX11: =AI11-AL11 -> 0 | AY11: =BC11/655.957 -> 0 | BA11: 1 | BC11: =((AI11*12)-(AL11*12))*80% -> 0 | BD11: =BC11/BA11 -> 0 | BE11: =(IF(BD11<464000,BA11*0.01*BD11,IF(BD11<1000000,(4640+(BD11-464000)*0.1)*BA11,IF(BD11<3000000,(4640+53600+(BD11-1000000)*0.25)*BA11,(4640+53600+500000+(BD11-3000000)*0.4)*BA11))))/12 -> 0 | BF11: =((AI11-AL11)-500000)*0.5% -> -2500 | BO11: =BM11*BN11 -> 0 | BU11: =AX11-BE11+SUM(BI11:BQ11)-BS11-BG11 -> 0 | BV11: =+BU11/655.957 -> 0 | BX11: =(AI11-BI11-BJ11-BK11-BG241-BP11-BQ11)/12 -> 0 | BY11: =+BX11/655.957 -> 0 | BZ11: =(BX11/12)+BU11 -> 0 | CA11: =+BZ11/655.957 -> 0 | CC11: =((N11*13/12)*35%)/12 -> 0 | CD11: =+CC11/655.957 -> 0 | CF11: =AI11*0.02 -> 0 | CG11: =CF11/655.957 -> 0 | CJ11: =(AI11+AV11+CC11+CF11)*(13/12)+SUM(BI11:BQ11) -> 0 | CK11: =CJ11/655.957 -> 0 | CM11: =CJ11*12 -> 0 | CN11: =CM11/655.957 -> 0
A12: 5 | H12: 0 | I12: 0 | L12: 1 | M12: 84343 | O12: =N12/655.957 -> 0 | Y12: =((N12+AB12)*10%)*0 -> 0 | Z12: =((O12+AC12)*25%)*0 -> 0 | AA12: =((P12+AD12)*50%)*0 -> 0 | AI12: =SUM(N12,Q12:AG12)*L12 -> 0 | AJ12: =AI12/655.957 -> 0 | AL12: =IF(AI12>1200000,48000,AI12*0.04) -> 0 | AN12: =IF(AI12>1200000,96000,AI12*0.08) -> 0 | AO12: =IF(AI12>600000,600000*12.28%,AI12*12.28%) -> 0 | AP12: =IF(AI12>600000,600000*2.25%,AI12*2.25%)*0 -> 0 | AQ12: =AI12*4.5% -> 0 | AR12: =AI12*3% -> 0 | AS12: =AI12*10%*0 -> 0 | AV12: =SUM(AN12:AU12) -> 0 | AX12: =AI12-AL12 -> 0 | AY12: =BC12/655.957 -> 0 | BA12: 1 | BC12: =((AI12*12)-(AL12*12))*80% -> 0 | BD12: =BC12/BA12 -> 0 | BE12: =(IF(BD12<464000,BA12*0.01*BD12,IF(BD12<1000000,(4640+(BD12-464000)*0.1)*BA12,IF(BD12<3000000,(4640+53600+(BD12-1000000)*0.25)*BA12,(4640+53600+500000+(BD12-3000000)*0.4)*BA12))))/12 -> 0 | BF12: =((AI12-AL12)-500000)*0.5% -> -2500 | BO12: =BM12*BN12 -> 0 | BU12: =AX12-BE12+SUM(BI12:BQ12)-BS12-BG12 -> 0 | BV12: =+BU12/655.957 -> 0 | BX12: =(AI12-BI12-BJ12-BK12-BG242-BP12-BQ12)/12 -> 0 | BY12: =+BX12/655.957 -> 0 | BZ12: =(BX12/12)+BU12 -> 0 | CA12: =+BZ12/655.957 -> 0 | CC12: =((N12*13/12)*35%)/12 -> 0 | CD12: =+CC12/655.957 -> 0 | CF12: =AI12*0.02 -> 0 | CG12: =CF12/655.957 -> 0 | CJ12: =(AI12+AV12+CC12+CF12)*(13/12)+SUM(BI12:BQ12) -> 0 | CK12: =CJ12/655.957 -> 0 | CM12: =CJ12*12 -> 0 | CN12: =CM12/655.957 -> 0
A13: 6 | H13: 0 | I13: 0 | L13: 1 | M13: 84343 | O13: =N13/655.957 -> 0 | Y13: =((N13+AB13)*10%)*0 -> 0 | Z13: =((O13+AC13)*25%)*0 -> 0 | AA13: =((P13+AD13)*50%)*0 -> 0 | AI13: =SUM(N13,Q13:AG13)*L13 -> 0 | AJ13: =AI13/655.957 -> 0 | AL13: =IF(AI13>1200000,48000,AI13*0.04) -> 0 | AN13: =IF(AI13>1200000,96000,AI13*0.08) -> 0 | AO13: =IF(AI13>600000,600000*12.28%,AI13*12.28%) -> 0 | AP13: =IF(AI13>600000,600000*2.25%,AI13*2.25%)*0 -> 0 | AQ13: =AI13*4.5% -> 0 | AR13: =AI13*3% -> 0 | AS13: =AI13*10%*0 -> 0 | AV13: =SUM(AN13:AU13) -> 0 | AX13: =AI13-AL13 -> 0 | AY13: =BC13/655.957 -> 0 | BA13: 1 | BC13: =((AI13*12)-(AL13*12))*80% -> 0 | BD13: =BC13/BA13 -> 0 | BE13: =(IF(BD13<464000,BA13*0.01*BD13,IF(BD13<1000000,(4640+(BD13-464000)*0.1)*BA13,IF(BD13<3000000,(4640+53600+(BD13-1000000)*0.25)*BA13,(4640+53600+500000+(BD13-3000000)*0.4)*BA13))))/12 -> 0 | BF13: =((AI13-AL13)-500000)*0.5% -> -2500 | BO13: =BM13*BN13 -> 0 | BU13: =AX13-BE13+SUM(BI13:BQ13)-BS13-BG13 -> 0 | BV13: =+BU13/655.957 -> 0 | BX13: =(AI13-BI13-BJ13-BK13-BG243-BP13-BQ13)/12 -> 0 | BY13: =+BX13/655.957 -> 0 | BZ13: =(BX13/12)+BU13 -> 0 | CA13: =+BZ13/655.957 -> 0 | CC13: =((N13*13/12)*35%)/12 -> 0 | CD13: =+CC13/655.957 -> 0 | CF13: =AI13*0.02 -> 0 | CG13: =CF13/655.957 -> 0 | CJ13: =(AI13+AV13+CC13+CF13)*(13/12)+SUM(BI13:BQ13) -> 0 | CK13: =CJ13/655.957 -> 0 | CM13: =CJ13*12 -> 0 | CN13: =CM13/655.957 -> 0
A14: 7 | H14: 0 | I14: 0 | L14: 1 | M14: 84343 | O14: =N14/655.957 -> 0 | Y14: =((N14+AB14)*10%)*0 -> 0 | Z14: =((O14+AC14)*25%)*0 -> 0 | AA14: =((P14+AD14)*50%)*0 -> 0 | AI14: =SUM(N14,Q14:AG14)*L14 -> 0 | AJ14: =AI14/655.957 -> 0 | AL14: =IF(AI14>1200000,48000,AI14*0.04) -> 0 | AN14: =IF(AI14>1200000,96000,AI14*0.08) -> 0 | AO14: =IF(AI14>600000,600000*12.28%,AI14*12.28%) -> 0 | AP14: =IF(AI14>600000,600000*2.25%,AI14*2.25%)*0 -> 0 | AQ14: =AI14*4.5% -> 0 | AR14: =AI14*3% -> 0 | AS14: =AI14*10%*0 -> 0 | AV14: =SUM(AN14:AU14) -> 0 | AX14: =AI14-AL14 -> 0 | AY14: =BC14/655.957 -> 0 | BA14: 1 | BC14: =((AI14*12)-(AL14*12))*80% -> 0 | BD14: =BC14/BA14 -> 0 | BE14: =(IF(BD14<464000,BA14*0.01*BD14,IF(BD14<1000000,(4640+(BD14-464000)*0.1)*BA14,IF(BD14<3000000,(4640+53600+(BD14-1000000)*0.25)*BA14,(4640+53600+500000+(BD14-3000000)*0.4)*BA14))))/12 -> 0 | BF14: =((AI14-AL14)-500000)*0.5% -> -2500 | BO14: =BM14*BN14 -> 0 | BU14: =AX14-BE14+SUM(BI14:BQ14)-BS14-BG14 -> 0 | BV14: =+BU14/655.957 -> 0 | BX14: =(AI14-BI14-BJ14-BK14-BG244-BP14-BQ14)/12 -> 0 | BY14: =+BX14/655.957 -> 0 | BZ14: =(BX14/12)+BU14 -> 0 | CA14: =+BZ14/655.957 -> 0 | CC14: =((N14*13/12)*35%)/12 -> 0 | CD14: =+CC14/655.957 -> 0 | CF14: =AI14*0.02 -> 0 | CG14: =CF14/655.957 -> 0 | CJ14: =(AI14+AV14+CC14+CF14)*(13/12)+SUM(BI14:BQ14) -> 0 | CK14: =CJ14/655.957 -> 0 | CM14: =CJ14*12 -> 0 | CN14: =CM14/655.957 -> 0
A15: 8 | H15: 0 | I15: 0 | L15: 1 | M15: 84343 | O15: =N15/655.957 -> 0 | Y15: =((N15+AB15)*10%)*0 -> 0 | Z15: =((O15+AC15)*25%)*0 -> 0 | AA15: =((P15+AD15)*50%)*0 -> 0 | AI15: =SUM(N15,Q15:AG15)*L15 -> 0 | AJ15: =AI15/655.957 -> 0 | AL15: =IF(AI15>1200000,48000,AI15*0.04) -> 0 | AN15: =IF(AI15>1200000,96000,AI15*0.08) -> 0 | AO15: =IF(AI15>600000,600000*12.28%,AI15*12.28%) -> 0 | AP15: =IF(AI15>600000,600000*2.25%,AI15*2.25%)*0 -> 0 | AQ15: =AI15*4.5% -> 0 | AR15: =AI15*3% -> 0 | AS15: =AI15*10%*0 -> 0 | AV15: =SUM(AN15:AU15) -> 0 | AX15: =AI15-AL15 -> 0 | AY15: =BC15/655.957 -> 0 | BA15: 1 | BC15: =((AI15*12)-(AL15*12))*80% -> 0 | BD15: =BC15/BA15 -> 0 | BE15: =(IF(BD15<464000,BA15*0.01*BD15,IF(BD15<1000000,(4640+(BD15-464000)*0.1)*BA15,IF(BD15<3000000,(4640+53600+(BD15-1000000)*0.25)*BA15,(4640+53600+500000+(BD15-3000000)*0.4)*BA15))))/12 -> 0 | BF15: =((AI15-AL15)-500000)*0.5% -> -2500 | BO15: =BM15*BN15 -> 0 | BU15: =AX15-BE15+SUM(BI15:BQ15)-BS15-BG15 -> 0 | BV15: =+BU15/655.957 -> 0 | BX15: =(AI15-BI15-BJ15-BK15-BG245-BP15-BQ15)/12 -> 0 | BY15: =+BX15/655.957 -> 0 | BZ15: =(BX15/12)+BU15 -> 0 | CA15: =+BZ15/655.957 -> 0 | CC15: =((N15*13/12)*35%)/12 -> 0 | CD15: =+CC15/655.957 -> 0 | CF15: =AI15*0.02 -> 0 | CG15: =CF15/655.957 -> 0 | CJ15: =(AI15+AV15+CC15+CF15)*(13/12)+SUM(BI15:BQ15) -> 0 | CK15: =CJ15/655.957 -> 0 | CM15: =CJ15*12 -> 0 | CN15: =CM15/655.957 -> 0
A16: 9 | H16: 0 | I16: 0 | L16: 1 | M16: 84343 | O16: =N16/655.957 -> 0 | Y16: =((N16+AB16)*10%)*0 -> 0 | Z16: =((O16+AC16)*25%)*0 -> 0 | AA16: =((P16+AD16)*50%)*0 -> 0 | AI16: =SUM(N16,Q16:AG16)*L16 -> 0 | AJ16: =AI16/655.957 -> 0 | AL16: =IF(AI16>1200000,48000,AI16*0.04) -> 0 | AN16: =IF(AI16>1200000,96000,AI16*0.08) -> 0 | AO16: =IF(AI16>600000,600000*12.28%,AI16*12.28%) -> 0 | AP16: =IF(AI16>600000,600000*2.25%,AI16*2.25%)*0 -> 0 | AQ16: =AI16*4.5% -> 0 | AR16: =AI16*3% -> 0 | AS16: =AI16*10%*0 -> 0 | AV16: =SUM(AN16:AU16) -> 0 | AX16: =AI16-AL16 -> 0 | AY16: =BC16/655.957 -> 0 | BA16: 1 | BC16: =((AI16*12)-(AL16*12))*80% -> 0 | BD16: =BC16/BA16 -> 0 | BE16: =(IF(BD16<464000,BA16*0.01*BD16,IF(BD16<1000000,(4640+(BD16-464000)*0.1)*BA16,IF(BD16<3000000,(4640+53600+(BD16-1000000)*0.25)*BA16,(4640+53600+500000+(BD16-3000000)*0.4)*BA16))))/12 -> 0 | BF16: =((AI16-AL16)-500000)*0.5% -> -2500 | BO16: =BM16*BN16 -> 0 | BU16: =AX16-BE16+SUM(BI16:BQ16)-BS16-BG16 -> 0 | BV16: =+BU16/655.957 -> 0 | BX16: =(AI16-BI16-BJ16-BK16-BG246-BP16-BQ16)/12 -> 0 | BY16: =+BX16/655.957 -> 0 | BZ16: =(BX16/12)+BU16 -> 0 | CA16: =+BZ16/655.957 -> 0 | CC16: =((N16*13/12)*35%)/12 -> 0 | CD16: =+CC16/655.957 -> 0 | CF16: =AI16*0.02 -> 0 | CG16: =CF16/655.957 -> 0 | CJ16: =(AI16+AV16+CC16+CF16)*(13/12)+SUM(BI16:BQ16) -> 0 | CK16: =CJ16/655.957 -> 0 | CM16: =CJ16*12 -> 0 | CN16: =CM16/655.957 -> 0
