Workbook

Sheet Tableau
A1: =CONCATENATE("HEURES DU MOIS DE ",UPPER(TEXT(30*MONTH(A4),"mmmm"))," ",YEAR(A4)) -> HEURES DU MOIS DE NOVEMBRE 2014
A3: Saisissez la Date
A4: 41944
C5: =IF(WEEKDAY(C6)=6,"V",IF(WEEKDAY(C6)=7,"S",IF(WEEKDAY(C6)=1,"D",IF(WEEKDAY(C6)=2,"L",IF(WEEKDAY(C6)=3,"Ma",IF(WEEKDAY(C6)=4,"Me",IF(WEEKDAY(C6)=5,"J"))))))) -> S | D5: =IF(WEEKDAY(D6)=6,"V",IF(WEEKDAY(D6)=7,"S",IF(WEEKDAY(D6)=1,"D",IF(WEEKDAY(D6)=2,"L",IF(WEEKDAY(D6)=3,"Ma",IF(WEEKDAY(D6)=4,"Me",IF(WEEKDAY(D6)=5,"J"))))))) -> D | E5: =IF(WEEKDAY(E6)=6,"V",IF(WEEKDAY(E6)=7,"S",IF(WEEKDAY(E6)=1,"D",IF(WEEKDAY(E6)=2,"L",IF(WEEKDAY(E6)=3,"Ma",IF(WEEKDAY(E6)=4,"Me",IF(WEEKDAY(E6)=5,"J"))))))) -> L | F5: =IF(WEEKDAY(F6)=6,"V",IF(WEEKDAY(F6)=7,"S",IF(WEEKDAY(F6)=1,"D",IF(WEEKDAY(F6)=2,"L",IF(WEEKDAY(F6)=3,"Ma",IF(WEEKDAY(F6)=4,"Me",IF(WEEKDAY(F6)=5,"J"))))))) -> Ma | G5: =IF(WEEKDAY(G6)=6,"V",IF(WEEKDAY(G6)=7,"S",IF(WEEKDAY(G6)=1,"D",IF(WEEKDAY(G6)=2,"L",IF(WEEKDAY(G6)=3,"Ma",IF(WEEKDAY(G6)=4,"Me",IF(WEEKDAY(G6)=5,"J"))))))) -> Me | H5: =IF(WEEKDAY(H6)=6,"V",IF(WEEKDAY(H6)=7,"S",IF(WEEKDAY(H6)=1,"D",IF(WEEKDAY(H6)=2,"L",IF(WEEKDAY(H6)=3,"Ma",IF(WEEKDAY(H6)=4,"Me",IF(WEEKDAY(H6)=5,"J"))))))) -> J | I5: =IF(WEEKDAY(I6)=6,"V",IF(WEEKDAY(I6)=7,"S",IF(WEEKDAY(I6)=1,"D",IF(WEEKDAY(I6)=2,"L",IF(WEEKDAY(I6)=3,"Ma",IF(WEEKDAY(I6)=4,"Me",IF(WEEKDAY(I6)=5,"J"))))))) -> V | J5: =IF(WEEKDAY(J6)=6,"V",IF(WEEKDAY(J6)=7,"S",IF(WEEKDAY(J6)=1,"D",IF(WEEKDAY(J6)=2,"L",IF(WEEKDAY(J6)=3,"Ma",IF(WEEKDAY(J6)=4,"Me",IF(WEEKDAY(J6)=5,"J"))))))) -> S | ... Q5: =IF(WEEKDAY(Q6)=6,"V",IF(WEEKDAY(Q6)=7,"S",IF(WEEKDAY(Q6)=1,"D",IF(WEEKDAY(Q6)=2,"L",IF(WEEKDAY(Q6)=3,"Ma",IF(WEEKDAY(Q6)=4,"Me",IF(WEEKDAY(Q6)=5,"J"))))))) -> S
C6: =A4 -> 41944 | D6: =C6+1 -> 41945 | E6: =D6+1 -> 41946 | F6: =E6+1 -> 41947 | G6: =F6+1 -> 41948 | H6: =G6+1 -> 41949 | I6: =H6+1 -> 41950 | J6: =I6+1 -> 41951 | K6: =J6+1 -> 41952 | ... Q6: =P6+1 -> 41958
C7: =IF(YEAR($A$4)=2014,IF(VLOOKUP(C6,'Fériés 2014'!$A$1:$A$11,1)=C6,"Férié",""),IF(YEAR($A$4)=2015,IF(VLOOKUP(C6,'Fériés 2015'!$A$1:$A$11,1)=C6,"Férié",""),IF(YEAR($A$4)=2016,IF(VLOOKUP(C6,'Fériés 2016'!$A$1:$A$11,1)=C6,"Férié",""),""))) -> Férié | D7: =IF(YEAR($A$4)=2014,IF(VLOOKUP(D6,'Fériés 2014'!$A$1:$A$11,1)=D6,"Férié",""),IF(YEAR($A$4)=2015,IF(VLOOKUP(D6,'Fériés 2015'!$A$1:$A$11,1)=D6,"Férié",""),IF(YEAR($A$4)=2016,IF(VLOOKUP(D6,'Fériés 2016'!$A$1:$A$11,1)=D6,"Férié",""),""))) | E7: =IF(YEAR($A$4)=2014,IF(VLOOKUP(E6,'Fériés 2014'!$A$1:$A$11,1)=E6,"Férié",""),IF(YEAR($A$4)=2015,IF(VLOOKUP(E6,'Fériés 2015'!$A$1:$A$11,1)=E6,"Férié",""),IF(YEAR($A$4)=2016,IF(VLOOKUP(E6,'Fériés 2016'!$A$1:$A$11,1)=E6,"Férié",""),""))) | F7: =IF(YEAR($A$4)=2014,IF(VLOOKUP(F6,'Fériés 2014'!$A$1:$A$11,1)=F6,"Férié",""),IF(YEAR($A$4)=2015,IF(VLOOKUP(F6,'Fériés 2015'!$A$1:$A$11,1)=F6,"Férié",""),IF(YEAR($A$4)=2016,IF(VLOOKUP(F6,'Fériés 2016'!$A$1:$A$11,1)=F6,"Férié",""),""))) | G7: =IF(YEAR($A$4)=2014,IF(VLOOKUP(G6,'Fériés 2014'!$A$1:$A$11,1)=G6,"Férié",""),IF(YEAR($A$4)=2015,IF(VLOOKUP(G6,'Fériés 2015'!$A$1:$A$11,1)=G6,"Férié",""),IF(YEAR($A$4)=2016,IF(VLOOKUP(G6,'Fériés 2016'!$A$1:$A$11,1)=G6,"Férié",""),""))) | H7: =IF(YEAR($A$4)=2014,IF(VLOOKUP(H6,'Fériés 2014'!$A$1:$A$11,1)=H6,"Férié",""),IF(YEAR($A$4)=2015,IF(VLOOKUP(H6,'Fériés 2015'!$A$1:$A$11,1)=H6,"Férié",""),IF(YEAR($A$4)=2016,IF(VLOOKUP(H6,'Fériés 2016'!$A$1:$A$11,1)=H6,"Férié",""),""))) | I7: =IF(YEAR($A$4)=2014,IF(VLOOKUP(I6,'Fériés 2014'!$A$1:$A$11,1)=I6,"Férié",""),IF(YEAR($A$4)=2015,IF(VLOOKUP(I6,'Fériés 2015'!$A$1:$A$11,1)=I6,"Férié",""),IF(YEAR($A$4)=2016,IF(VLOOKUP(I6,'Fériés 2016'!$A$1:$A$11,1)=I6,"Férié",""),""))) | J7: =IF(YEAR($A$4)=2014,IF(VLOOKUP(J6,'Fériés 2014'!$A$1:$A$11,1)=J6,"Férié",""),IF(YEAR($A$4)=2015,IF(VLOOKUP(J6,'Fériés 2015'!$A$1:$A$11,1)=J6,"Férié",""),IF(YEAR($A$4)=2016,IF(VLOOKUP(J6,'Fériés 2016'!$A$1:$A$11,1)=J6,"Férié",""),""))) | ... Q7: =IF(YEAR($A$4)=2014,IF(VLOOKUP(Q6,'Fériés 2014'!$A$1:$A$11,1)=Q6,"Férié",""),IF(YEAR($A$4)=2015,IF(VLOOKUP(Q6,'Fériés 2015'!$A$1:$A$11,1)=Q6,"Férié",""),IF(YEAR($A$4)=2016,IF(VLOOKUP(Q6,'Fériés 2016'!$A$1:$A$11,1)=Q6,"Férié",""),"")))
A8: Machin | B8: heures théoriques | C8: =IF(C5="V",4,IF(OR(C5="s",C5="d",C7="Férié"),"",IF(OR(C5="l",C5="j"),7.5,IF(OR(C5="ma",C5="me"),8)))) | D8: =IF(D5="V",4,IF(OR(D5="s",D5="d",D7="Férié"),"",IF(OR(D5="l",D5="j"),7.5,IF(OR(D5="ma",D5="me"),8)))) | E8: =IF(E5="V",4,IF(OR(E5="s",E5="d",E7="Férié"),"",IF(OR(E5="l",E5="j"),7.5,IF(OR(E5="ma",E5="me"),8)))) -> 7.5 | F8: =IF(F5="V",4,IF(OR(F5="s",F5="d",F7="Férié"),"",IF(OR(F5="l",F5="j"),7.5,IF(OR(F5="ma",F5="me"),8)))) -> 8 | G8: =IF(G5="V",4,IF(OR(G5="s",G5="d",G7="Férié"),"",IF(OR(G5="l",G5="j"),7.5,IF(OR(G5="ma",G5="me"),8)))) -> 8 | H8: =IF(H5="V",4,IF(OR(H5="s",H5="d",H7="Férié"),"",IF(OR(H5="l",H5="j"),7.5,IF(OR(H5="ma",H5="me"),8)))) -> 7.5 | I8: =IF(I5="V",4,IF(OR(I5="s",I5="d",I7="Férié"),"",IF(OR(I5="l",I5="j"),7.5,IF(OR(I5="ma",I5="me"),8)))) -> 4 | J8: =IF(J5="V",4,IF(OR(J5="s",J5="d",J7="Férié"),"",IF(OR(J5="l",J5="j"),7.5,IF(OR(J5="ma",J5="me"),8)))) | ... Q8: =IF(Q5="V",4,IF(OR(Q5="s",Q5="d",Q7="Férié"),"",IF(OR(Q5="l",Q5="j"),7.5,IF(OR(Q5="ma",Q5="me"),8))))
B9: Delta
A10: Truc | B10: heures théoriques | C10: =IF(C5="V",4,IF(OR(C5="s",C5="d",C7="Férié"),"",IF(OR(C5="l",C5="ma"),7.5,IF(OR(C5="me",C5="j"),8)))) | D10: =IF(D5="V",4,IF(OR(D5="s",D5="d",D7="Férié"),"",IF(OR(D5="l",D5="ma"),7.5,IF(OR(D5="me",D5="j"),8)))) | E10: =IF(E5="V",4,IF(OR(E5="s",E5="d",E7="Férié"),"",IF(OR(E5="l",E5="ma"),7.5,IF(OR(E5="me",E5="j"),8)))) -> 7.5 | F10: =IF(F5="V",4,IF(OR(F5="s",F5="d",F7="Férié"),"",IF(OR(F5="l",F5="ma"),7.5,IF(OR(F5="me",F5="j"),8)))) -> 7.5 | G10: =IF(G5="V",4,IF(OR(G5="s",G5="d",G7="Férié"),"",IF(OR(G5="l",G5="ma"),7.5,IF(OR(G5="me",G5="j"),8)))) -> 8 | H10: =IF(H5="V",4,IF(OR(H5="s",H5="d",H7="Férié"),"",IF(OR(H5="l",H5="ma"),7.5,IF(OR(H5="me",H5="j"),8)))) -> 8 | I10: =IF(I5="V",4,IF(OR(I5="s",I5="d",I7="Férié"),"",IF(OR(I5="l",I5="ma"),7.5,IF(OR(I5="me",I5="j"),8)))) -> 4 | J10: =IF(J5="V",4,IF(OR(J5="s",J5="d",J7="Férié"),"",IF(OR(J5="l",J5="ma"),7.5,IF(OR(J5="me",J5="j"),8)))) | ... Q10: =IF(Q5="V",4,IF(OR(Q5="s",Q5="d",Q7="Férié"),"",IF(OR(Q5="l",Q5="ma"),7.5,IF(OR(Q5="me",Q5="j"),8))))
B11: Delta
A12: Bidule | B12: heures théoriques | C12: =IF(C5="V",4,IF(OR(C5="s",C5="d",C7="Férié"),"",IF(OR(C5="l",C5="j"),7.5,IF(OR(C5="ma",C5="me"),8)))) | D12: =IF(D5="V",4,IF(OR(D5="s",D5="d",D7="Férié"),"",IF(OR(D5="l",D5="j"),7.5,IF(OR(D5="ma",D5="me"),8)))) | E12: =IF(E5="V",4,IF(OR(E5="s",E5="d",E7="Férié"),"",IF(OR(E5="l",E5="j"),7.5,IF(OR(E5="ma",E5="me"),8)))) -> 7.5 | F12: =IF(F5="V",4,IF(OR(F5="s",F5="d",F7="Férié"),"",IF(OR(F5="l",F5="j"),7.5,IF(OR(F5="ma",F5="me"),8)))) -> 8 | G12: =IF(G5="V",4,IF(OR(G5="s",G5="d",G7="Férié"),"",IF(OR(G5="l",G5="j"),7.5,IF(OR(G5="ma",G5="me"),8)))) -> 8 | H12: =IF(H5="V",4,IF(OR(H5="s",H5="d",H7="Férié"),"",IF(OR(H5="l",H5="j"),7.5,IF(OR(H5="ma",H5="me"),8)))) -> 7.5 | I12: =IF(I5="V",4,IF(OR(I5="s",I5="d",I7="Férié"),"",IF(OR(I5="l",I5="j"),7.5,IF(OR(I5="ma",I5="me"),8)))) -> 4 | J12: =IF(J5="V",4,IF(OR(J5="s",J5="d",J7="Férié"),"",IF(OR(J5="l",J5="j"),7.5,IF(OR(J5="ma",J5="me"),8)))) | ... Q12: =IF(Q5="V",4,IF(OR(Q5="s",Q5="d",Q7="Férié"),"",IF(OR(Q5="l",Q5="j"),7.5,IF(OR(Q5="ma",Q5="me"),8))))
B13: Delta
A14: Coco | B14: heures théoriques | C14: =IF(C5="V",4,IF(OR(C5="s",C5="d",C7="Férié"),"",IF(OR(C5="l",C5="ma"),7.5,IF(OR(C5="me",C5="j"),8)))) | D14: =IF(D5="V",4,IF(OR(D5="s",D5="d",D7="Férié"),"",IF(OR(D5="l",D5="ma"),7.5,IF(OR(D5="me",D5="j"),8)))) | E14: =IF(E5="V",4,IF(OR(E5="s",E5="d",E7="Férié"),"",IF(OR(E5="l",E5="ma"),7.5,IF(OR(E5="me",E5="j"),8)))) -> 7.5 | F14: =IF(F5="V",4,IF(OR(F5="s",F5="d",F7="Férié"),"",IF(OR(F5="l",F5="ma"),7.5,IF(OR(F5="me",F5="j"),8)))) -> 7.5 | G14: =IF(G5="V",4,IF(OR(G5="s",G5="d",G7="Férié"),"",IF(OR(G5="l",G5="ma"),7.5,IF(OR(G5="me",G5="j"),8)))) -> 8 | H14: =IF(H5="V",4,IF(OR(H5="s",H5="d",H7="Férié"),"",IF(OR(H5="l",H5="ma"),7.5,IF(OR(H5="me",H5="j"),8)))) -> 8 | I14: =IF(I5="V",4,IF(OR(I5="s",I5="d",I7="Férié"),"",IF(OR(I5="l",I5="ma"),7.5,IF(OR(I5="me",I5="j"),8)))) -> 4 | J14: =IF(J5="V",4,IF(OR(J5="s",J5="d",J7="Férié"),"",IF(OR(J5="l",J5="ma"),7.5,IF(OR(J5="me",J5="j"),8)))) | ... Q14: =IF(Q5="V",4,IF(OR(Q5="s",Q5="d",Q7="Férié"),"",IF(OR(Q5="l",Q5="ma"),7.5,IF(OR(Q5="me",Q5="j"),8))))
B15: Delta
C17: =IF(YEAR($A$4)=2014,IF(VLOOKUP(C19,'Fériés 2014'!$A$1:$A$11,1)=C19,"Férié",""),"") | D17: =IF(YEAR($A$4)=2014,IF(VLOOKUP(D19,'Fériés 2014'!$A$1:$A$11,1)=D19,"Férié",""),"") | E17: =IF(YEAR($A$4)=2014,IF(VLOOKUP(E19,'Fériés 2014'!$A$1:$A$11,1)=E19,"Férié",""),"") | F17: =IF(YEAR($A$4)=2014,IF(VLOOKUP(F19,'Fériés 2014'!$A$1:$A$11,1)=F19,"Férié",""),"") | G17: =IF(YEAR($A$4)=2014,IF(VLOOKUP(G19,'Fériés 2014'!$A$1:$A$11,1)=G19,"Férié",""),"") | H17: =IF(YEAR($A$4)=2014,IF(VLOOKUP(H19,'Fériés 2014'!$A$1:$A$11,1)=H19,"Férié",""),"") | I17: =IF(YEAR($A$4)=2014,IF(VLOOKUP(I19,'Fériés 2014'!$A$1:$A$11,1)=I19,"Férié",""),"") | J17: =IF(YEAR($A$4)=2014,IF(VLOOKUP(J19,'Fériés 2014'!$A$1:$A$11,1)=J19,"Férié",""),"") | ... Q17: =IF(YEAR($A$4)=2014,IF(VLOOKUP(Q19,'Fériés 2014'!$A$1:$A$11,1)=Q19,"Férié",""),"")
C18: =IF(WEEKDAY(C19)=6,"V",IF(WEEKDAY(C19)=7,"S",IF(WEEKDAY(C19)=1,"D",IF(WEEKDAY(C19)=2,"L",IF(WEEKDAY(C19)=3,"Ma",IF(WEEKDAY(C19)=4,"Me",IF(WEEKDAY(C19)=5,"J"))))))) -> D | D18: =IF(WEEKDAY(D19)=6,"V",IF(WEEKDAY(D19)=7,"S",IF(WEEKDAY(D19)=1,"D",IF(WEEKDAY(D19)=2,"L",IF(WEEKDAY(D19)=3,"Ma",IF(WEEKDAY(D19)=4,"Me",IF(WEEKDAY(D19)=5,"J"))))))) -> L | E18: =IF(WEEKDAY(E19)=6,"V",IF(WEEKDAY(E19)=7,"S",IF(WEEKDAY(E19)=1,"D",IF(WEEKDAY(E19)=2,"L",IF(WEEKDAY(E19)=3,"Ma",IF(WEEKDAY(E19)=4,"Me",IF(WEEKDAY(E19)=5,"J"))))))) -> Ma | F18: =IF(WEEKDAY(F19)=6,"V",IF(WEEKDAY(F19)=7,"S",IF(WEEKDAY(F19)=1,"D",IF(WEEKDAY(F19)=2,"L",IF(WEEKDAY(F19)=3,"Ma",IF(WEEKDAY(F19)=4,"Me",IF(WEEKDAY(F19)=5,"J"))))))) -> Me | G18: =IF(WEEKDAY(G19)=6,"V",IF(WEEKDAY(G19)=7,"S",IF(WEEKDAY(G19)=1,"D",IF(WEEKDAY(G19)=2,"L",IF(WEEKDAY(G19)=3,"Ma",IF(WEEKDAY(G19)=4,"Me",IF(WEEKDAY(G19)=5,"J"))))))) -> J | H18: =IF(WEEKDAY(H19)=6,"V",IF(WEEKDAY(H19)=7,"S",IF(WEEKDAY(H19)=1,"D",IF(WEEKDAY(H19)=2,"L",IF(WEEKDAY(H19)=3,"Ma",IF(WEEKDAY(H19)=4,"Me",IF(WEEKDAY(H19)=5,"J"))))))) -> V | I18: =IF(WEEKDAY(I19)=6,"V",IF(WEEKDAY(I19)=7,"S",IF(WEEKDAY(I19)=1,"D",IF(WEEKDAY(I19)=2,"L",IF(WEEKDAY(I19)=3,"Ma",IF(WEEKDAY(I19)=4,"Me",IF(WEEKDAY(I19)=5,"J"))))))) -> S | J18: =IF(WEEKDAY(J19)=6,"V",IF(WEEKDAY(J19)=7,"S",IF(WEEKDAY(J19)=1,"D",IF(WEEKDAY(J19)=2,"L",IF(WEEKDAY(J19)=3,"Ma",IF(WEEKDAY(J19)=4,"Me",IF(WEEKDAY(J19)=5,"J"))))))) -> D | ... Q18: =IF(WEEKDAY(Q19)=6,"V",IF(WEEKDAY(Q19)=7,"S",IF(WEEKDAY(Q19)=1,"D",IF(WEEKDAY(Q19)=2,"L",IF(WEEKDAY(Q19)=3,"Ma",IF(WEEKDAY(Q19)=4,"Me",IF(WEEKDAY(Q19)=5,"J"))))))) -> D | R18: =IF(R19="","",IF(WEEKDAY(R19)=6,"V",IF(WEEKDAY(R19)=7,"S",IF(WEEKDAY(R19)=1,"D",IF(WEEKDAY(R19)=2,"L",IF(WEEKDAY(R19)=3,"Ma",IF(WEEKDAY(R19)=4,"Me",IF(WEEKDAY(R19)=5,"J"))))))))
C19: =Q6+1 -> 41959 | D19: =C19+1 -> 41960 | E19: =D19+1 -> 41961 | F19: =E19+1 -> 41962 | G19: =F19+1 -> 41963 | H19: =G19+1 -> 41964 | I19: =H19+1 -> 41965 | J19: =I19+1 -> 41966 | K19: =J19+1 -> 41967 | ... Q19: =P19+1 -> 41973 | R19: =IF(DAY(Q19+1)<DAY(Q19),"",Q19+1)
C20: =IF(YEAR($A$4)=2014,IF(VLOOKUP(C19,'Fériés 2014'!$A$1:$A$11,1)=C19,"Férié",""),IF(YEAR($A$4)=2015,IF(VLOOKUP(C19,'Fériés 2015'!$A$1:$A$11,1)=C19,"Férié",""),IF(YEAR($A$4)=2016,IF(VLOOKUP(C19,'Fériés 2016'!$A$1:$A$11,1)=C19,"Férié",""),""))) | D20: =IF(YEAR($A$4)=2014,IF(VLOOKUP(D19,'Fériés 2014'!$A$1:$A$11,1)=D19,"Férié",""),IF(YEAR($A$4)=2015,IF(VLOOKUP(D19,'Fériés 2015'!$A$1:$A$11,1)=D19,"Férié",""),IF(YEAR($A$4)=2016,IF(VLOOKUP(D19,'Fériés 2016'!$A$1:$A$11,1)=D19,"Férié",""),""))) | E20: =IF(YEAR($A$4)=2014,IF(VLOOKUP(E19,'Fériés 2014'!$A$1:$A$11,1)=E19,"Férié",""),IF(YEAR($A$4)=2015,IF(VLOOKUP(E19,'Fériés 2015'!$A$1:$A$11,1)=E19,"Férié",""),IF(YEAR($A$4)=2016,IF(VLOOKUP(E19,'Fériés 2016'!$A$1:$A$11,1)=E19,"Férié",""),""))) | F20: =IF(YEAR($A$4)=2014,IF(VLOOKUP(F19,'Fériés 2014'!$A$1:$A$11,1)=F19,"Férié",""),IF(YEAR($A$4)=2015,IF(VLOOKUP(F19,'Fériés 2015'!$A$1:$A$11,1)=F19,"Férié",""),IF(YEAR($A$4)=2016,IF(VLOOKUP(F19,'Fériés 2016'!$A$1:$A$11,1)=F19,"Férié",""),""))) | G20: =IF(YEAR($A$4)=2014,IF(VLOOKUP(G19,'Fériés 2014'!$A$1:$A$11,1)=G19,"Férié",""),IF(YEAR($A$4)=2015,IF(VLOOKUP(G19,'Fériés 2015'!$A$1:$A$11,1)=G19,"Férié",""),IF(YEAR($A$4)=2016,IF(VLOOKUP(G19,'Fériés 2016'!$A$1:$A$11,1)=G19,"Férié",""),""))) | H20: =IF(YEAR($A$4)=2014,IF(VLOOKUP(H19,'Fériés 2014'!$A$1:$A$11,1)=H19,"Férié",""),IF(YEAR($A$4)=2015,IF(VLOOKUP(H19,'Fériés 2015'!$A$1:$A$11,1)=H19,"Férié",""),IF(YEAR($A$4)=2016,IF(VLOOKUP(H19,'Fériés 2016'!$A$1:$A$11,1)=H19,"Férié",""),""))) | I20: =IF(YEAR($A$4)=2014,IF(VLOOKUP(I19,'Fériés 2014'!$A$1:$A$11,1)=I19,"Férié",""),IF(YEAR($A$4)=2015,IF(VLOOKUP(I19,'Fériés 2015'!$A$1:$A$11,1)=I19,"Férié",""),IF(YEAR($A$4)=2016,IF(VLOOKUP(I19,'Fériés 2016'!$A$1:$A$11,1)=I19,"Férié",""),""))) | J20: =IF(YEAR($A$4)=2014,IF(VLOOKUP(J19,'Fériés 2014'!$A$1:$A$11,1)=J19,"Férié",""),IF(YEAR($A$4)=2015,IF(VLOOKUP(J19,'Fériés 2015'!$A$1:$A$11,1)=J19,"Férié",""),IF(YEAR($A$4)=2016,IF(VLOOKUP(J19,'Fériés 2016'!$A$1:$A$11,1)=J19,"Férié",""),""))) | ... Q20: =IF(YEAR($A$4)=2014,IF(VLOOKUP(Q19,'Fériés 2014'!$A$1:$A$11,1)=Q19,"Férié",""),IF(YEAR($A$4)=2015,IF(VLOOKUP(Q19,'Fériés 2015'!$A$1:$A$11,1)=Q19,"Férié",""),IF(YEAR($A$4)=2016,IF(VLOOKUP(Q19,'Fériés 2016'!$A$1:$A$11,1)=Q19,"Férié",""),""))) | R20: =IF(R19="","",IF(YEAR($A$4)=2014,IF(VLOOKUP(R19,'Fériés 2014'!$A$1:$A$11,1)=R19,"Férié",""),IF(YEAR($A$4)=2015,IF(VLOOKUP(R19,'Fériés 2015'!$A$1:$A$11,1)=R19,"Férié",""),IF(YEAR($A$4)=2016,IF(VLOOKUP(R19,'Fériés 2016'!$A$1:$A$11,1)=R19,"Férié",""),""))))
A21: Machin | B21: heures théoriques | C21: =IF(C18="V",4,IF(OR(C18="s",C18="d",C20="Férié"),"",IF(OR(C18="l",C18="j"),7.5,IF(OR(C18="ma",C18="me"),8)))) | D21: =IF(D18="V",4,IF(OR(D18="s",D18="d",D20="Férié"),"",IF(OR(D18="l",D18="j"),7.5,IF(OR(D18="ma",D18="me"),8)))) -> 7.5 | E21: =IF(E18="V",4,IF(OR(E18="s",E18="d",E20="Férié"),"",IF(OR(E18="l",E18="j"),7.5,IF(OR(E18="ma",E18="me"),8)))) -> 8 | F21: =IF(F18="V",4,IF(OR(F18="s",F18="d",F20="Férié"),"",IF(OR(F18="l",F18="j"),7.5,IF(OR(F18="ma",F18="me"),8)))) -> 8 | G21: =IF(G18="V",4,IF(OR(G18="s",G18="d",G20="Férié"),"",IF(OR(G18="l",G18="j"),7.5,IF(OR(G18="ma",G18="me"),8)))) -> 7.5 | H21: =IF(H18="V",4,IF(OR(H18="s",H18="d",H20="Férié"),"",IF(OR(H18="l",H18="j"),7.5,IF(OR(H18="ma",H18="me"),8)))) -> 4 | I21: =IF(I18="V",4,IF(OR(I18="s",I18="d",I20="Férié"),"",IF(OR(I18="l",I18="j"),7.5,IF(OR(I18="ma",I18="me"),8)))) | J21: =IF(J18="V",4,IF(OR(J18="s",J18="d",J20="Férié"),"",IF(OR(J18="l",J18="j"),7.5,IF(OR(J18="ma",J18="me"),8)))) | ... Q21: =IF(Q18="V",4,IF(OR(Q18="s",Q18="d",Q20="Férié"),"",IF(OR(Q18="l",Q18="j"),7.5,IF(OR(Q18="ma",Q18="me"),8)))) | R21: =IF(R$18="V",4,IF(OR(R$18="",R$18="s",R$18="d",C20="Férié"),"",IF(OR(R$18="l",R$18="j"),7.5,IF(OR(R$18="ma",R$18="me"),8))))
B22: Delta
A23: Truc | B23: heures théoriques | C23: =IF(C18="V",4,IF(OR(C18="s",C18="d",C20="Férié"),"",IF(OR(C18="l",C18="ma"),7.5,IF(OR(C18="me",C18="j"),8)))) | D23: =IF(D18="V",4,IF(OR(D18="s",D18="d",D20="Férié"),"",IF(OR(D18="l",D18="ma"),7.5,IF(OR(D18="me",D18="j"),8)))) -> 7.5 | E23: =IF(E18="V",4,IF(OR(E18="s",E18="d",E20="Férié"),"",IF(OR(E18="l",E18="ma"),7.5,IF(OR(E18="me",E18="j"),8)))) -> 7.5 | F23: =IF(F18="V",4,IF(OR(F18="s",F18="d",F20="Férié"),"",IF(OR(F18="l",F18="ma"),7.5,IF(OR(F18="me",F18="j"),8)))) -> 8 | G23: =IF(G18="V",4,IF(OR(G18="s",G18="d",G20="Férié"),"",IF(OR(G18="l",G18="ma"),7.5,IF(OR(G18="me",G18="j"),8)))) -> 8 | H23: =IF(H18="V",4,IF(OR(H18="s",H18="d",H20="Férié"),"",IF(OR(H18="l",H18="ma"),7.5,IF(OR(H18="me",H18="j"),8)))) -> 4 | I23: =IF(I18="V",4,IF(OR(I18="s",I18="d",I20="Férié"),"",IF(OR(I18="l",I18="ma"),7.5,IF(OR(I18="me",I18="j"),8)))) | J23: =IF(J18="V",4,IF(OR(J18="s",J18="d",J20="Férié"),"",IF(OR(J18="l",J18="ma"),7.5,IF(OR(J18="me",J18="j"),8)))) | ... Q23: =IF(Q18="V",4,IF(OR(Q18="s",Q18="d",Q20="Férié"),"",IF(OR(Q18="l",Q18="ma"),7.5,IF(OR(Q18="me",Q18="j"),8)))) | R23: =IF(R$18="V",4,IF(OR(R$18="",R$18="s",R$18="d",C20="Férié"),"",IF(OR(R$18="l",R$18="j"),7.5,IF(OR(R$18="ma",R$18="me"),8))))
B24: Delta
A25: Bidule | B25: heures théoriques | C25: =IF(C18="V",4,IF(OR(C18="s",C18="d",C20="Férié"),"",IF(OR(C18="l",C18="j"),7.5,IF(OR(C18="ma",C18="me"),8)))) | D25: =IF(D18="V",4,IF(OR(D18="s",D18="d",D20="Férié"),"",IF(OR(D18="l",D18="j"),7.5,IF(OR(D18="ma",D18="me"),8)))) -> 7.5 | E25: =IF(E18="V",4,IF(OR(E18="s",E18="d",E20="Férié"),"",IF(OR(E18="l",E18="j"),7.5,IF(OR(E18="ma",E18="me"),8)))) -> 8 | F25: =IF(F18="V",4,IF(OR(F18="s",F18="d",F20="Férié"),"",IF(OR(F18="l",F18="j"),7.5,IF(OR(F18="ma",F18="me"),8)))) -> 8 | G25: =IF(G18="V",4,IF(OR(G18="s",G18="d",G20="Férié"),"",IF(OR(G18="l",G18="j"),7.5,IF(OR(G18="ma",G18="me"),8)))) -> 7.5 | H25: =IF(H18="V",4,IF(OR(H18="s",H18="d",H20="Férié"),"",IF(OR(H18="l",H18="j"),7.5,IF(OR(H18="ma",H18="me"),8)))) -> 4 | I25: =IF(I18="V",4,IF(OR(I18="s",I18="d",I20="Férié"),"",IF(OR(I18="l",I18="j"),7.5,IF(OR(I18="ma",I18="me"),8)))) | J25: =IF(J18="V",4,IF(OR(J18="s",J18="d",J20="Férié"),"",IF(OR(J18="l",J18="j"),7.5,IF(OR(J18="ma",J18="me"),8)))) | ... Q25: =IF(Q18="V",4,IF(OR(Q18="s",Q18="d",Q20="Férié"),"",IF(OR(Q18="l",Q18="j"),7.5,IF(OR(Q18="ma",Q18="me"),8)))) | R25: =IF(R$18="V",4,IF(OR(R$18="",R$18="s",R$18="d",C20="Férié"),"",IF(OR(R$18="l",R$18="j"),7.5,IF(OR(R$18="ma",R$18="me"),8))))
B26: Delta
A27: Coco | B27: heures théoriques | C27: =IF(C18="V",4,IF(OR(C18="s",C18="d",C20="Férié"),"",IF(OR(C18="l",C18="ma"),7.5,IF(OR(C18="me",C18="j"),8)))) | D27: =IF(D18="V",4,IF(OR(D18="s",D18="d",D20="Férié"),"",IF(OR(D18="l",D18="ma"),7.5,IF(OR(D18="me",D18="j"),8)))) -> 7.5 | E27: =IF(E18="V",4,IF(OR(E18="s",E18="d",E20="Férié"),"",IF(OR(E18="l",E18="ma"),7.5,IF(OR(E18="me",E18="j"),8)))) -> 7.5 | F27: =IF(F18="V",4,IF(OR(F18="s",F18="d",F20="Férié"),"",IF(OR(F18="l",F18="ma"),7.5,IF(OR(F18="me",F18="j"),8)))) -> 8 | G27: =IF(G18="V",4,IF(OR(G18="s",G18="d",G20="Férié"),"",IF(OR(G18="l",G18="ma"),7.5,IF(OR(G18="me",G18="j"),8)))) -> 8 | H27: =IF(H18="V",4,IF(OR(H18="s",H18="d",H20="Férié"),"",IF(OR(H18="l",H18="ma"),7.5,IF(OR(H18="me",H18="j"),8)))) -> 4 | I27: =IF(I18="V",4,IF(OR(I18="s",I18="d",I20="Férié"),"",IF(OR(I18="l",I18="ma"),7.5,IF(OR(I18="me",I18="j"),8)))) | J27: =IF(J18="V",4,IF(OR(J18="s",J18="d",J20="Férié"),"",IF(OR(J18="l",J18="ma"),7.5,IF(OR(J18="me",J18="j"),8)))) | ... Q27: =IF(Q18="V",4,IF(OR(Q18="s",Q18="d",Q20="Férié"),"",IF(OR(Q18="l",Q18="ma"),7.5,IF(OR(Q18="me",Q18="j"),8)))) | R27: =IF(R$18="V",4,IF(OR(R$18="",R$18="s",R$18="d",C20="Férié"),"",IF(OR(R$18="l",R$18="j"),7.5,IF(OR(R$18="ma",R$18="me"),8))))
B28: Delta

Sheet Fériés 2014
A1: 41640
A2: 41750
A3: 41760
A4: 41767
A5: 41788
A6: 41799
A7: 41834
A8: 41866
A9: 41944
A10: 41954
A11: 41998

Sheet Fériés 2015
A1: 42005
A2: 42100
A3: 42125
A4: 42132
A5: 42138
A6: 42149
A7: 42199
A8: 42231
A9: 42309
A10: 42319
A11: 42363

Sheet Fériés 2016
A1: 42370
A2: 42457
A3: 42491
A4: 42498
A5: 42505
A6: 42506
A7: 42565
A8: 42597
A9: 42675
A10: 42685
A11: 42729
