Workbook

Sheet New Aout
A1: Jour de la semaine | B1: Date | C1: Navire et Voyage | D1: nbre d'H (shift) | E1: Nbre de Chauff M | F1: Nbre d'Equipes | G1: Catégorie Dockers | L1: ttl pers fiche | M1: ttl H / fiche | O1: Sup.Sempa | R1: Ttl Sup Sempa | S1: Ttl Heure Sup. Sempa | T1: ttl pers / jr | U1: ttl H / jr
G2: 2 | H2: 3 | I2: 4 | J2: 5 | K2: 6 | O2: 5 | P2: 6 | Q2: 7
A3: vendredi | B3: 41821 | C3: HEBE WM430R | D3: 12 | E3: 5 | F3: 2 | G3: 5 | H3: 4 | I3: 3 | J3: 8 | K3: 9 | L3: =G3+H3+I3+J3+K3 -> 29 | M3: =L3*D3 -> 348 | O3: 3 | P3: 2 | Q3: 1 | R3: =O3+P3+Q3 -> 6 | S3: =R3*14 -> 84 | T3: =SUM(L3:L4)+R3 -> 43 | U3: =SUM(M3:M4)+S3 -> 496
C4: HEBE WM430R | D4: 8 | K4: 8 | L4: =G4+H4+I4+J4+K4 -> 8 | M4: =L4*D4 -> 64
A5: samedi | B5: 41822 | C5: CROSS STUFFING | D5: 12 | G5: 6 | L5: =G5+H5+I5+J5+K5 -> 6 | M5: =L5*D5 -> 72 | O5: 3 | P5: 2 | Q5: 1 | R5: =O5+P5+Q5 -> 6 | S5: =R5*14 -> 84 | T5: =SUM(L5:L8)+R5 -> 94 | U5: =SUM(M5:M8)+S5 -> 1108
C6: Msc Natalia FY431R | D6: 12 | E6: 14 | F6: 2 | G6: 5 | H6: 5 | I6: 3 | J6: 14 | K6: 17 | L6: =G6+H6+I6+J6+K6 -> 44 | M6: =L6*D6 -> 528
C7: Msc Natalia FY431R | D7: 12 | E7: 15 | F7: 2 | G7: 5 | H7: 5 | I7: 4 | J7: 8 | K7: 8 | L7: =G7+H7+I7+J7+K7 -> 30 | M7: =L7*D7 -> 360
C8: Msc Natalia FY431R | D8: 8 | K8: 8 | L8: =G8+H8+I8+J8+K8 -> 8 | M8: =L8*D8 -> 64
A9: dimanche | B9: 41823 | C9: Msc Natalia FY431R | D9: 12 | E9: 14 | F9: 2 | G9: 5 | H9: 4 | I9: 3 | J9: 13 | K9: 10 | L9: =G9+H9+I9+J9+K9 -> 35 | M9: =L9*D9 -> 420 | O9: 3 | P9: 2 | Q9: 1 | R9: =O9+P9+Q9 -> 6 | S9: =R9*14 -> 84 | T9: =SUM(L9:L14)+R9 -> 87 | U9: =SUM(M9:M14)+S9 -> 1048
C10: Msc Natalia FY431R | D10: 8 | K10: 8 | L10: =G10+H10+I10+J10+K10 -> 8 | M10: =L10*D10 -> 64
C11: Msc Paola WM430R | D11: 12 | G11: 1 | L11: =G11+H11+I11+J11+K11 -> 1 | M11: =L11*D11 -> 12 | X11: =T15 -> 147 | Y11: =U15 -> 1709
C12: Msc Natalia FY431R | D12: 14 | E12: 15 | F12: 2 | G12: 4 | H12: 6 | I12: 4 | J12: 7 | K12: 7 | L12: =G12+H12+I12+J12+K12 -> 28 | M12: =L12*D12 -> 392
C13: Msc Natalia FY431R | D13: 12 | G13: 1 | L13: =G13+H13+I13+J13+K13 -> 1 | M13: =L13*D13 -> 12
C14: Msc Natalia FY431R | D14: 8 | K14: 8 | L14: =G14+H14+I14+J14+K14 -> 8 | M14: =L14*D14 -> 64
A15: lundi | B15: 41824 | C15: Msc Paola WM430R | D15: 12 | E15: 10 | F15: 2 | G15: 1 | H15: 7 | I15: 2 | J15: 6 | K15: 11 | L15: =G15+H15+I15+J15+K15 -> 27 | M15: =L15*D15 -> 324 | O15: 1 | P15: 2 | Q15: 1 | R15: =O15+P15+Q15 -> 4 | S15: =R15*14 -> 56 | T15: =SUM(L15:L21)+R15 -> 147 | U15: =SUM(M15:M21)+S15 -> 1709
C16: Msc Paola WM430R | D16: 13 | G16: 4 | H16: 1 | L16: =G16+H16+I16+J16+K16 -> 5 | M16: =L16*D16 -> 65
C17: Gitte WA431A | D17: 10 | F17: 2 | G17: 13 | H17: 10 | J17: 5 | L17: =G17+H17+I17+J17+K17 -> 28 | M17: =L17*D17 -> 280
C18: Gitte WA431A | D18: 12 | J18: 1 | L18: =G18+H18+I18+J18+K18 -> 1 | M18: =L18*D18 -> 12
C19: Msc Paola WM430R | D19: 12 | E19: 15 | F19: 2 | G19: 5 | H19: 6 | I19: 4 | J19: 10 | K19: 15 | L19: =G19+H19+I19+J19+K19 -> 40 | M19: =L19*D19 -> 480
C20: Msc Paola WM430R | D20: 8 | K20: 3 | L20: =G20+H20+I20+J20+K20 -> 3 | M20: =L20*D20 -> 24
C21: Gitte WA431A | D21: 12 | E21: 4 | F21: 2 | G21: 13 | H21: 10 | I21: 2 | J21: 9 | K21: 5 | L21: =G21+H21+I21+J21+K21 -> 39 | M21: =L21*D21 -> 468
A22: mardi | B22: 41825 | C22: Gitte WA431A | D22: 12 | E22: 15 | F22: 3 | G22: 10 | H22: 13 | I22: 4 | J22: 15 | K22: 14 | L22: =G22+H22+I22+J22+K22 -> 56 | M22: =L22*D22 -> 672 | O22: 3 | P22: 2 | Q22: 1 | R22: =O22+P22+Q22 -> 6 | S22: =R22*14 -> 84 | T22: =SUM(L22:L26)+R22 -> 104 | U22: =SUM(M22:M26)+S22 -> 1212
C23: Gitte WA431A | D23: 8 | K23: 4 | L23: =G23+H23+I23+J23+K23 -> 4 | M23: =L23*D23 -> 32
C24: Msc Paola WM430R | D24: 12 | G24: 1 | L24: =G24+H24+I24+J24+K24 -> 1 | M24: =L24*D24 -> 12
C25: Gitte WA431A | D25: 12 | E25: 14 | F25: 2 | G25: 4 | H25: 4 | I25: 4 | J25: 9 | K25: 8 | L25: =G25+H25+I25+J25+K25 -> 29 | M25: =L25*D25 -> 348
C26: Gitte WA431A | D26: 8 | K26: 8 | L26: =G26+H26+I26+J26+K26 -> 8 | M26: =L26*D26 -> 64
A27: mercredi | B27: 41826 | C27: Gitte WA431A | D27: 12 | E27: 15 | F27: 3 | G27: 16 | H27: 13 | I27: 4 | J27: 16 | K27: 11 | L27: =G27+H27+I27+J27+K27 -> 60 | M27: =L27*D27 -> 720 | O27: 2 | R27: =O27+P27+Q27 -> 2 | S27: =R27*14 -> 28 | T27: =SUM(L27:L30)+R27 -> 97 | U27: =SUM(M27:M30)+S27 -> 1032
C28: Gitte WA431A | D28: 8 | K28: 5 | L28: =G28+H28+I28+J28+K28 -> 5 | M28: =L28*D28 -> 40
C29: Vacation | D29: 8 | I29: 4 | J29: 8 | K29: 17 | L29: =G29+H29+I29+J29+K29 -> 29 | M29: =L29*D29 -> 232
C30: Vacation | D30: 12 | J30: 1 | L30: =G30+H30+I30+J30+K30 -> 1 | M30: =L30*D30 -> 12
A31: jeudi | B31: 41827 | C31: Ocean Pro ZZ430A | D31: 12 | E31: 15 | F31: 2 | G31: 5 | H31: 3 | I31: 4 | J31: 15 | K31: 8 | L31: =G31+H31+I31+J31+K31 -> 35 | M31: =L31*D31 -> 420 | O31: 3 | P31: 2 | Q31: 1 | R31: =O31+P31+Q31 -> 6 | S31: =R31*14 -> 84 | T31: =SUM(L31:L36)+R31 -> 137 | U31: =SUM(M31:M36)+S31 -> 1620
C32: Ocean Pro ZZ430A | D32: 8 | K32: 8 | L32: =G32+H32+I32+J32+K32 -> 8 | M32: =L32*D32 -> 64
C33: Ocean Pro ZZ430A | D33: 12 | E33: 9 | F33: 2 | G33: 5 | H33: 9 | I33: 1 | J33: 6 | K33: 10 | L33: =G33+H33+I33+J33+K33 -> 31 | M33: =L33*D33 -> 372
C34: Aggeliki P WB432A | D34: 12 | E34: 6 | F34: 3 | G34: 19 | H34: 15 | I34: 3 | J34: 10 | K34: 8 | L34: =G34+H34+I34+J34+K34 -> 55 | M34: =L34*D34 -> 660
C35: Aggeliki P WB432A | D35: 8 | K35: 1 | L35: =G35+H35+I35+J35+K35 -> 1 | M35: =L35*D35 -> 8
C36: Msc Anna WB432A | D36: 12 | G36: 1 | L36: =G36+H36+I36+J36+K36 -> 1 | M36: =L36*D36 -> 12
A37: vendredi | B37: 41828 | C37: Aggeliki P WB432A | D37: 12 | E37: 6 | F37: 3 | G37: 19 | H37: 15 | I37: 3 | J37: 11 | K37: 8 | L37: =G37+H37+I37+J37+K37 -> 56 | M37: =L37*D37 -> 672 | O37: 3 | P37: 2 | Q37: 1 | R37: =O37+P37+Q37 -> 6 | S37: =R37*14 -> 84 | T37: =SUM(L37:L43)+R37 -> 214 | U37: =SUM(M37:M43)+S37 -> 2576
C38: Msc Anna WB432A | D38: 12 | E38: 6 | F38: 2 | G38: 9 | H38: 9 | I38: 1 | J38: 9 | K38: 6 | L38: =G38+H38+I38+J38+K38 -> 34 | M38: =L38*D38 -> 408
C39: Msc Anna WB432A | D39: 8 | K39: 1 | L39: =G39+H39+I39+J39+K39 -> 1 | M39: =L39*D39 -> 8
C40: Ulsan FY432A | D40: 12 | E40: 3 | F40: 1 | G40: 3 | H40: 4 | I40: 1 | J40: 5 | K40: 4 | L40: =G40+H40+I40+J40+K40 -> 17 | M40: =L40*D40 -> 204
...

Sheet TIL SEMPA
A1: Jour de la semaine | B1: Date | C1: ttl pers / jr | D1: ttl H / jr
A3: mardi | B3: 41821 | C3: ='New Aout'!T3:T4 -> 43 | D3: ='New Aout'!U3:U4 -> 496
A5: mercredi | B5: 41822 | C5: ='New Aout'!T5:T8 -> 94 | D5: ='New Aout'!U5:U8 -> 1108
A7: jeudi | B7: 41823 | C7: ='New Aout'!T9:T14 -> #VALUE! | D7: ='New Aout'!U9:U14 -> #VALUE!
A9: vendredi | B9: 41824 | C9: ='New Aout'!T15:T21 -> #VALUE! | D9: ='New Aout'!U15:U21 -> #VALUE!
A11: samedi | B11: 41825 | C11: ='New Aout'!T22:T26 -> #VALUE! | D11: ='New Aout'!U22:U26 -> #VALUE!
A13: dimanche | B13: 41826
A15: lundi | B15: 41827
A17: mardi | B17: 41828
A19: mercredi | B19: 41829
A21: jeudi | B21: 41830
A23: vendredi | B23: 41831
A25: samedi | B25: 41832
A27: dimanche | B27: 41833
A29: lundi | B29: 41834
A31: mardi | B31: 41835
A33: mercredi | B33: 41836
A35: jeudi | B35: 41837
... A63: jeudi | B63: 41851
