Workbook

Sheet New Aout
A1: Jour de la semaine | B1: Date | C1: Navire et Voyage | D1: nbre d'H (shift) | E1: Nbre de Chauff M | F1: Nbre d'Equipes | G1: Catégorie Dockers | L1: ttl pers fiche | M1: ttl H / fiche | O1: Sup.Sempa | R1: Ttl Sup Sempa | S1: Ttl Heure Sup. Sempa | T1: ttl pers / jr | U1: ttl H / jr
G2: 2 | H2: 3 | I2: 4 | J2: 5 | K2: 6 | O2: 5 | P2: 6 | Q2: 7
A3: vendredi | B3: 41821 | C3: HEBE WM430R | D3: 12 | E3: 5 | F3: 2 | G3: 5 | H3: 4 | I3: 3 | J3: 8 | K3: 9 | L3: =G3+H3+I3+J3+K3 -> 29 | M3: =L3*D3 -> 348 | O3: 3 | P3: 2 | Q3: 1 | R3: =O3+P3+Q3 -> 6 | S3: =R3*14 -> 84 | T3: =SUM(L3:L4)+R3 -> 43 | U3: =SUM(M3:M4)+S3 -> 496
C4: HEBE WM430R | D4: 8 | K4: 8 | L4: =G4+H4+I4+J4+K4 -> 8 | M4: =L4*D4 -> 64
A5: samedi | B5: 41822 | C5: CROSS STUFFING | D5: 12 | G5: 6 | L5: =G5+H5+I5+J5+K5 -> 6 | M5: =L5*D5 -> 72 | O5: 3 | P5: 2 | Q5: 1 | R5: =O5+P5+Q5 -> 6 | S5: =R5*14 -> 84 | T5: =SUM(L5:L8)+R5 -> 94 | U5: =SUM(M5:M8)+S5 -> 1108
C6: Msc Natalia FY431R | D6: 12 | E6: 14 | F6: 2 | G6: 5 | H6: 5 | I6: 3 | J6: 14 | K6: 17 | L6: =G6+H6+I6+J6+K6 -> 44 | M6: =L6*D6 -> 528
C7: Msc Natalia FY431R | D7: 12 | E7: 15 | F7: 2 | G7: 5 | H7: 5 | I7: 4 | J7: 8 | K7: 8 | L7: =G7+H7+I7+J7+K7 -> 30 | M7: =L7*D7 -> 360
C8: Msc Natalia FY431R | D8: 8 | K8: 8 | L8: =G8+H8+I8+J8+K8 -> 8 | M8: =L8*D8 -> 64
A9: dimanche | B9: 41823 | C9: Msc Natalia FY431R | D9: 12 | E9: 14 | F9: 2 | G9: 5 | H9: 4 | I9: 3 | J9: 13 | K9: 10 | L9: =G9+H9+I9+J9+K9 -> 35 | M9: =L9*D9 -> 420 | O9: 3 | P9: 2 | Q9: 1 | R9: =O9+P9+Q9 -> 6 | S9: =R9*14 -> 84 | T9: =SUM(L9:L14)+R9 -> 87 | U9: =SUM(M9:M14)+S9 -> 1048
C10: Msc Natalia FY431R | D10: 8 | K10: 8 | L10: =G10+H10+I10+J10+K10 -> 8 | M10: =L10*D10 -> 64
C11: Msc Paola WM430R | D11: 12 | G11: 1 | L11: =G11+H11+I11+J11+K11 -> 1 | M11: =L11*D11 -> 12 | X11: =T15 -> 147 | Y11: =U15 -> 1709
C12: Msc Natalia FY431R | D12: 14 | E12: 15 | F12: 2 | G12: 4 | H12: 6 | I12: 4 | J12: 7 | K12: 7 | L12: =G12+H12+I12+J12+K12 -> 28 | M12: =L12*D12 -> 392
C13: Msc Natalia FY431R | D13: 12 | G13: 1 | L13: =G13+H13+I13+J13+K13 -> 1 | M13: =L13*D13 -> 12
C14: Msc Natalia FY431R | D14: 8 | K14: 8 | L14: =G14+H14+I14+J14+K14 -> 8 | M14: =L14*D14 -> 64
A15: lundi | B15: 41824 | C15: Msc Paola WM430R | D15: 12 | E15: 10 | F15: 2 | G15: 1 | H15: 7 | I15: 2 | J15: 6 | K15: 11 | L15: =G15+H15+I15+J15+K15 -> 27 | M15: =L15*D15 -> 324 | O15: 1 | P15: 2 | Q15: 1 | R15: =O15+P15+Q15 -> 4 | S15: =R15*14 -> 56 | T15: =SUM(L15:L21)+R15 -> 147 | U15: =SUM(M15:M21)+S15 -> 1709
C16: Msc Paola WM430R | D16: 13 | G16: 4 | H16: 1 | L16: =G16+H16+I16+J16+K16 -> 5 | M16: =L16*D16 -> 65
C17: Gitte WA431A | D17: 10 | F17: 2 | G17: 13 | H17: 10 | J17: 5 | L17: =G17+H17+I17+J17+K17 -> 28 | M17: =L17*D17 -> 280
C18: Gitte WA431A | D18: 12 | J18: 1 | L18: =G18+H18+I18+J18+K18 -> 1 | M18: =L18*D18 -> 12
C19: Msc Paola WM430R | D19: 12 | E19: 15 | F19: 2 | G19: 5 | H19: 6 | I19: 4 | J19: 10 | K19: 15 | L19: =G19+H19+I19+J19+K19 -> 40 | M19: =L19*D19 -> 480
C20: Msc Paola WM430R | D20: 8 | K20: 3 | L20: =G20+H20+I20+J20+K20 -> 3 | M20: =L20*D20 -> 24
C21: Gitte WA431A | D21: 12 | E21: 4 | F21: 2 | G21: 13 | H21: 10 | I21: 2 | J21: 9 | K21: 5 | L21: =G21+H21+I21+J21+K21 -> 39 | M21: =L21*D21 -> 468
A22: mardi | B22: 41825 | C22: Gitte WA431A | D22: 12 | E22: 15 | F22: 3 | G22: 10 | H22: 13 | I22: 4 | J22: 15 | K22: 14 | L22: =G22+H22+I22+J22+K22 -> 56 | M22: =L22*D22 -> 672 | O22: 3 | P22: 2 | Q22: 1 | R22: =O22+P22+Q22 -> 6 | S22: =R22*14 -> 84 | T22: =SUM(L22:L26)+R22 -> 104 | U22: =SUM(M22:M26)+S22 -> 1212
C23: Gitte WA431A | D23: 8 | K23: 4 | L23: =G23+H23+I23+J23+K23 -> 4 | M23: =L23*D23 -> 32
C24: Msc Paola WM430R | D24: 12 | G24: 1 | L24: =G24+H24+I24+J24+K24 -> 1 | M24: =L24*D24 -> 12
C25: Gitte WA431A | D25: 12 | E25: 14 | F25: 2 | G25: 4 | H25: 4 | I25: 4 | J25: 9 | K25: 8 | L25: =G25+H25+I25+J25+K25 -> 29 | M25: =L25*D25 -> 348
C26: Gitte WA431A | D26: 8 | K26: 8 | L26: =G26+H26+I26+J26+K26 -> 8 | M26: =L26*D26 -> 64
A27: mercredi | B27: 41826 | C27: Gitte WA431A | D27: 12 | E27: 15 | F27: 3 | G27: 16 | H27: 13 | I27: 4 | J27: 16 | K27: 11 | L27: =G27+H27+I27+J27+K27 -> 60 | M27: =L27*D27 -> 720 | O27: 2 | R27: =O27+P27+Q27 -> 2 | S27: =R27*14 -> 28 | T27: =SUM(L27:L30)+R27 -> 97 | U27: =SUM(M27:M30)+S27 -> 1032
C28: Gitte WA431A | D28: 8 | K28: 5 | L28: =G28+H28+I28+J28+K28 -> 5 | M28: =L28*D28 -> 40
C29: Vacation | D29: 8 | I29: 4 | J29: 8 | K29: 17 | L29: =G29+H29+I29+J29+K29 -> 29 | M29: =L29*D29 -> 232
C30: Vacation | D30: 12 | J30: 1 | L30: =G30+H30+I30+J30+K30 -> 1 | M30: =L30*D30 -> 12
A31: jeudi | B31: 41827 | C31: Ocean Pro ZZ430A | D31: 12 | E31: 15 | F31: 2 | G31: 5 | H31: 3 | I31: 4 | J31: 15 | K31: 8 | L31: =G31+H31+I31+J31+K31 -> 35 | M31: =L31*D31 -> 420 | O31: 3 | P31: 2 | Q31: 1 | R31: =O31+P31+Q31 -> 6 | S31: =R31*14 -> 84 | T31: =SUM(L31:L36)+R31 -> 137 | U31: =SUM(M31:M36)+S31 -> 1620
C32: Ocean Pro ZZ430A | D32: 8 | K32: 8 | L32: =G32+H32+I32+J32+K32 -> 8 | M32: =L32*D32 -> 64
C33: Ocean Pro ZZ430A | D33: 12 | E33: 9 | F33: 2 | G33: 5 | H33: 9 | I33: 1 | J33: 6 | K33: 10 | L33: =G33+H33+I33+J33+K33 -> 31 | M33: =L33*D33 -> 372
C34: Aggeliki P WB432A | D34: 12 | E34: 6 | F34: 3 | G34: 19 | H34: 15 | I34: 3 | J34: 10 | K34: 8 | L34: =G34+H34+I34+J34+K34 -> 55 | M34: =L34*D34 -> 660
C35: Aggeliki P WB432A | D35: 8 | K35: 1 | L35: =G35+H35+I35+J35+K35 -> 1 | M35: =L35*D35 -> 8
C36: Msc Anna WB432A | D36: 12 | G36: 1 | L36: =G36+H36+I36+J36+K36 -> 1 | M36: =L36*D36 -> 12
A37: vendredi | B37: 41828 | C37: Aggeliki P WB432A | D37: 12 | E37: 6 | F37: 3 | G37: 19 | H37: 15 | I37: 3 | J37: 11 | K37: 8 | L37: =G37+H37+I37+J37+K37 -> 56 | M37: =L37*D37 -> 672 | O37: 3 | P37: 2 | Q37: 1 | R37: =O37+P37+Q37 -> 6 | S37: =R37*14 -> 84 | T37: =SUM(L37:L43)+R37 -> 214 | U37: =SUM(M37:M43)+S37 -> 2576
C38: Msc Anna WB432A | D38: 12 | E38: 6 | F38: 2 | G38: 9 | H38: 9 | I38: 1 | J38: 9 | K38: 6 | L38: =G38+H38+I38+J38+K38 -> 34 | M38: =L38*D38 -> 408
C39: Msc Anna WB432A | D39: 8 | K39: 1 | L39: =G39+H39+I39+J39+K39 -> 1 | M39: =L39*D39 -> 8
C40: Ulsan FY432A | D40: 12 | E40: 3 | F40: 1 | G40: 3 | H40: 4 | I40: 1 | J40: 5 | K40: 4 | L40: =G40+H40+I40+J40+K40 -> 17 | M40: =L40*D40 -> 204
C41: Aggeliki P WB432A | D41: 12 | E41: 6 | F41: 3 | G41: 18 | H41: 15 | I41: 3 | J41: 11 | K41: 8 | L41: =G41+H41+I41+J41+K41 -> 55 | M41: =L41*D41 -> 660
C42: Msc Anna WB432A | D42: 12 | E42: 5 | F42: 2 | G42: 9 | H42: 9 | I42: 1 | J42: 7 | K42: 6 | L42: =G42+H42+I42+J42+K42 -> 32 | M42: =L42*D42 -> 384
C43: Ulsan FY432A | D43: 12 | E43: 3 | F43: 1 | G43: 3 | H43: 4 | I43: 1 | J43: 2 | K43: 3 | L43: =G43+H43+I43+J43+K43 -> 13 | M43: =L43*D43 -> 156
A44: samedi | B44: 41829 | C44: Aggeliki P WB432A | D44: 12 | E44: 4 | F44: 2 | G44: 13 | H44: 10 | I44: 2 | J44: 8 | K44: 6 | L44: =G44+H44+I44+J44+K44 -> 39 | M44: =L44*D44 -> 468 | O44: 3 | P44: 2 | Q44: 1 | R44: =O44+P44+Q44 -> 6 | S44: =R44*14 -> 84 | T44: =SUM(L44:L51)+R44 -> 208 | U44: =SUM(M44:M51)+S44 -> 2488
C45: Msc Anna WB432A | D45: 12 | E45: 2 | F45: 1 | G45: 7 | H45: 5 | I45: 1 | J45: 4 | K45: 4 | L45: =G45+H45+I45+J45+K45 -> 21 | M45: =L45*D45 -> 252
C46: Ulsan FY432A | D46: 12 | E46: 9 | F46: 2 | G46: 5 | H46: 8 | I46: 1 | J46: 8 | K46: 10 | L46: =G46+H46+I46+J46+K46 -> 32 | M46: =L46*D46 -> 384
C47: Ulsan FY432A | D47: 8 | K47: 1 | L47: =G47+H47+I47+J47+K47 -> 1 | M47: =L47*D47 -> 8
C48: Aggeliki P WB432A | D48: 12 | E48: 4 | F48: 2 | G48: 13 | H48: 10 | I48: 2 | J48: 6 | K48: 6 | L48: =G48+H48+I48+J48+K48 -> 37 | M48: =L48*D48 -> 444
C49: Ulsan FY432A | D49: 12 | E49: 11 | F49: 2 | G49: 5 | H49: 8 | I49: 2 | J49: 6 | K49: 8 | L49: =G49+H49+I49+J49+K49 -> 29 | M49: =L49*D49 -> 348
C50: Ulsan FY432A | D50: 8 | K50: 4 | L50: =G50+H50+I50+J50+K50 -> 4 | M50: =L50*D50 -> 32
C51: Aggeliki P WB432A | D51: 12 | E51: 4 | F51: 2 | G51: 13 | H51: 10 | I51: 2 | J51: 8 | K51: 6 | L51: =G51+H51+I51+J51+K51 -> 39 | M51: =L51*D51 -> 468
A52: dimanche | B52: 41830 | C52: Ulsan FY432A | D52: 12 | E52: 11 | F52: 2 | G52: 5 | H52: 8 | I52: 2 | J52: 10 | K52: 9 | L52: =G52+H52+I52+J52+K52 -> 34 | M52: =L52*D52 -> 408 | O52: 3 | P52: 2 | Q52: 1 | R52: =O52+P52+Q52 -> 6 | S52: =R52*14 -> 84 | T52: =SUM(L52:L56)+R52 -> 100 | U52: =SUM(M52:M56)+S52 -> 1176
C53: Ulsan FY432A | D53: 8 | K53: 4 | L53: =G53+H53+I53+J53+K53 -> 4 | M53: =L53*D53 -> 32
C54: Aggeliki P WB432A | D54: 12 | E54: 15 | F54: 3 | G54: 11 | H54: 13 | I54: 3 | J54: 11 | K54: 12 | L54: =G54+H54+I54+J54+K54 -> 50 | M54: =L54*D54 -> 600
C55: Aggeliki P WB432A | D55: 8 | K55: 5 | L55: =G55+H55+I55+J55+K55 -> 5 | M55: =L55*D55 -> 40
C56: Msc Sophie WM431R | D56: 12 | G56: 1 | L56: =G56+H56+I56+J56+K56 -> 1 | M56: =L56*D56 -> 12
A57: lundi | B57: 41831 | L57: =G57+H57+I57+J57+K57 -> 0 | M57: =L57*D57 -> 0 | O57: 1 | P57: 2 | Q57: 1 | R57: =O57+P57+Q57 -> 4 | S57: =R57*14 -> 56 | T57: =SUM(L57:L62)+R57 -> 4 | U57: =SUM(M57:M62)+S57 -> 56
L58: =G58+H58+I58+J58+K58 -> 0 | M58: =L58*D58 -> 0
L59: =G59+H59+I59+J59+K59 -> 0 | M59: =L59*D59 -> 0
L60: =G60+H60+I60+J60+K60 -> 0 | M60: =L60*D60 -> 0
L61: =G61+H61+I61+J61+K61 -> 0 | M61: =L61*D61 -> 0
L62: =G62+H62+I62+J62+K62 -> 0 | M62: =L62*D62 -> 0
A63: mardi | B63: 41832 | L63: =G63+H63+I63+J63+K63 -> 0 | M63: =L63*D63 -> 0 | O63: 3 | P63: 2 | Q63: 1 | R63: =O63+P63+Q63 -> 6 | S63: =R63*14 -> 84 | T63: =SUM(L63:L69)+R63 -> 6 | U63: =SUM(M63:M69)+S63 -> 84
L64: =G64+H64+I64+J64+K64 -> 0 | M64: =L64*D64 -> 0
L65: =G65+H65+I65+J65+K65 -> 0 | M65: =L65*D65 -> 0
L66: =G66+H66+I66+J66+K66 -> 0 | M66: =L66*D66 -> 0
L67: =G67+H67+I67+J67+K67 -> 0 | M67: =L67*D67 -> 0
L68: =G68+H68+I68+J68+K68 -> 0 | M68: =L68*D68 -> 0
L69: =G69+H69+I69+J69+K69 -> 0 | M69: =L69*D69 -> 0
A70: mercredi | B70: 41833 | L70: =G70+H70+I70+J70+K70 -> 0 | M70: =L70*D70 -> 0 | O70: 2 | R70: =O70+P70+Q70 -> 2 | S70: =R70*14 -> 28 | T70: =SUM(L70:L73)+R70 -> 2 | U70: =SUM(M70:M73)+S70 -> 28
L71: =G71+H71+I71+J71+K71 -> 0 | M71: =L71*D71 -> 0
L72: =G72+H72+I72+J72+K72 -> 0 | M72: =L72*D72 -> 0
L73: =G73+H73+I73+J73+K73 -> 0 | M73: =L73*D73 -> 0
A74: jeudi | B74: 41834 | L74: =G74+H74+I74+J74+K74 -> 0 | M74: =L74*D74 -> 0 | O74: 3 | P74: 2 | Q74: 1 | R74: =O74+P74+Q74 -> 6 | S74: =R74*14 -> 84 | T74: =SUM(L74:L79)+R74 -> 6 | U74: =SUM(M74:M79)+S74 -> 84
L75: =G75+H75+I75+J75+K75 -> 0 | M75: =L75*D75 -> 0
L76: =G76+H76+I76+J76+K76 -> 0 | M76: =L76*D76 -> 0
L77: =G77+H77+I77+J77+K77 -> 0 | M77: =L77*D77 -> 0
L78: =G78+H78+I78+J78+K78 -> 0 | M78: =L78*D78 -> 0
L79: =G79+H79+I79+J79+K79 -> 0 | M79: =L79*D79 -> 0
A80: vendredi | B80: 41835 | L80: =G80+H80+I80+J80+K80 -> 0 | M80: =L80*D80 -> 0 | O80: 3 | P80: 2 | Q80: 1 | R80: =O80+P80+Q80 -> 6 | S80: =R80*14 -> 84 | T80: =SUM(L80:L83)+R80 -> 6 | U80: =SUM(M80:M83)+S80 -> 84
L81: =G81+H81+I81+J81+K81 -> 0 | M81: =L81*D81 -> 0
L82: =G82+H82+I82+J82+K82 -> 0 | M82: =L82*D82 -> 0
L83: =G83+H83+I83+J83+K83 -> 0 | M83: =L83*D83 -> 0
A84: samedi | B84: 41836 | L84: =G84+H84+I84+J84+K84 -> 0 | M84: =L84*D84 -> 0 | O84: 3 | P84: 2 | Q84: 1 | R84: =O84+P84+Q84 -> 6 | S84: =R84*14 -> 84 | T84: =SUM(L84:L87)+R84 -> 6 | U84: =SUM(M84:M87)+S84 -> 84
L85: =G85+H85+I85+J85+K85 -> 0 | M85: =L85*D85 -> 0
L86: =G86+H86+I86+J86+K86 -> 0 | M86: =L86*D86 -> 0
L87: =G87+H87+I87+J87+K87 -> 0 | M87: =L87*D87 -> 0
A88: dimanche | B88: 41837 | L88: =G88+H88+I88+J88+K88 -> 0 | M88: =L88*D88 -> 0 | O88: 3 | P88: 2 | Q88: 1 | R88: =O88+P88+Q88 -> 6 | S88: =R88*14 -> 84 | T88: =SUM(L88:L91)+R88 -> 6 | U88: =SUM(M88:M91)+S88 -> 84
L89: =G89+H89+I89+J89+K89 -> 0 | M89: =L89*D89 -> 0
L90: =G90+H90+I90+J90+K90 -> 0 | M90: =L90*D90 -> 0
L91: =G91+H91+I91+J91+K91 -> 0 | M91: =L91*D91 -> 0
A92: lundi | B92: 41838 | L92: =G92+H92+I92+J92+K92 -> 0 | M92: =L92*D92 -> 0 | O92: 1 | P92: 2 | Q92: 1 | R92: =O92+P92+Q92 -> 4 | S92: =R92*14 -> 56 | T92: =SUM(L92:L98)+R92 -> 4 | U92: =SUM(M92:M98)+S92 -> 56
L93: =G93+H93+I93+J93+K93 -> 0 | M93: =L93*D93 -> 0
L94: =G94+H94+I94+J94+K94 -> 0 | M94: =L94*D94 -> 0
L95: =G95+H95+I95+J95+K95 -> 0 | M95: =L95*D95 -> 0
L96: =G96+H96+I96+J96+K96 -> 0 | M96: =L96*D96 -> 0
L97: =G97+H97+I97+J97+K97 -> 0 | M97: =L97*D97 -> 0
L98: =G98+H98+I98+J98+K98 -> 0 | M98: =L98*D98 -> 0
A99: mardi | B99: 41839 | L99: =G99+H99+I99+J99+K99 -> 0 | M99: =L99*D99 -> 0 | O99: 3 | P99: 2 | Q99: 1 | R99: =O99+P99+Q99 -> 6 | S99: =R99*14 -> 84 | T99: =SUM(L99:L105)+R99 -> 6 | U99: =SUM(M99:M105)+S99 -> 84
L100: =G100+H100+I100+J100+K100 -> 0 | M100: =L100*D100 -> 0
...

Sheet TIL SEMPA
A1: Jour de la semaine | B1: Date | C1: ttl pers / jr | D1: ttl H / jr
A3: mardi | B3: 41821 | C3: ='New Aout'!T3:T4 -> 43 | D3: ='New Aout'!U3:U4 -> 496
A5: mercredi | B5: 41822 | C5: ='New Aout'!T5:T8 -> 94 | D5: ='New Aout'!U5:U8 -> 1108
A7: jeudi | B7: 41823 | C7: ='New Aout'!T9:T14 -> #VALUE! | D7: ='New Aout'!U9:U14 -> #VALUE!
A9: vendredi | B9: 41824 | C9: ='New Aout'!T15:T21 -> #VALUE! | D9: ='New Aout'!U15:U21 -> #VALUE!
A11: samedi | B11: 41825 | C11: ='New Aout'!T22:T26 -> #VALUE! | D11: ='New Aout'!U22:U26 -> #VALUE!
A13: dimanche | B13: 41826
A15: lundi | B15: 41827
A17: mardi | B17: 41828
A19: mercredi | B19: 41829
A21: jeudi | B21: 41830
A23: vendredi | B23: 41831
A25: samedi | B25: 41832
A27: dimanche | B27: 41833
A29: lundi | B29: 41834
A31: mardi | B31: 41835
A33: mercredi | B33: 41836
A35: jeudi | B35: 41837
... A63: jeudi | B63: 41851
