Workbook
Name bdd: 'Suppléances positif'!$H$2:$M$50
Name bdd_2: Traitement!$B$4:$E$50
Name bdd_3: Corps_enseignant!$D$2:$E$50
Name CAP: [1]F15!$AA$19:$AA$22
Name Cercles: [1]Ecoles!$A$2:$A$35
Name Degrés: [1]F15!$AC$18:$AC$36
Name LeçonsACompenser: 'Suppléances négatif'!$B$1:$B$21
Name LeçonsACompenser: 'Suppléances positif'!#REF!
Name ListeSuppléants: #REF!
Name NbreHeureDeSuppléances: 'Suppléances négatif'!#REF!
Name NbreHeureDeSuppléances: 'Suppléances positif'!$D$1:$D$8
Name Nom: Corps_enseignant!$D$2:$D$50
Name nom_1: Traitement!$J$4:$J$50
Name nom_2: Traitement!$N$4:$N$50
Name Statut: [1]F15!$AB$19:$AB$20
Name Suppléants: 'Suppléances négatif'!$A$1:$A$21
Name Suppléants: 'Suppléances positif'!$A$1:$A$8
Name Total: 'Total complet'!#REF!

Sheet Suppléances négatif
A1: Enseignant-e absente à indiquer selon liste déroulante | B1: Leçons à compenser | C1: Date de l'absence | D1: Motif | E1: Remarque | G1: Clef_unique
A2: Dassin Joe - 51597 | C2: 41513 | D2: Maladie | G2: =Corps_enseignant!D2 -> Dassin Joe - 51597
A3: Gainsbourg Serge - 25096 | B3: 2 | C3: 41515 | D3: Séance - Traduction | G3: =Corps_enseignant!D3 -> Farmer Mylène - 50531
A4: Berger Michel - 25253 | B4: 6 | C4: 41522 | D4: Séance - Bourgeoisie | G4: =Corps_enseignant!D4 -> Hallyday Johnny - 51330
A5: Dassin Joe - 51597 | B5: 4 | C5: 41529 | D5: Séance - Traduction | G5: =Corps_enseignant!D5 -> Berger Michel - 25253
A6: Adjani Isabelle - 50290 | B6: 2 | C6: 41530 | D6: Maladie | G6: =Corps_enseignant!D6 -> Gall France - 21511
G7: =Corps_enseignant!D7 -> Gainsbourg Serge - 25096
G8: =Corps_enseignant!D8 -> Adjani Isabelle - 50290
G9: =Corps_enseignant!D9 -> Alamo Franck - 30740
G10: =Corps_enseignant!D10 -> Ferré Léo - 25013
G11: =Corps_enseignant!D11 -> Girardot Annie - 50521
G12: =Corps_enseignant!D12 -> -
G13: =Corps_enseignant!D13 -> -
G14: =Corps_enseignant!D14 -> -
G15: =Corps_enseignant!D15 -> -
G16: =Corps_enseignant!D16 -> -
G17: =Corps_enseignant!D17 -> -
G18: =Corps_enseignant!D18 -> -
... G50: =Corps_enseignant!D50 -> -
B51: =SUM(B2:B50) -> 14

Sheet Suppléances positif
A1: Enseignant-e ayant assumé la suppléance -> selon liste déroulante | B1: Caisse chômage | C1: Date de la suppléance | D1: Leçons suppléées | E1: Enseignant-e suppléé-e | F1: Motif | G1: Remarque | I1: Clef_unique | K1: Calcul NEGATIF | L1: Calcul POSITIF | M1: TOTAL
A2: Berger Michel - 25253 | B2: x | C2: ='Suppléances négatif'!C2 -> 41513 | D2: ='Suppléances négatif'!B2 -> 0 | E2: ='Suppléances négatif'!A2 -> Dassin Joe - 51597 | F2: ='Suppléances négatif'!D2 -> Maladie | G2: ='Suppléances négatif'!E2 -> 0 | H2: =IF(N2="","",RANK(N2,$N$2:$N$50,1)) -> 1 | I2: =Corps_enseignant!D2 -> Dassin Joe - 51597 | K2: =SUMIF($E$2:$E$50,I2,$D$2:$D$50) -> 4 | L2: =SUMIF($A$2:$A$50,I2,$D$2:$D$50) -> 3 | M2: =L2-K2 -> -1 | N2: =IF(OR(K2>0,L2>0),ROW(I2),"") -> 2
A3: Dassin Joe - 51597 | C3: ='Suppléances négatif'!C3 -> 41515 | D3: 2 | E3: ='Suppléances négatif'!A3 -> Gainsbourg Serge - 25096 | F3: ='Suppléances négatif'!D3 -> Séance - Traduction | G3: ='Suppléances négatif'!E3 -> 0 | H3: =IF(N3="","",RANK(N3,$N$2:$N$50,1)) | I3: =Corps_enseignant!D3 -> Farmer Mylène - 50531 | K3: =SUMIF($E$2:$E$50,I3,$D$2:$D$50) -> 0 | L3: =SUMIF($A$2:$A$50,I3,$D$2:$D$50) -> 0 | M3: =L3-K3 -> 0 | N3: =IF(OR(K3>0,L3>0),ROW(I3),"")
A4: Adjani Isabelle - 50290 | C4: ='Suppléances négatif'!C4 -> 41522 | D4: ='Suppléances négatif'!B4 -> 6 | E4: ='Suppléances négatif'!A4 -> Berger Michel - 25253 | F4: ='Suppléances négatif'!D4 -> Séance - Bourgeoisie | G4: ='Suppléances négatif'!E4 -> 0 | H4: =IF(N4="","",RANK(N4,$N$2:$N$50,1)) | I4: =Corps_enseignant!D4 -> Hallyday Johnny - 51330 | K4: =SUMIF($E$2:$E$50,I4,$D$2:$D$50) -> 0 | L4: =SUMIF($A$2:$A$50,I4,$D$2:$D$50) -> 0 | M4: =L4-K4 -> 0 | N4: =IF(OR(K4>0,L4>0),ROW(I4),"")
A5: Adjani Isabelle - 50290 | C5: ='Suppléances négatif'!C5 -> 41529 | D5: ='Suppléances négatif'!B5 -> 4 | E5: ='Suppléances négatif'!A5 -> Dassin Joe - 51597 | F5: ='Suppléances négatif'!D5 -> Séance - Traduction | G5: ='Suppléances négatif'!E5 -> 0 | H5: =IF(N5="","",RANK(N5,$N$2:$N$50,1)) -> 2 | I5: =Corps_enseignant!D5 -> Berger Michel - 25253 | K5: =SUMIF($E$2:$E$50,I5,$D$2:$D$50) -> 6 | L5: =SUMIF($A$2:$A$50,I5,$D$2:$D$50) -> 0 | M5: =L5-K5 -> -6 | N5: =IF(OR(K5>0,L5>0),ROW(I5),"") -> 5
A6: Dassin Joe - 51597 | C6: ='Suppléances négatif'!C6 -> 41530 | D6: 1 | E6: ='Suppléances négatif'!A6 -> Adjani Isabelle - 50290 | F6: ='Suppléances négatif'!D6 -> Maladie | G6: ='Suppléances négatif'!E6 -> 0 | H6: =IF(N6="","",RANK(N6,$N$2:$N$50,1)) | I6: =Corps_enseignant!D6 -> Gall France - 21511 | K6: =SUMIF($E$2:$E$50,I6,$D$2:$D$50) -> 0 | L6: =SUMIF($A$2:$A$50,I6,$D$2:$D$50) -> 0 | M6: =L6-K6 -> 0 | N6: =IF(OR(K6>0,L6>0),ROW(I6),"")
C7: ='Suppléances négatif'!C7 -> 0 | D7: ='Suppléances négatif'!B7 -> 0 | E7: ='Suppléances négatif'!A7 -> 0 | F7: ='Suppléances négatif'!D7 -> 0 | G7: ='Suppléances négatif'!E7 -> 0 | H7: =IF(N7="","",RANK(N7,$N$2:$N$50,1)) -> 3 | I7: =Corps_enseignant!D7 -> Gainsbourg Serge - 25096 | K7: =SUMIF($E$2:$E$50,I7,$D$2:$D$50) -> 2 | L7: =SUMIF($A$2:$A$50,I7,$D$2:$D$50) -> 0 | M7: =L7-K7 -> -2 | N7: =IF(OR(K7>0,L7>0),ROW(I7),"") -> 7
C8: ='Suppléances négatif'!C8 -> 0 | D8: ='Suppléances négatif'!B8 -> 0 | E8: ='Suppléances négatif'!A8 -> 0 | F8: ='Suppléances négatif'!D8 -> 0 | G8: ='Suppléances négatif'!E8 -> 0 | H8: =IF(N8="","",RANK(N8,$N$2:$N$50,1)) -> 4 | I8: =Corps_enseignant!D8 -> Adjani Isabelle - 50290 | K8: =SUMIF($E$2:$E$50,I8,$D$2:$D$50) -> 1 | L8: =SUMIF($A$2:$A$50,I8,$D$2:$D$50) -> 10 | M8: =L8-K8 -> 9 | N8: =IF(OR(K8>0,L8>0),ROW(I8),"") -> 8
C9: ='Suppléances négatif'!C9 -> 0 | D9: ='Suppléances négatif'!B9 -> 0 | E9: ='Suppléances négatif'!A9 -> 0 | F9: ='Suppléances négatif'!D9 -> 0 | G9: ='Suppléances négatif'!E9 -> 0 | H9: =IF(N9="","",RANK(N9,$N$2:$N$50,1)) | I9: =Corps_enseignant!D9 -> Alamo Franck - 30740 | K9: =SUMIF($E$2:$E$50,I9,$D$2:$D$50) -> 0 | L9: =SUMIF($A$2:$A$50,I9,$D$2:$D$50) -> 0 | M9: =L9-K9 -> 0 | N9: =IF(OR(K9>0,L9>0),ROW(I9),"")
C10: ='Suppléances négatif'!C10 -> 0 | D10: ='Suppléances négatif'!B10 -> 0 | E10: ='Suppléances négatif'!A10 -> 0 | F10: ='Suppléances négatif'!D10 -> 0 | G10: ='Suppléances négatif'!E10 -> 0 | H10: =IF(N10="","",RANK(N10,$N$2:$N$50,1)) | I10: =Corps_enseignant!D10 -> Ferré Léo - 25013 | K10: =SUMIF($E$2:$E$50,I10,$D$2:$D$50) -> 0 | L10: =SUMIF($A$2:$A$50,I10,$D$2:$D$50) -> 0 | M10: =L10-K10 -> 0 | N10: =IF(OR(K10>0,L10>0),ROW(I10),"")
C11: ='Suppléances négatif'!C11 -> 0 | D11: ='Suppléances négatif'!B11 -> 0 | E11: ='Suppléances négatif'!A11 -> 0 | F11: ='Suppléances négatif'!D11 -> 0 | G11: ='Suppléances négatif'!E11 -> 0 | H11: =IF(N11="","",RANK(N11,$N$2:$N$50,1)) | I11: =Corps_enseignant!D11 -> Girardot Annie - 50521 | K11: =SUMIF($E$2:$E$50,I11,$D$2:$D$50) -> 0 | L11: =SUMIF($A$2:$A$50,I11,$D$2:$D$50) -> 0 | M11: =L11-K11 -> 0 | N11: =IF(OR(K11>0,L11>0),ROW(I11),"")
C12: ='Suppléances négatif'!C12 -> 0 | D12: ='Suppléances négatif'!B12 -> 0 | E12: ='Suppléances négatif'!A12 -> 0 | F12: ='Suppléances négatif'!D12 -> 0 | G12: ='Suppléances négatif'!E12 -> 0 | H12: =IF(N12="","",RANK(N12,$N$2:$N$50,1)) | I12: =Corps_enseignant!D12 -> - | K12: =SUMIF($E$2:$E$50,I12,$D$2:$D$50) -> 0 | L12: =SUMIF($A$2:$A$50,I12,$D$2:$D$50) -> 0 | M12: =L12-K12 -> 0 | N12: =IF(OR(K12>0,L12>0),ROW(I12),"")
C13: ='Suppléances négatif'!C13 -> 0 | D13: ='Suppléances négatif'!B13 -> 0 | E13: ='Suppléances négatif'!A13 -> 0 | F13: ='Suppléances négatif'!D13 -> 0 | G13: ='Suppléances négatif'!E13 -> 0 | H13: =IF(N13="","",RANK(N13,$N$2:$N$50,1)) | I13: =Corps_enseignant!D13 -> - | K13: =SUMIF($E$2:$E$50,I13,$D$2:$D$50) -> 0 | L13: =SUMIF($A$2:$A$50,I13,$D$2:$D$50) -> 0 | M13: =L13-K13 -> 0 | N13: =IF(OR(K13>0,L13>0),ROW(I13),"")
C14: ='Suppléances négatif'!C14 -> 0 | D14: ='Suppléances négatif'!B14 -> 0 | E14: ='Suppléances négatif'!A14 -> 0 | F14: ='Suppléances négatif'!D14 -> 0 | G14: ='Suppléances négatif'!E14 -> 0 | H14: =IF(N14="","",RANK(N14,$N$2:$N$50,1)) | I14: =Corps_enseignant!D14 -> - | K14: =SUMIF($E$2:$E$50,I14,$D$2:$D$50) -> 0 | L14: =SUMIF($A$2:$A$50,I14,$D$2:$D$50) -> 0 | M14: =L14-K14 -> 0 | N14: =IF(OR(K14>0,L14>0),ROW(I14),"")
C15: ='Suppléances négatif'!C15 -> 0 | D15: ='Suppléances négatif'!B15 -> 0 | E15: ='Suppléances négatif'!A15 -> 0 | F15: ='Suppléances négatif'!D15 -> 0 | G15: ='Suppléances négatif'!E15 -> 0 | H15: =IF(N15="","",RANK(N15,$N$2:$N$50,1)) | I15: =Corps_enseignant!D15 -> - | K15: =SUMIF($E$2:$E$50,I15,$D$2:$D$50) -> 0 | L15: =SUMIF($A$2:$A$50,I15,$D$2:$D$50) -> 0 | M15: =L15-K15 -> 0 | N15: =IF(OR(K15>0,L15>0),ROW(I15),"")
C16: ='Suppléances négatif'!C16 -> 0 | D16: ='Suppléances négatif'!B16 -> 0 | E16: ='Suppléances négatif'!A16 -> 0 | F16: ='Suppléances négatif'!D16 -> 0 | G16: ='Suppléances négatif'!E16 -> 0 | H16: =IF(N16="","",RANK(N16,$N$2:$N$50,1)) | I16: =Corps_enseignant!D16 -> - | K16: =SUMIF($E$2:$E$50,I16,$D$2:$D$50) -> 0 | L16: =SUMIF($A$2:$A$50,I16,$D$2:$D$50) -> 0 | M16: =L16-K16 -> 0 | N16: =IF(OR(K16>0,L16>0),ROW(I16),"")
C17: ='Suppléances négatif'!C17 -> 0 | D17: ='Suppléances négatif'!B17 -> 0 | E17: ='Suppléances négatif'!A17 -> 0 | F17: ='Suppléances négatif'!D17 -> 0 | G17: ='Suppléances négatif'!E17 -> 0 | H17: =IF(N17="","",RANK(N17,$N$2:$N$50,1)) | I17: =Corps_enseignant!D17 -> - | K17: =SUMIF($E$2:$E$50,I17,$D$2:$D$50) -> 0 | L17: =SUMIF($A$2:$A$50,I17,$D$2:$D$50) -> 0 | M17: =L17-K17 -> 0 | N17: =IF(OR(K17>0,L17>0),ROW(I17),"")
C18: ='Suppléances négatif'!C18 -> 0 | D18: ='Suppléances négatif'!B18 -> 0 | E18: ='Suppléances négatif'!A18 -> 0 | F18: ='Suppléances négatif'!D18 -> 0 | G18: ='Suppléances négatif'!E18 -> 0 | H18: =IF(N18="","",RANK(N18,$N$2:$N$50,1)) | I18: =Corps_enseignant!D18 -> - | K18: =SUMIF($E$2:$E$50,I18,$D$2:$D$50) -> 0 | L18: =SUMIF($A$2:$A$50,I18,$D$2:$D$50) -> 0 | M18: =L18-K18 -> 0 | N18: =IF(OR(K18>0,L18>0),ROW(I18),"")
... C50: ='Suppléances négatif'!C50 -> 0 | D50: ='Suppléances négatif'!B50 -> 0 | E50: ='Suppléances négatif'!A50 -> 0 | F50: ='Suppléances négatif'!D50 -> 0 | G50: ='Suppléances négatif'!E50 -> 0 | H50: =IF(N50="","",RANK(N50,$N$2:$N$50,1)) | I50: =Corps_enseignant!D50 -> - | K50: =SUMIF($E$2:$E$50,I50,$D$2:$D$50) -> 0 | L50: =SUMIF($A$2:$A$50,I50,$D$2:$D$50) -> 0 | M50: =L50-K50 -> 0 | N50: =IF(OR(K50>0,L50>0),ROW(I50),"")
D51: =SUBTOTAL(109,D2:D50) -> 13 | K51: =SUM(K2:K50) -> 13 | L51: =SUM(L2:L50) -> 13 | M51: =K51-L51 -> 0

Sheet Total complet
B1: Nom et Prénom | C1: Leçons donnés | D1: Leçons à compenser | E1: Total | G1: Total des leçons à payer | H1: =SUM(C2:C50) -> 13
G2: Total des leçons à récupérer | H2: =SUM(D2:D50) -> 13
G3: Total positif/négatif | H3: =H2-H1 -> 0
A4: 1 | B4: =IF(ISERROR(VLOOKUP(A4,bdd,2,FALSE)),"",VLOOKUP(A4,bdd,2,FALSE)) -> Dassin Joe - 51597 | C4: =IF(B4="","",VLOOKUP(A4,bdd,5,FALSE)) -> 3 | D4: =IF(B4="","",VLOOKUP(A4,bdd,4,FALSE)) -> 4 | E4: =IF(B4="",0,VLOOKUP(A4,bdd,6,FALSE)) -> -1
A5: 2 | B5: =IF(ISERROR(VLOOKUP(A5,bdd,2,FALSE)),"",VLOOKUP(A5,bdd,2,FALSE)) -> Berger Michel - 25253 | C5: =IF(B5="","",VLOOKUP(A5,bdd,5,FALSE)) -> 0 | D5: =IF(B5="","",VLOOKUP(A5,bdd,4,FALSE)) -> 6 | E5: =IF(B5="",0,VLOOKUP(A5,bdd,6,FALSE)) -> -6
A6: 3 | B6: =IF(ISERROR(VLOOKUP(A6,bdd,2,FALSE)),"",VLOOKUP(A6,bdd,2,FALSE)) -> Gainsbourg Serge - 25096 | C6: =IF(B6="","",VLOOKUP(A6,bdd,5,FALSE)) -> 0 | D6: =IF(B6="","",VLOOKUP(A6,bdd,4,FALSE)) -> 2 | E6: =IF(B6="",0,VLOOKUP(A6,bdd,6,FALSE)) -> -2
A7: 4 | B7: =IF(ISERROR(VLOOKUP(A7,bdd,2,FALSE)),"",VLOOKUP(A7,bdd,2,FALSE)) -> Adjani Isabelle - 50290 | C7: =IF(B7="","",VLOOKUP(A7,bdd,5,FALSE)) -> 10 | D7: =IF(B7="","",VLOOKUP(A7,bdd,4,FALSE)) -> 1 | E7: =IF(B7="",0,VLOOKUP(A7,bdd,6,FALSE)) -> 9
A8: 5 | B8: =IF(ISERROR(VLOOKUP(A8,bdd,2,FALSE)),"",VLOOKUP(A8,bdd,2,FALSE)) | C8: =IF(B8="","",VLOOKUP(A8,bdd,5,FALSE)) | D8: =IF(B8="","",VLOOKUP(A8,bdd,4,FALSE)) | E8: =IF(B8="",0,VLOOKUP(A8,bdd,6,FALSE)) -> 0
A9: 6 | B9: =IF(ISERROR(VLOOKUP(A9,bdd,2,FALSE)),"",VLOOKUP(A9,bdd,2,FALSE)) | C9: =IF(B9="","",VLOOKUP(A9,bdd,5,FALSE)) | D9: =IF(B9="","",VLOOKUP(A9,bdd,4,FALSE)) | E9: =IF(B9="",0,VLOOKUP(A9,bdd,6,FALSE)) -> 0
A10: 7 | B10: =IF(ISERROR(VLOOKUP(A10,bdd,2,FALSE)),"",VLOOKUP(A10,bdd,2,FALSE)) | C10: =IF(B10="","",VLOOKUP(A10,bdd,5,FALSE)) | D10: =IF(B10="","",VLOOKUP(A10,bdd,4,FALSE)) | E10: =IF(B10="",0,VLOOKUP(A10,bdd,6,FALSE)) -> 0
A11: 8 | B11: =IF(ISERROR(VLOOKUP(A11,bdd,2,FALSE)),"",VLOOKUP(A11,bdd,2,FALSE)) | C11: =IF(B11="","",VLOOKUP(A11,bdd,5,FALSE)) | D11: =IF(B11="","",VLOOKUP(A11,bdd,4,FALSE)) | E11: =IF(B11="",0,VLOOKUP(A11,bdd,6,FALSE)) -> 0
A12: 9 | B12: =IF(ISERROR(VLOOKUP(A12,bdd,2,FALSE)),"",VLOOKUP(A12,bdd,2,FALSE)) | C12: =IF(B12="","",VLOOKUP(A12,bdd,5,FALSE)) | D12: =IF(B12="","",VLOOKUP(A12,bdd,4,FALSE)) | E12: =IF(B12="",0,VLOOKUP(A12,bdd,6,FALSE)) -> 0
A13: 10 | B13: =IF(ISERROR(VLOOKUP(A13,bdd,2,FALSE)),"",VLOOKUP(A13,bdd,2,FALSE)) | C13: =IF(B13="","",VLOOKUP(A13,bdd,5,FALSE)) | D13: =IF(B13="","",VLOOKUP(A13,bdd,4,FALSE)) | E13: =IF(B13="",0,VLOOKUP(A13,bdd,6,FALSE)) -> 0
A14: 11 | B14: =IF(ISERROR(VLOOKUP(A14,bdd,2,FALSE)),"",VLOOKUP(A14,bdd,2,FALSE)) | C14: =IF(B14="","",VLOOKUP(A14,bdd,5,FALSE)) | D14: =IF(B14="","",VLOOKUP(A14,bdd,4,FALSE)) | E14: =IF(B14="",0,VLOOKUP(A14,bdd,6,FALSE)) -> 0
A15: 12 | B15: =IF(ISERROR(VLOOKUP(A15,bdd,2,FALSE)),"",VLOOKUP(A15,bdd,2,FALSE)) | C15: =IF(B15="","",VLOOKUP(A15,bdd,5,FALSE)) | D15: =IF(B15="","",VLOOKUP(A15,bdd,4,FALSE)) | E15: =IF(B15="",0,VLOOKUP(A15,bdd,6,FALSE)) -> 0
... A50: 47 | B50: =IF(ISERROR(VLOOKUP(A50,bdd,2,FALSE)),"",VLOOKUP(A50,bdd,2,FALSE)) | C50: =IF(B50="","",VLOOKUP(A50,bdd,5,FALSE)) | D50: =IF(B50="","",VLOOKUP(A50,bdd,4,FALSE)) | E50: =IF(B50="",0,VLOOKUP(A50,bdd,6,FALSE)) -> 0

Sheet Corps_enseignant
A1: Nom | B1: Prénom | C1: NoSRH | D1: Clef_unique | E1: prix horaire
A2: Dassin | B2: Joe | C2: 51597 | D2: =A2&" "&B2&" - "&C2 -> Dassin Joe - 51597 | E2: 25
A3: Farmer | B3: Mylène | C3: 50531 | D3: =A3&" "&B3&" - "&C3 -> Farmer Mylène - 50531 | E3: 32
A4: Hallyday | B4: Johnny | C4: 51330 | D4: =A4&" "&B4&" - "&C4 -> Hallyday Johnny - 51330 | E4: 16
A5: Berger | B5: Michel | C5: 25253 | D5: =A5&" "&B5&" - "&C5 -> Berger Michel - 25253 | E5: 23
A6: Gall | B6: France | C6: 21511 | D6: =A6&" "&B6&" - "&C6 -> Gall France - 21511 | E6: 64
A7: Gainsbourg | B7: Serge | C7: 25096 | D7: =A7&" "&B7&" - "&C7 -> Gainsbourg Serge - 25096 | E7: 27
A8: Adjani | B8: Isabelle | C8: 50290 | D8: =A8&" "&B8&" - "&C8 -> Adjani Isabelle - 50290 | E8: 68
A9: Alamo | B9: Franck | C9: 30740 | D9: =A9&" "&B9&" - "&C9 -> Alamo Franck - 30740 | E9: 42
A10: Ferré | B10: Léo | C10: 25013 | D10: =A10&" "&B10&" - "&C10 -> Ferré Léo - 25013 | E10: 32.5
A11: Girardot | B11: Annie | C11: 50521 | D11: =A11&" "&B11&" - "&C11 -> Girardot Annie - 50521 | E11: 21
D12: =A12&" "&B12&" - "&C12 -> -
D13: =A13&" "&B13&" - "&C13 -> -
D14: =A14&" "&B14&" - "&C14 -> -
D15: =A15&" "&B15&" - "&C15 -> -
D16: =A16&" "&B16&" - "&C16 -> -
D17: =A17&" "&B17&" - "&C17 -> -
D18: =A18&" "&B18&" - "&C18 -> -
D19: =A19&" "&B19&" - "&C19 -> -
D20: =A20&" "&B20&" - "&C20 -> -
D21: =A21&" "&B21&" - "&C21 -> -
D22: =A22&" "&B22&" - "&C22 -> -
D23: =A23&" "&B23&" - "&C23 -> -
... D50: =A50&" "&B50&" - "&C50 -> -

Sheet Décompte +
A3: nom | B3: heures | C3: prix horaires | D3: à payer
A4: =IF(ISERROR(Traitement!K4)," - ",Traitement!K4) -> Adjani Isabelle - 50290 | B4: =IF(ISERROR(VLOOKUP(A4,bdd_2,4,FALSE)),"",VLOOKUP(A4,bdd_2,4,FALSE)) -> 9 | C4: =IF(A4=" - ","",VLOOKUP(A4,bdd_3,2,FALSE)) -> 68 | D4: =IF(A4=" - ","",C4*B4) -> 612
A5: =IF(ISERROR(Traitement!K5)," - ",Traitement!K5) -> - | B5: =IF(ISERROR(VLOOKUP(A5,bdd_2,4,FALSE)),"",VLOOKUP(A5,bdd_2,4,FALSE)) | C5: =IF(A5=" - ","",VLOOKUP(A5,bdd_3,2,FALSE)) | D5: =IF(A5=" - ","",C5*B5)
A6: =IF(ISERROR(Traitement!K6)," - ",Traitement!K6) -> - | B6: =IF(ISERROR(VLOOKUP(A6,bdd_2,4,FALSE)),"",VLOOKUP(A6,bdd_2,4,FALSE)) | C6: =IF(A6=" - ","",VLOOKUP(A6,bdd_3,2,FALSE)) | D6: =IF(A6=" - ","",C6*B6)
A7: =IF(ISERROR(Traitement!K7)," - ",Traitement!K7) -> - | B7: =IF(ISERROR(VLOOKUP(A7,bdd_2,4,FALSE)),"",VLOOKUP(A7,bdd_2,4,FALSE)) | C7: =IF(A7=" - ","",VLOOKUP(A7,bdd_3,2,FALSE)) | D7: =IF(A7=" - ","",C7*B7)
A8: =IF(ISERROR(Traitement!K8)," - ",Traitement!K8) -> - | B8: =IF(ISERROR(VLOOKUP(A8,bdd_2,4,FALSE)),"",VLOOKUP(A8,bdd_2,4,FALSE)) | C8: =IF(A8=" - ","",VLOOKUP(A8,bdd_3,2,FALSE)) | D8: =IF(A8=" - ","",C8*B8)
A9: =IF(ISERROR(Traitement!K9)," - ",Traitement!K9) -> - | B9: =IF(ISERROR(VLOOKUP(A9,bdd_2,4,FALSE)),"",VLOOKUP(A9,bdd_2,4,FALSE)) | C9: =IF(A9=" - ","",VLOOKUP(A9,bdd_3,2,FALSE)) | D9: =IF(A9=" - ","",C9*B9)
A10: =IF(ISERROR(Traitement!K10)," - ",Traitement!K10) -> - | B10: =IF(ISERROR(VLOOKUP(A10,bdd_2,4,FALSE)),"",VLOOKUP(A10,bdd_2,4,FALSE)) | C10: =IF(A10=" - ","",VLOOKUP(A10,bdd_3,2,FALSE)) | D10: =IF(A10=" - ","",C10*B10)
A11: =IF(ISERROR(Traitement!K11)," - ",Traitement!K11) -> - | B11: =IF(ISERROR(VLOOKUP(A11,bdd_2,4,FALSE)),"",VLOOKUP(A11,bdd_2,4,FALSE)) | C11: =IF(A11=" - ","",VLOOKUP(A11,bdd_3,2,FALSE)) | D11: =IF(A11=" - ","",C11*B11)
A12: =IF(ISERROR(Traitement!K12)," - ",Traitement!K12) -> - | B12: =IF(ISERROR(VLOOKUP(A12,bdd_2,4,FALSE)),"",VLOOKUP(A12,bdd_2,4,FALSE)) | C12: =IF(A12=" - ","",VLOOKUP(A12,bdd_3,2,FALSE)) | D12: =IF(A12=" - ","",C12*B12)
A13: =IF(ISERROR(Traitement!K13)," - ",Traitement!K13) -> - | B13: =IF(ISERROR(VLOOKUP(A13,bdd_2,4,FALSE)),"",VLOOKUP(A13,bdd_2,4,FALSE)) | C13: =IF(A13=" - ","",VLOOKUP(A13,bdd_3,2,FALSE)) | D13: =IF(A13=" - ","",C13*B13)
A14: =IF(ISERROR(Traitement!K14)," - ",Traitement!K14) -> - | B14: =IF(ISERROR(VLOOKUP(A14,bdd_2,4,FALSE)),"",VLOOKUP(A14,bdd_2,4,FALSE)) | C14: =IF(A14=" - ","",VLOOKUP(A14,bdd_3,2,FALSE)) | D14: =IF(A14=" - ","",C14*B14)
A15: =IF(ISERROR(Traitement!K15)," - ",Traitement!K15) -> - | B15: =IF(ISERROR(VLOOKUP(A15,bdd_2,4,FALSE)),"",VLOOKUP(A15,bdd_2,4,FALSE)) | C15: =IF(A15=" - ","",VLOOKUP(A15,bdd_3,2,FALSE)) | D15: =IF(A15=" - ","",C15*B15)
... A50: =IF(ISERROR(Traitement!K50)," - ",Traitement!K50) -> - | B50: =IF(ISERROR(VLOOKUP(A50,bdd_2,4,FALSE)),"",VLOOKUP(A50,bdd_2,4,FALSE)) | C50: =IF(A50=" - ","",VLOOKUP(A50,bdd_3,2,FALSE)) | D50: =IF(A50=" - ","",C50*B50)

Sheet Décompte -
A3: nom | B3: heures | C3: prix horaires | D3: à payer
A4: =IF(ISERROR(Traitement!O4)," - ",Traitement!O4) -> Berger Michel - 25253 | B4: =IF(ISERROR(VLOOKUP(A4,bdd_2,4,FALSE)),"",VLOOKUP(A4,bdd_2,4,FALSE)) -> -6 | C4: =IF(A4=" - ","",VLOOKUP(A4,bdd_3,2,FALSE)) -> 23 | D4: =IF(A4=" - ","",C4*B4) -> -138
A5: =IF(ISERROR(Traitement!O5)," - ",Traitement!O5) -> Dassin Joe - 51597 | B5: =IF(ISERROR(VLOOKUP(A5,bdd_2,4,FALSE)),"",VLOOKUP(A5,bdd_2,4,FALSE)) -> -1 | C5: =IF(A5=" - ","",VLOOKUP(A5,bdd_3,2,FALSE)) -> 25 | D5: =IF(A5=" - ","",C5*B5) -> -25
A6: =IF(ISERROR(Traitement!O6)," - ",Traitement!O6) -> Gainsbourg Serge - 25096 | B6: =IF(ISERROR(VLOOKUP(A6,bdd_2,4,FALSE)),"",VLOOKUP(A6,bdd_2,4,FALSE)) -> -2 | C6: =IF(A6=" - ","",VLOOKUP(A6,bdd_3,2,FALSE)) -> 27 | D6: =IF(A6=" - ","",C6*B6) -> -54
A7: =IF(ISERROR(Traitement!O7)," - ",Traitement!O7) -> - | B7: =IF(ISERROR(VLOOKUP(A7,bdd_2,4,FALSE)),"",VLOOKUP(A7,bdd_2,4,FALSE)) | C7: =IF(A7=" - ","",VLOOKUP(A7,bdd_3,2,FALSE)) | D7: =IF(A7=" - ","",C7*B7)
A8: =IF(ISERROR(Traitement!O8)," - ",Traitement!O8) -> - | B8: =IF(ISERROR(VLOOKUP(A8,bdd_2,4,FALSE)),"",VLOOKUP(A8,bdd_2,4,FALSE)) | C8: =IF(A8=" - ","",VLOOKUP(A8,bdd_3,2,FALSE)) | D8: =IF(A8=" - ","",C8*B8)
A9: =IF(ISERROR(Traitement!O9)," - ",Traitement!O9) -> - | B9: =IF(ISERROR(VLOOKUP(A9,bdd_2,4,FALSE)),"",VLOOKUP(A9,bdd_2,4,FALSE)) | C9: =IF(A9=" - ","",VLOOKUP(A9,bdd_3,2,FALSE)) | D9: =IF(A9=" - ","",C9*B9)
A10: =IF(ISERROR(Traitement!O10)," - ",Traitement!O10) -> - | B10: =IF(ISERROR(VLOOKUP(A10,bdd_2,4,FALSE)),"",VLOOKUP(A10,bdd_2,4,FALSE)) | C10: =IF(A10=" - ","",VLOOKUP(A10,bdd_3,2,FALSE)) | D10: =IF(A10=" - ","",C10*B10)
A11: =IF(ISERROR(Traitement!O11)," - ",Traitement!O11) -> - | B11: =IF(ISERROR(VLOOKUP(A11,bdd_2,4,FALSE)),"",VLOOKUP(A11,bdd_2,4,FALSE)) | C11: =IF(A11=" - ","",VLOOKUP(A11,bdd_3,2,FALSE)) | D11: =IF(A11=" - ","",C11*B11)
A12: =IF(ISERROR(Traitement!O12)," - ",Traitement!O12) -> - | B12: =IF(ISERROR(VLOOKUP(A12,bdd_2,4,FALSE)),"",VLOOKUP(A12,bdd_2,4,FALSE)) | C12: =IF(A12=" - ","",VLOOKUP(A12,bdd_3,2,FALSE)) | D12: =IF(A12=" - ","",C12*B12)
A13: =IF(ISERROR(Traitement!O13)," - ",Traitement!O13) -> - | B13: =IF(ISERROR(VLOOKUP(A13,bdd_2,4,FALSE)),"",VLOOKUP(A13,bdd_2,4,FALSE)) | C13: =IF(A13=" - ","",VLOOKUP(A13,bdd_3,2,FALSE)) | D13: =IF(A13=" - ","",C13*B13)
A14: =IF(ISERROR(Traitement!O14)," - ",Traitement!O14) -> - | B14: =IF(ISERROR(VLOOKUP(A14,bdd_2,4,FALSE)),"",VLOOKUP(A14,bdd_2,4,FALSE)) | C14: =IF(A14=" - ","",VLOOKUP(A14,bdd_3,2,FALSE)) | D14: =IF(A14=" - ","",C14*B14)
A15: =IF(ISERROR(Traitement!O15)," - ",Traitement!O15) -> - | B15: =IF(ISERROR(VLOOKUP(A15,bdd_2,4,FALSE)),"",VLOOKUP(A15,bdd_2,4,FALSE)) | C15: =IF(A15=" - ","",VLOOKUP(A15,bdd_3,2,FALSE)) | D15: =IF(A15=" - ","",C15*B15)
... A50: =IF(ISERROR(Traitement!O50)," - ",Traitement!O50) -> - | B50: =IF(ISERROR(VLOOKUP(A50,bdd_2,4,FALSE)),"",VLOOKUP(A50,bdd_2,4,FALSE)) | C50: =IF(A50=" - ","",VLOOKUP(A50,bdd_3,2,FALSE)) | D50: =IF(A50=" - ","",C50*B50)

Sheet Traitement
A1: ='Total complet'!A1 -> 0 | B1: ='Total complet'!B1 -> Nom et Prénom | C1: ='Total complet'!C1 -> Leçons donnés | D1: ='Total complet'!D1 -> Leçons à compenser | E1: ='Total complet'!E1 -> Total | G1: ='Total complet'!G1 -> Total des leçons à payer | H1: ='Total complet'!H1 -> 13
G2: ='Total complet'!G2 -> Total des leçons à récupérer | H2: ='Total complet'!H2 -> 13
G3: ='Total complet'!G3 -> Total positif/négatif | H3: ='Total complet'!H3 -> 0 | J3: liste + | N3: liste -
A4: ='Total complet'!A4 -> 1 | B4: ='Total complet'!B4 -> Dassin Joe - 51597 | C4: ='Total complet'!C4 -> 3 | D4: ='Total complet'!D4 -> 4 | E4: ='Total complet'!E4 -> -1 | J4: =IF(E4<=0,"",OFFSET(E4,,-3,,)) | K4: {=INDEX(nom_1,MATCH(MIN(IF(COUNTIF(K$3:K3,nom_1)=0,IF(nom_1<>"",COUNTIF(nom_1,"<"&nom_1),""))),IF(COUNTIF(K$2:K2,nom_1)=0,IF(nom_1<>"",COUNTIF(nom_1,"<"&nom_1),"")),0))&""} -> Adjani Isabelle - 50290 | N4: =IF(E4>=0,"",OFFSET(E4,,-3,,)) -> Dassin Joe - 51597 | O4: {=INDEX(nom_2,MATCH(MIN(IF(COUNTIF(O$3:O3,nom_2)=0,IF(nom_2<>"",COUNTIF(nom_2,"<"&nom_2),""))),IF(COUNTIF(O$3:O3,nom_2)=0,IF(nom_2<>"",COUNTIF(nom_2,"<"&nom_2),"")),0))&""} -> Berger Michel - 25253
A5: ='Total complet'!A5 -> 2 | B5: ='Total complet'!B5 -> Berger Michel - 25253 | C5: ='Total complet'!C5 -> 0 | D5: ='Total complet'!D5 -> 6 | E5: ='Total complet'!E5 -> -6 | J5: =IF(E5<=0,"",OFFSET(E5,,-3,,)) | K5: {=INDEX(nom_1,MATCH(MIN(IF(COUNTIF(K$3:K4,nom_1)=0,IF(nom_1<>"",COUNTIF(nom_1,"<"&nom_1),""))),IF(COUNTIF(K$2:K3,nom_1)=0,IF(nom_1<>"",COUNTIF(nom_1,"<"&nom_1),"")),0))&""} -> #N/A | N5: =IF(E5>=0,"",OFFSET(E5,,-3,,)) -> Berger Michel - 25253 | O5: {=INDEX(nom_2,MATCH(MIN(IF(COUNTIF(O$3:O4,nom_2)=0,IF(nom_2<>"",COUNTIF(nom_2,"<"&nom_2),""))),IF(COUNTIF(O$3:O4,nom_2)=0,IF(nom_2<>"",COUNTIF(nom_2,"<"&nom_2),"")),0))&""} -> Dassin Joe - 51597
A6: ='Total complet'!A6 -> 3 | B6: ='Total complet'!B6 -> Gainsbourg Serge - 25096 | C6: ='Total complet'!C6 -> 0 | D6: ='Total complet'!D6 -> 2 | E6: ='Total complet'!E6 -> -2 | J6: =IF(E6<=0,"",OFFSET(E6,,-3,,)) | K6: {=INDEX(nom_1,MATCH(MIN(IF(COUNTIF(K$3:K5,nom_1)=0,IF(nom_1<>"",COUNTIF(nom_1,"<"&nom_1),""))),IF(COUNTIF(K$2:K4,nom_1)=0,IF(nom_1<>"",COUNTIF(nom_1,"<"&nom_1),"")),0))&""} -> #N/A | N6: =IF(E6>=0,"",OFFSET(E6,,-3,,)) -> Gainsbourg Serge - 25096 | O6: {=INDEX(nom_2,MATCH(MIN(IF(COUNTIF(O$3:O5,nom_2)=0,IF(nom_2<>"",COUNTIF(nom_2,"<"&nom_2),""))),IF(COUNTIF(O$3:O5,nom_2)=0,IF(nom_2<>"",COUNTIF(nom_2,"<"&nom_2),"")),0))&""} -> Gainsbourg Serge - 25096
A7: ='Total complet'!A7 -> 4 | B7: ='Total complet'!B7 -> Adjani Isabelle - 50290 | C7: ='Total complet'!C7 -> 10 | D7: ='Total complet'!D7 -> 1 | E7: ='Total complet'!E7 -> 9 | J7: =IF(E7<=0,"",OFFSET(E7,,-3,,)) -> Adjani Isabelle - 50290 | K7: {=INDEX(nom_1,MATCH(MIN(IF(COUNTIF(K$3:K6,nom_1)=0,IF(nom_1<>"",COUNTIF(nom_1,"<"&nom_1),""))),IF(COUNTIF(K$2:K5,nom_1)=0,IF(nom_1<>"",COUNTIF(nom_1,"<"&nom_1),"")),0))&""} -> #N/A | N7: =IF(E7>=0,"",OFFSET(E7,,-3,,)) | O7: {=INDEX(nom_2,MATCH(MIN(IF(COUNTIF(O$3:O6,nom_2)=0,IF(nom_2<>"",COUNTIF(nom_2,"<"&nom_2),""))),IF(COUNTIF(O$3:O6,nom_2)=0,IF(nom_2<>"",COUNTIF(nom_2,"<"&nom_2),"")),0))&""} -> #N/A
A8: ='Total complet'!A8 -> 5 | B8: ='Total complet'!B8 | C8: ='Total complet'!C8 | D8: ='Total complet'!D8 | E8: ='Total complet'!E8 -> 0 | J8: =IF(E8<=0,"",OFFSET(E8,,-3,,)) | K8: {=INDEX(nom_1,MATCH(MIN(IF(COUNTIF(K$3:K7,nom_1)=0,IF(nom_1<>"",COUNTIF(nom_1,"<"&nom_1),""))),IF(COUNTIF(K$2:K6,nom_1)=0,IF(nom_1<>"",COUNTIF(nom_1,"<"&nom_1),"")),0))&""} -> #N/A | N8: =IF(E8>=0,"",OFFSET(E8,,-3,,)) | O8: {=INDEX(nom_2,MATCH(MIN(IF(COUNTIF(O$3:O7,nom_2)=0,IF(nom_2<>"",COUNTIF(nom_2,"<"&nom_2),""))),IF(COUNTIF(O$3:O7,nom_2)=0,IF(nom_2<>"",COUNTIF(nom_2,"<"&nom_2),"")),0))&""} -> #N/A
A9: ='Total complet'!A9 -> 6 | B9: ='Total complet'!B9 | C9: ='Total complet'!C9 | D9: ='Total complet'!D9 | E9: ='Total complet'!E9 -> 0 | J9: =IF(E9<=0,"",OFFSET(E9,,-3,,)) | K9: {=INDEX(nom_1,MATCH(MIN(IF(COUNTIF(K$3:K8,nom_1)=0,IF(nom_1<>"",COUNTIF(nom_1,"<"&nom_1),""))),IF(COUNTIF(K$2:K7,nom_1)=0,IF(nom_1<>"",COUNTIF(nom_1,"<"&nom_1),"")),0))&""} -> #N/A | N9: =IF(E9>=0,"",OFFSET(E9,,-3,,)) | O9: {=INDEX(nom_2,MATCH(MIN(IF(COUNTIF(O$3:O8,nom_2)=0,IF(nom_2<>"",COUNTIF(nom_2,"<"&nom_2),""))),IF(COUNTIF(O$3:O8,nom_2)=0,IF(nom_2<>"",COUNTIF(nom_2,"<"&nom_2),"")),0))&""} -> #N/A
A10: ='Total complet'!A10 -> 7 | B10: ='Total complet'!B10 | C10: ='Total complet'!C10 | D10: ='Total complet'!D10 | E10: ='Total complet'!E10 -> 0 | J10: =IF(E10<=0,"",OFFSET(E10,,-3,,)) | K10: {=INDEX(nom_1,MATCH(MIN(IF(COUNTIF(K$3:K9,nom_1)=0,IF(nom_1<>"",COUNTIF(nom_1,"<"&nom_1),""))),IF(COUNTIF(K$2:K8,nom_1)=0,IF(nom_1<>"",COUNTIF(nom_1,"<"&nom_1),"")),0))&""} -> #N/A | N10: =IF(E10>=0,"",OFFSET(E10,,-3,,)) | O10: {=INDEX(nom_2,MATCH(MIN(IF(COUNTIF(O$3:O9,nom_2)=0,IF(nom_2<>"",COUNTIF(nom_2,"<"&nom_2),""))),IF(COUNTIF(O$3:O9,nom_2)=0,IF(nom_2<>"",COUNTIF(nom_2,"<"&nom_2),"")),0))&""} -> #N/A
A11: ='Total complet'!A11 -> 8 | B11: ='Total complet'!B11 | C11: ='Total complet'!C11 | D11: ='Total complet'!D11 | E11: ='Total complet'!E11 -> 0 | J11: =IF(E11<=0,"",OFFSET(E11,,-3,,)) | K11: {=INDEX(nom_1,MATCH(MIN(IF(COUNTIF(K$3:K10,nom_1)=0,IF(nom_1<>"",COUNTIF(nom_1,"<"&nom_1),""))),IF(COUNTIF(K$2:K9,nom_1)=0,IF(nom_1<>"",COUNTIF(nom_1,"<"&nom_1),"")),0))&""} -> #N/A | N11: =IF(E11>=0,"",OFFSET(E11,,-3,,)) | O11: {=INDEX(nom_2,MATCH(MIN(IF(COUNTIF(O$3:O10,nom_2)=0,IF(nom_2<>"",COUNTIF(nom_2,"<"&nom_2),""))),IF(COUNTIF(O$3:O10,nom_2)=0,IF(nom_2<>"",COUNTIF(nom_2,"<"&nom_2),"")),0))&""} -> #N/A
A12: ='Total complet'!A12 -> 9 | B12: ='Total complet'!B12 | C12: ='Total complet'!C12 | D12: ='Total complet'!D12 | E12: ='Total complet'!E12 -> 0 | J12: =IF(E12<=0,"",OFFSET(E12,,-3,,)) | K12: {=INDEX(nom_1,MATCH(MIN(IF(COUNTIF(K$3:K11,nom_1)=0,IF(nom_1<>"",COUNTIF(nom_1,"<"&nom_1),""))),IF(COUNTIF(K$2:K10,nom_1)=0,IF(nom_1<>"",COUNTIF(nom_1,"<"&nom_1),"")),0))&""} -> #N/A | N12: =IF(E12>=0,"",OFFSET(E12,,-3,,)) | O12: {=INDEX(nom_2,MATCH(MIN(IF(COUNTIF(O$3:O11,nom_2)=0,IF(nom_2<>"",COUNTIF(nom_2,"<"&nom_2),""))),IF(COUNTIF(O$3:O11,nom_2)=0,IF(nom_2<>"",COUNTIF(nom_2,"<"&nom_2),"")),0))&""} -> #N/A
A13: ='Total complet'!A13 -> 10 | B13: ='Total complet'!B13 | C13: ='Total complet'!C13 | D13: ='Total complet'!D13 | E13: ='Total complet'!E13 -> 0 | J13: =IF(E13<=0,"",OFFSET(E13,,-3,,)) | K13: {=INDEX(nom_1,MATCH(MIN(IF(COUNTIF(K$3:K12,nom_1)=0,IF(nom_1<>"",COUNTIF(nom_1,"<"&nom_1),""))),IF(COUNTIF(K$2:K11,nom_1)=0,IF(nom_1<>"",COUNTIF(nom_1,"<"&nom_1),"")),0))&""} -> #N/A | N13: =IF(E13>=0,"",OFFSET(E13,,-3,,)) | O13: {=INDEX(nom_2,MATCH(MIN(IF(COUNTIF(O$3:O12,nom_2)=0,IF(nom_2<>"",COUNTIF(nom_2,"<"&nom_2),""))),IF(COUNTIF(O$3:O12,nom_2)=0,IF(nom_2<>"",COUNTIF(nom_2,"<"&nom_2),"")),0))&""} -> #N/A
A14: ='Total complet'!A14 -> 11 | B14: ='Total complet'!B14 | C14: ='Total complet'!C14 | D14: ='Total complet'!D14 | E14: ='Total complet'!E14 -> 0 | J14: =IF(E14<=0,"",OFFSET(E14,,-3,,)) | K14: {=INDEX(nom_1,MATCH(MIN(IF(COUNTIF(K$3:K13,nom_1)=0,IF(nom_1<>"",COUNTIF(nom_1,"<"&nom_1),""))),IF(COUNTIF(K$2:K12,nom_1)=0,IF(nom_1<>"",COUNTIF(nom_1,"<"&nom_1),"")),0))&""} -> #N/A | N14: =IF(E14>=0,"",OFFSET(E14,,-3,,)) | O14: {=INDEX(nom_2,MATCH(MIN(IF(COUNTIF(O$3:O13,nom_2)=0,IF(nom_2<>"",COUNTIF(nom_2,"<"&nom_2),""))),IF(COUNTIF(O$3:O13,nom_2)=0,IF(nom_2<>"",COUNTIF(nom_2,"<"&nom_2),"")),0))&""} -> #N/A
A15: ='Total complet'!A15 -> 12 | B15: ='Total complet'!B15 | C15: ='Total complet'!C15 | D15: ='Total complet'!D15 | E15: ='Total complet'!E15 -> 0 | J15: =IF(E15<=0,"",OFFSET(E15,,-3,,)) | K15: {=INDEX(nom_1,MATCH(MIN(IF(COUNTIF(K$3:K14,nom_1)=0,IF(nom_1<>"",COUNTIF(nom_1,"<"&nom_1),""))),IF(COUNTIF(K$2:K13,nom_1)=0,IF(nom_1<>"",COUNTIF(nom_1,"<"&nom_1),"")),0))&""} -> #N/A | N15: =IF(E15>=0,"",OFFSET(E15,,-3,,)) | O15: {=INDEX(nom_2,MATCH(MIN(IF(COUNTIF(O$3:O14,nom_2)=0,IF(nom_2<>"",COUNTIF(nom_2,"<"&nom_2),""))),IF(COUNTIF(O$3:O14,nom_2)=0,IF(nom_2<>"",COUNTIF(nom_2,"<"&nom_2),"")),0))&""} -> #N/A
... A50: ='Total complet'!A50 -> 47 | B50: ='Total complet'!B50 | C50: ='Total complet'!C50 | D50: ='Total complet'!D50 | E50: ='Total complet'!E50 -> 0 | J50: =IF(E50<=0,"",OFFSET(E50,,-3,,)) | K50: {=INDEX(nom_1,MATCH(MIN(IF(COUNTIF(K$3:K49,nom_1)=0,IF(nom_1<>"",COUNTIF(nom_1,"<"&nom_1),""))),IF(COUNTIF(K$2:K48,nom_1)=0,IF(nom_1<>"",COUNTIF(nom_1,"<"&nom_1),"")),0))&""} -> #N/A | N50: =IF(E50>=0,"",OFFSET(E50,,-3,,)) | O50: {=INDEX(nom_2,MATCH(MIN(IF(COUNTIF(O$3:O49,nom_2)=0,IF(nom_2<>"",COUNTIF(nom_2,"<"&nom_2),""))),IF(COUNTIF(O$3:O49,nom_2)=0,IF(nom_2<>"",COUNTIF(nom_2,"<"&nom_2),"")),0))&""} -> #N/A
