Workbook
Name Accessibilité: Page_de_garde!$D$24
Name Code_Secteur: Page_de_garde!$C$14
Name Code_taxe: Page_de_garde!$C$12
Name Commentaires: '2018002950-09'!$A$11
Name Commentaires: '2018002950-21'!$A$11
Name Commentaires: Page_prélèvement!$A$11
Name Comptage: '2018002950-09'!$F$3
Name Comptage: '2018002950-21'!$F$3
Name Comptage: Page_prélèvement!$F$3
Name Contact: Page_de_garde!$E$3
Name CP: Page_de_garde!$E$5
Name Date: Page_de_garde!$E$7
Name Date_D_Ech: '2018002950-09'!$M$8
Name Date_D_Ech: '2018002950-21'!$M$8
Name Date_D_Ech: Page_prélèvement!$M$8
Name Date_début: Page_campagne!$C$3
Name Date_début_A: '2018002950-09'!$F$15
Name Date_début_A: '2018002950-21'!$F$15
Name Date_début_A: Page_prélèvement!$F$15
Name Date_F_Ech: '2018002950-09'!$N$8
Name Date_F_Ech: '2018002950-21'!$N$8
Name Date_F_Ech: Page_prélèvement!$N$8
Name Date_fin: Page_campagne!$D$3
Name Date_fin_analyse: '2018002950-09'!$F$16
Name Date_fin_analyse: '2018002950-21'!$F$16
Name Date_fin_analyse: Page_prélèvement!$F$16
Name Date_prevue: '2018002950-09'!$A$8
Name Date_prevue: '2018002950-21'!$A$8
Name Date_prevue: Page_prélèvement!$A$8
Name Date_Réception: '2018002950-09'!$F$14
Name Date_Réception: '2018002950-21'!$F$14
Name Date_Réception: Page_prélèvement!$F$14
Name Début_relevé: Page_campagne!$D$7
Name Entreprise: Page_de_garde!$E$2
Name EP: Page_de_garde!$C$29:$C$29
Name Equ_Deb.: Page_de_garde!$G$29
Name Equ_Ech.: Page_de_garde!$H$29
Name Fin_Relevé: Page_campagne!$F$7
Name Fréquence: '2018002950-09'!$F$2
Name Fréquence: '2018002950-21'!$F$2
Name Fréquence: Page_prélèvement!$F$2
Name ID: Page_de_garde!$L$29
Name ID_Analyse: '2018002950-09'!$F$1
Name ID_Analyse: '2018002950-21'!$F$1
Name ID_Analyse: Page_prélèvement!$F$1
Name Identité_releveur: '2018002950-09'!$J$8
Name Identité_releveur: '2018002950-21'!$J$8
Name Identité_releveur: Page_prélèvement!$J$8
Name Index_Début_Rel.: Page_campagne!$E$7
Name Index_fin_Rel.: Page_campagne!$G$7
Name jour_actif: Page_de_garde!$F$20
Name Jours_activité: Page_de_garde!$B$20
Name Matériel_Deb: '2018002950-09'!$H$8
Name Matériel_Deb: '2018002950-21'!$H$8
Name Matériel_Deb: Page_prélèvement!$H$8
Name Matériel_Ech.: '2018002950-09'!$I$8
Name Matériel_Ech.: '2018002950-21'!$I$8
Name Matériel_Ech.: Page_prélèvement!$I$8
Name Milieu_R: Page_de_garde!$I$29:$I$29
Name Mode_echantillonage: '2018002950-09'!$G$8

Sheet Page_de_garde
A2: Notre Réf:
A3: Vos Réf:
A4: Etude: | B4: 2018043
A9: Rapport - MESURE DE CHARGE POLLUANTE
A11: N° entreprise :
A12: N°de répertoire taxe :
A13: Secteur d'activité: | C13: DISTILLERIES ET LEVURERIES
C14: 18
A16: Nombre de jour d'activité par an : | E16: 365
A17: Nombre de jour de déversement par an : | E17: 365
A18: Nombre d'ETP : | C18: 100
A19: Mois de plus grande activité : | D19: Tous,
A20: Activité annuelle | C20: Jours d'activité (sur la semaine): | F20: Tous,
C21: Mois d'activité (sur l'année): | F21: Tous
A23: Alimentation en eau
A24: Compteur | B24: Type d'eau | C24: Référence compteur | D24: Accessibilité
A25: Compteur 2 | B25: Surface | D25: accessible
A26: Compteur 1 | B26: Distribution | D26: non accessible
A28: Points de prélèvement
A29: Référence | B29: Type d'eau | C29: Présence potentielle EP | D29: Déversement | E29: Prétraitement Traitement | F29: Point de contrôle | G29: Débitmètre | H29: Echantillonneur | I29: Milieu récepteur
A30: Meuse | B30: FALSE | C30: FALSE | D30: FALSE | E30: FALSE | F30: FALSE | I30: FALSE
A31: R1 | B31: EUI + EREF | C31: TRUE | D31: Continu | E31: Physicochimique + Biologique | F31: Point de rejet/venturi | I31: ES

Sheet Page_campagne
B2: Campagne | C2: Date de début | D2: Date de fin
B3: 2018-9 | C3: 43363.25 | D3: 43364.584
A5: Relevé des compteurs d'alimentation
A7: Compteur | B7: Référence compteur | C7: Relevé par | D7: Date_Heure début | E7: Index début | F7: Date_Heure fin | G7: Index fin | H7: Débit d'alimentation (m³/j)
A8: =Page_de_garde!A25 -> Compteur 2 | B8: =Page_de_garde!C25 -> 0 | D8: 43363.375 | E8: 0 | F8: 43364.375 | G8: 9502 | H8: 9502
A9: =Page_de_garde!A26 -> Compteur 1 | B9: =Page_de_garde!C26 -> 0 | D9: 43363.375 | E9: 26690 | F9: 43364.341 | G9: 26696 | H9: 6.2152312

Sheet 2018002950-09
A1: Point de prélèvement : | F1: BIO Rejet
A2: Fréquence annuelle :
A3: Numéro de la campagne :
A5: Renseignements prélèvement
A6: Date prévue | D6: Date début | E6: Date fin | F6: Préleveur | G6: Type de prélèvement | H6: Matériel utilisé | J6: Relevé du débit | K6: Volume prélevé (litres) | M6: Date début | N6: Date fin
H7: Débitmètre | I7: Echantil.
A8: 20/09/2018 | D8: 20/09/2018 | E8: 21/09/2018 | G8: Proportionnel au débit | K8: 4 | M8: 43363.305 | N8: 43364.389
A10: Commentaires
A13: Mesures et analyses
A14: Date de réception : | F14: 21/09/2018 09:19:50
A15: Date de début d'analyse : | F15: 21/09/2018
A16: Date de fin d'analyse : | F16: 43383
A17: Référence de l'échantillon : | F17: 2018002950/09
A19: Paramètre | B19: Sous Traité | C19: Unité | D19: Résultat | E19: Méthode | F19: Commentaire | M19: Résultat | N19: LOQ | O19: Message | P19: décimales
A20: Ag | B20: FALSE | C20: mg/L | D20: <0,001 | E20: ISO 15586 | M20: 0.0001 | N20: =IF(A20="","",VLOOKUP(A20,Table!$A$2:$E$24,2,FALSE)) -> 0,001 | O20: =IF(A20="","",VLOOKUP(A20,Table!$A$2:$E$24,5,FALSE)) -> <0,001 | P20: =IF(A20="","",VLOOKUP(A20,Table!$A$2:$F$24,6,FALSE)) -> 3
A21: As | B21: FALSE | C21: mg/L | D21: <0,001 | E21: ISO 15586 | M21: 0.0001 | N21: =IF(A21="","",VLOOKUP(A21,Table!$A$2:$E$24,2,FALSE)) -> 0,001 | O21: =IF(A21="","",VLOOKUP(A21,Table!$A$2:$E$24,5,FALSE)) -> <0,001 | P21: =IF(A21="","",VLOOKUP(A21,Table!$A$2:$F$24,6,FALSE)) -> 3
A22: Cd | B22: FALSE | C22: mg/L | D22: <0,001 | E22: ISO 15586 | M22: 0.0001 | N22: =IF(A22="","",VLOOKUP(A22,Table!$A$2:$E$24,2,FALSE)) -> 0,001 | O22: =IF(A22="","",VLOOKUP(A22,Table!$A$2:$E$24,5,FALSE)) -> <0,001 | P22: =IF(A22="","",VLOOKUP(A22,Table!$A$2:$F$24,6,FALSE)) -> 3
A23: Cr | B23: FALSE | C23: mg/L | D23: <0,001 | E23: ISO 15586 | M23: 0.0001 | N23: =IF(A23="","",VLOOKUP(A23,Table!$A$2:$E$24,2,FALSE)) -> 0,001 | O23: =IF(A23="","",VLOOKUP(A23,Table!$A$2:$E$24,5,FALSE)) -> <0,001 | P23: =IF(A23="","",VLOOKUP(A23,Table!$A$2:$F$24,6,FALSE)) -> 3
A24: Cu | B24: FALSE | C24: mg/L | D24: <0,001 | E24: ISO 15586 | M24: 0.028 | N24: =IF(A24="","",VLOOKUP(A24,Table!$A$2:$E$24,2,FALSE)) -> 0,001 | O24: =IF(A24="","",VLOOKUP(A24,Table!$A$2:$E$24,5,FALSE)) -> <0,001 | P24: =IF(A24="","",VLOOKUP(A24,Table!$A$2:$F$24,6,FALSE)) -> 3
A25: Hg | B25: FALSE | C25: mg/L | D25: <0,0005 | E25: ISO 12846 | M25: 0 | N25: =IF(A25="","",VLOOKUP(A25,Table!$A$2:$E$24,2,FALSE)) -> 0,0005 | O25: =IF(A25="","",VLOOKUP(A25,Table!$A$2:$E$24,5,FALSE)) -> <0,0005 | P25: =IF(A25="","",VLOOKUP(A25,Table!$A$2:$F$24,6,FALSE)) -> 4
A26: Ni | B26: FALSE | C26: mg/L | D26: <0,001 | E26: ISO 15586 | M26: 0.001 | N26: =IF(A26="","",VLOOKUP(A26,Table!$A$2:$E$24,2,FALSE)) -> 0,001 | O26: =IF(A26="","",VLOOKUP(A26,Table!$A$2:$E$24,5,FALSE)) -> <0,001 | P26: =IF(A26="","",VLOOKUP(A26,Table!$A$2:$F$24,6,FALSE)) -> 3
A27: Pb | B27: FALSE | C27: mg/L | D27: <0,001 | E27: ISO 15586 | M27: 0.0001 | N27: =IF(A27="","",VLOOKUP(A27,Table!$A$2:$E$24,2,FALSE)) -> 0,001 | O27: =IF(A27="","",VLOOKUP(A27,Table!$A$2:$E$24,5,FALSE)) -> <0,001 | P27: =IF(A27="","",VLOOKUP(A27,Table!$A$2:$F$24,6,FALSE)) -> 3
A28: Zn | B28: FALSE | C28: mg/L | D28: <0,01 | E28: FD T 90-112 | M28: 0.001 | N28: =IF(A28="","",VLOOKUP(A28,Table!$A$2:$E$24,2,FALSE)) -> 0,01 | O28: =IF(A28="","",VLOOKUP(A28,Table!$A$2:$E$24,5,FALSE)) -> <0,01 | P28: =IF(A28="","",VLOOKUP(A28,Table!$A$2:$F$24,6,FALSE)) -> 2
A29: N-NO2- | B29: FALSE | C29: mg/L | D29: <0,01 | E29: EN 26777 | M29: 0.022 | N29: =IF(A29="","",VLOOKUP(A29,Table!$A$2:$E$24,2,FALSE)) -> 0,01 | O29: =IF(A29="","",VLOOKUP(A29,Table!$A$2:$E$24,5,FALSE)) -> <0,01 | P29: =IF(A29="","",VLOOKUP(A29,Table!$A$2:$F$24,6,FALSE)) -> 2
A30: N-Kjeldahl | B30: FALSE | C30: mg/L | D30: <0,5 | E30: Méthode interne dérivée de NF EN 25663 et NBN T 91-252 | M30: 1.4 | N30: =IF(A30="","",VLOOKUP(A30,Table!$A$2:$E$24,2,FALSE)) -> 0,5 | O30: =IF(A30="","",VLOOKUP(A30,Table!$A$2:$E$24,5,FALSE)) -> <0,5 | P30: =IF(A30="","",VLOOKUP(A30,Table!$A$2:$F$24,6,FALSE)) -> 1
A31: N-NO3- | B31: FALSE | C31: mg/L | D31: <0,1 | E31: NBN T91-256 | M31: 3.278 | N31: =IF(A31="","",VLOOKUP(A31,Table!$A$2:$E$24,2,FALSE)) -> 0,1 | O31: =IF(A31="","",VLOOKUP(A31,Table!$A$2:$E$24,5,FALSE)) -> <0,1 | P31: =IF(A31="","",VLOOKUP(A31,Table!$A$2:$F$24,6,FALSE)) -> 1
... A34: MES (105°C) | B34: FALSE | C34: mg/L | D34: 17 | E34: NF EN 872 | M34: 17 | N34: =IF(A34="","",VLOOKUP(A34,Table!$A$2:$E$24,2,FALSE)) -> 2 | O34: =IF(A34="","",VLOOKUP(A34,Table!$A$2:$E$24,5,FALSE)) -> <2 | P34: =IF(A34="","",VLOOKUP(A34,Table!$A$2:$F$24,6,FALSE)) -> 0
A35: Volume journalier | B35: FALSE | C35: m³ | D35: 10 653,00 | M35: 10653 | N35: =IF(A35="","",VLOOKUP(A35,Table!$A$2:$E$24,2,FALSE)) -> 2 | O35: =IF(A35="","",VLOOKUP(A35,Table!$A$2:$E$24,5,FALSE)) -> <2 | P35: =IF(A35="","",VLOOKUP(A35,Table!$A$2:$F$24,6,FALSE)) -> 2
A36: N-total par calcul | B36: FALSE | C36: mg/L | D36: <0,5 | M36: 4.7 | N36: =IF(A36="","",VLOOKUP(A36,Table!$A$2:$E$24,2,FALSE)) -> 0,5 | O36: =IF(A36="","",VLOOKUP(A36,Table!$A$2:$E$24,5,FALSE)) -> <0,5 | P36: =IF(A36="","",VLOOKUP(A36,Table!$A$2:$F$24,6,FALSE)) -> 1
N37: =IF(A37="","",VLOOKUP(A37,Table!$A$2:$E$24,2,FALSE)) | O37: =IF(A37="","",VLOOKUP(A37,Table!$A$2:$E$24,5,FALSE)) | P37: =IF(A37="","",VLOOKUP(A37,Table!$A$2:$F$24,6,FALSE))

Sheet 2018002950-21
A1: Point de prélèvement : | F1: BIO Meuse
A2: Fréquence annuelle : | F2: 12
A3: Numéro de la campagne : | F3: 13
A5: Renseignements prélèvement
A6: Date prévue | D6: Date début | E6: Date fin | F6: Préleveur | G6: Type de prélèvement | H6: Matériel utilisé | J6: Relevé du débit | K6: Volume prélevé (litres) | M6: Date début | N6: Date fin
H7: Débitmètre | I7: Echantil.
A8: 20/09/2018 | D8: 21/09/2018 | E8: 21/09/2018 | G8: Ponctuel | H8: Débitmètre client | K8: 4 | M8: 43364.305 | N8: 43364.305
A10: Commentaires
A13: Mesures et analyses
A14: Date de réception : | F14: 21/09/2018 09:19:50
A15: Date de début d'analyse : | F15: 21/09/2018
A16: Date de fin d'analyse : | F16: 43376
A17: Référence de l'échantillon : | F17: 2018002950/21
A19: Paramètre | B19: Sous Traité | C19: Unité | D19: Résultat | E19: Méthode | F19: Commentaire | M19: Résultat | N19: LOQ | O19: Message | P19: décimales
A20: Ag | B20: FALSE | C20: mg/L | D20: <0,001 | E20: ISO 15586 | M20: 0.0001 | N20: =IF(A20="","",VLOOKUP(A20,Table!$A$2:$E$24,2,FALSE)) -> 0,001 | O20: =IF(A20="","",VLOOKUP(A20,Table!$A$2:$E$24,5,FALSE)) -> <0,001 | P20: =IF(A20="","",VLOOKUP(A20,Table!$A$2:$F$24,6,FALSE)) -> 3
A21: As | B21: FALSE | C21: mg/L | D21: <0,001 | E21: ISO 15586 | M21: 0.0001 | N21: =IF(A21="","",VLOOKUP(A21,Table!$A$2:$E$24,2,FALSE)) -> 0,001 | O21: =IF(A21="","",VLOOKUP(A21,Table!$A$2:$E$24,5,FALSE)) -> <0,001 | P21: =IF(A21="","",VLOOKUP(A21,Table!$A$2:$F$24,6,FALSE)) -> 3
A22: Cd | B22: FALSE | C22: mg/L | D22: <0,001 | E22: ISO 15586 | M22: 0.0001 | N22: =IF(A22="","",VLOOKUP(A22,Table!$A$2:$E$24,2,FALSE)) -> 0,001 | O22: =IF(A22="","",VLOOKUP(A22,Table!$A$2:$E$24,5,FALSE)) -> <0,001 | P22: =IF(A22="","",VLOOKUP(A22,Table!$A$2:$F$24,6,FALSE)) -> 3
A23: Cr | B23: FALSE | C23: mg/L | D23: <0,001 | E23: ISO 15586 | M23: 0.0001 | N23: =IF(A23="","",VLOOKUP(A23,Table!$A$2:$E$24,2,FALSE)) -> 0,001 | O23: =IF(A23="","",VLOOKUP(A23,Table!$A$2:$E$24,5,FALSE)) -> <0,001 | P23: =IF(A23="","",VLOOKUP(A23,Table!$A$2:$F$24,6,FALSE)) -> 3
A24: Cu | B24: FALSE | C24: mg/L | D24: <0,001 | E24: ISO 15586 | M24: 0.001 | N24: =IF(A24="","",VLOOKUP(A24,Table!$A$2:$E$24,2,FALSE)) -> 0,001 | O24: =IF(A24="","",VLOOKUP(A24,Table!$A$2:$E$24,5,FALSE)) -> <0,001 | P24: =IF(A24="","",VLOOKUP(A24,Table!$A$2:$F$24,6,FALSE)) -> 3
A25: Hg | B25: FALSE | C25: mg/L | D25: <0,0005 | E25: ISO 12846 | M25: 0 | N25: =IF(A25="","",VLOOKUP(A25,Table!$A$2:$E$24,2,FALSE)) -> 0,0005 | O25: =IF(A25="","",VLOOKUP(A25,Table!$A$2:$E$24,5,FALSE)) -> <0,0005 | P25: =IF(A25="","",VLOOKUP(A25,Table!$A$2:$F$24,6,FALSE)) -> 4
A26: Ni | B26: FALSE | C26: mg/L | D26: <0,001 | E26: ISO 15586 | M26: 0.0001 | N26: =IF(A26="","",VLOOKUP(A26,Table!$A$2:$E$24,2,FALSE)) -> 0,001 | O26: =IF(A26="","",VLOOKUP(A26,Table!$A$2:$E$24,5,FALSE)) -> <0,001 | P26: =IF(A26="","",VLOOKUP(A26,Table!$A$2:$F$24,6,FALSE)) -> 3
A27: Pb | B27: FALSE | C27: mg/L | D27: <0,001 | E27: ISO 15586 | M27: 0.0001 | N27: =IF(A27="","",VLOOKUP(A27,Table!$A$2:$E$24,2,FALSE)) -> 0,001 | O27: =IF(A27="","",VLOOKUP(A27,Table!$A$2:$E$24,5,FALSE)) -> <0,001 | P27: =IF(A27="","",VLOOKUP(A27,Table!$A$2:$F$24,6,FALSE)) -> 3
A28: Zn | B28: FALSE | C28: mg/L | D28: <0,01 | E28: FD T 90-112 | M28: 0.001 | N28: =IF(A28="","",VLOOKUP(A28,Table!$A$2:$E$24,2,FALSE)) -> 0,01 | O28: =IF(A28="","",VLOOKUP(A28,Table!$A$2:$E$24,5,FALSE)) -> <0,01 | P28: =IF(A28="","",VLOOKUP(A28,Table!$A$2:$F$24,6,FALSE)) -> 2
A29: N-NO2- | B29: FALSE | C29: mg/L | D29: <0,01 | E29: EN 26777 | M29: 0.01 | N29: =IF(A29="","",VLOOKUP(A29,Table!$A$2:$E$24,2,FALSE)) -> 0,01 | O29: =IF(A29="","",VLOOKUP(A29,Table!$A$2:$E$24,5,FALSE)) -> <0,01 | P29: =IF(A29="","",VLOOKUP(A29,Table!$A$2:$F$24,6,FALSE)) -> 2
A30: N-Kjeldahl | B30: FALSE | C30: mg/L | D30: <0,5 | E30: Méthode interne dérivée de NF EN 25663 et NBN T 91-252 | M30: 0.01 | N30: =IF(A30="","",VLOOKUP(A30,Table!$A$2:$E$24,2,FALSE)) -> 0,5 | O30: =IF(A30="","",VLOOKUP(A30,Table!$A$2:$E$24,5,FALSE)) -> <0,5 | P30: =IF(A30="","",VLOOKUP(A30,Table!$A$2:$F$24,6,FALSE)) -> 1
A31: N-NO3- | B31: FALSE | C31: mg/L | D31: <0,1 | E31: NBN T91-256 | M31: 2.684 | N31: =IF(A31="","",VLOOKUP(A31,Table!$A$2:$E$24,2,FALSE)) -> 0,1 | O31: =IF(A31="","",VLOOKUP(A31,Table!$A$2:$E$24,5,FALSE)) -> <0,1 | P31: =IF(A31="","",VLOOKUP(A31,Table!$A$2:$F$24,6,FALSE)) -> 1
... A34: MES (105°C) | B34: FALSE | C34: mg/L | D34: 3 | E34: NF EN 872 | M34: 2.8 | N34: =IF(A34="","",VLOOKUP(A34,Table!$A$2:$E$24,2,FALSE)) -> 2 | O34: =IF(A34="","",VLOOKUP(A34,Table!$A$2:$E$24,5,FALSE)) -> <2 | P34: =IF(A34="","",VLOOKUP(A34,Table!$A$2:$F$24,6,FALSE)) -> 0
A35: N-total par calcul | B35: FALSE | C35: mg/L | D35: <0,5 | M35: 2.694 | N35: =IF(A35="","",VLOOKUP(A35,Table!$A$2:$E$24,2,FALSE)) -> 0,5 | O35: =IF(A35="","",VLOOKUP(A35,Table!$A$2:$E$24,5,FALSE)) -> <0,5 | P35: =IF(A35="","",VLOOKUP(A35,Table!$A$2:$F$24,6,FALSE)) -> 1

Sheet Page_prélèvement
A1: Point de prélèvement :
A2: Fréquence annuelle :
A3: Numéro de la campagne :
A5: Renseignements prélèvement
A6: Date prévue | D6: Date début | E6: Date fin | F6: Préleveur | G6: Type de prélèvement | H6: Matériel utilisé | J6: Relevé du débit | K6: Volume prélevé (litres) | M6: Date début | N6: Date fin
H7: Débitmètre | I7: Echantil.
D8: 0 | E8: 0 | K8: /
A10: Commentaires
A13: Mesures et analyses
A14: Date de réception :
A15: Date de début d'analyse :
A16: Date de fin d'analyse :
A17: Référence de l'échantillon :
A19: Paramètre | B19: Sous Traité | C19: Unité | D19: Résultat | E19: Méthode | F19: Commentaire | M19: Résultat | N19: LOQ | O19: Message | P19: décimales
N20: =IF(A20="","",VLOOKUP(A20,Table!$A$2:$E$24,2,FALSE)) | O20: =IF(A20="","",VLOOKUP(A20,Table!$A$2:$E$24,5,FALSE)) | P20: =IF(A20="","",VLOOKUP(A20,Table!$A$2:$F$24,6,FALSE))

Sheet Table
A1: Nom | B1: L.O.Q. | C1: Unité | D1: Standard Iso | E1: Message | F1: nb décimales
A2: N-Kjeldahl | B2: 0,5 | C2: mg/L | E2: <0,5 | F2: 1
A3: N-total | B3: 0,5 | C3: mg/L | D3: NF EN 12260 | E3: <0,5 | F3: 1
A4: DCO déc. 2h | B4: 5 | C4: mgO2/L | D4: Dérivée de NF T 90-101 | E4: <5 | F4: 0
A5: MES (105°C) | B5: 2 | C5: mg/L | D5: NF EN 872 | E5: <2 | F5: 0
A6: N-NO3- | B6: 0,1 | C6: mg/L | D6: NBN T91-256 | E6: <0,1 | F6: 1
A7: N-NO2- | B7: 0,01 | C7: mg/L | D7: EN 26777 | E7: <0,01 | F7: 2
A8: N-NO2- | B8: 0,01 | C8: mg/L | D8: EN 26777 | E8: <0,01 | F8: 2 | K8: /
A9: Ag | B9: 0,001 | C9: mg/L | D9: ISO 15586 | E9: <0,001 | F9: 3 | K9: /
A10: As | B10: 0,001 | C10: mg/L | D10: ISO 15586 | E10: <0,001 | F10: 3
A11: Cd | B11: 0,001 | C11: mg/L | D11: ISO 15586 | E11: <0,001 | F11: 3
A12: Cr | B12: 0,001 | C12: mg/L | D12: ISO 15586 | E12: <0,001 | F12: 3
A13: Cu | B13: 0,001 | C13: mg/L | D13: ISO 15586 | E13: <0,001 | F13: 3
A14: Hg | B14: 0,0005 | C14: mg/L | D14: ISO 12846 | E14: <0,0005 | F14: 4
A15: Ni | B15: 0,001 | C15: mg/L | D15: ISO 15586 | E15: <0,001 | F15: 3
A16: Pb | B16: 0,001 | C16: mg/L | D16: ISO 15586 | E16: <0,001 | F16: 3
A17: Zn | B17: 0,01 | C17: mg/L | D17: FD T 90-112 | E17: <0,01 | F17: 2
A18: Toxicité Daphnia Magna 24h | B18: 0 | C18: Equitox | D18: ISO 6341 | E18: <0 | F18: 0
A19: P-total | B19: 0,05 | C19: mg/L | D19: NF EN ISO 6878 | E19: <0,05 | F19: 2
A20: Volume journalier | B20: 2 | C20: m³ | E20: <2 | F20: 2
A21: N-total par calcul | B21: 0,5 | C21: mg/L | E21: <0,5 | F21: 1
A22: N-NO3- ST | B22: 0,1 | C22: mg/L | D22: ISO 13395 | E22: <0,1 | F22: 1
A23: N-NO2- ST | B23: 0,01 | C23: mg/L | D23: ISO 13395 | E23: <0,01 | F23: 2
A24: COT | B24: 0,5 | C24: mg/L | D24: NF EN 1484 | E24: <0,5 | F24: 1
