Workbook

Sheet General
A1: CIVILITE | B1: PRENOM | C1: NOM | D1: FONCTION/SERVICE | E1: ADRESSE1 | F1: ADRESSE2 | G1: ADRESSE3 | H1: CODE POSTAL | I1: VILLE | J1: Pays | K1: Tél. Pro. | L1: Tél. Port. | M1: Email | N1: Diner | O1: Réponse | P1: Invité par
A2: Monsieur | B2: David | C2: ZIDANE | E2: Place du Village | H2: 5000 | I2: GAP | J2: FRANCE | N2: NON
A3: Monsieur et Madame | B3: Christophe | C3: VIEIRA | E3: Chemin Buampin | H3: 6100 | I3: NICE | J3: FRANCE | N3: OUI | O3: OUI | P3: MOI
A4: Monsieur | B4: Maurice | C4: HOMONT | E4: Rue du Petot | H4: 83530 | I4: AGAY | J4: FRANCE | N4: OUI | O4: NON | P4: PARENTS
A5: Madame | B5: Christelle | C5: PLATINI | E5: Boulevard Carnot | H5: 13005 | I5: MARSEILLE | J5: FRANCE | N5: OUI | O5: NON | P5: MOI

Sheet Diner
A1: CIVILITE | B1: PRENOM | C1: NOM | D1: FONCTION/SERVICE | E1: ADRESSE1 | F1: ADRESSE2 | G1: ADRESSE3 | H1: CODE POSTAL | I1: VILLE | J1: Pays | K1: Tél. Pro. | L1: Tél. Port. | M1: Email | N1: Diner | O1: Réponse | P1: Invité par | Q1: Nbre
A2: Monsieur | B2: David | C2: ZIDANE | E2: Place du Village | H2: 5000 | I2: GAP | J2: FRANCE | N2: NON | Q2: =VLOOKUP(A2,Calcul!$K$2:$L$6,2,0) -> 1
A3: Monsieur et Madame | B3: Christophe | C3: VIEIRA | E3: Chemin Buampin | H3: 6100 | I3: NICE | J3: FRANCE | N3: OUI | O3: OUI | P3: MOI | Q3: =VLOOKUP(A3,Calcul!$K$2:$L$6,2,0) -> 2
A4: Monsieur | B4: Maurice | C4: HOMONT | E4: Rue du Petot | H4: 83530 | I4: AGAY | J4: FRANCE | N4: OUI | O4: NON | P4: PARENTS | Q4: =VLOOKUP(A4,Calcul!$K$2:$L$6,2,0) -> 1
A5: Madame | B5: Christelle | C5: PLATINI | E5: Boulevard Carnot | H5: 13005 | I5: MARSEILLE | J5: FRANCE | N5: OUI | O5: NON | P5: MOI | Q5: =VLOOKUP(A5,Calcul!$K$2:$L$6,2,0) -> 1
Q6: =VLOOKUP(A6,Calcul!$K$2:$L$6,2,0) -> #N/A
Q7: =VLOOKUP(A7,Calcul!$K$2:$L$6,2,0) -> #N/A
Q8: =VLOOKUP(A8,Calcul!$K$2:$L$6,2,0) -> #N/A
Q9: =VLOOKUP(A9,Calcul!$K$2:$L$6,2,0) -> #N/A
Q10: =VLOOKUP(A10,Calcul!$K$2:$L$6,2,0) -> #N/A
Q11: =VLOOKUP(A11,Calcul!$K$2:$L$6,2,0) -> #N/A
Q12: =VLOOKUP(A12,Calcul!$K$2:$L$6,2,0) -> #N/A
Q13: =VLOOKUP(A13,Calcul!$K$2:$L$6,2,0) -> #N/A
Q14: =VLOOKUP(A14,Calcul!$K$2:$L$6,2,0) -> #N/A
Q15: =VLOOKUP(A15,Calcul!$K$2:$L$6,2,0) -> #N/A
Q16: =VLOOKUP(A16,Calcul!$K$2:$L$6,2,0) -> #N/A
Q17: =VLOOKUP(A17,Calcul!$K$2:$L$6,2,0) -> #N/A
... Q20: =VLOOKUP(A20,Calcul!$K$2:$L$6,2,0) -> #N/A

Sheet Calcul
K1: Civilite | L1: Nombre
B2: Invités | C2: =SUM(Diner!$Q$2:$Q$1000) -> #N/A | K2: Madame | L2: 1
B3: Présents | C3: =SUMPRODUCT((Diner!$O$2:$O$1000="OUI")*(Diner!$Q$2:$Q$1000)) -> #N/A | K3: Monsieur | L3: 1
A4: Diner | B4: Absents | C4: =SUMPRODUCT((Diner!$O$2:$O$1000="NON")*(Diner!$Q$2:$Q$1000)) -> #N/A | K4: Mademoiselle | L4: 1
B5: Non Répondu | C5: =SUMPRODUCT((Diner!$O$2:$O$1000="")*(Diner!$Q$2:$Q$1000)) -> #N/A | K5: Monsieur et Madame | L5: 2
B6: Invités "MOI" | C6: =SUMPRODUCT((Diner!$O$2:$O$1000="OUI")*(Diner!$P$2:$P$1000="Moi")*(Diner!$Q$2:$Q$1000)) -> #N/A | K6: Messieurs | L6: 2
