Workbook
Name Segment_Séjour: #N/A

Sheet Feuil1
A3: Étiquettes de lignes | B3: NOM Enfant | C3: Prénom
A4: Piste Safari
A5: BOURGEOIS | B5: BOURGEOIS | C5: Camille
A6: FERNAND | B6: FERNAND | C6: Youenn
A7: Total général

Sheet Inscrits
A1: Payé ? | B1: Civilité | C1: NOM | D1: NOM Enfant | E1: Prénom | F1: Date Nais | G1: Adresse | H1: CP | I1: Ville | J1: Téléphone 1 | K1: Téléphone 2 | L1: E-mail | M1: Age au 1er jour du camp | N1: Colonne1 | O1: QF | P1: TRANCHE | Q1: TARIF | R1: Séjour | S1: Convocation envoyée | T1: aisance eau | U1: Responsable | V1: Date début | W1: heure convoc | X1: heure départ | Y1: date retour | Z1: heure retour | AA1: code blog | AB1: Date réunion | AC1: heure réunion | AD1: Paiement Chq | AE1: N° chèque | AF1: Banque | AG1: Paiement ANCV | AH1: Paiement espèces Espèces | AI1: Paiement CB | AJ1: Remarques | AK1: Remise 1 | AL1: Remise 2 | AM1: Remise 3 | AN1: Adresse 1 séjour | AO1: Adresse 2 séjour | AP1: CP Ville séjour
A2: =IF(COUNTA(AD2,AG2,AH2,AI2)>0,"OUI","NON") -> NON | B2: M. & Mme | C2: DUPONT | D2: =C2 -> DUPONT | E2: Lucas | F2: 40714 | G2: 436, route des Genêts | H2: 44000 | I2: Nantes | J2: 02 40 25 25 25 | K2: 612232524 | L2: mail@fournisseur.com | M2: =INT((V2-F2)/365.25)& " ans "&MONTH(V2-F2)-1&" mois "&DAY(V2-F2)&" jours" -> 6 ans 0 mois 21 jours | O2: 200 | P2: =VLOOKUP(O2,Données!$B$2:$C$10,2,TRUE) -> 2 | Q2: =HLOOKUP(R2,Données!$D$13:$O$22,VLOOKUP(P2,Données!$B$14:$C$22,1,FALSE)+1,FALSE) -> 54 | R2: Totem des Indiens | S2: OUI | T2: / | U2: =HLOOKUP(R2,Données!$B$13:$O$31,19,FALSE) -> Laure MASSÉ | V2: =HLOOKUP(R2,Données!$D$13:$O$30,11,FALSE) -> 42927 | W2: =HLOOKUP(R2,Données!$D$13:$O$30,13,FALSE) -> 10h15 | X2: =HLOOKUP(R2,Données!$D$13:$O$30,14, FALSE) -> 9h15 | Y2: =HLOOKUP(R2,Données!$D$13:$O$30,12,FALSE) -> 42929 | Z2: =HLOOKUP(R2,Données!$D$13:$O$30,15,FALSE) -> 16h45 | AA2: =HLOOKUP(R2,Données!$D$13:$O$30,18,FALSE) -> 544szb | AB2: =HLOOKUP(R2,Données!$D$13:$O$30,16,FALSE) -> 42902 | AC2: =HLOOKUP(R2,Données!$D$13:$O$30,17,FALSE) -> 18h30 | AN2: =HLOOKUP(R2,Données!$D$13:$O$34,20,FALSE) -> Base de loisirs de Pont-Caffino | AO2: =HLOOKUP(R2,Données!$D$13:$O$34,21,FALSE) -> Pont-Caffino | AP2: =HLOOKUP(R2,Données!$D$13:$O$34,22,FALSE) -> 44690 Maisdon sur Sèvre
A3: =IF(COUNTA(AD3,AG3,AH3,AI3)>0,"OUI","NON") -> OUI | B3: M. & Mme | C3: DURAND | D3: =C3 -> DURAND | E3: Eliott | F3: 41034 | G3: 32 bis rue du Paradis | H3: 44000 | I3: Nantes | J3: 02 40 25 25 25 | K3: 612232524 | L3: mail@fournisseur.com | M3: =INT((V3-F3)/365.25)& " ans "&MONTH(V3-F3)-1&" mois "&DAY(V3-F3)&" jours" -> 5 ans 2 mois 7 jours | O3: 1739 | P3: =VLOOKUP(O3,Données!$B$2:$C$10,2,TRUE) -> 8 | Q3: =HLOOKUP(R3,Données!$D$13:$O$22,VLOOKUP(P3,Données!$B$14:$C$22,1,FALSE)+1,FALSE) -> 123 | R3: Totem des Indiens | S3: OUI | T3: / | U3: =HLOOKUP(R3,Données!$B$13:$O$31,19,FALSE) -> Laure MASSÉ | V3: =HLOOKUP(R3,Données!$D$13:$O$30,11,FALSE) -> 42927 | W3: =HLOOKUP(R3,Données!$D$13:$O$30,13,FALSE) -> 10h15 | X3: =HLOOKUP(R3,Données!$D$13:$O$30,14, FALSE) -> 9h15 | Y3: =HLOOKUP(R3,Données!$D$13:$O$30,12,FALSE) -> 42929 | Z3: =HLOOKUP(R3,Données!$D$13:$O$30,15,FALSE) -> 16h45 | AA3: =HLOOKUP(R3,Données!$D$13:$O$30,18,FALSE) -> 544szb | AB3: =HLOOKUP(R3,Données!$D$13:$O$30,16,FALSE) -> 42902 | AC3: =HLOOKUP(R3,Données!$D$13:$O$30,17,FALSE) -> 18h30 | AD3: 329 | AE3: 3304776 | AF3: Orange Bank | AJ3: Chèque pour les 2 camps (dans enveloppe totem) | AL3: 3481473 | AN3: =HLOOKUP(R3,Données!$D$13:$O$34,20,FALSE) -> Base de loisirs de Pont-Caffino | AO3: =HLOOKUP(R3,Données!$D$13:$O$34,21,FALSE) -> Pont-Caffino | AP3: =HLOOKUP(R3,Données!$D$13:$O$34,22,FALSE) -> 44690 Maisdon sur Sèvre
A4: =IF(COUNTA(AD4,AG4,AH4,AI4)>0,"OUI","NON") -> OUI | B4: M. & Mme | C4: BERNARD | D4: =C4 -> BERNARD | E4: Pierre | F4: 41173 | G4: 6 rue du Château | H4: 44000 | I4: Nantes | J4: 02 40 25 25 25 | K4: 612232524 | L4: mail@fournisseur.com | M4: =INT((V4-F4)/365.25)& " ans "&MONTH(V4-F4)-1&" mois "&DAY(V4-F4)&" jours" -> 4 ans 10 mois 29 jours | O4: 752 | P4: =VLOOKUP(O4,Données!$B$2:$C$10,2,TRUE) -> 4 | Q4: =HLOOKUP(R4,Données!$D$13:$O$22,VLOOKUP(P4,Données!$B$14:$C$22,1,FALSE)+1,FALSE) -> 165 | R4: Esprit trappeur | S4: OUI | T4: / | U4: =HLOOKUP(R4,Données!$B$13:$O$31,19,FALSE) -> Laure MASSÉ | V4: =HLOOKUP(R4,Données!$D$13:$O$30,11,FALSE) -> 42968 | W4: =HLOOKUP(R4,Données!$D$13:$O$30,13,FALSE) -> 9h10 | X4: =HLOOKUP(R4,Données!$D$13:$O$30,14, FALSE) -> 9h30 | Y4: =HLOOKUP(R4,Données!$D$13:$O$30,12,FALSE) -> 42972 | Z4: =HLOOKUP(R4,Données!$D$13:$O$30,15,FALSE) -> 17h30 | AA4: =HLOOKUP(R4,Données!$D$13:$O$30,18,FALSE) -> 2ezyrc | AB4: =HLOOKUP(R4,Données!$D$13:$O$30,16,FALSE) -> 42902 | AC4: =HLOOKUP(R4,Données!$D$13:$O$30,17,FALSE) -> 19h30 | AD4: 98 | AE4: 1761337 | AF4: Orange Bank | AL4: 3481473 | AN4: =HLOOKUP(R4,Données!$D$13:$O$34,20,FALSE) -> Camping de la Forêt | AO4: =HLOOKUP(R4,Données!$D$13:$O$34,21,FALSE) -> Rue de l'Étang | AP4: =HLOOKUP(R4,Données!$D$13:$O$34,22,FALSE) -> 44130 Le Gâvre
A5: =IF(COUNTA(AD5,AG5,AH5,AI5)>0,"OUI","NON") -> OUI | B5: M. & Mme | C5: FERNAND | D5: =C5 -> FERNAND | E5: Youenn | F5: 40868 | G5: 2 impasse du chêne | H5: 44000 | I5: Nantes | J5: 02 40 25 25 25 | K5: 612232524 | L5: mail@fournisseur.com | M5: =INT((V5-F5)/365.25)& " ans "&MONTH(V5-F5)-1&" mois "&DAY(V5-F5)&" jours" -> 5 ans 7 mois 26 jours | O5: 1045 | P5: =VLOOKUP(O5,Données!$B$2:$C$10,2,TRUE) -> 6 | Q5: =HLOOKUP(R5,Données!$D$13:$O$22,VLOOKUP(P5,Données!$B$14:$C$22,1,FALSE)+1,FALSE) -> 182 | R5: Piste Safari | S5: OUI | T5: / | U5: =HLOOKUP(R5,Données!$B$13:$O$31,19,FALSE) -> Laure MASSÉ | V5: =HLOOKUP(R5,Données!$D$13:$O$30,11,FALSE) -> 42933 | W5: =HLOOKUP(R5,Données!$D$13:$O$30,13,FALSE) -> 9h10 | X5: =HLOOKUP(R5,Données!$D$13:$O$30,14, FALSE) -> 9h30 | Y5: =HLOOKUP(R5,Données!$D$13:$O$30,12,FALSE) -> 42937 | Z5: =HLOOKUP(R5,Données!$D$13:$O$30,15,FALSE) -> 17h30 | AA5: =HLOOKUP(R5,Données!$D$13:$O$30,18,FALSE) -> 8qj4dt | AB5: =HLOOKUP(R5,Données!$D$13:$O$30,16,FALSE) -> 42902 | AC5: =HLOOKUP(R5,Données!$D$13:$O$30,17,FALSE) -> 19h30 | AD5: 8 | AE5: 0471854 | AF5: Orange Bank | AG5: 100 | AL5: 3481473 | AN5: =HLOOKUP(R5,Données!$D$13:$O$34,20,FALSE) -> 0 | AO5: =HLOOKUP(R5,Données!$D$13:$O$34,21,FALSE) -> 0 | AP5: =HLOOKUP(R5,Données!$D$13:$O$34,22,FALSE) -> 0
A6: =IF(COUNTA(AD6,AG6,AH6,AI6)>0,"OUI","NON") -> OUI | B6: M. & Mme | C6: MATTHIEU | D6: =C6 -> MATTHIEU | E6: Quentin | F6: 40396 | G6: 42 rue du Moulin | H6: 44000 | I6: Nantes | J6: 02 40 25 25 25 | K6: 612232524 | L6: mail@fournisseur.com | M6: =INT((V6-F6)/365.25)& " ans "&MONTH(V6-F6)-1&" mois "&DAY(V6-F6)&" jours" -> 7 ans 0 mois 15 jours | O6: 1595 | P6: =VLOOKUP(O6,Données!$B$2:$C$10,2,TRUE) -> 8 | Q6: =HLOOKUP(R6,Données!$D$13:$O$22,VLOOKUP(P6,Données!$B$14:$C$22,1,FALSE)+1,FALSE) -> 206 | R6: Esprit trappeur | S6: OUI | T6: / | U6: =HLOOKUP(R6,Données!$B$13:$O$31,19,FALSE) -> Laure MASSÉ | V6: =HLOOKUP(R6,Données!$D$13:$O$30,11,FALSE) -> 42968 | W6: =HLOOKUP(R6,Données!$D$13:$O$30,13,FALSE) -> 9h10 | X6: =HLOOKUP(R6,Données!$D$13:$O$30,14, FALSE) -> 9h30 | Y6: =HLOOKUP(R6,Données!$D$13:$O$30,12,FALSE) -> 42972 | Z6: =HLOOKUP(R6,Données!$D$13:$O$30,15,FALSE) -> 17h30 | AA6: =HLOOKUP(R6,Données!$D$13:$O$30,18,FALSE) -> 2ezyrc | AB6: =HLOOKUP(R6,Données!$D$13:$O$30,16,FALSE) -> 42902 | AC6: =HLOOKUP(R6,Données!$D$13:$O$30,17,FALSE) -> 19h30 | AD6: 9 | AE6: 5529248 | AF6: Orange Bank | AG6: 114 | AL6: 3481473 | AN6: =HLOOKUP(R6,Données!$D$13:$O$34,20,FALSE) -> Camping de la Forêt | AO6: =HLOOKUP(R6,Données!$D$13:$O$34,21,FALSE) -> Rue de l'Étang | AP6: =HLOOKUP(R6,Données!$D$13:$O$34,22,FALSE) -> 44130 Le Gâvre
A7: =IF(COUNTA(AD7,AG7,AH7,AI7)>0,"OUI","NON") -> OUI | B7: M. & Mme | C7: DEJOIE | D7: =C7 -> DEJOIE | E7: Constance | F7: 41465 | G7: 26 rue des Sables | H7: 44000 | I7: Nantes | J7: 02 40 25 25 25 | K7: 612232524 | L7: mail@fournisseur.com | M7: =INT((V7-F7)/365.25)& " ans "&MONTH(V7-F7)-1&" mois "&DAY(V7-F7)&" jours" -> 4 ans 0 mois 1 jours | O7: 831 | P7: =VLOOKUP(O7,Données!$B$2:$C$10,2,TRUE) -> 5 | Q7: =HLOOKUP(R7,Données!$D$13:$O$22,VLOOKUP(P7,Données!$B$14:$C$22,1,FALSE)+1,FALSE) -> 103 | R7: Totem des Indiens | S7: OUI | T7: / | U7: =HLOOKUP(R7,Données!$B$13:$O$31,19,FALSE) -> Laure MASSÉ | V7: =HLOOKUP(R7,Données!$D$13:$O$30,11,FALSE) -> 42927 | W7: =HLOOKUP(R7,Données!$D$13:$O$30,13,FALSE) -> 10h15 | X7: =HLOOKUP(R7,Données!$D$13:$O$30,14, FALSE) -> 9h15 | Y7: =HLOOKUP(R7,Données!$D$13:$O$30,12,FALSE) -> 42929 | Z7: =HLOOKUP(R7,Données!$D$13:$O$30,15,FALSE) -> 16h45 | AA7: =HLOOKUP(R7,Données!$D$13:$O$30,18,FALSE) -> 544szb | AB7: =HLOOKUP(R7,Données!$D$13:$O$30,16,FALSE) -> 42902 | AC7: =HLOOKUP(R7,Données!$D$13:$O$30,17,FALSE) -> 18h30 | AD7: 103 | AE7: 0000764 | AF7: Orange Bank | AL7: 3481473 | AN7: =HLOOKUP(R7,Données!$D$13:$O$34,20,FALSE) -> Base de loisirs de Pont-Caffino | AO7: =HLOOKUP(R7,Données!$D$13:$O$34,21,FALSE) -> Pont-Caffino | AP7: =HLOOKUP(R7,Données!$D$13:$O$34,22,FALSE) -> 44690 Maisdon sur Sèvre
A8: =IF(COUNTA(AD8,AG8,AH8,AI8)>0,"OUI","NON") -> OUI | B8: M. & Mme | C8: GOGENARD | D8: =C8 -> GOGENARD | E8: Jeanne | F8: 40791 | G8: 13 le Plessis | H8: 44000 | I8: Nantes | J8: 02 40 25 25 25 | K8: 612232524 | L8: mail@fournisseur.com | M8: =INT((V8-F8)/365.25)& " ans "&MONTH(V8-F8)-1&" mois "&DAY(V8-F8)&" jours" -> 5 ans 10 mois 17 jours | O8: 1427 | P8: =VLOOKUP(O8,Données!$B$2:$C$10,2,TRUE) -> 7 | Q8: =HLOOKUP(R8,Données!$D$13:$O$22,VLOOKUP(P8,Données!$B$14:$C$22,1,FALSE)+1,FALSE) -> 277 | R8: Échange Franco-Allemand | S8: OUI | T8: / | U8: =HLOOKUP(R8,Données!$B$13:$O$31,19,FALSE) -> Laure MASSÉ | V8: =HLOOKUP(R8,Données!$D$13:$O$30,11,FALSE) -> 42939 | W8: =HLOOKUP(R8,Données!$D$13:$O$30,13,FALSE) -> 10h30 | X8: =HLOOKUP(R8,Données!$D$13:$O$30,14, FALSE) -> 10h45 | Y8: =HLOOKUP(R8,Données!$D$13:$O$30,12,FALSE) -> 42947 | Z8: =HLOOKUP(R8,Données!$D$13:$O$30,15,FALSE) -> 17h30 | AA8: =HLOOKUP(R8,Données!$D$13:$O$30,18,FALSE) -> 2huxqu | AB8: =HLOOKUP(R8,Données!$D$13:$O$30,16,FALSE) -> 42902 | AC8: =HLOOKUP(R8,Données!$D$13:$O$30,17,FALSE) -> 20h30 | AD8: 118 | AE8: 0000149 | AF8: Orange Bank | AL8: 3481473 | AN8: =HLOOKUP(R8,Données!$D$13:$O$34,20,FALSE) -> 0 | AO8: =HLOOKUP(R8,Données!$D$13:$O$34,21,FALSE) -> 0 | AP8: =HLOOKUP(R8,Données!$D$13:$O$34,22,FALSE) -> 0
A9: =IF(COUNTA(AD9,AG9,AH9,AI9)>0,"OUI","NON") -> OUI | B9: M. & Mme | C9: BOURGEOIS | D9: =C9 -> BOURGEOIS | E9: Camille | F9: 38902 | G9: 23 bis rue de la Gare | H9: 44000 | I9: Nantes | J9: 02 40 25 25 25 | K9: 612232524 | L9: mail@fournisseur.com | M9: =INT((V9-F9)/365.25)& " ans "&MONTH(V9-F9)-1&" mois "&DAY(V9-F9)&" jours" -> 11 ans 0 mois 13 jours | O9: 1047 | P9: =VLOOKUP(O9,Données!$B$2:$C$10,2,TRUE) -> 6 | Q9: =HLOOKUP(R9,Données!$D$13:$O$22,VLOOKUP(P9,Données!$B$14:$C$22,1,FALSE)+1,FALSE) -> 182 | R9: Piste Safari | S9: OUI | T9: / | U9: =HLOOKUP(R9,Données!$B$13:$O$31,19,FALSE) -> Laure MASSÉ | V9: =HLOOKUP(R9,Données!$D$13:$O$30,11,FALSE) -> 42933 | W9: =HLOOKUP(R9,Données!$D$13:$O$30,13,FALSE) -> 9h10 | X9: =HLOOKUP(R9,Données!$D$13:$O$30,14, FALSE) -> 9h30 | Y9: =HLOOKUP(R9,Données!$D$13:$O$30,12,FALSE) -> 42937 | Z9: =HLOOKUP(R9,Données!$D$13:$O$30,15,FALSE) -> 17h30 | AA9: =HLOOKUP(R9,Données!$D$13:$O$30,18,FALSE) -> 8qj4dt | AB9: =HLOOKUP(R9,Données!$D$13:$O$30,16,FALSE) -> 42902 | AC9: =HLOOKUP(R9,Données!$D$13:$O$30,17,FALSE) -> 19h30 | AD9: 182 | AE9: 5981348 | AF9: Orange Bank | AN9: =HLOOKUP(R9,Données!$D$13:$O$34,20,FALSE) -> 0 | AO9: =HLOOKUP(R9,Données!$D$13:$O$34,21,FALSE) -> 0 | AP9: =HLOOKUP(R9,Données!$D$13:$O$34,22,FALSE) -> 0
A10: =IF(COUNTA(AD10,AG10,AH10,AI10)>0,"OUI","NON") -> NON | D10: =C10 -> 0 | M10: =INT((V10-F10)/365.25)& " ans "&MONTH(V10-F10)-1&" mois "&DAY(V10-F10)&" jours" -> #N/A | O10: 9999 | P10: =VLOOKUP(O10,Données!$B$2:$C$10,2,TRUE) -> 9 | Q10: =HLOOKUP(R10,Données!$D$13:$O$22,VLOOKUP(P10,Données!$B$14:$C$22,1,FALSE)+1,FALSE) -> #N/A | U10: =HLOOKUP(R10,Données!$B$13:$O$31,19,FALSE) -> #N/A | V10: =HLOOKUP(R10,Données!$D$13:$O$30,11,FALSE) -> #N/A | W10: =HLOOKUP(R10,Données!$D$13:$O$30,13,FALSE) -> #N/A | X10: =HLOOKUP(R10,Données!$D$13:$O$30,14, FALSE) -> #N/A | Y10: =HLOOKUP(R10,Données!$D$13:$O$30,12,FALSE) -> #N/A | Z10: =HLOOKUP(R10,Données!$D$13:$O$30,15,FALSE) -> #N/A | AA10: =HLOOKUP(R10,Données!$D$13:$O$30,18,FALSE) -> #N/A | AB10: =HLOOKUP(R10,Données!$D$13:$O$30,16,FALSE) -> #N/A | AC10: =HLOOKUP(R10,Données!$D$13:$O$30,17,FALSE) -> #N/A | AN10: =HLOOKUP(R10,Données!$D$13:$O$34,20,FALSE) -> #N/A | AO10: =HLOOKUP(R10,Données!$D$13:$O$34,21,FALSE) -> #N/A | AP10: =HLOOKUP(R10,Données!$D$13:$O$34,22,FALSE) -> #N/A
A11: =IF(COUNTA(AD11,AG11,AH11,AI11)>0,"OUI","NON") -> NON | D11: =C11 -> 0 | M11: =INT((V11-F11)/365.25)& " ans "&MONTH(V11-F11)-1&" mois "&DAY(V11-F11)&" jours" -> #N/A | O11: 9999 | P11: =VLOOKUP(O11,Données!$B$2:$C$10,2,TRUE) -> 9 | Q11: =HLOOKUP(R11,Données!$D$13:$O$22,VLOOKUP(P11,Données!$B$14:$C$22,1,FALSE)+1,FALSE) -> #N/A | U11: =HLOOKUP(R11,Données!$B$13:$O$31,19,FALSE) -> #N/A | V11: =HLOOKUP(R11,Données!$D$13:$O$30,11,FALSE) -> #N/A | W11: =HLOOKUP(R11,Données!$D$13:$O$30,13,FALSE) -> #N/A | X11: =HLOOKUP(R11,Données!$D$13:$O$30,14, FALSE) -> #N/A | Y11: =HLOOKUP(R11,Données!$D$13:$O$30,12,FALSE) -> #N/A | Z11: =HLOOKUP(R11,Données!$D$13:$O$30,15,FALSE) -> #N/A | AA11: =HLOOKUP(R11,Données!$D$13:$O$30,18,FALSE) -> #N/A | AB11: =HLOOKUP(R11,Données!$D$13:$O$30,16,FALSE) -> #N/A | AC11: =HLOOKUP(R11,Données!$D$13:$O$30,17,FALSE) -> #N/A | AN11: =HLOOKUP(R11,Données!$D$13:$O$34,20,FALSE) -> #N/A | AO11: =HLOOKUP(R11,Données!$D$13:$O$34,21,FALSE) -> #N/A | AP11: =HLOOKUP(R11,Données!$D$13:$O$34,22,FALSE) -> #N/A
A12: =IF(COUNTA(AD12,AG12,AH12,AI12)>0,"OUI","NON") -> NON | D12: =C12 -> 0 | M12: =INT((V12-F12)/365.25)& " ans "&MONTH(V12-F12)-1&" mois "&DAY(V12-F12)&" jours" -> #N/A | O12: 9999 | P12: =VLOOKUP(O12,Données!$B$2:$C$10,2,TRUE) -> 9 | Q12: =HLOOKUP(R12,Données!$D$13:$O$22,VLOOKUP(P12,Données!$B$14:$C$22,1,FALSE)+1,FALSE) -> #N/A | U12: =HLOOKUP(R12,Données!$B$13:$O$31,19,FALSE) -> #N/A | V12: =HLOOKUP(R12,Données!$D$13:$O$30,11,FALSE) -> #N/A | W12: =HLOOKUP(R12,Données!$D$13:$O$30,13,FALSE) -> #N/A | X12: =HLOOKUP(R12,Données!$D$13:$O$30,14, FALSE) -> #N/A | Y12: =HLOOKUP(R12,Données!$D$13:$O$30,12,FALSE) -> #N/A | Z12: =HLOOKUP(R12,Données!$D$13:$O$30,15,FALSE) -> #N/A | AA12: =HLOOKUP(R12,Données!$D$13:$O$30,18,FALSE) -> #N/A | AB12: =HLOOKUP(R12,Données!$D$13:$O$30,16,FALSE) -> #N/A | AC12: =HLOOKUP(R12,Données!$D$13:$O$30,17,FALSE) -> #N/A | AN12: =HLOOKUP(R12,Données!$D$13:$O$34,20,FALSE) -> #N/A | AO12: =HLOOKUP(R12,Données!$D$13:$O$34,21,FALSE) -> #N/A | AP12: =HLOOKUP(R12,Données!$D$13:$O$34,22,FALSE) -> #N/A
A13: =IF(COUNTA(AD13,AG13,AH13,AI13)>0,"OUI","NON") -> NON | D13: =C13 -> 0 | M13: =INT((V13-F13)/365.25)& " ans "&MONTH(V13-F13)-1&" mois "&DAY(V13-F13)&" jours" -> #N/A | O13: 9999 | P13: =VLOOKUP(O13,Données!$B$2:$C$10,2,TRUE) -> 9 | Q13: =HLOOKUP(R13,Données!$D$13:$O$22,VLOOKUP(P13,Données!$B$14:$C$22,1,FALSE)+1,FALSE) -> #N/A | U13: =HLOOKUP(R13,Données!$B$13:$O$31,19,FALSE) -> #N/A | V13: =HLOOKUP(R13,Données!$D$13:$O$30,11,FALSE) -> #N/A | W13: =HLOOKUP(R13,Données!$D$13:$O$30,13,FALSE) -> #N/A | X13: =HLOOKUP(R13,Données!$D$13:$O$30,14, FALSE) -> #N/A | Y13: =HLOOKUP(R13,Données!$D$13:$O$30,12,FALSE) -> #N/A | Z13: =HLOOKUP(R13,Données!$D$13:$O$30,15,FALSE) -> #N/A | AA13: =HLOOKUP(R13,Données!$D$13:$O$30,18,FALSE) -> #N/A | AB13: =HLOOKUP(R13,Données!$D$13:$O$30,16,FALSE) -> #N/A | AC13: =HLOOKUP(R13,Données!$D$13:$O$30,17,FALSE) -> #N/A | AN13: =HLOOKUP(R13,Données!$D$13:$O$34,20,FALSE) -> #N/A | AO13: =HLOOKUP(R13,Données!$D$13:$O$34,21,FALSE) -> #N/A | AP13: =HLOOKUP(R13,Données!$D$13:$O$34,22,FALSE) -> #N/A
A14: =IF(COUNTA(AD14,AG14,AH14,AI14)>0,"OUI","NON") -> NON | D14: =C14 -> 0 | M14: =INT((V14-F14)/365.25)& " ans "&MONTH(V14-F14)-1&" mois "&DAY(V14-F14)&" jours" -> #N/A | O14: 9999 | P14: =VLOOKUP(O14,Données!$B$2:$C$10,2,TRUE) -> 9 | Q14: =HLOOKUP(R14,Données!$D$13:$O$22,VLOOKUP(P14,Données!$B$14:$C$22,1,FALSE)+1,FALSE) -> #N/A | U14: =HLOOKUP(R14,Données!$B$13:$O$31,19,FALSE) -> #N/A | V14: =HLOOKUP(R14,Données!$D$13:$O$30,11,FALSE) -> #N/A | W14: =HLOOKUP(R14,Données!$D$13:$O$30,13,FALSE) -> #N/A | X14: =HLOOKUP(R14,Données!$D$13:$O$30,14, FALSE) -> #N/A | Y14: =HLOOKUP(R14,Données!$D$13:$O$30,12,FALSE) -> #N/A | Z14: =HLOOKUP(R14,Données!$D$13:$O$30,15,FALSE) -> #N/A | AA14: =HLOOKUP(R14,Données!$D$13:$O$30,18,FALSE) -> #N/A | AB14: =HLOOKUP(R14,Données!$D$13:$O$30,16,FALSE) -> #N/A | AC14: =HLOOKUP(R14,Données!$D$13:$O$30,17,FALSE) -> #N/A | AN14: =HLOOKUP(R14,Données!$D$13:$O$34,20,FALSE) -> #N/A | AO14: =HLOOKUP(R14,Données!$D$13:$O$34,21,FALSE) -> #N/A | AP14: =HLOOKUP(R14,Données!$D$13:$O$34,22,FALSE) -> #N/A
A15: =IF(COUNTA(AD15,AG15,AH15,AI15)>0,"OUI","NON") -> NON | D15: =C15 -> 0 | M15: =INT((V15-F15)/365.25)& " ans "&MONTH(V15-F15)-1&" mois "&DAY(V15-F15)&" jours" -> #N/A | O15: 9999 | P15: =VLOOKUP(O15,Données!$B$2:$C$10,2,TRUE) -> 9 | Q15: =HLOOKUP(R15,Données!$D$13:$O$22,VLOOKUP(P15,Données!$B$14:$C$22,1,FALSE)+1,FALSE) -> #N/A | U15: =HLOOKUP(R15,Données!$B$13:$O$31,19,FALSE) -> #N/A | V15: =HLOOKUP(R15,Données!$D$13:$O$30,11,FALSE) -> #N/A | W15: =HLOOKUP(R15,Données!$D$13:$O$30,13,FALSE) -> #N/A | X15: =HLOOKUP(R15,Données!$D$13:$O$30,14, FALSE) -> #N/A | Y15: =HLOOKUP(R15,Données!$D$13:$O$30,12,FALSE) -> #N/A | Z15: =HLOOKUP(R15,Données!$D$13:$O$30,15,FALSE) -> #N/A | AA15: =HLOOKUP(R15,Données!$D$13:$O$30,18,FALSE) -> #N/A | AB15: =HLOOKUP(R15,Données!$D$13:$O$30,16,FALSE) -> #N/A | AC15: =HLOOKUP(R15,Données!$D$13:$O$30,17,FALSE) -> #N/A | AN15: =HLOOKUP(R15,Données!$D$13:$O$34,20,FALSE) -> #N/A | AO15: =HLOOKUP(R15,Données!$D$13:$O$34,21,FALSE) -> #N/A | AP15: =HLOOKUP(R15,Données!$D$13:$O$34,22,FALSE) -> #N/A
A16: =IF(COUNTA(AD16,AG16,AH16,AI16)>0,"OUI","NON") -> NON | D16: =C16 -> 0 | M16: =INT((V16-F16)/365.25)& " ans "&MONTH(V16-F16)-1&" mois "&DAY(V16-F16)&" jours" -> #N/A | O16: 9999 | P16: =VLOOKUP(O16,Données!$B$2:$C$10,2,TRUE) -> 9 | Q16: =HLOOKUP(R16,Données!$D$13:$O$22,VLOOKUP(P16,Données!$B$14:$C$22,1,FALSE)+1,FALSE) -> #N/A | U16: =HLOOKUP(R16,Données!$B$13:$O$31,19,FALSE) -> #N/A | V16: =HLOOKUP(R16,Données!$D$13:$O$30,11,FALSE) -> #N/A | W16: =HLOOKUP(R16,Données!$D$13:$O$30,13,FALSE) -> #N/A | X16: =HLOOKUP(R16,Données!$D$13:$O$30,14, FALSE) -> #N/A | Y16: =HLOOKUP(R16,Données!$D$13:$O$30,12,FALSE) -> #N/A | Z16: =HLOOKUP(R16,Données!$D$13:$O$30,15,FALSE) -> #N/A | AA16: =HLOOKUP(R16,Données!$D$13:$O$30,18,FALSE) -> #N/A | AB16: =HLOOKUP(R16,Données!$D$13:$O$30,16,FALSE) -> #N/A | AC16: =HLOOKUP(R16,Données!$D$13:$O$30,17,FALSE) -> #N/A | AN16: =HLOOKUP(R16,Données!$D$13:$O$34,20,FALSE) -> #N/A | AO16: =HLOOKUP(R16,Données!$D$13:$O$34,21,FALSE) -> #N/A | AP16: =HLOOKUP(R16,Données!$D$13:$O$34,22,FALSE) -> #N/A
A17: =IF(COUNTA(AD17,AG17,AH17,AI17)>0,"OUI","NON") -> NON | D17: =C17 -> 0 | M17: =INT((V17-F17)/365.25)& " ans "&MONTH(V17-F17)-1&" mois "&DAY(V17-F17)&" jours" -> #N/A | O17: 9999 | P17: =VLOOKUP(O17,Données!$B$2:$C$10,2,TRUE) -> 9 | Q17: =HLOOKUP(R17,Données!$D$13:$O$22,VLOOKUP(P17,Données!$B$14:$C$22,1,FALSE)+1,FALSE) -> #N/A | U17: =HLOOKUP(R17,Données!$B$13:$O$31,19,FALSE) -> #N/A | V17: =HLOOKUP(R17,Données!$D$13:$O$30,11,FALSE) -> #N/A | W17: =HLOOKUP(R17,Données!$D$13:$O$30,13,FALSE) -> #N/A | X17: =HLOOKUP(R17,Données!$D$13:$O$30,14, FALSE) -> #N/A | Y17: =HLOOKUP(R17,Données!$D$13:$O$30,12,FALSE) -> #N/A | Z17: =HLOOKUP(R17,Données!$D$13:$O$30,15,FALSE) -> #N/A | AA17: =HLOOKUP(R17,Données!$D$13:$O$30,18,FALSE) -> #N/A | AB17: =HLOOKUP(R17,Données!$D$13:$O$30,16,FALSE) -> #N/A | AC17: =HLOOKUP(R17,Données!$D$13:$O$30,17,FALSE) -> #N/A | AN17: =HLOOKUP(R17,Données!$D$13:$O$34,20,FALSE) -> #N/A | AO17: =HLOOKUP(R17,Données!$D$13:$O$34,21,FALSE) -> #N/A | AP17: =HLOOKUP(R17,Données!$D$13:$O$34,22,FALSE) -> #N/A
A18: =IF(COUNTA(AD18,AG18,AH18,AI18)>0,"OUI","NON") -> NON | D18: =C18 -> 0 | M18: =INT((V18-F18)/365.25)& " ans "&MONTH(V18-F18)-1&" mois "&DAY(V18-F18)&" jours" -> #N/A | O18: 9999 | P18: =VLOOKUP(O18,Données!$B$2:$C$10,2,TRUE) -> 9 | Q18: =HLOOKUP(R18,Données!$D$13:$O$22,VLOOKUP(P18,Données!$B$14:$C$22,1,FALSE)+1,FALSE) -> #N/A | U18: =HLOOKUP(R18,Données!$B$13:$O$31,19,FALSE) -> #N/A | V18: =HLOOKUP(R18,Données!$D$13:$O$30,11,FALSE) -> #N/A | W18: =HLOOKUP(R18,Données!$D$13:$O$30,13,FALSE) -> #N/A | X18: =HLOOKUP(R18,Données!$D$13:$O$30,14, FALSE) -> #N/A | Y18: =HLOOKUP(R18,Données!$D$13:$O$30,12,FALSE) -> #N/A | Z18: =HLOOKUP(R18,Données!$D$13:$O$30,15,FALSE) -> #N/A | AA18: =HLOOKUP(R18,Données!$D$13:$O$30,18,FALSE) -> #N/A | AB18: =HLOOKUP(R18,Données!$D$13:$O$30,16,FALSE) -> #N/A | AC18: =HLOOKUP(R18,Données!$D$13:$O$30,17,FALSE) -> #N/A | AN18: =HLOOKUP(R18,Données!$D$13:$O$34,20,FALSE) -> #N/A | AO18: =HLOOKUP(R18,Données!$D$13:$O$34,21,FALSE) -> #N/A | AP18: =HLOOKUP(R18,Données!$D$13:$O$34,22,FALSE) -> #N/A
A19: =IF(COUNTA(AD19,AG19,AH19,AI19)>0,"OUI","NON") -> NON | D19: =C19 -> 0 | M19: =INT((V19-F19)/365.25)& " ans "&MONTH(V19-F19)-1&" mois "&DAY(V19-F19)&" jours" -> #N/A | O19: 9999 | P19: =VLOOKUP(O19,Données!$B$2:$C$10,2,TRUE) -> 9 | Q19: =HLOOKUP(R19,Données!$D$13:$O$22,VLOOKUP(P19,Données!$B$14:$C$22,1,FALSE)+1,FALSE) -> #N/A | U19: =HLOOKUP(R19,Données!$B$13:$O$31,19,FALSE) -> #N/A | V19: =HLOOKUP(R19,Données!$D$13:$O$30,11,FALSE) -> #N/A | W19: =HLOOKUP(R19,Données!$D$13:$O$30,13,FALSE) -> #N/A | X19: =HLOOKUP(R19,Données!$D$13:$O$30,14, FALSE) -> #N/A | Y19: =HLOOKUP(R19,Données!$D$13:$O$30,12,FALSE) -> #N/A | Z19: =HLOOKUP(R19,Données!$D$13:$O$30,15,FALSE) -> #N/A | AA19: =HLOOKUP(R19,Données!$D$13:$O$30,18,FALSE) -> #N/A | AB19: =HLOOKUP(R19,Données!$D$13:$O$30,16,FALSE) -> #N/A | AC19: =HLOOKUP(R19,Données!$D$13:$O$30,17,FALSE) -> #N/A | AN19: =HLOOKUP(R19,Données!$D$13:$O$34,20,FALSE) -> #N/A | AO19: =HLOOKUP(R19,Données!$D$13:$O$34,21,FALSE) -> #N/A | AP19: =HLOOKUP(R19,Données!$D$13:$O$34,22,FALSE) -> #N/A
A20: =IF(COUNTA(AD20,AG20,AH20,AI20)>0,"OUI","NON") -> NON | D20: =C20 -> 0 | M20: =INT((V20-F20)/365.25)& " ans "&MONTH(V20-F20)-1&" mois "&DAY(V20-F20)&" jours" -> #N/A | O20: 9999 | P20: =VLOOKUP(O20,Données!$B$2:$C$10,2,TRUE) -> 9 | Q20: =HLOOKUP(R20,Données!$D$13:$O$22,VLOOKUP(P20,Données!$B$14:$C$22,1,FALSE)+1,FALSE) -> #N/A | U20: =HLOOKUP(R20,Données!$B$13:$O$31,19,FALSE) -> #N/A | V20: =HLOOKUP(R20,Données!$D$13:$O$30,11,FALSE) -> #N/A | W20: =HLOOKUP(R20,Données!$D$13:$O$30,13,FALSE) -> #N/A | X20: =HLOOKUP(R20,Données!$D$13:$O$30,14, FALSE) -> #N/A | Y20: =HLOOKUP(R20,Données!$D$13:$O$30,12,FALSE) -> #N/A | Z20: =HLOOKUP(R20,Données!$D$13:$O$30,15,FALSE) -> #N/A | AA20: =HLOOKUP(R20,Données!$D$13:$O$30,18,FALSE) -> #N/A | AB20: =HLOOKUP(R20,Données!$D$13:$O$30,16,FALSE) -> #N/A | AC20: =HLOOKUP(R20,Données!$D$13:$O$30,17,FALSE) -> #N/A | AN20: =HLOOKUP(R20,Données!$D$13:$O$34,20,FALSE) -> #N/A | AO20: =HLOOKUP(R20,Données!$D$13:$O$34,21,FALSE) -> #N/A | AP20: =HLOOKUP(R20,Données!$D$13:$O$34,22,FALSE) -> #N/A
A21: =IF(COUNTA(AD21,AG21,AH21,AI21)>0,"OUI","NON") -> NON | D21: =C21 -> 0 | M21: =INT((V21-F21)/365.25)& " ans "&MONTH(V21-F21)-1&" mois "&DAY(V21-F21)&" jours" -> #N/A | O21: 9999 | P21: =VLOOKUP(O21,Données!$B$2:$C$10,2,TRUE) -> 9 | Q21: =HLOOKUP(R21,Données!$D$13:$O$22,VLOOKUP(P21,Données!$B$14:$C$22,1,FALSE)+1,FALSE) -> #N/A | U21: =HLOOKUP(R21,Données!$B$13:$O$31,19,FALSE) -> #N/A | V21: =HLOOKUP(R21,Données!$D$13:$O$30,11,FALSE) -> #N/A | W21: =HLOOKUP(R21,Données!$D$13:$O$30,13,FALSE) -> #N/A | X21: =HLOOKUP(R21,Données!$D$13:$O$30,14, FALSE) -> #N/A | Y21: =HLOOKUP(R21,Données!$D$13:$O$30,12,FALSE) -> #N/A | Z21: =HLOOKUP(R21,Données!$D$13:$O$30,15,FALSE) -> #N/A | AA21: =HLOOKUP(R21,Données!$D$13:$O$30,18,FALSE) -> #N/A | AB21: =HLOOKUP(R21,Données!$D$13:$O$30,16,FALSE) -> #N/A | AC21: =HLOOKUP(R21,Données!$D$13:$O$30,17,FALSE) -> #N/A | AN21: =HLOOKUP(R21,Données!$D$13:$O$34,20,FALSE) -> #N/A | AO21: =HLOOKUP(R21,Données!$D$13:$O$34,21,FALSE) -> #N/A | AP21: =HLOOKUP(R21,Données!$D$13:$O$34,22,FALSE) -> #N/A
... A61: =IF(COUNTA(AD61,AG61,AH61,AI61)>0,"OUI","NON") -> NON | D61: =C61 -> 0 | M61: =INT((V61-F61)/365.25)& " ans "&MONTH(V61-F61)-1&" mois "&DAY(V61-F61)&" jours" -> #N/A | O61: 9999 | P61: =VLOOKUP(O61,Données!$B$2:$C$10,2,TRUE) -> 9 | Q61: =HLOOKUP(R61,Données!$D$13:$O$22,VLOOKUP(P61,Données!$B$14:$C$22,1,FALSE)+1,FALSE) -> #N/A | U61: =HLOOKUP(R61,Données!$B$13:$O$31,19,FALSE) -> #N/A | V61: =HLOOKUP(R61,Données!$D$13:$O$30,11,FALSE) -> #N/A | W61: =HLOOKUP(R61,Données!$D$13:$O$30,13,FALSE) -> #N/A | X61: =HLOOKUP(R61,Données!$D$13:$O$30,14, FALSE) -> #N/A | Y61: =HLOOKUP(R61,Données!$D$13:$O$30,12,FALSE) -> #N/A | Z61: =HLOOKUP(R61,Données!$D$13:$O$30,15,FALSE) -> #N/A | AA61: =HLOOKUP(R61,Données!$D$13:$O$30,18,FALSE) -> #N/A | AB61: =HLOOKUP(R61,Données!$D$13:$O$30,16,FALSE) -> #N/A | AC61: =HLOOKUP(R61,Données!$D$13:$O$30,17,FALSE) -> #N/A | AN61: =HLOOKUP(R61,Données!$D$13:$O$34,20,FALSE) -> #N/A | AO61: =HLOOKUP(R61,Données!$D$13:$O$34,21,FALSE) -> #N/A | AP61: =HLOOKUP(R61,Données!$D$13:$O$34,22,FALSE) -> #N/A

Sheet Registres présences
C2: Séjour
C3: =Données!D13 -> Totem des Indiens | F3: Du | G3: =Données!D23 -> 42927
F4: au | G4: =Données!D24 -> 42929
A8: NOM | B8: Prénom | C8: Adresse | D8: CP | E8: Ville | F8: âge | G8: Présence (préciser dates si différentes de celles du séjour)
A31: Nombre d'inscrits : | B31: =COUNTA(A9:A29) -> 0 | F31: Signature directeur-trice séjour :
C33: Séjour
C34: =Données!F13 -> Esprit trappeur | F34: Du | G34: =Données!F23 -> 42968
F35: Au | G35: =Données!F24 -> 42972
A39: NOM | B39: Prénom | C39: Adresse | D39: CP | E39: Ville | F39: âge | G39: Présence (préciser dates si différentes de celles du séjour)
A63: Nombre d'inscrits : | B63: =COUNTA(A40:A61) -> 0 | F63: Signature directeur-trice séjour :
C65: Séjour
C66: =Données!F45 -> 0 | F66: Du | G66: =Données!F55 -> 0
F67: Au | G67: =Données!F56 -> 0
A71: NOM | B71: Prénom | C71: Adresse | D71: CP | E71: Ville | F71: âge | G71: Présence (préciser dates si différentes de celles du séjour)
A95: Nombre d'inscrits : | B95: =COUNTA(A72:A93) -> 0 | F95: Signature directeur-trice séjour :
C97: Séjour
C98: =Données!J13 -> Échange Franco-Allemand | F98: Du | G98: =Données!J23 -> 42939
F99: Au | G99: =Données!J24 -> 42947
A103: NOM | B103: Prénom | C103: Adresse | D103: CP | E103: Ville | F103: âge | G103: Présence (préciser dates si différentes de celles du séjour)
A126: Nombre d'inscrits : | B126: =COUNTA(A104:A124) -> 0 | F126: Signature directeur-trice séjour :
C128: Séjour
C129: =Données!L13 -> 0 | F129: Du | G129: =Données!L23 -> 0
F130: Au | G130: =Données!L24 -> 0
A134: NOM | B134: Prénom | C134: Adresse | D134: CP | E134: Ville | F134: âge | G134: Présence (préciser dates si différentes de celles du séjour)
A159: Nombre d'inscrits : | B159: =COUNTA(A135:A156) -> 0 | F159: Signature directeur-trice séjour :
C161: Séjour
C162: =Données!N13 -> 0 | F162: Du | G162: =Données!N23 -> 0
F163: Au | G163: =Données!N24 -> 0
A167: NOM | B167: Prénom | C167: Adresse | D167: CP | E167: Ville | F167: âge | G167: Présence (préciser dates si différentes de celles du séjour)
A191: Nombre d'inscrits : | B191: =COUNTA(A168:A188) -> 0 | F191: Signature directeur-trice séjour :

Sheet Places disponibles
C1: =Données!D13 -> Totem des Indiens | E1: =Données!F13 -> Esprit trappeur | G1: =Données!H13 -> Piste Safari | I1: =Données!J13 -> Échange Franco-Allemand | K1: =Données!L13 -> 0 | M1: =Données!N13 -> 0 | P1: Total
A2: Places réservées | C2: =COUNTIF(Inscrits!R:R,C1) -> 3 | E2: =COUNTIF(Inscrits!R:R,E1) -> 2 | G2: =COUNTIF(Inscrits!R:R,G1) -> 2 | I2: =COUNTIF(Inscrits!R:R,I1) -> 1 | K2: =COUNTIF(Inscrits!R:R,K1) -> 0 | M2: =COUNTIF(Inscrits!R:R,M1) -> 0 | P2: =SUM(C2:N2) -> 8
A3: Capacité d'accueil | C3: 12 | E3: 16 | G3: 16 | I3: 12 | P3: =SUM(C3:N3) -> 56
A4: Places restantes | C4: =C3-C2 -> 9 | E4: =E3-E2 -> 14 | G4: =G3-G2 -> 14 | I4: =I3-I2 -> 11 | K4: =K3-K2 -> 0 | M4: =M3-M2 -> 0 | P4: =SUM(C4:N4) -> 48
A6: % de remplissage | C6: =C2/C3 -> 0.25 | E6: =E2/E3 -> 0.125 | G6: =G2/G3 -> 0.125 | I6: =I2/I3 -> 0.083333333 | K6: =K2/K3 -> #DIV/0! | M6: =M2/M3 -> #DIV/0! | P6: =P2/P3 -> 0.14285714

Sheet Données
B1: Tranches quotient
B2: 0 | C2: 1
B3: 151 | C3: 2
B4: 351 | C4: 3
B5: 561 | C5: 4
B6: 781 | C6: 5
B7: 1011 | C7: 6
B8: 1261 | C8: 7
B9: 1541 | C9: 8
B10: 1861 | C10: 9
A13: 1 | D13: Totem des Indiens | F13: Esprit trappeur | H13: Piste Safari | J13: Échange Franco-Allemand
A14: 2 | B14: 1 | D14: 39 | F14: 66 | H14: 66 | J14: 231
A15: 3 | B15: 2 | D15: 54 | F15: 91 | H15: 91 | J15: 231
A16: 4 | B16: 3 | D16: 74 | F16: 124 | H16: 124 | J16: 231
A17: 5 | B17: 4 | D17: 98 | F17: 165 | H17: 165 | J17: 231
A18: 6 | B18: 5 | D18: 103 | F18: 173 | H18: 173 | J18: 243
A19: 7 | B19: 6 | D19: 108 | F19: 182 | H19: 182 | J19: 254
A20: 8 | B20: 7 | D20: 118 | F20: 198 | H20: 198 | J20: 277
A21: 9 | B21: 8 | D21: 123 | F21: 206 | H21: 206 | J21: 289
A22: 10 | B22: 9 | D22: 127 | F22: 215 | H22: 215 | J22: 300
A23: 11 | B23: Date début | D23: 42927 | F23: 42968 | H23: 42933 | J23: 42939
A24: 12 | B24: Date fin | D24: 42929 | F24: 42972 | H24: 42937 | J24: 42947
A25: 13 | B25: Heure convoc | D25: 10h15 | F25: 9h10 | H25: 9h10 | J25: 10h30
A26: 14 | B26: Heure départ | D26: 9h15 | F26: 9h30 | H26: 9h30 | J26: 10h45
A27: 15 | B27: heure retour | D27: 16h45 | F27: 17h30 | H27: 17h30 | J27: 17h30
A28: 16 | B28: date réunion | D28: 42902 | F28: 42902 | H28: 42902 | J28: 42902
A29: 17 | B29: heure réunion | D29: 18h30 | F29: 19h30 | H29: 19h30 | J29: 20h30
A30: 18 | B30: code blog | D30: 544szb | F30: 2ezyrc | H30: 8qj4dt | J30: 2huxqu
A31: 19 | B31: Responsable | D31: Laure MASSÉ | F31: Laure MASSÉ | H31: Laure MASSÉ | J31: Laure MASSÉ
A32: 20 | B32: Adresse 1 | D32: Base de loisirs de Pont-Caffino | F32: Camping de la Forêt
A33: 21 | B33: Adresse 2 | D33: Pont-Caffino | F33: Rue de l'Étang
A34: 22 | B34: CP Ville | D34: 44690 Maisdon sur Sèvre | F34: 44130 Le Gâvre
B39: Banques
B40: AXA Banque
B41: Banque Populaire
B42: BNP Paribas
B43: CIC Ouest
B44: Caisse d'épargne
B45: Crédit Agricole
B46: Crédit Mutuel
...
