Workbook
Name bddcc: OFFSET([1]BDD!$C:$C,1,,COUNT([1]BDD!$C:$C))
Name bdddd: OFFSET(bddcc,,1,)
Name bddee: OFFSET(bddcc,,2,)

Sheet Feuil1
A1: 1 | AM1: Janvier | AN1: 2015 | AO1: FERIE 2016
K2: MOIS | M2: 1 | O2: saisir ici le mois (en chiffres) et l'année | AM2: Février | AN2: 2016 | AO2: 42363
K3: ANNEE | M3: 2016 | AM3: Mars | AN3: 2017 | AO3: 42370
AM4: Avril | AN4: 2018 | AO4: 42457
AM5: Mai | AN5: 2019 | AO5: 42491
AM6: Juin | AN6: 2020 | AO6: 42498
AM7: Juillet | AN7: 2021 | AO7: 42495
AM8: Août | AN8: 2022 | AO8: 42506
AM9: Septembre | AN9: 2023 | AO9: 42565
AM10: Octobre | AN10: 2024 | AO10: 42597
AM11: Novembre | AN11: 2025 | AO11: 42675
AM12: Décembre | AN12: 2026 | AO12: 42685
B13: 3 | AN13: 2027 | AO13: 42729
AN14: 2028
B15: =B16 -> 42370 | C15: =C16 -> 42371 | D15: =D16 -> 42372 | E15: =E16 -> 42373 | F15: =F16 -> 42374 | G15: =G16 -> 42375 | H15: =H16 -> 42376 | I15: =I16 -> 42377 | ... AJ15: =AJ16 -> 42404
B16: 42370 | C16: 42371 | D16: 42372 | E16: 42373 | F16: 42374 | G16: 42375 | H16: 42376 | I16: 42377 | J16: 42378 | K16: 42379 | L16: 42380 | M16: 42381 | N16: 42382 | O16: 42383 | P16: 42384 | Q16: 42385 | R16: 42386 | S16: 42387 | T16: 42388 | U16: 42389 | V16: 42390 | W16: 42391 | X16: 42392 | Y16: 42393 | Z16: 42394 | AA16: 42395 | AB16: 42396 | AC16: 42397 | AD16: 42398 | AE16: 42399 | AF16: 42400 | AG16: 42401 | AH16: 42402 | AI16: 42403 | AJ16: 42404 | AM16: G | AN16: A 3 | AO16: PLD | AP16: G s | AQ16: G we
A17: 1 | B17: IS | C17: IS | D17: IS | E17: PO | F17: RS | G17: PO | H17: RS | I17: PO | J17: RS | K17: PO | L17: PLD | M17: PLD | N17: PLD | O17: PLD | P17: PLD | Q17: PO | R17: RS | S17: A 3 | T17: E | U17: A 3 | V17: A 3 | W17: A 3 | X17: A 3 | Y17: A 3 | Z17: PO | AA17: RS | AB17: PO | AC17: RS | AD17: PO | AE17: RS | AF17: PO | AG17: E | AH17: A 3 | AI17: RS | AJ17: E | AM17: =SUM(AP17+AQ17) -> 9 | AN17: =SUMPRODUCT( (B17:AJ17=AN16)*(MONTH(B16:AJ16)=M2)*(YEAR(B16:AJ16)=M3)*1) -> 6 | AO17: =COUNTIF(A17:AE17,BDD!$F$2) -> 5 | AP17: =COUNTIF(B17:AF17,BDD!$D$2) -> 6 | AQ17: =COUNTIF(C17:AG17,BDD!$E$2) -> 3
A18: 2 | B18: IS | C18: IS | D18: IS | E18: PO | F18: RS | G18: PO | H18: RS | I18: PO | J18: RS | K18: PO | L18: RS | M18: PO | N18: RS | O18: PO | P18: RS | Q18: PO | R18: RS | S18: A 3 | T18: E | U18: A 3 | V18: A 3 | W18: A 3 | X18: A 3 | Y18: A 3 | Z18: PO | AA18: RS | AB18: PO | AC18: RS | AD18: PO | AE18: RS | AF18: PO | AM18: =SUM(AP18+AQ18) -> 11 | AN18: =COUNTIF(A18:AD18,BDD!$D$2) -> 8 | AO18: =COUNTIF(A18:AE18,BDD!$F$2) -> 0 | AP18: =COUNTIF(B18:AF18,BDD!$D$2) -> 8 | AQ18: =COUNTIF(C18:AG18,BDD!$E$2) -> 3
A19: 3 | B19: IS | C19: IS | D19: IS | E19: PO | F19: RS | G19: PO | H19: RS | I19: PO | J19: RS | K19: PO | L19: RS | M19: PO | N19: RS | O19: PO | P19: RS | Q19: PO | R19: RS | S19: A 3 | T19: E | U19: A 3 | V19: A 3 | W19: A 3 | X19: A 3 | Y19: A 3 | Z19: PO | AA19: RS | AB19: PO | AC19: RS | AD19: PO | AE19: RS | AF19: PO | AM19: =SUM(AP19+AQ19) -> 11 | AN19: =COUNTIF(A19:AD19,BDD!$D$2) -> 8 | AO19: =COUNTIF(A19:AE19,BDD!$F$2) -> 0 | AP19: =COUNTIF(B19:AF19,BDD!$D$2) -> 8 | AQ19: =COUNTIF(C19:AG19,BDD!$E$2) -> 3
A20: 4 | B20: IS | C20: IS | D20: IS | E20: PO | F20: RS | G20: PO | H20: RS | I20: PO | J20: RS | K20: PO | L20: RS | M20: PO | N20: RS | O20: PO | P20: RS | Q20: PO | R20: RS | S20: A 3 | T20: E | U20: A 3 | V20: A 3 | W20: A 3 | X20: A 3 | Y20: A 3 | Z20: PO | AA20: RS | AB20: PO | AC20: RS | AD20: PO | AE20: RS | AF20: PO | AM20: =SUM(AP20+AQ20) -> 11 | AN20: =COUNTIF(A20:AD20,BDD!$D$2) -> 8 | AO20: =COUNTIF(A20:AE20,BDD!$F$2) -> 0 | AP20: =COUNTIF(B20:AF20,BDD!$D$2) -> 8 | AQ20: =COUNTIF(C20:AG20,BDD!$E$2) -> 3
A21: 5 | B21: IS | C21: IS | D21: IS | E21: PO | F21: RS | G21: PO | H21: RS | I21: PO | J21: RS | K21: PO | L21: RS | M21: PO | N21: RS | O21: PO | P21: RS | Q21: PO | R21: RS | S21: A 3 | T21: E | U21: A 3 | V21: A 3 | W21: A 3 | X21: A 3 | Y21: A 3 | Z21: PO | AA21: RS | AB21: PO | AC21: RS | AD21: PO | AE21: RS | AF21: PO | AM21: =SUM(AP21+AQ21) -> 11 | AN21: =COUNTIF(A21:AD21,BDD!$D$2) -> 8 | AO21: =COUNTIF(A21:AE21,BDD!$F$2) -> 0 | AP21: =COUNTIF(B21:AF21,BDD!$D$2) -> 8 | AQ21: =COUNTIF(C21:AG21,BDD!$E$2) -> 3
A22: 6 | B22: IS | C22: IS | D22: IS | E22: PO | F22: RS | G22: PO | H22: RS | I22: PO | J22: RS | K22: PO | L22: RS | M22: PO | N22: RS | O22: PO | P22: RS | Q22: PO | R22: RS | S22: A 3 | T22: E | U22: A 3 | V22: A 3 | W22: A 3 | X22: A 3 | Y22: A 3 | Z22: PO | AA22: RS | AB22: PO | AC22: RS | AD22: PO | AE22: RS | AF22: PO | AM22: =SUM(AP22+AQ22) -> 11 | AN22: =COUNTIF(A22:AD22,BDD!$D$2) -> 8 | AO22: =COUNTIF(A22:AE22,BDD!$F$2) -> 0 | AP22: =COUNTIF(B22:AF22,BDD!$D$2) -> 8 | AQ22: =COUNTIF(C22:AG22,BDD!$E$2) -> 3
A23: 7 | B23: IS | C23: IS | D23: IS | E23: PO | F23: RS | G23: PO | H23: RS | I23: PO | J23: RS | K23: PO | L23: RS | M23: PO | N23: RS | O23: PO | P23: RS | Q23: PO | R23: RS | S23: A 3 | T23: E | U23: A 3 | V23: A 3 | W23: A 3 | X23: A 3 | Y23: A 3 | Z23: PO | AA23: RS | AB23: PO | AC23: RS | AD23: PO | AE23: RS | AF23: PO | AM23: =SUM(AP23+AQ23) -> 11 | AN23: =COUNTIF(A23:AD23,BDD!$D$2) -> 8 | AO23: =COUNTIF(A23:AE23,BDD!$F$2) -> 0 | AP23: =COUNTIF(B23:AF23,BDD!$D$2) -> 8 | AQ23: =COUNTIF(C23:AG23,BDD!$E$2) -> 3
A24: 8 | B24: IS | C24: IS | D24: IS | E24: PO | F24: RS | G24: PO | H24: RS | I24: PO | J24: RS | K24: PO | L24: RS | M24: PO | N24: RS | O24: PO | P24: RS | Q24: PO | R24: RS | S24: A 3 | T24: E | U24: A 3 | V24: A 3 | W24: A 3 | X24: A 3 | Y24: A 3 | Z24: PO | AA24: RS | AB24: PO | AC24: RS | AD24: PO | AE24: RS | AF24: PO | AM24: =SUM(AP24+AQ24) -> 11 | AN24: =COUNTIF(A24:AD24,BDD!$D$2) -> 8 | AO24: =COUNTIF(A24:AE24,BDD!$F$2) -> 0 | AP24: =COUNTIF(B24:AF24,BDD!$D$2) -> 8 | AQ24: =COUNTIF(C24:AG24,BDD!$E$2) -> 3
A25: 9 | B25: IS | C25: IS | D25: IS | E25: PO | F25: RS | G25: PO | H25: RS | I25: PO | J25: RS | K25: PO | L25: RS | M25: PO | N25: RS | O25: PO | P25: RS | Q25: PO | R25: RS | S25: A 3 | T25: E | U25: A 3 | V25: A 3 | W25: A 3 | X25: A 3 | Y25: A 3 | Z25: PO | AA25: RS | AB25: PO | AC25: RS | AD25: PO | AE25: RS | AF25: PO | AM25: =SUM(AP25+AQ25) -> 11 | AN25: =COUNTIF(A25:AD25,BDD!$D$2) -> 8 | AO25: =COUNTIF(A25:AE25,BDD!$F$2) -> 0 | AP25: =COUNTIF(B25:AF25,BDD!$D$2) -> 8 | AQ25: =COUNTIF(C25:AG25,BDD!$E$2) -> 3
A26: 10 | B26: IS | C26: IS | D26: IS | E26: PO | F26: RS | G26: PO | H26: RS | I26: PO | J26: RS | K26: PO | L26: RS | M26: PO | N26: RS | O26: PO | P26: RS | Q26: PO | R26: RS | S26: A 3 | T26: E | U26: A 3 | V26: A 3 | W26: A 3 | X26: A 3 | Y26: A 3 | Z26: PO | AA26: RS | AB26: PO | AC26: RS | AD26: PO | AE26: RS | AF26: PO | AM26: =SUM(AP26+AQ26) -> 11 | AN26: =COUNTIF(A26:AD26,BDD!$D$2) -> 8 | AO26: =COUNTIF(A26:AE26,BDD!$F$2) -> 0 | AP26: =COUNTIF(B26:AF26,BDD!$D$2) -> 8 | AQ26: =COUNTIF(C26:AG26,BDD!$E$2) -> 3
A27: 11 | B27: IS | C27: IS | D27: IS | E27: PO | F27: RS | G27: PO | H27: RS | I27: PO | J27: RS | K27: PO | L27: RS | M27: PO | N27: RS | O27: PO | P27: RS | Q27: PO | R27: RS | S27: A 3 | T27: E | U27: A 3 | V27: A 3 | W27: A 3 | X27: A 3 | Y27: A 3 | Z27: PO | AA27: RS | AB27: PO | AC27: RS | AD27: PO | AE27: RS | AF27: PO | AM27: =SUM(AP27+AQ27) -> 11 | AN27: =COUNTIF(A27:AD27,BDD!$D$2) -> 8 | AO27: =COUNTIF(A27:AE27,BDD!$F$2) -> 0 | AP27: =COUNTIF(B27:AF27,BDD!$D$2) -> 8 | AQ27: =COUNTIF(C27:AG27,BDD!$E$2) -> 3
A28: 12 | B28: IS | C28: IS | D28: IS | E28: PO | F28: RS | G28: PO | H28: RS | I28: PO | J28: RS | K28: PO | L28: RS | M28: PO | N28: RS | O28: PO | P28: RS | Q28: PO | R28: RS | S28: A 3 | T28: E | U28: A 3 | V28: A 3 | W28: A 3 | X28: A 3 | Y28: A 3 | Z28: PO | AA28: RS | AB28: PO | AC28: RS | AD28: PO | AE28: RS | AF28: PO | AM28: =SUM(AP28+AQ28) -> 11 | AN28: =COUNTIF(A28:AD28,BDD!$D$2) -> 8 | AO28: =COUNTIF(A28:AE28,BDD!$F$2) -> 0 | AP28: =COUNTIF(B28:AF28,BDD!$D$2) -> 8 | AQ28: =COUNTIF(C28:AG28,BDD!$E$2) -> 3
A29: 13 | B29: IS | C29: IS | D29: IS | E29: PO | F29: RS | G29: PO | H29: RS | I29: PO | J29: RS | K29: PO | L29: RS | M29: PO | N29: RS | O29: PO | P29: RS | Q29: PO | R29: RS | S29: A 3 | T29: E | U29: A 3 | V29: A 3 | W29: A 3 | X29: A 3 | Y29: A 3 | Z29: PO | AA29: RS | AB29: PO | AC29: RS | AD29: PO | AE29: RS | AF29: PO | AM29: =SUM(AP29+AQ29) -> 11 | AN29: =COUNTIF(A29:AD29,BDD!$D$2) -> 8 | AO29: =COUNTIF(A29:AE29,BDD!$F$2) -> 0 | AP29: =COUNTIF(B29:AF29,BDD!$D$2) -> 8 | AQ29: =COUNTIF(C29:AG29,BDD!$E$2) -> 3
... A36: 20 | B36: IS | C36: IS | D36: IS | E36: PO | F36: RS | G36: PO | H36: RS | I36: PO | J36: RS | K36: PO | L36: RS | M36: PO | N36: RS | O36: PO | P36: RS | Q36: PO | R36: RS | S36: A 3 | T36: E | U36: A 3 | V36: A 3 | W36: A 3 | X36: A 3 | Y36: A 3 | Z36: PO | AA36: RS | AB36: PO | AC36: RS | AD36: PO | AE36: RS | AF36: PO | AM36: =SUM(AP36+AQ36) -> 11 | AN36: =COUNTIF(A36:AD36,BDD!$D$2) -> 8 | AO36: =COUNTIF(A36:AE36,BDD!$F$2) -> 0 | AP36: =COUNTIF(B36:AF36,BDD!$D$2) -> 8 | AQ36: =COUNTIF(C36:AG36,BDD!$E$2) -> 3

Sheet BDD
B2: PATC | C2: TN | D2: PO | E2: PO | F2: PLD | G2: we | H2: STG | I2: RS | J2: IS | K2: OPEX | L2: E | M2: TAOPM | N2: FERIE | O2: Chauf | P2: A3 | Q2: MIS | S2: A 3
D3: F40 | E3: G40 | F3: H40 | G3: I | H3: J | I3: K | J3: L | K3: M | L3: N | M3: O | N3: P | O3: Q | P3: R | Q3: S | R3: T | S3: U

Sheet Feuil3
