Workbook

Sheet conso
A1: date de l'étude: | B1: =TODAY() -> 42359 | C1: =CHOOSE(MONTH(B1),"janvier","février","mars","avril","mai","juin","juillet","aout","septembre","octobre","novembre","décembre") -> décembre | G1: tableau des consos mensuelles
G2: (remplissage depuis logiciel externe)
B5: =DATE(YEAR(B1)-1,MONTH(B1),1) -> 41974 | C5: =DATE(YEAR(B$5),MONTH(B$5)+1,1) -> 42005 | D5: =DATE(YEAR(C$5),MONTH(C$5)+1,1) -> 42036 | E5: =DATE(YEAR(D$5),MONTH(D$5)+1,1) -> 42064 | F5: =DATE(YEAR(E$5),MONTH(E$5)+1,1) -> 42095 | G5: =DATE(YEAR(F$5),MONTH(F$5)+1,1) -> 42125 | H5: =DATE(YEAR(G$5),MONTH(G$5)+1,1) -> 42156 | I5: =DATE(YEAR(H$5),MONTH(H$5)+1,1) -> 42186 | J5: =DATE(YEAR(I$5),MONTH(I$5)+1,1) -> 42217 | ... M5: =DATE(YEAR(L$5),MONTH(L$5)+1,1) -> 42309
B6: =EOMONTH(B5,0) -> 42004 | C6: =EOMONTH(C5,0) -> 42035 | D6: =EOMONTH(D5,0) -> 42063 | E6: =EOMONTH(E5,0) -> 42094 | F6: =EOMONTH(F5,0) -> 42124 | G6: =EOMONTH(G5,0) -> 42155 | H6: =EOMONTH(H5,0) -> 42185 | I6: =EOMONTH(I5,0) -> 42216 | ... M6: =EOMONTH(M5,0) -> 42338
B7: =CHOOSE(MONTH(B5),"janvier","février","mars","avril","mai","juin","juillet","aout","septembre","octobre","novembre","décembre") -> décembre | C7: =CHOOSE(MONTH(C5),"janvier","février","mars","avril","mai","juin","juillet","aout","septembre","octobre","novembre","décembre") -> janvier | D7: =CHOOSE(MONTH(D5),"janvier","février","mars","avril","mai","juin","juillet","aout","septembre","octobre","novembre","décembre") -> février | E7: =CHOOSE(MONTH(E5),"janvier","février","mars","avril","mai","juin","juillet","aout","septembre","octobre","novembre","décembre") -> mars | F7: =CHOOSE(MONTH(F5),"janvier","février","mars","avril","mai","juin","juillet","aout","septembre","octobre","novembre","décembre") -> avril | G7: =CHOOSE(MONTH(G5),"janvier","février","mars","avril","mai","juin","juillet","aout","septembre","octobre","novembre","décembre") -> mai | H7: =CHOOSE(MONTH(H5),"janvier","février","mars","avril","mai","juin","juillet","aout","septembre","octobre","novembre","décembre") -> juin | I7: =CHOOSE(MONTH(I5),"janvier","février","mars","avril","mai","juin","juillet","aout","septembre","octobre","novembre","décembre") -> juillet | ... M7: =CHOOSE(MONTH(M5),"janvier","février","mars","avril","mai","juin","juillet","aout","septembre","octobre","novembre","décembre") -> novembre
A9: produit A | B9: 800 | C9: 600 | D9: 500 | E9: 300 | F9: 250 | G9: 200 | H9: 100 | I9: 50 | J9: 200 | K9: 350 | L9: 450 | M9: 600
A10: produitB | B10: 600 | C10: 300 | D10: 100 | E10: 50 | F10: 50 | G10: 20 | H10: 10 | I10: 5 | J10: 150 | K10: 300 | L10: 500 | M10: 700

Sheet décrémentation
G1: tableau des conso stock
A5: date de l'étude: | B5: =TODAY() -> 42359 | C5: =CHOOSE(MONTH(B5),"janvier","février","mars","avril","mai","juin","juillet","aout","septembre","octobre","novembre","décembre") -> décembre
B8: stk réel | C8: stk à terme | D8: =conso!B7 -> décembre | E8: =conso!C7 -> janvier | F8: =conso!D7 -> février | G8: =conso!E7 -> mars | H8: =conso!F7 -> avril | I8: =conso!G7 -> mai | J8: =conso!H7 -> juin | K8: =conso!I7 -> juillet | ... O8: =conso!M7 -> novembre
A9: =conso!A9 -> produit A | B9: 2500 | C9: =B9 -> 2500 | D9: ? | E9: ? | F9: ? | G9: ? | H9: ? | I9: ? | J9: ? | K9: ? | L9: ? | M9: ? | N9: ? | O9: ?
A10: =conso!A10 -> produitB | B10: 1500 | C10: =B10 -> 1500 | D10: ? | E10: ? | F10: ? | G10: ? | H10: ? | I10: ? | J10: ? | K10: ? | L10: ? | M10: ? | N10: ? | O10: ?

Sheet commande
G1: tableau des commandes
B4: commande | C4: 1 | E4: commande | F4: 2 | H4: commande | I4: 3 | K4: commande | L4: 4
B5: date de livraison | C5: 42405 | E5: date de livraison | F5: 42434 | H5: date de livraison | I5: 42465 | K5: date de livraison | L5: 42495
B7: qté cdée | C7: échéance | E7: qté cdée | F7: échéance | H7: qté cdée | I7: échéance | K7: qté cdée | L7: échéance
A9: =décrémentation!A9 -> produit A | B9: 5000 | C9: ? | E9: 5000 | F9: ? | H9: 5000 | I9: ? | K9: 5000 | L9: ?
A10: =décrémentation!A10 -> produitB | B10: 2500 | C10: ? | E10: 2500 | F10: ? | H10: 2500 | I10: ? | K10: 2500 | L10: ?

Sheet Tableau
A1: Produit | B1: Date | C1: ES | D1: Observation
A2: A | B2: 42005 | C2: 12 | D2: mise à jour selon stock
A3: A | B3: 42011 | C3: -7
A4: B | B4: 42006 | C4: 14
A5: A | B5: 42043 | C5: -9
A6: B | B6: 42434 | C6: 10 | D6: c'est une prévision qu'on laissera ou modifiera
F8: Somme de ES | G8: Étiquettes de colonnes
G9: 2015 | I9: 2016 | J9: Total général
F10: Étiquettes de lignes | G10: janv | H10: févr | I10: mars
F11: A | G11: 5 | H11: -9 | I11: 0 | J11: -4
F12: B | G12: 19 | H12: -9 | I12: 10 | J12: 20
F13: Total général
