Workbook

Sheet csv
A1: Guest Full Name | B1: Adults | C1: Property ID | D1: Property Title | E1: Checkin | F1: Checkout | G1: Status | H1: Listor Name | I1: Accommodation Cost | J1: Nights | K1: Created at | L1: Pointage
A2: William Holms | B2: 3 | C2: 50369 | D2: Melantrichova #1 | E2: 42913 | F2: 42916 | G2: CONFIRMED | H2: Home Away | I2: 304.04 | J2: 3 | K2: 42912.963 | L2: =-ROUND(Tableau1[[#This Row],[Created at]]-TODAY(),0) -> 0
A3: abdulraman almadhi | B3: 4 | C3: 50350 | D3: Hybernska #05 | E3: 42913 | F3: 42917 | G3: CONFIRMED | H3: Booking.com | I3: 482.6 | J3: 4 | K3: 42912.923 | L3: =-ROUND(Tableau1[[#This Row],[Created at]]-TODAY(),0) -> 0
A4: MA Gueule Orlandella | B4: 3 | C4: 50366 | D4: Hybernska #11 | E4: 42948 | F4: 42955 | G4: CONFIRMED | H4: AirBnb | I4: 672 | J4: 7 | K4: 42912.851 | L4: =-ROUND(Tableau1[[#This Row],[Created at]]-TODAY(),0) -> 0
A5: heinrich Maier | B5: 10 | C5: 50371 | D5: Na Smetance #2 | E5: 42979 | F5: 42981 | G5: CONFIRMED | H5: Booking.com | I5: 621 | J5: 2 | K5: 42912.766 | L5: =-ROUND(Tableau1[[#This Row],[Created at]]-TODAY(),0) -> 0
A6: michel planque | B6: 2 | C6: 50358 | D6: Soukenicka #2 | E6: 42998 | F6: 43002 | G6: CONFIRMED | H6: Expedia | I6: 348.33 | J6: 4 | K6: 42912.738 | L6: =-ROUND(Tableau1[[#This Row],[Created at]]-TODAY(),0) -> 0
A7: Eric TRINCA | B7: 4 | C7: 50369 | D7: Melantrichova #1 | E7: 42965 | F7: 42968 | G7: CONFIRMED | H7: Booking.com | I7: 592 | J7: 3 | K7: 42912.674 | L7: =-ROUND(Tableau1[[#This Row],[Created at]]-TODAY(),0) -> 0
A8: Tomas Nagy | B8: 2 | C8: 50348 | D8: Masna #02 | E8: 42913 | F8: 42914 | G8: CONFIRMED | H8: Booking.com | I8: 74 | J8: 1 | K8: 42912.658 | L8: =-ROUND(Tableau1[[#This Row],[Created at]]-TODAY(),0) -> 0
A9: Peter Nagy | B9: 4 | C9: 50318 | D9: Narodni #1 | E9: 42919 | F9: 42921 | G9: CONFIRMED | H9: AirBnb | I9: 198 | J9: 2 | K9: 42912.625 | L9: =-ROUND(Tableau1[[#This Row],[Created at]]-TODAY(),0) -> 0
A10: Daria Malerian | B10: 2 | C10: 50348 | D10: Masna #02 | E10: 42915 | F10: 42919 | G10: CONFIRMED | H10: Booking.com | I10: 305.3 | J10: 4 | K10: 42912.52 | L10: =-ROUND(Tableau1[[#This Row],[Created at]]-TODAY(),0) -> 0
A11: Han Chul Lee | B11: 7 | C11: 50371 | D11: Na Smetance #2 | E11: 42941 | F11: 42943 | G11: CONFIRMED | H11: Booking.com | I11: 314.3 | J11: 2 | K11: 42912.478 | L11: =-ROUND(Tableau1[[#This Row],[Created at]]-TODAY(),0) -> 1
A12: AL ESPARZA | B12: 4 | C12: 50300 | D12: Hybernska #01 | E12: 42912 | F12: 42913 | G12: CONFIRMED | H12: Expedia | I12: 103.69 | J12: 1 | K12: 42912.449 | L12: =-ROUND(Tableau1[[#This Row],[Created at]]-TODAY(),0) -> 1
A13: Martin Monikainen | B13: 4 | C13: 50336 | D13: Hybernska #10 | E13: 42912 | F13: 42914 | G13: CONFIRMED | H13: Expedia | I13: 187.38 | J13: 2 | K13: 42912.328 | L13: =-ROUND(Tableau1[[#This Row],[Created at]]-TODAY(),0) -> 1
... A31: Elliott Bashore | B31: 3 | C31: 50308 | D31: Na Zborenci #03 | E31: 42910 | F31: 42911 | G31: CONFIRMED | H31: AirBnb | I31: 77 | J31: 1 | K31: 42910.523 | L31: =-ROUND(Tableau1[[#This Row],[Created at]]-TODAY(),0) -> 2

Sheet Feuil2
D5: formule à appliquer pour trouver la même valeur qu'en "E" | E5: resulat a trouver | F5: airbnb | G5: booking.com | H5: expedia | I5: Home Away
C6: J-1 | D6: =SUMIF(csv!K2:K6000,(TODAY()-1),csv!I2:I6000) -> 0 | E6: =SUM(csv!I2:I15) -> 4452.14 | F6: 870 | G6: 2638.7 | H6: 639.4 | I6: 304.04 | J6: =SUM(F6:I6) -> 4452.14
C7: J-2 | D7: =SUMIF(csv!K2:K6000,(TODAY()-2),csv!I2:I6000) -> 0 | E7: =SUM(csv!I16:I27) -> 3229.45 | F7: 1685 | G7: 416.9 | H7: 1127.55 | J7: =SUM(F7:I7) -> 3229.45
C8: J-3 | D8: =SUMIF(csv!K2:K6000,(TODAY()-2),csv!I2:I6000) -> 0 | E8: =SUM(csv!I28:I31) -> 848 | F8: 161 | G8: 687 | H8: 0 | J8: =SUM(F8:I8) -> 848
B13: Somme de Accommodation Cost | C13: Étiquettes de colonnes
B14: Étiquettes de lignes | C14: AirBnb | D14: Booking.com | E14: Expedia | F14: Home Away | G14: Total général
B15: 0 | C15: 870 | D15: 2074.9 | E15: 348.33 | F15: 304.04 | G15: 3597.27
B16: 1 | C16: 454 | D16: 779.8 | E16: 1167.26 | G16: 2401.06
B17: 2 | C17: 1392 | D17: 887.9 | E17: 251.36 | G17: 2531.26
B18: Total général | C18: 2716 | D18: 3742.6 | E18: 1766.95 | F18: 304.04 | G18: 8529.59
