Workbook

Sheet Feuil2
A3: Étiquettes de lignes | B3: Somme de PRIX QUANTITE | C3: *3 | D3: Tu sauras aussi *1,2
A4: Dagobert | B4: 2.60033 | C4: =B4*3 -> 7.80099
A5: ITALIEN | B5: 2.43 | C5: =B5*3 -> 7.29
A6: MARTINO | B6: 2.74 | C6: =B6*3 -> 8.22
A7: Total général | B7: 7.77033

Sheet Feuil1
A1: PRODUITS | B1: COMPOSITION | C1: QUANTITE ( g/ml/pc ) | D1: PRIX QUANTITE | E1: PAIN | F1: PRIX DE REVIENT | G1: COEF. MAR. BENEF. | H1: PRIX DE VENTE ( htva) | I1: PRIX DE VENTE ( tvac ) | K1: Ancien prix
A2: Dagobert | B2: MAYONNAISE | C2: 200 | D2: =(INDEX(Ingrédients!$B$3:$B$22,MATCH(B2,Ingrédients!$A$3:$A$22,0))/1000)*C2 -> 1 | E2: BLANC | F2: =SUM(D2:D7)+0.1 -> 2.70033 | G2: 3 | H2: =F2*G2 -> 8.10099 | I2: =H2*1.06 -> 8.5870494
A3: Dagobert | B3: JAMBON | C3: 100 | D3: =(INDEX(Ingrédients!$B$3:$B$22,MATCH(B3,Ingrédients!$A$3:$A$22,0))/1000)*C3 -> 1 | E3: GRIS | F3: =SUM(D3:D8)+0.1 -> 2.14033 | G3: 3 | H3: =F3*G3 -> 6.42099 | I3: =H3*1.06 -> 6.8062494
A4: Dagobert | B4: FROMAGE | C4: 50 | D4: =(INDEX(Ingrédients!$B$3:$B$22,MATCH(B4,Ingrédients!$A$3:$A$22,0))/1000)*C4 -> 0.25 | F4: =SUM(D4:D9)+0.1 -> 2.14033 | G4: 3 | H4: =F4*G4 -> 6.42099 | I4: =H4*1.06 -> 6.8062494
A5: Dagobert | B5: OEUFS | C5: 3 | D5: =(INDEX(Ingrédients!$B$3:$B$22,MATCH(B5,Ingrédients!$A$3:$A$22,0))/1000)*C5 -> 0.00033 | F5: =SUM(D5:D10)+0.1 -> 2.39033 | G5: 3 | H5: =F5*G5 -> 7.17099 | I5: =H5*1.06 -> 7.6012494
A6: Dagobert | B6: CORNICHONS | C6: 25 | D6: =(INDEX(Ingrédients!$B$3:$B$22,MATCH(B6,Ingrédients!$A$3:$A$22,0))/1000)*C6 -> 0.25 | F6: =SUM(D6:D11)+0.1 -> 2.48 | G6: 3 | H6: =F6*G6 -> 7.44 | I6: =H6*1.06 -> 7.8864
A7: Dagobert | B7: CRUDITES | C7: 100 | D7: =(INDEX(Ingrédients!$B$3:$B$22,MATCH(B7,Ingrédients!$A$3:$A$22,0))/1000)*C7 -> 0.1 | F7: =SUM(D7:D12)+0.1 -> 2.63 | G7: 3 | H7: =F7*G7 -> 7.89 | I7: =H7*1.06 -> 8.3634
A8: ITALIEN | B8: HUILE D’OLIVE | C8: 20 | D8: =(INDEX(Ingrédients!$B$3:$B$22,MATCH(B8,Ingrédients!$A$3:$A$22,0))/1000)*C8 -> 0.44 | E8: BLANC | F8: =SUM(D8:D13)+0.1 -> 2.68 | G8: 3 | H8: =F8*G8 -> 8.04 | I8: =H8*1.06 -> 8.5224
A9: ITALIEN | B9: JAMBON DE PARME | C9: 100 | D9: =(INDEX(Ingrédients!$B$3:$B$22,MATCH(B9,Ingrédients!$A$3:$A$22,0))/1000)*C9 -> 1 | E9: GRIS | F9: =SUM(D9:D14)+0.1 -> 3.74 | G9: 3 | H9: =F9*G9 -> 11.22 | I9: =H9*1.06 -> 11.8932
A10: ITALIEN | B10: MOZZARELLA TRANCHE | C10: 50 | D10: =(INDEX(Ingrédients!$B$3:$B$22,MATCH(B10,Ingrédients!$A$3:$A$22,0))/1000)*C10 -> 0.5 | F10: =SUM(D10:D15)+0.1 -> 3.04 | G10: 3 | H10: =F10*G10 -> 9.12 | I10: =H10*1.06 -> 9.6672
A11: ITALIEN | B11: TOMATES | C11: 30 | D11: =(INDEX(Ingrédients!$B$3:$B$22,MATCH(B11,Ingrédients!$A$3:$A$22,0))/1000)*C11 -> 0.09 | F11: =SUM(D11:D16)+0.1 -> 2.84 | G11: 3 | H11: =F11*G11 -> 8.52 | I11: =H11*1.06 -> 9.0312
A12: ITALIEN | B12: SALADE | C12: 100 | D12: =(INDEX(Ingrédients!$B$3:$B$22,MATCH(B12,Ingrédients!$A$3:$A$22,0))/1000)*C12 -> 0.4 | F12: =SUM(D12:D17)+0.1 -> 2.84 | G12: 3 | H12: =F12*G12 -> 8.52 | I12: =H12*1.06 -> 9.0312
A13: MARTINO | B13: SAUCE MARTINO | C13: 15 | D13: =(INDEX(Ingrédients!$B$3:$B$22,MATCH(B13,Ingrédients!$A$3:$A$22,0))/1000)*C13 -> 0.15 | F13: =SUM(D13:D18)+0.1 -> 2.84 | G13: 3 | H13: =F13*G13 -> 8.52 | I13: =H13*1.06 -> 9.0312
A14: MARTINO | B14: AMERICAIN | C14: 150 | D14: =(INDEX(Ingrédients!$B$3:$B$22,MATCH(B14,Ingrédients!$A$3:$A$22,0))/1000)*C14 -> 1.5 | F14: =SUM(D14:D19)+0.1 -> 2.69 | G14: 3 | H14: =F14*G14 -> 8.07 | I14: =H14*1.06 -> 8.5542
A15: MARTINO | B15: OIGNONS | C15: 30 | D15: =(INDEX(Ingrédients!$B$3:$B$22,MATCH(B15,Ingrédients!$A$3:$A$22,0))/1000)*C15 -> 0.3 | F15: =SUM(D15:D20)+0.1 -> 1.19 | G15: 3 | H15: =F15*G15 -> 3.57 | I15: =H15*1.06 -> 3.7842
A16: MARTINO | B16: CORNICHONS | C16: 30 | D16: =(INDEX(Ingrédients!$B$3:$B$22,MATCH(B16,Ingrédients!$A$3:$A$22,0))/1000)*C16 -> 0.3 | F16: =SUM(D16:D21)+0.1 -> 0.89 | G16: 3 | H16: =F16*G16 -> 2.67 | I16: =H16*1.06 -> 2.8302
A17: MARTINO | B17: TOMATES | C17: 30 | D17: =(INDEX(Ingrédients!$B$3:$B$22,MATCH(B17,Ingrédients!$A$3:$A$22,0))/1000)*C17 -> 0.09 | F17: =SUM(D17:D22)+0.1 -> 0.59 | G17: 3 | H17: =F17*G17 -> 1.77 | I17: =H17*1.06 -> 1.8762
A18: MARTINO | B18: SALADE | C18: 100 | D18: =(INDEX(Ingrédients!$B$3:$B$22,MATCH(B18,Ingrédients!$A$3:$A$22,0))/1000)*C18 -> 0.4 | F18: =SUM(D18:D23)+0.1 -> 0.5 | G18: 3 | H18: =F18*G18 -> 1.5 | I18: =H18*1.06 -> 1.59

Sheet Ingrédients
A1: Produits | B1: Prix / kg / L
A3: MAYONNAISE | B3: 5
A4: JAMBON | B4: 10
A5: FROMAGE | B5: 5
A6: OEUFS | B6: 0.11
A7: CRUDITES | B7: 1
A8: HUILE D’OLIVE | B8: 22
A9: JAMBON DE PARME | B9: 10
A10: MOZZARELLA TRANCHE | B10: 10
A11: TOMATES | B11: 3
A12: SALADE | B12: 4
A13: SAUCE MARTINO | B13: 10
A14: AMERICAIN | B14: 10
... A17: TOMATES | B17: 10
