Workbook

Sheet Suivi facture 2016-2017
A1: mois | B1: semaine | C1: date posit | D1: Date chargement | E1: client | F1: Orig. | G1: n° cde | H1: tonnage (kg) | I1: Montant Facture FRET | J1: Montant Facture AUTRES
A2: =PROPER(TEXT(C2,"mmm") & " " & TEXT(C2,"aa")) -> Mars 17 | B2: =WEEKNUM(C2,21) -> 12 | C2: =ZBE539!B2 -> 23/03/2017 | D2: =C2*1 -> 42817 | E2: =ZBE539!E2 -> A | F2: =ZBE539!A2 -> DE11 | G2: =ZBE539!C2 -> 23571919 | H2: =ZBE539!D2 -> 19750 | I2: 10000
A3: =PROPER(TEXT(C3,"mmm") & " " & TEXT(C3,"aa")) -> Févr 17 | B3: =WEEKNUM(C3,21) -> 9 | C3: =ZBE539!B3 -> 27/02/2017 | D3: =C3*1 -> 42793 | E3: =ZBE539!E3 -> B | F3: =ZBE539!A3 -> FR13 | G3: =ZBE539!C3 -> 23571463 | H3: =ZBE539!D3 -> 6000 | I3: 1256
A4: =PROPER(TEXT(C4,"mmm") & " " & TEXT(C4,"aa")) -> Févr 17 | B4: =WEEKNUM(C4,21) -> 9 | C4: =ZBE539!B4 -> 27/02/2017 | D4: =C4*1 -> 42793 | E4: =ZBE539!E4 -> C | F4: =ZBE539!A4 -> FR13 | G4: =ZBE539!C4 -> 23571463 | H4: =ZBE539!D4 -> 12000 | J4: 254
A5: =PROPER(TEXT(C5,"mmm") & " " & TEXT(C5,"aa")) -> Févr 17 | B5: =WEEKNUM(C5,21) -> 9 | C5: =ZBE539!B5 -> 27/02/2017 | D5: =C5*1 -> 42793 | E5: =ZBE539!E5 -> D | F5: =ZBE539!A5 -> FR13 | G5: =ZBE539!C5 -> 23571468 | H5: =ZBE539!D5 -> 6000 | I5: 1569 | J5: 55
A6: =PROPER(TEXT(C6,"mmm") & " " & TEXT(C6,"aa")) -> Févr 17 | B6: =WEEKNUM(C6,21) -> 9 | C6: =ZBE539!B6 -> 27/02/2017 | D6: =C6*1 -> 42793 | E6: =ZBE539!E6 -> E | F6: =ZBE539!A6 -> FR13 | G6: =ZBE539!C6 -> 23571468 | H6: =ZBE539!D6 -> 12000 | I6: 2245 | J6: 281
A7: =PROPER(TEXT(C7,"mmm") & " " & TEXT(C7,"aa")) -> Févr 17 | B7: =WEEKNUM(C7,21) -> 9 | C7: =ZBE539!B7 -> 28/02/2017 | D7: =C7*1 -> 42794 | E7: =ZBE539!E7 -> F | F7: =ZBE539!A7 -> FR19 | G7: =ZBE539!C7 -> 23571470 | H7: =ZBE539!D7 -> 6000 | I7: 25
A8: =PROPER(TEXT(C8,"mmm") & " " & TEXT(C8,"aa")) -> Févr 17 | B8: =WEEKNUM(C8,21) -> 9 | C8: =ZBE539!B8 -> 28/02/2017 | D8: =C8*1 -> 42794 | E8: =ZBE539!E8 -> F | F8: =ZBE539!A8 -> FR19 | G8: =ZBE539!C8 -> 23571470 | H8: =ZBE539!D8 -> 12000 | I8: 369
A9: =PROPER(TEXT(C9,"mmm") & " " & TEXT(C9,"aa")) -> Mars 17 | B9: =WEEKNUM(C9,21) -> 9 | C9: =ZBE539!B9 -> 02/03/2017 | D9: =C9*1 -> 42796 | E9: =ZBE539!E9 -> F | F9: =ZBE539!A9 -> FR19 | G9: =ZBE539!C9 -> 23571470 | H9: =ZBE539!D9 -> 1500 | I9: 25 | J9: 158

Sheet ZBE539
A1: Expédition | B1: Date de chargement | C1: Commande | D1: Poids | E1: Client | F1: Facture
A2: DE11 | B2: 23/03/2017 | C2: 23571919 | D2: 19750 | E2: A | F2: 1500
A3: FR13 | B3: 27/02/2017 | C3: 23571463 | D3: 6000 | E3: B | F3: 2000
A4: FR13 | B4: 27/02/2017 | C4: 23571463 | D4: 12000 | E4: C
A5: FR13 | B5: 27/02/2017 | C5: 23571468 | D5: 6000 | E5: D | F5: 900
A6: FR13 | B6: 27/02/2017 | C6: 23571468 | D6: 12000 | E6: E
A7: FR19 | B7: 28/02/2017 | C7: 23571470 | D7: 6000 | E7: F | F7: 700
A8: FR19 | B8: 28/02/2017 | C8: 23571470 | D8: 12000 | E8: F
A9: FR19 | B9: 02/03/2017 | C9: 23571470 | D9: 1500 | E9: F
H11: Étiquettes de lignes | I11: Somme de Poids | J11: Somme de Facture2 | K11: Nombre de Facture
H12: 23571463 | I12: 18000 | J12: 2000 | K12: 1
H13: 27/02/2017 | I13: 18000 | J13: 2000 | K13: 1
H14: 23571468 | I14: 18000 | J14: 900 | K14: 1
H15: 27/02/2017 | I15: 18000 | J15: 900 | K15: 1
H16: 23571470 | I16: 19500 | J16: 700 | K16: 1
H17: 02/03/2017 | I17: 1500
H18: 28/02/2017 | I18: 18000 | J18: 700 | K18: 1
H19: 23571919 | I19: 19750 | J19: 1500 | K19: 1
H20: 23/03/2017 | I20: 19750 | J20: 1500 | K20: 1
H21: Total général | I21: 75250 | J21: 5100 | K21: 4
