Workbook

Sheet Données
B2: Récapitulatif qtité
C3: 42736 | D3: 42767 | E3: 42795 | F3: 42826 | G3: 42856 | H3: 42887 | I3: 42917 | J3: 42948 | K3: 42979 | L3: 43009 | M3: 43040 | N3: 43070 | O3: 43101 | P3: 43132 | Q3: 43160 | R3: 43191 | S3: 43221 | T3: 43252 | U3: 43282
B4: Saint martin | C4: =Sites!D3 -> 450 | D4: =Sites!E3 -> 354 | E4: =Sites!F3 -> 545 | F4: =Sites!G3 -> 745 | G4: =Sites!H3 -> 323 | H4: =Sites!I3 -> 345 | I4: =Sites!J3 -> 345 | J4: 457 | K4: 0 | L4: =Sites!M3 -> 233 | M4: =Sites!N3 -> 545 | N4: =Sites!O3 -> 243 | O4: =Sites!P3 -> 525 | P4: =Sites!Q3 -> 0
B5: Chênes | C5: =Sites!D5 -> 3534 | D5: =Sites!E5 -> 154 | E5: =Sites!F5 -> 534 | F5: =Sites!G5 -> 515 | G5: =Sites!H5 -> 2345 | H5: =Sites!I5 -> 1344 | I5: =Sites!J5 -> 1355 | J5: =Sites!K5 -> 1344 | ... P5: =Sites!Q5 -> 0
B6: Neuville | C6: =Sites!D7 -> 756 | D6: =Sites!E7 -> 344 | E6: =Sites!F7 -> 765 | F6: =Sites!G7 -> 656 | G6: =Sites!H7 -> 456 | H6: =Sites!I7 -> 856 | I6: =Sites!J7 -> 345 | J6: =Sites!K7 -> 0 | ... P6: =Sites!Q7 -> 355
B7: Total | C7: =SUM(C4:C6) -> 4740 | D7: =SUM(D4:D6) -> 852 | E7: =SUM(E4:E6) -> 1844 | F7: =SUM(F4:F6) -> 1916 | G7: =SUM(G4:G6) -> 3124 | H7: =SUM(H4:H6) -> 2545 | I7: =SUM(I4:I6) -> 2045 | J7: =SUM(J4:J6) -> 1801 | ... O7: =SUM(O4:O6) -> 1891
B8: Ratio 12 mois glissant
B10: Ratio 12 mois glissant / site | N10: =AVERAGEIF(C4:N4,"<>0") -> 416.81818 | O10: =AVERAGEIF(D4:O4,"<>0") -> 423.63636 | P10: =AVERAGEIF(E4:P4,"<>0") -> 430.6 | Q10: =AVERAGEIF(F4:Q4,"<>0") -> 417.88889 | R10: =AVERAGEIF(G4:R4,"<>0") -> 377 | S10: =AVERAGEIF(H4:S4,"<>0") -> 384.71429 | T10: =AVERAGEIF(I4:T4,"<>0") -> 391.33333 | U10: =AVERAGEIF(J4:U4,"<>0") -> 400.6
B11: Saint martin | N11: =AVERAGEIF(C5:N5,"<>0") -> 1402.0833 | O11: =AVERAGEIF(D5:O5,"<>0") -> 1221.4167 | P11: =AVERAGEIF(E5:P5,"<>0") -> 1318.4545 | Q11: =AVERAGEIF(F5:Q5,"<>0") -> 1396.9 | R11: =AVERAGEIF(G5:R5,"<>0") -> 1494.8889 | S11: =AVERAGEIF(H5:S5,"<>0") -> 1388.625 | T11: =AVERAGEIF(I5:T5,"<>0") -> 1395 | U11: =AVERAGEIF(J5:U5,"<>0") -> 1401.6667
B12: Chênes | N12: =AVERAGEIF(C6:N6,"<>0") -> 591.18182 | O12: =AVERAGEIF(D6:O6,"<>0") -> 574.7 | P12: =AVERAGEIF(E6:P6,"<>0") -> 575.8 | Q12: =AVERAGEIF(F6:Q6,"<>0") -> 554.77778 | R12: =AVERAGEIF(G6:R6,"<>0") -> 542.125 | S12: =AVERAGEIF(H6:S6,"<>0") -> 554.42857 | T12: =AVERAGEIF(I6:T6,"<>0") -> 504.16667 | U12: =AVERAGEIF(J6:U6,"<>0") -> 536
B13: Neuville

Sheet Sites
B2: Sites | D2: 42736 | E2: 42767 | F2: 42795 | G2: 42826 | H2: 42856 | I2: 42887 | J2: 42917 | K2: 42948 | L2: 42979 | M2: 43009 | N2: 43040 | O2: 43070 | P2: 43101 | Q2: 43132 | R2: 43160 | S2: 43191 | T2: 43221 | U2: 43252 | V2: 43282 | W2: 43313 | X2: 43344 | Y2: 43374 | Z2: 43405 | AA2: 43435
B3: Saint Martin | C3: Qtité produite | D3: 450 | E3: 354 | F3: 545 | G3: 745 | H3: 323 | I3: 345 | J3: 345 | L3: 345 | M3: 233 | N3: 545 | O3: 243 | P3: 525
C4: Qtité recyclée | D4: 45 | E4: 54 | F4: 53 | G4: 23 | H4: 54 | J4: 34 | K4: 34 | L4: 65 | M4: 23 | N4: 23 | O4: 23 | P4: 43
B5: Chênes | C5: Qtité produite | D5: 3534 | E5: 154 | F5: 534 | G5: 515 | H5: 2345 | I5: 1344 | J5: 1355 | K5: 1344 | L5: 1345 | M5: 1345 | N5: 1356 | O5: 1654 | P5: 1366
C6: Qtité recyclée
B7: Neuville | C7: Qtité produite | D7: 756 | E7: 344 | F7: 765 | G7: 656 | H7: 456 | I7: 856 | J7: 345 | L7: 657 | M7: 756 | N7: 345 | O7: 567 | Q7: 355
C8: Qtité recyclée

Sheet Feuil3
