Workbook

Sheet Feuil1
A1: Données | B1: Ville | C1: Code Département | D1: Départeme,t | E1: AncienneRégion | F1: Région | G1: Zone avant | H1: Zone après
A2: Verdun | C2: 55 | E2: =VLOOKUP(C2,Matrice!$A$1:$H$102,4,1) -> Lorraine | F2: Grand-Est
A3: Verdun | C3: 55 | E3: =VLOOKUP(C3,Matrice!$A$1:$H$102,4,1) -> Lorraine | F3: Grand-Est
A4: Gap | C4: 5 | E4: =VLOOKUP(C4,Matrice!$A$1:$H$102,4,1) -> Provence-Alpes-Côte d'Azur | F4: PACA
A5: Gap | C5: 5 | E5: =VLOOKUP(C5,Matrice!$A$1:$H$102,4,1) -> Provence-Alpes-Côte d'Azur | F5: PACA
A6: Saint Omer | C6: 62 | E6: =VLOOKUP(C6,Matrice!$A$1:$H$102,4,1) -> Nord-Pas-de-Calais | F6: Hauts-de-France
A7: Saint Omer | C7: 62 | E7: =VLOOKUP(C7,Matrice!$A$1:$H$102,4,1) -> Nord-Pas-de-Calais | F7: Hauts-de-France
A8: ? | C8: 42 | E8: =VLOOKUP(C8,Matrice!$A$1:$H$102,4,1) -> Rhône-Alpes | F8: Auvergne-Rhône-Alpes
A9: Tarn | C9: 81 | E9: =VLOOKUP(C9,Matrice!$A$1:$H$102,4,1) -> Midi-Pyrénées | F9: Occitanie
A10: Rhones-Alpes | C10: 69 | E10: =VLOOKUP(C10,Matrice!$A$1:$H$102,4,1) -> Rhône-Alpes | F10: Auvergne-Rhône-Alpes
A11: Béziers | C11: 34 | E11: =VLOOKUP(C11,Matrice!$A$1:$H$102,4,1) -> Languedoc-Roussillon | F11: Occitanie
A12: Verdun | C12: 55 | E12: =VLOOKUP(C12,Matrice!$A$1:$H$102,4,1) -> Lorraine | F12: Grand-Est
A13: Fourmies | C13: 59 | E13: =VLOOKUP(C13,Matrice!$A$1:$H$102,4,1) -> Nord-Pas-de-Calais | F13: Hauts-de-France
A14: 62 | C14: 62 | E14: =VLOOKUP(C14,Matrice!$A$1:$H$102,4,1) -> Nord-Pas-de-Calais | F14: Hauts-de-France
A15: 42 | C15: 42 | E15: =VLOOKUP(C15,Matrice!$A$1:$H$102,4,1) -> Rhône-Alpes | F15: Auvergne-Rhône-Alpes
A16: Languedoc-Roussillon | C16: 91 | E16: =VLOOKUP(C16,Matrice!$A$1:$H$102,4,1) -> Île-de-France | F16: Occitanie
A17: Lot et Garonne | C17: 47 | E17: =VLOOKUP(C17,Matrice!$A$1:$H$102,4,1) -> Aquitaine | F17: Nouvelle-Aquitaine
A18: Ille-et-Vilaine | C18: 35 | E18: =VLOOKUP(C18,Matrice!$A$1:$H$102,4,1) -> Bretagne | F18: Bretagne
A19: Ille-et-Vilaine | C19: 35 | E19: =VLOOKUP(C19,Matrice!$A$1:$H$102,4,1) -> Bretagne | F19: Bretagne
A20: Digne-les-Bains | C20: 4 | E20: =VLOOKUP(C20,Matrice!$A$1:$H$102,4,1) -> Provence-Alpes-Côte d'Azur | F20: PACA
A21: Saint Omer | C21: 62 | E21: =VLOOKUP(C21,Matrice!$A$1:$H$102,4,1) -> Nord-Pas-de-Calais | F21: Hauts-de-France
A22: 71 | C22: 71 | E22: =VLOOKUP(C22,Matrice!$A$1:$H$102,4,1) -> Bourgogne | F22: Bourgogne-Franche-Comté
A23: Bastia | C23: 2B | E23: =VLOOKUP(C23,Matrice!$A$1:$H$102,4,1) -> Corse | F23: Corse
A24: Aquitaine | C24: 72 | E24: =VLOOKUP(C24,Matrice!$A$1:$H$102,4,1) -> Pays de la Loire | F24: Nouvelle-Aquitaine
A25: Aquitaine | C25: 72 | E25: =VLOOKUP(C25,Matrice!$A$1:$H$102,4,1) -> Pays de la Loire | F25: Nouvelle-Aquitaine
A26: Verdun | C26: 55 | E26: =VLOOKUP(C26,Matrice!$A$1:$H$102,4,1) -> Lorraine | F26: Grand-Est
A27: Pays de Loire | C27: 52 | E27: =VLOOKUP(C27,Matrice!$A$1:$H$102,4,1) -> Champagne-Ardenne | F27: Grand-Ouest
A28: Dole | C28: 39 | E28: =VLOOKUP(C28,Matrice!$A$1:$H$102,4,1) -> Franche-Comté | F28: Bourgogne-Franche-Comté
A29: Languedoc-Roussillon | C29: 91 | E29: =VLOOKUP(C29,Matrice!$A$1:$H$102,4,1) -> Île-de-France | F29: Occitanie
A30: 59 | C30: 59 | E30: =VLOOKUP(C30,Matrice!$A$1:$H$102,4,1) -> Nord-Pas-de-Calais | F30: Hauts-de-France
A31: Saint Tropez | C31: 83 | E31: =VLOOKUP(C31,Matrice!$A$1:$H$102,4,1) -> Provence-Alpes-Côte d'Azur | F31: PACA
A32: Tulle | C32: 19 | E32: =VLOOKUP(C32,Matrice!$A$1:$H$102,4,1) -> Limousin | F32: Nouvelle-Aquitaine
A33: Bourg Saint Maurice | C33: 73 | E33: =VLOOKUP(C33,Matrice!$A$1:$H$102,4,1) -> Rhône-Alpes | F33: Auvergne-Rhône-Alpes
A34: Alpes du Sud | C34: 4 | E34: =VLOOKUP(C34,Matrice!$A$1:$H$102,4,1) -> Provence-Alpes-Côte d'Azur | F34: PACA
A35: Alpes du Sud | C35: 4 | E35: =VLOOKUP(C35,Matrice!$A$1:$H$102,4,1) -> Provence-Alpes-Côte d'Azur | F35: PACA
A36: Creil | C36: 60 | E36: =VLOOKUP(C36,Matrice!$A$1:$H$102,4,1) -> Picardie | F36: Hauts-de-France
A37: Creil | C37: 60 | E37: =VLOOKUP(C37,Matrice!$A$1:$H$102,4,1) -> Picardie | F37: Hauts-de-France
A38: Bourg Saint Maurice | C38: 73 | E38: =VLOOKUP(C38,Matrice!$A$1:$H$102,4,1) -> Rhône-Alpes | F38: Auvergne-Rhône-Alpes
A39: Verdun | C39: 55 | E39: =VLOOKUP(C39,Matrice!$A$1:$H$102,4,1) -> Lorraine | F39: Grand-Est
A40: Centre | C40: 24 | E40: =VLOOKUP(C40,Matrice!$A$1:$H$102,4,1) -> Aquitaine | F40: Centre-Val-de-Loire
A41: Centre | C41: 24 | E41: =VLOOKUP(C41,Matrice!$A$1:$H$102,4,1) -> Aquitaine | F41: Centre-Val-de-Loire
A42: Paris | C42: 75 | E42: =VLOOKUP(C42,Matrice!$A$1:$H$102,4,1) -> Île-de-France | F42: Ile-de-France
... A89: CHI Eure Seine Evreux | C89: 27 | E89: =VLOOKUP(C89,Matrice!$A$1:$H$102,4,1) -> Haute-Normandie | F89: Normandie
A90: 75 | C90: 75 | E90: =VLOOKUP(C90,Matrice!$A$1:$H$102,4,1) -> Île-de-France | F90: Ile-de-France
A91: Moselle | C91: 57 | E91: =VLOOKUP(C91,Matrice!$A$1:$H$102,4,1) -> Lorraine | F91: Grand-Est
A92: Jura | C92: 39 | E92: =VLOOKUP(C92,Matrice!$A$1:$H$102,4,1) -> Franche-Comté | F92: Bourgogne-Franche-Comté
A93: Manche | C93: 50 | E93: =VLOOKUP(C93,Matrice!$A$1:$H$102,4,1) -> Basse-Normandie | F93: Normandie
A94: Drome | C94: 26 | E94: =VLOOKUP(C94,Matrice!$A$1:$H$102,4,1) -> Rhône-Alpes | F94: Auvergne-Rhône-Alpes
A95: Drome | C95: 26 | E95: =VLOOKUP(C95,Matrice!$A$1:$H$102,4,1) -> Rhône-Alpes | F95: Auvergne-Rhône-Alpes
A96: Jura | C96: 39 | E96: =VLOOKUP(C96,Matrice!$A$1:$H$102,4,1) -> Franche-Comté | F96: Bourgogne-Franche-Comté
A97: Finistère | C97: 29 | E97: =VLOOKUP(C97,Matrice!$A$1:$H$102,4,1) -> Bretagne | F97: Bretagne
A98: Côte d'Or | C98: 21 | E98: =VLOOKUP(C98,Matrice!$A$1:$H$102,4,1) -> Bourgogne | F98: Bourgogne-Franche-Comté
A99: Côte d'Or | C99: 21 | E99: =VLOOKUP(C99,Matrice!$A$1:$H$102,4,1) -> Bourgogne | F99: Bourgogne-Franche-Comté
A100: Ardèche | C100: 7 | E100: =VLOOKUP(C100,Matrice!$A$1:$H$102,4,1) -> Rhône-Alpes | F100: Auvergne-Rhône-Alpes
A101: Orne | C101: 61 | E101: =VLOOKUP(C101,Matrice!$A$1:$H$102,4,1) -> Basse-Normandie | F101: Normandie
A102: Orne | C102: 62 | E102: =VLOOKUP(C102,Matrice!$A$1:$H$102,4,1) -> Nord-Pas-de-Calais | F102: Normandie
... A141: Moselle | C141: 57 | E141: =VLOOKUP(C141,Matrice!$A$1:$H$102,4,1) -> Lorraine | F141: Grand-Est
A142: IDF | C142: ? | E142: =VLOOKUP(C142,Matrice!$A$1:$H$102,4,1) -> #N/A | F142: Ile-de-France
A143: Vaucluse | C143: 84 | E143: =VLOOKUP(C143,Matrice!$A$1:$H$102,4,1) -> Provence-Alpes-Côte d'Azur | F143: PACA
A144: Nord Pas de Calais | C144: ? | E144: =VLOOKUP(C144,Matrice!$A$1:$H$102,4,1) -> #N/A | F144: Hauts-de-France
A145: Nord Pas de Calais | C145: ? | E145: =VLOOKUP(C145,Matrice!$A$1:$H$102,4,1) -> #N/A | F145: Hauts-de-France
A146: Var | C146: 83 | E146: =VLOOKUP(C146,Matrice!$A$1:$H$102,4,1) -> Provence-Alpes-Côte d'Azur | F146: PACA
A147: Moselle | C147: 57 | E147: =VLOOKUP(C147,Matrice!$A$1:$H$102,4,1) -> Lorraine | F147: Grand-Est
A148: Vosges | C148: 88 | E148: =VLOOKUP(C148,Matrice!$A$1:$H$102,4,1) -> Lorraine | F148: Grand-Est
A149: Deux Sévres | C149: 79 | E149: =VLOOKUP(C149,Matrice!$A$1:$H$102,4,1) -> Poitou-Charentes | F149: Nouvelle-Aquitaine
A150: Finistère | C150: 29 | E150: =VLOOKUP(C150,Matrice!$A$1:$H$102,4,1) -> Bretagne | F150: Bretagne
A151: Moselle | C151: 57 | E151: =VLOOKUP(C151,Matrice!$A$1:$H$102,4,1) -> Lorraine | F151: Grand-Est
A152: Moselle | C152: 57 | E152: =VLOOKUP(C152,Matrice!$A$1:$H$102,4,1) -> Lorraine | F152: Grand-Est
A153: Var | C153: 83 | E153: =VLOOKUP(C153,Matrice!$A$1:$H$102,4,1) -> Provence-Alpes-Côte d'Azur | F153: PACA
A154: Moselle | C154: 57 | E154: =VLOOKUP(C154,Matrice!$A$1:$H$102,4,1) -> Lorraine | F154: Auvergne-Rhône-Alpes
A155: Vosges | C155: 88 | E155: =VLOOKUP(C155,Matrice!$A$1:$H$102,4,1) -> Lorraine | F155: Grand-Est
A156: Deux Sèvres | C156: 79 | E156: =VLOOKUP(C156,Matrice!$A$1:$H$102,4,1) -> Poitou-Charentes | F156: Nouvelle-Aquitaine
A157: Finistère | C157: 29 | E157: =VLOOKUP(C157,Matrice!$A$1:$H$102,4,1) -> Bretagne | F157: Bretagne
... A160: Béziers | C160: 34 | E160: =VLOOKUP(C160,Matrice!$A$1:$H$102,4,1) -> Languedoc-Roussillon | F160: Occitanie
A161: Bastia | C161: 2B | E161: =VLOOKUP(C161,Matrice!$A$1:$H$102,4,1) -> Corse | F161: Corse
A162: Moselle | C162: 57 | E162: =VLOOKUP(C162,Matrice!$A$1:$H$102,4,1) -> Lorraine | F162: Grand-Est
A163: Moselle | C163: 57 | E163: =VLOOKUP(C163,Matrice!$A$1:$H$102,4,1) -> Lorraine | F163: Grand-Est
A164: Moselle | C164: 57 | E164: =VLOOKUP(C164,Matrice!$A$1:$H$102,4,1) -> Lorraine | F164: Grand-Est
A165: Loiret | C165: 45 | E165: =VLOOKUP(C165,Matrice!$A$1:$H$102,4,1) -> Centre
A166: Loiret | C166: 45 | E166: =VLOOKUP(C166,Matrice!$A$1:$H$102,4,1) -> Centre
A167: Vosges | C167: 88 | E167: =VLOOKUP(C167,Matrice!$A$1:$H$102,4,1) -> Lorraine
A168: Finistère | C168: 29 | E168: =VLOOKUP(C168,Matrice!$A$1:$H$102,4,1) -> Bretagne
A169: Drome | C169: 26 | E169: =VLOOKUP(C169,Matrice!$A$1:$H$102,4,1) -> Rhône-Alpes
A170: Correze | C170: 19 | E170: =VLOOKUP(C170,Matrice!$A$1:$H$102,4,1) -> Limousin
A171: Corse | C171: ? | E171: =VLOOKUP(C171,Matrice!$A$1:$H$102,4,1) -> #N/A | F171: Corse
A172: Bastia | C172: 2B | E172: =VLOOKUP(C172,Matrice!$A$1:$H$102,4,1) -> Corse
A173: Centre | C173: 24 | E173: =VLOOKUP(C173,Matrice!$A$1:$H$102,4,1) -> Aquitaine
A174: Nord Pas de Calais | C174: ? | E174: =VLOOKUP(C174,Matrice!$A$1:$H$102,4,1) -> #N/A | F174: Hauts-de-France
A175: Rhone Alpes | C175: 69 | E175: =VLOOKUP(C175,Matrice!$A$1:$H$102,4,1) -> Rhône-Alpes
A176: Dole | C176: 39 | E176: =VLOOKUP(C176,Matrice!$A$1:$H$102,4,1) -> Franche-Comté
A177: Dole | C177: 39 | E177: =VLOOKUP(C177,Matrice!$A$1:$H$102,4,1) -> Franche-Comté
A178: Moselle | C178: 57 | E178: =VLOOKUP(C178,Matrice!$A$1:$H$102,4,1) -> Lorraine
A179: Aveyron | C179: 12 | E179: =VLOOKUP(C179,Matrice!$A$1:$H$102,4,1) -> Midi-Pyrénées
A180: Tulle | C180: 19 | E180: =VLOOKUP(C180,Matrice!$A$1:$H$102,4,1) -> Limousin
A181: Saint Julien en Genevois | C181: 74 | E181: =VLOOKUP(C181,Matrice!$A$1:$H$102,4,1) -> Rhône-Alpes
A182: Saint Julien en Genevois | C182: 74 | E182: =VLOOKUP(C182,Matrice!$A$1:$H$102,4,1) -> Rhône-Alpes
A183: Tulle | C183: 19 | E183: =VLOOKUP(C183,Matrice!$A$1:$H$102,4,1) -> Limousin
A184: Vosges | C184: 88 | E184: =VLOOKUP(C184,Matrice!$A$1:$H$102,4,1) -> Lorraine
A185: Correze | C185: 19 | E185: =VLOOKUP(C185,Matrice!$A$1:$H$102,4,1) -> Limousin
A186: Moselle | C186: 57 | E186: =VLOOKUP(C186,Matrice!$A$1:$H$102,4,1) -> Lorraine
...

Sheet Matrice
A1: Code_dept | B1: Dept | C1: Code_Anciennes Régions | D1: Anciennes Régions | E1: Code Régions | F1: Régions | G1: Zone avant 10/2015 | H1: Zone après 10/2015
A2: 1 | B2: AIN | C2: 22 | D2: Rhône-Alpes | E2: 84 | F2: AUVERGNE-RHONE-ALPES | G2: A | H2: A
A3: 2 | B3: AISNE | C3: 19 | D3: Picardie | E3: 32 | F3: HAUT-DE-FRANCE | G3: B | H3: B
A4: 3 | B4: ALLIER | C4: 3 | D4: Auvergne | E4: 84 | F4: AUVERGNE-RHONE-ALPES | G4: A | H4: A
A5: 4 | B5: ALPES-DE-HAUTE-PROVENCE | C5: 21 | D5: Provence-Alpes-Côte d'Azur | E5: 93 | F5: PROVENCE-ALPES-COTE D'AZUR | G5: B | H5: B
A6: 5 | B6: HAUTES-ALPES | C6: 21 | D6: Provence-Alpes-Côte d'Azur | E6: 93 | F6: PROVENCE-ALPES-COTE D'AZUR | G6: B | H6: B
A7: 6 | B7: ALPES-MARITIMES | C7: 21 | D7: Provence-Alpes-Côte d'Azur | E7: 93 | F7: PROVENCE-ALPES-COTE D'AZUR | G7: B | H7: B
A8: 7 | B8: ARDECHE | C8: 22 | D8: Rhône-Alpes | E8: 84 | F8: AUVERGNE-RHONE-ALPES | G8: A | H8: A
A9: 8 | B9: ARDENNES | C9: 8 | D9: Champagne-Ardenne | E9: 44 | F9: GRAND-EST | G9: B | H9: B
A10: 9 | B10: ARIEGE | C10: 16 | D10: Midi-Pyrénées | E10: 76 | F10: OCCITANIE | G10: A | H10: C
A11: 10 | B11: AUBE | C11: 8 | D11: Champagne-Ardenne | E11: 44 | F11: GRAND-EST | G11: B | H11: B
A12: 11 | B12: AUDE | C12: 13 | D12: Languedoc-Roussillon | E12: 76 | F12: OCCITANIE | G12: A | H12: C
A13: 12 | B13: AVEYRON | C13: 16 | D13: Midi-Pyrénées | E13: 76 | F13: OCCITANIE | G13: A | H13: C
... A100: 974 | B100: LA REUNION | C100: 23 | D100: DOM-TOM | E100: 4 | F100: DOM-TOM | G100: A | H100: A
A101: 2A | B101: CORSE-DU-SUD | C101: 9 | D101: Corse | E101: 94 | F101: CORSE | G101: D | H101: D
A102: 2B | B102: HAUTE-CORSE | C102: 9 | D102: Corse | E102: 94 | F102: CORSE | G102: D | H102: D

Sheet Feuil3
