Workbook

Sheet Feuil1
A1: Données | B1: Ville | C1: Code Département | D1: Départeme,t | E1: AncienneRégion | F1: Région | G1: Zone avant | H1: Zone après
A2: Verdun | C2: 55 | E2: =VLOOKUP(C2,Matrice!$A$1:$H$102,4,1) -> Lorraine | F2: Grand-Est
A3: Verdun | C3: 55 | E3: =VLOOKUP(C3,Matrice!$A$1:$H$102,4,1) -> Lorraine | F3: Grand-Est
A4: Gap | C4: 5 | E4: =VLOOKUP(C4,Matrice!$A$1:$H$102,4,1) -> Provence-Alpes-Côte d'Azur | F4: PACA
A5: Gap | C5: 5 | E5: =VLOOKUP(C5,Matrice!$A$1:$H$102,4,1) -> Provence-Alpes-Côte d'Azur | F5: PACA
A6: Saint Omer | C6: 62 | E6: =VLOOKUP(C6,Matrice!$A$1:$H$102,4,1) -> Nord-Pas-de-Calais | F6: Hauts-de-France
A7: Saint Omer | C7: 62 | E7: =VLOOKUP(C7,Matrice!$A$1:$H$102,4,1) -> Nord-Pas-de-Calais | F7: Hauts-de-France
A8: ? | C8: 42 | E8: =VLOOKUP(C8,Matrice!$A$1:$H$102,4,1) -> Rhône-Alpes | F8: Auvergne-Rhône-Alpes
A9: Tarn | C9: 81 | E9: =VLOOKUP(C9,Matrice!$A$1:$H$102,4,1) -> Midi-Pyrénées | F9: Occitanie
A10: Rhones-Alpes | C10: 69 | E10: =VLOOKUP(C10,Matrice!$A$1:$H$102,4,1) -> Rhône-Alpes | F10: Auvergne-Rhône-Alpes
A11: Béziers | C11: 34 | E11: =VLOOKUP(C11,Matrice!$A$1:$H$102,4,1) -> Languedoc-Roussillon | F11: Occitanie
A12: Verdun | C12: 55 | E12: =VLOOKUP(C12,Matrice!$A$1:$H$102,4,1) -> Lorraine | F12: Grand-Est
A13: Fourmies | C13: 59 | E13: =VLOOKUP(C13,Matrice!$A$1:$H$102,4,1) -> Nord-Pas-de-Calais | F13: Hauts-de-France
A14: 62 | C14: 62 | E14: =VLOOKUP(C14,Matrice!$A$1:$H$102,4,1) -> Nord-Pas-de-Calais | F14: Hauts-de-France
A15: 42 | C15: 42 | E15: =VLOOKUP(C15,Matrice!$A$1:$H$102,4,1) -> Rhône-Alpes | F15: Auvergne-Rhône-Alpes
A16: Languedoc-Roussillon | C16: 91 | E16: =VLOOKUP(C16,Matrice!$A$1:$H$102,4,1) -> Île-de-France | F16: Occitanie
A17: Lot et Garonne | C17: 47 | E17: =VLOOKUP(C17,Matrice!$A$1:$H$102,4,1) -> Aquitaine | F17: Nouvelle-Aquitaine
A18: Ille-et-Vilaine | C18: 35 | E18: =VLOOKUP(C18,Matrice!$A$1:$H$102,4,1) -> Bretagne | F18: Bretagne
A19: Ille-et-Vilaine | C19: 35 | E19: =VLOOKUP(C19,Matrice!$A$1:$H$102,4,1) -> Bretagne | F19: Bretagne
A20: Digne-les-Bains | C20: 4 | E20: =VLOOKUP(C20,Matrice!$A$1:$H$102,4,1) -> Provence-Alpes-Côte d'Azur | F20: PACA
A21: Saint Omer | C21: 62 | E21: =VLOOKUP(C21,Matrice!$A$1:$H$102,4,1) -> Nord-Pas-de-Calais | F21: Hauts-de-France
A22: 71 | C22: 71 | E22: =VLOOKUP(C22,Matrice!$A$1:$H$102,4,1) -> Bourgogne | F22: Bourgogne-Franche-Comté
A23: Bastia | C23: 2B | E23: =VLOOKUP(C23,Matrice!$A$1:$H$102,4,1) -> Corse | F23: Corse
A24: Aquitaine | C24: 72 | E24: =VLOOKUP(C24,Matrice!$A$1:$H$102,4,1) -> Pays de la Loire | F24: Nouvelle-Aquitaine
A25: Aquitaine | C25: 72 | E25: =VLOOKUP(C25,Matrice!$A$1:$H$102,4,1) -> Pays de la Loire | F25: Nouvelle-Aquitaine
A26: Verdun | C26: 55 | E26: =VLOOKUP(C26,Matrice!$A$1:$H$102,4,1) -> Lorraine | F26: Grand-Est
A27: Pays de Loire | C27: 52 | E27: =VLOOKUP(C27,Matrice!$A$1:$H$102,4,1) -> Champagne-Ardenne | F27: Grand-Ouest
A28: Dole | C28: 39 | E28: =VLOOKUP(C28,Matrice!$A$1:$H$102,4,1) -> Franche-Comté | F28: Bourgogne-Franche-Comté
A29: Languedoc-Roussillon | C29: 91 | E29: =VLOOKUP(C29,Matrice!$A$1:$H$102,4,1) -> Île-de-France | F29: Occitanie
A30: 59 | C30: 59 | E30: =VLOOKUP(C30,Matrice!$A$1:$H$102,4,1) -> Nord-Pas-de-Calais | F30: Hauts-de-France
A31: Saint Tropez | C31: 83 | E31: =VLOOKUP(C31,Matrice!$A$1:$H$102,4,1) -> Provence-Alpes-Côte d'Azur | F31: PACA
A32: Tulle | C32: 19 | E32: =VLOOKUP(C32,Matrice!$A$1:$H$102,4,1) -> Limousin | F32: Nouvelle-Aquitaine
A33: Bourg Saint Maurice | C33: 73 | E33: =VLOOKUP(C33,Matrice!$A$1:$H$102,4,1) -> Rhône-Alpes | F33: Auvergne-Rhône-Alpes
A34: Alpes du Sud | C34: 4 | E34: =VLOOKUP(C34,Matrice!$A$1:$H$102,4,1) -> Provence-Alpes-Côte d'Azur | F34: PACA
A35: Alpes du Sud | C35: 4 | E35: =VLOOKUP(C35,Matrice!$A$1:$H$102,4,1) -> Provence-Alpes-Côte d'Azur | F35: PACA
A36: Creil | C36: 60 | E36: =VLOOKUP(C36,Matrice!$A$1:$H$102,4,1) -> Picardie | F36: Hauts-de-France
A37: Creil | C37: 60 | E37: =VLOOKUP(C37,Matrice!$A$1:$H$102,4,1) -> Picardie | F37: Hauts-de-France
A38: Bourg Saint Maurice | C38: 73 | E38: =VLOOKUP(C38,Matrice!$A$1:$H$102,4,1) -> Rhône-Alpes | F38: Auvergne-Rhône-Alpes
A39: Verdun | C39: 55 | E39: =VLOOKUP(C39,Matrice!$A$1:$H$102,4,1) -> Lorraine | F39: Grand-Est
A40: Centre | C40: 24 | E40: =VLOOKUP(C40,Matrice!$A$1:$H$102,4,1) -> Aquitaine | F40: Centre-Val-de-Loire
...

Sheet Matrice
A1: Code_dept | B1: Dept | C1: Code_Anciennes Régions | D1: Anciennes Régions | E1: Code Régions | F1: Régions | G1: Zone avant 10/2015 | H1: Zone après 10/2015
A2: 1 | B2: AIN | C2: 22 | D2: Rhône-Alpes | E2: 84 | F2: AUVERGNE-RHONE-ALPES | G2: A | H2: A
A3: 2 | B3: AISNE | C3: 19 | D3: Picardie | E3: 32 | F3: HAUT-DE-FRANCE | G3: B | H3: B
A4: 3 | B4: ALLIER | C4: 3 | D4: Auvergne | E4: 84 | F4: AUVERGNE-RHONE-ALPES | G4: A | H4: A
A5: 4 | B5: ALPES-DE-HAUTE-PROVENCE | C5: 21 | D5: Provence-Alpes-Côte d'Azur | E5: 93 | F5: PROVENCE-ALPES-COTE D'AZUR | G5: B | H5: B
A6: 5 | B6: HAUTES-ALPES | C6: 21 | D6: Provence-Alpes-Côte d'Azur | E6: 93 | F6: PROVENCE-ALPES-COTE D'AZUR | G6: B | H6: B
A7: 6 | B7: ALPES-MARITIMES | C7: 21 | D7: Provence-Alpes-Côte d'Azur | E7: 93 | F7: PROVENCE-ALPES-COTE D'AZUR | G7: B | H7: B
A8: 7 | B8: ARDECHE | C8: 22 | D8: Rhône-Alpes | E8: 84 | F8: AUVERGNE-RHONE-ALPES | G8: A | H8: A
A9: 8 | B9: ARDENNES | C9: 8 | D9: Champagne-Ardenne | E9: 44 | F9: GRAND-EST | G9: B | H9: B
A10: 9 | B10: ARIEGE | C10: 16 | D10: Midi-Pyrénées | E10: 76 | F10: OCCITANIE | G10: A | H10: C
A11: 10 | B11: AUBE | C11: 8 | D11: Champagne-Ardenne | E11: 44 | F11: GRAND-EST | G11: B | H11: B
A12: 11 | B12: AUDE | C12: 13 | D12: Languedoc-Roussillon | E12: 76 | F12: OCCITANIE | G12: A | H12: C
A13: 12 | B13: AVEYRON | C13: 16 | D13: Midi-Pyrénées | E13: 76 | F13: OCCITANIE | G13: A | H13: C
... A100: 974 | B100: LA REUNION | C100: 23 | D100: DOM-TOM | E100: 4 | F100: DOM-TOM | G100: A | H100: A
A101: 2A | B101: CORSE-DU-SUD | C101: 9 | D101: Corse | E101: 94 | F101: CORSE | G101: D | H101: D
A102: 2B | B102: HAUTE-CORSE | C102: 9 | D102: Corse | E102: 94 | F102: CORSE | G102: D | H102: D

Sheet Feuil3
