Workbook
Name Prob1: 'Trob TOUTES'!$C$2:$C$3
Name Prob1: 'Prob 1'!$B$2:$B$3
Name Prob2: 'Prob 2'!$B$2:$B$5
Name Prob3: 'Prob 3'!$B$2
Name Prob4: 'Prob 4'!$B$2:$B$3
Name Prob5: 'Prob 5'!$B$2
Name Problematiques: Problèmatiques!$A$2:$A$6
Name Segment_N°_Prob: #N/A

Sheet RAPPORT
A1: RAPPORT :
A2: Problèmatiques | B2: Vérification problèmatique colonne A | C2: RAPPORT :
A3: Prob1 | B3: Sous jacent prob1. Contrôler y. Incohérent | C3: =A3 -> Prob1 | D3: Résumé lié à la vérification choisie colonne B (rechercheV sur plusieurs feuilles)

Sheet Problèmatiques
A1: Problèmatiques
A2: Prob1
A3: Prob2
A4: Prob3
A5: Prob4
A6: Prob5

Sheet Extraire
B5: Date et nom du rapport | C5: Vérifications : Prob1 | D5: Résumé
B6: Rapport 1 10 janvier 2019 | C6: Sous jacent prob 2. Verifier la matérialité et le respect des conditions. Conditions KO | D6: Liste des conditions a,b, c. Tolérance. Conditions pas réunies donc sanctions
B7: Rapport 2 12 janvier 2019 | C7: Sous jacent prob 2. Verifier la matérialité et le respect des conditions. Conditions KO. Corriger | D7: Liste des conditions a,b, c. Tolérance. Conditions pas réunions donc sanctions. Correction de sa propre initiative. Reduction de la sanction
B8: Rapport 3 15 janvier 2019 | C8: Sous jacent prob2. Contrôle de cohérence de c. Pas cohérent | D8: Contrôle fait. Incohérent. Sanction estimée à X
B9: Rapport 4 20 février 2019 | C9: Sous jacent prob 2. Vérifier la condition a. Historique. Pas admis. Sanctions | D9: Liste des conditions a,b,c. Focus sur la condition a. Histoire de a dans le temps. Pratique mise en place pas admise. Sanction estimée à X

Sheet Trob TOUTES
A1: N° Prob | B1: Date et nom du rapport | C1: Vérifications : Prob1 | D1: Résumé
A2: 1 | B2: ='Prob 1'!A2 -> Rapport 1 10 janvier 2019 | C2: ='Prob 1'!B2 -> Sous jacent prob1. Contrôler y. Incohérent | D2: ='Prob 1'!C2 -> Obligation de faire y. Sanctions de l'incohérence de y. Incohérent. Sanctions de XX
A3: 1 | B3: ='Prob 1'!A3 -> Rapport 3 15 janvier 2019 | C3: ='Prob 1'!B3 -> Sousjacent prob1. Contrôler z. Incohérent. Faire u. | D3: ='Prob 1'!C3 -> Obligation de faire z. Il est toléré de faire z'. Incohérent. Corriger en faisant u.
A4: 1 | B4: ='Prob 1'!A4 -> 0 | C4: ='Prob 1'!B4 -> 0 | D4: ='Prob 1'!C4 -> 0
A5: 1 | B5: ='Prob 1'!A5 -> 0 | C5: ='Prob 1'!B5 -> 0 | D5: ='Prob 1'!C5 -> 0
A6: 1 | B6: ='Prob 1'!A6 -> 0 | C6: ='Prob 1'!B6 -> 0 | D6: ='Prob 1'!C6 -> 0
A7: 1 | B7: ='Prob 1'!A7 -> 0 | C7: ='Prob 1'!B7 -> 0 | D7: ='Prob 1'!C7 -> 0
A8: 1 | B8: ='Prob 1'!A8 -> 0 | C8: ='Prob 1'!B8 -> 0 | D8: ='Prob 1'!C8 -> 0
A9: 1 | B9: ='Prob 1'!A9 -> 0 | C9: ='Prob 1'!B9 -> 0 | D9: ='Prob 1'!C9 -> 0
A10: 2 | B10: ='Prob 2'!A2 -> Rapport 1 10 janvier 2019 | C10: ='Prob 2'!B2 -> Sous jacent prob 2. Verifier la matérialité et le respect des conditions. Conditions KO | D10: ='Prob 2'!C2 -> Liste des conditions a,b, c. Tolérance. Conditions pas réunies donc sanctions
A11: 2 | B11: ='Prob 2'!A3 -> Rapport 2 12 janvier 2019 | C11: ='Prob 2'!B3 -> Sous jacent prob 2. Verifier la matérialité et le respect des conditions. Conditions KO. Corriger | D11: ='Prob 2'!C3 -> Liste des conditions a,b, c. Tolérance. Conditions pas réunions donc sanctions. Correction de sa propre initiative. Reduction de la sanction
A12: 2 | B12: ='Prob 2'!A4 -> Rapport 3 15 janvier 2019 | C12: ='Prob 2'!B4 -> Sous jacent prob2. Contrôle de cohérence de c. Pas cohérent | D12: ='Prob 2'!C4 -> Contrôle fait. Incohérent. Sanction estimée à X
A13: 2 | B13: ='Prob 2'!A5 -> Rapport 4 20 février 2019 | C13: ='Prob 2'!B5 -> Sous jacent prob 2. Vérifier la condition a. Historique. Pas admis. Sanctions | D13: ='Prob 2'!C5 -> Liste des conditions a,b,c. Focus sur la condition a. Histoire de a dans le temps. Pratique mise en place pas admise. Sanction estimée à X
A14: 2 | B14: ='Prob 2'!A6 -> 0 | C14: ='Prob 2'!B6 -> 0 | D14: ='Prob 2'!C6 -> 0
A15: 2 | B15: ='Prob 2'!A7 -> 0 | C15: ='Prob 2'!B7 -> 0 | D15: ='Prob 2'!C7 -> 0
A16: 2 | B16: ='Prob 2'!A8 -> 0 | C16: ='Prob 2'!B8 -> 0 | D16: ='Prob 2'!C8 -> 0
A17: 2 | B17: ='Prob 2'!A9 -> 0 | C17: ='Prob 2'!B9 -> 0 | D17: ='Prob 2'!C9 -> 0
A18: 2 | B18: ='Prob 2'!A10 -> 0 | C18: ='Prob 2'!B10 -> 0 | D18: ='Prob 2'!C10 -> 0
A19: 2 | B19: ='Prob 2'!A11 -> 0 | C19: ='Prob 2'!B11 -> 0 | D19: ='Prob 2'!C11 -> 0

Sheet Prob 1
A1: Date et nom du rapport | B1: Vérifications : Prob1 | C1: Résumé
A2: Rapport 1 10 janvier 2019 | B2: Sous jacent prob1. Contrôler y. Incohérent | C2: Obligation de faire y. Sanctions de l'incohérence de y. Incohérent. Sanctions de XX
A3: Rapport 3 15 janvier 2019 | B3: Sousjacent prob1. Contrôler z. Incohérent. Faire u. | C3: Obligation de faire z. Il est toléré de faire z'. Incohérent. Corriger en faisant u.

Sheet Prob 2
A1: Date et nom du rapport | B1: Vérifications : prob 2 | C1: Résumé
A2: Rapport 1 10 janvier 2019 | B2: Sous jacent prob 2. Verifier la matérialité et le respect des conditions. Conditions KO | C2: Liste des conditions a,b, c. Tolérance. Conditions pas réunies donc sanctions
A3: Rapport 2 12 janvier 2019 | B3: Sous jacent prob 2. Verifier la matérialité et le respect des conditions. Conditions KO. Corriger | C3: Liste des conditions a,b, c. Tolérance. Conditions pas réunions donc sanctions. Correction de sa propre initiative. Reduction de la sanction
A4: Rapport 3 15 janvier 2019 | B4: Sous jacent prob2. Contrôle de cohérence de c. Pas cohérent | C4: Contrôle fait. Incohérent. Sanction estimée à X
A5: Rapport 4 20 février 2019 | B5: Sous jacent prob 2. Vérifier la condition a. Historique. Pas admis. Sanctions | C5: Liste des conditions a,b,c. Focus sur la condition a. Histoire de a dans le temps. Pratique mise en place pas admise. Sanction estimée à X

Sheet Prob 3
A1: Date et nom du rapport | B1: Vérifications : prob 3 | C1: Résumé
A2: Rapport 1 10 janvier 2019 | B2: Sous jacent prob 3. Régime normal. | C2: Suit le régime normal. Remplit les conditions. All good

Sheet Prob 4
A1: Date et nom du rapport | B1: Vérifications : prob 4 | C1: Résumé
A2: Rapport 3 15 janvier 2019 | B2: Sous jacent prob 4. Verifier le process 4. Condition u KO. | C2: Obligations process 4. Traitemet de u contrôlé. Pas bon. Sanctions
A3: Rapport 4 20 février 2019 | B3: Sous jacent prob 4. Contrôle de cohérence déclaration 4. All good | C3: Rappel obligations process 4. Contrôle cohérence OK.

Sheet Prob 5
A1: Date et nom du rapport | B1: Vérifications : prob 5 | C1: Résumé
A2: Rapport 4 : 20 février 2019 | B2: Sous jacent 5: action groupe. Conditions du groupe ok. Fonctionnement normal | C2: Conditions groupe. Possibilité d'actions en groupe. Actions opérées contrôlées. Situation tout à fait normale
