Workbook

Sheet recap
A1: Nombre de sirène sur le mat | B1: 2 | D1: B | E1: Angle ( degrès )
A2: sirene1 | B2: Angle ( degrès ) | D2: 1 | E2: 12 | G2: C | H2: Angle ( degrès ) | J2: D | K2: Angle ( degrès ) | M2: E | N2: Angle ( degrès ) | P2: F | Q2: Angle ( degrès ) | S2: G | T2: Angle ( degrès ) | V2: H | W2: Angle ( degrès )
A3: 1 | B3: 20 | D3: 2 | E3: 20 | G3: 1 | H3: 0 | J3: 1 | K3: 0 | M3: 1 | N3: 0 | P3: 1 | Q3: 0 | S3: 1 | T3: 0 | V3: 1 | W3: 0
A4: 2 | B4: 60 | D4: 3 | E4: 18 | G4: 2 | H4: =$H$3 -> 0 | J4: 2 | K4: =$K$3 -> 0 | M4: 2 | N4: =$N$3 -> 0 | P4: 2 | Q4: =$Q$3 -> 0 | S4: 2 | T4: =$T$3 -> 0 | V4: 2 | W4: =$W$3 -> 0
A5: 3 | B5: =$B$4+360 -> 420 | D5: 4 | E5: 15 | G5: 3 | H5: =$H$3 -> 0 | J5: 3 | K5: =$K$3 -> 0 | M5: 3 | N5: =$N$3 -> 0 | P5: 3 | Q5: =$Q$3 -> 0 | S5: 3 | T5: =$T$3 -> 0 | V5: 3 | W5: =$W$3 -> 0
A6: 4 | B6: =$B$5 -> 420 | D6: 5 | E6: =$E$2 -> 12 | G6: 4 | H6: =$H$3 -> 0 | J6: 4 | K6: =$K$3 -> 0 | M6: 4 | N6: =$N$3 -> 0 | P6: 4 | Q6: =$Q$3 -> 0 | S6: 4 | T6: =$T$3 -> 0 | V6: 4 | W6: =$W$3 -> 0
A7: 5 | B7: =$B$5 -> 420 | D7: 6 | E7: =$E$2 -> 12 | G7: 5 | H7: =$H$3 -> 0 | J7: 5 | K7: =$K$3 -> 0 | M7: 5 | N7: =$N$3 -> 0 | P7: 5 | Q7: =$Q$3 -> 0 | S7: 5 | T7: =$T$3 -> 0 | V7: 5 | W7: =$W$3 -> 0
A8: 6 | B8: =$B$5 -> 420 | D8: 7 | E8: =$E$2 -> 12 | G8: 6 | H8: =$H$3 -> 0 | J8: 6 | K8: =$K$3 -> 0 | M8: 6 | N8: =$N$3 -> 0 | P8: 6 | Q8: =$Q$3 -> 0 | S8: 6 | T8: =$T$3 -> 0 | V8: 6 | W8: =$W$3 -> 0
A9: 7 | B9: =$B$5 -> 420 | D9: 8 | E9: =$E$2 -> 12 | G9: 7 | H9: =$H$3 -> 0 | J9: 7 | K9: =$K$3 -> 0 | M9: 7 | N9: =$N$3 -> 0 | P9: 7 | Q9: =$Q$3 -> 0 | S9: 7 | T9: =$T$3 -> 0 | V9: 7 | W9: =$W$3 -> 0
A10: 8 | B10: =$B$5 -> 420 | D10: 9 | E10: =$E$2 -> 12 | G10: 8 | H10: =$H$3 -> 0 | J10: 8 | K10: =$K$3 -> 0 | M10: 8 | N10: =$N$3 -> 0 | P10: 8 | Q10: =$Q$3 -> 0 | S10: 8 | T10: =$T$3 -> 0 | V10: 8 | W10: =$W$3 -> 0
A11: 9 | B11: =$B$5 -> 420 | D11: 10 | E11: =$E$2 -> 12 | G11: 9 | H11: =$H$3 -> 0 | J11: 9 | K11: =$K$3 -> 0 | M11: 9 | N11: =$N$3 -> 0 | P11: 9 | Q11: =$Q$3 -> 0 | S11: 9 | T11: =$T$3 -> 0 | V11: 9 | W11: =$W$3 -> 0
A12: 10 | B12: =$B$5 -> 420 | D12: 11 | E12: =$E$2 -> 12 | G12: 10 | H12: =$H$3 -> 0 | J12: 10 | K12: =$K$3 -> 0 | M12: 10 | N12: =$N$3 -> 0 | P12: 10 | Q12: =$Q$3 -> 0 | S12: 10 | T12: =$T$3 -> 0 | V12: 10 | W12: =$W$3 -> 0
A13: 11 | B13: =$B$5 -> 420 | D13: 12 | E13: =$E$2 -> 12 | G13: 11 | H13: =$H$3 -> 0 | J13: 11 | K13: =$K$3 -> 0 | M13: 11 | N13: =$N$3 -> 0 | P13: 11 | Q13: =$Q$3 -> 0 | S13: 11 | T13: =$T$3 -> 0 | V13: 11 | W13: =$W$3 -> 0
A14: 12 | B14: =$B$5 -> 420 | D14: 13 | E14: =$E$2 -> 12 | G14: 12 | H14: =$H$3 -> 0 | J14: 12 | K14: =$K$3 -> 0 | M14: 12 | N14: =$N$3 -> 0 | P14: 12 | Q14: =$Q$3 -> 0 | S14: 12 | T14: =$T$3 -> 0 | V14: 12 | W14: =$W$3 -> 0
A15: 13 | B15: =$B$5 -> 420 | D15: 14 | E15: =$E$2 -> 12 | G15: 13 | H15: =$H$3 -> 0 | J15: 13 | K15: =$K$3 -> 0 | M15: 13 | N15: =$N$3 -> 0 | P15: 13 | Q15: =$Q$3 -> 0 | S15: 13 | T15: =$T$3 -> 0 | V15: 13 | W15: =$W$3 -> 0
A16: 14 | B16: =$B$5 -> 420 | D16: 15 | E16: =$E$2 -> 12 | G16: 14 | H16: =$H$3 -> 0 | J16: 14 | K16: =$K$3 -> 0 | M16: 14 | N16: =$N$3 -> 0 | P16: 14 | Q16: =$Q$3 -> 0 | S16: 14 | T16: =$T$3 -> 0 | V16: 14 | W16: =$W$3 -> 0
A17: 15 | B17: =$B$5 -> 420 | D17: 16 | E17: =$E$2 -> 12 | G17: 15 | H17: =$H$3 -> 0 | J17: 15 | K17: =$K$3 -> 0 | M17: 15 | N17: =$N$3 -> 0 | P17: 15 | Q17: =$Q$3 -> 0 | S17: 15 | T17: =$T$3 -> 0 | V17: 15 | W17: =$W$3 -> 0
... A29: 27 | B29: =$B$5 -> 420 | D29: 28 | E29: =$E$2 -> 12 | G29: 27 | H29: =$H$3 -> 0 | J29: 27 | K29: =$K$3 -> 0 | M29: 27 | N29: =$N$3 -> 0 | P29: 27 | Q29: =$Q$3 -> 0 | S29: 27 | T29: =$T$3 -> 0 | V29: 27 | W29: =$W$3 -> 0
A30: 28 | B30: =$B$5 -> 420 | G30: 28 | H30: =$H$3 -> 0 | J30: 28 | K30: =$K$3 -> 0 | M30: 28 | N30: =$N$3 -> 0 | P30: 28 | Q30: =$Q$3 -> 0 | S30: 28 | T30: =$T$3 -> 0 | V30: 28 | W30: =$W$3 -> 0
B31: =COUNTIF(B3:B30,">0") -> 28 | E31: =COUNTIF(E3:E30,">0") -> 27 | H31: =COUNTIF(H3:H30,">0") -> 0 | K31: =COUNTIF(K3:K30,">0") -> 0 | N31: =COUNTIF(N3:N30,">0") -> 0 | Q31: =COUNTIF(Q3:Q30,">0") -> 0 | T31: =COUNTIF(T3:T30,">0") -> 0 | W31: =COUNTIF(W3:W30,">0") -> 0

Sheet Feuil11
H1: Exemple :
A2: 0 | B2: =COUNTIF(recap!$B$3:$B$30,A2) -> 0 | D2: Angles 1 | E2: Nb coorespondant en B
A3: 5 | B3: =COUNTIF(recap!$B$3:$B$30,A3) -> 0 | D3: Angles 2 | E3: Nb coorespondant en B | H3: 20 | I3: 1
A4: 10 | B4: =COUNTIF(recap!$B$3:$B$30,A4) -> 0 | D4: Angles 3 | E4: Nb coorespondant en B | H4: 60 | I4: 1
A5: 15 | B5: =COUNTIF(recap!$B$3:$B$30,A5) -> 0
A6: 20 | B6: =COUNTIF(recap!$B$3:$B$30,A6) -> 1
A7: 25 | B7: =COUNTIF(recap!$B$3:$B$30,A7) -> 0
A8: 30 | B8: =COUNTIF(recap!$B$3:$B$30,A8) -> 0
A9: 35 | B9: =COUNTIF(recap!$B$3:$B$30,A9) -> 0
A10: 40 | B10: =COUNTIF(recap!$B$3:$B$30,A10) -> 0
A11: 45 | B11: =COUNTIF(recap!$B$3:$B$30,A11) -> 0
A12: 50 | B12: =COUNTIF(recap!$B$3:$B$30,A12) -> 0
A13: 55 | B13: =COUNTIF(recap!$B$3:$B$30,A13) -> 0
A14: 60 | B14: =COUNTIF(recap!$B$3:$B$30,A14) -> 1
A15: 65 | B15: =COUNTIF(recap!$B$3:$B$30,A15) -> 0
A16: 70 | B16: =COUNTIF(recap!$B$3:$B$30,A16) -> 0
... A73: 355 | B73: =COUNTIF(recap!$B$3:$B$30,A73) -> 0
