Workbook

Sheet Essai 1 hauteur 50
B1: 0 | C1: 10 | D1: 20 | E1: 30 | F1: 40 | G1: 50 | H1: 60 | I1: 70 | J1: 80 | K1: 90 | L1: 100 | M1: 110 | N1: 120 | O1: 130 | P1: 140 | Q1: 150 | R1: 160 | S1: 170 | T1: 180 | U1: 190 | V1: 200 | W1: 210 | X1: 220 | Y1: 230 | Z1: 240
A2: 0 | B2: 115 | C2: 114 | D2: 118 | E2: 122 | F2: 123 | G2: 125 | H2: 117 | I2: 115 | J2: 90 | K2: 87 | L2: 89 | M2: 89 | N2: 86 | O2: 85 | P2: 82 | Q2: 76 | R2: 75 | S2: 99 | T2: 102 | U2: 106 | V2: 103 | W2: 104 | X2: 101 | Y2: 99 | Z2: 97
A3: 10 | B3: 113 | C3: 118 | D3: 123 | E3: 128 | F3: 130 | G3: 130 | H3: 122 | I3: 116 | J3: 105 | K3: 100 | L3: 100 | M3: 99 | N3: 96 | O3: 94 | P3: 91 | Q3: 87 | R3: 90 | S3: 98 | T3: 106 | U3: 110 | V3: 111 | W3: 109 | X3: 105 | Y3: 105 | Z3: 97
A4: 20 | B4: 117 | C4: 125 | D4: 130 | E4: 136 | F4: 139 | G4: 138 | H4: 130 | I4: 125 | J4: 118 | K4: 113 | L4: 113 | M4: 112 | N4: 109 | O4: 107 | P4: 104 | Q4: 99 | R4: 101 | S4: 101 | T4: 113 | U4: 115 | V4: 117 | W4: 115 | X4: 111 | Y4: 109 | Z4: 102
A5: 30 | B5: 125 | C5: 131 | D5: 136 | E5: 142 | F5: 146 | G5: 146 | H5: 137 | I5: 133 | J5: 127 | K5: 123 | L5: 124 | M5: 123 | N5: 120 | O5: 119 | P5: 115 | Q5: 109 | R5: 112 | S5: 115 | T5: 120 | U5: 121 | V5: 122 | W5: 120 | X5: 114 | Y5: 112 | Z5: 105
A6: 40 | B6: 129 | C6: 134 | D6: 140 | E6: 146 | F6: 151 | G6: 152 | H6: 144 | I6: 140 | J6: 134 | K6: 131 | L6: 132 | M6: 132 | N6: 129 | O6: 127 | P6: 124 | Q6: 118 | R6: 119 | S6: 122 | T6: 125 | U6: 127 | V6: 125 | W6: 123 | X6: 119 | Y6: 117 | Z6: 111
A7: 50 | B7: 130 | C7: 136 | D7: 142 | E7: 148 | F7: 152 | G7: 154 | H7: 148 | I7: 145 | J7: 140 | K7: 137 | L7: 138 | M7: 138 | N7: 134 | O7: 133 | P7: 130 | Q7: 124 | R7: 125 | S7: 128 | T7: 130 | U7: 131 | V7: 130 | W7: 127 | X7: 123 | Y7: 121 | Z7: 116
A8: 60 | B8: 128 | C8: 135 | D8: 141 | E8: 147 | F8: 152 | G8: 155 | H8: 150 | I8: 148 | J8: 142 | K8: 140 | L8: 142 | M8: 141 | N8: 139 | O8: 139 | P8: 135 | Q8: 129 | R8: 129 | S8: 131 | T8: 135 | U8: 136 | V8: 135 | W8: 131 | X8: 126 | Y8: 120 | Z8: 113
A9: 70 | B9: 127 | C9: 135 | D9: 141 | E9: 147 | F9: 152 | G9: 154 | H9: 151 | I9: 148 | J9: 143 | K9: 140 | L9: 143 | M9: 143 | N9: 141 | O9: 140 | P9: 137 | Q9: 131 | R9: 131 | S9: 132 | T9: 138 | U9: 138 | V9: 137 | W9: 134 | X9: 128 | Y9: 124 | Z9: 113
A10: 80 | B10: 127 | C10: 132 | D10: 140 | E10: 146 | F10: 150 | G10: 151 | H10: 147 | I10: 146 | J10: 142 | K10: 140 | L10: 142 | M10: 143 | N10: 142 | O10: 141 | P10: 137 | Q10: 131 | R10: 131 | S10: 133 | T10: 138 | U10: 139 | V10: 138 | W10: 135 | X10: 130 | Y10: 125 | Z10: 115
A11: 90 | B11: 123 | C11: 131 | D11: 137 | E11: 143 | F11: 148 | G11: 149 | H11: 146 | I11: 142 | J11: 139 | K11: 128 | L11: 140 | M11: 140 | N11: 139 | O11: 139 | P11: 135 | Q11: 129 | R11: 130 | S11: 132 | T11: 136 | U11: 138 | V11: 137 | W11: 134 | X11: 130 | Y11: 125 | Z11: 119
A12: 100 | B12: 120 | C12: 128 | D12: 133 | E12: 138 | F12: 142 | G12: 143 | H12: 142 | I12: 140 | J12: 135 | K12: 133 | L12: 135 | M12: 137 | N12: 135 | O12: 134 | P12: 131 | Q12: 125 | R12: 126 | S12: 129 | T12: 133 | U12: 135 | V12: 134 | W12: 131 | X12: 128 | Y12: 122 | Z12: 118
A13: 110 | B13: 118 | C13: 121 | D13: 128 | E13: 133 | F13: 137 | G13: 137 | H13: 136 | I13: 133 | J13: 130 | K13: 127 | L13: 130 | M13: 130 | N13: 130 | O13: 128 | P13: 125 | Q13: 119 | R13: 120 | S13: 124 | T13: 128 | U13: 130 | V13: 130 | W13: 127 | X13: 122 | Y13: 117 | Z13: 114
... A26: 240 | B26: 28 | C26: 28 | D26: 27 | E26: 15 | F26: 27 | G26: 25 | H26: 25 | I26: 0 | J26: 0 | K26: 0 | L26: 0 | M26: 0 | N26: 0 | O26: 0 | P26: 0 | Q26: 0 | R26: 0 | S26: 0 | T26: 18 | U26: 20 | V26: 24 | W26: 25 | X26: 26 | Y26: 27 | Z26: 27

Sheet Essai 2 hauteur 60
B1: 0 | C1: 10 | D1: 20 | E1: 30 | F1: 40 | G1: 50 | H1: 60 | I1: 70 | J1: 80 | K1: 90 | L1: 100 | M1: 110 | N1: 120 | O1: 130 | P1: 140 | Q1: 150 | R1: 160 | S1: 170 | T1: 180 | U1: 190 | V1: 200 | W1: 210 | X1: 220 | Y1: 230 | Z1: 240
A2: 0 | B2: 0.95 | C2: 1.02 | D2: 1.02 | E2: 1.01 | F2: 1.03 | G2: 1.07 | H2: 1 | I2: 1.02 | J2: 0.83 | K2: 0.84 | L2: 0.84 | M2: 0.84 | N2: 0.83 | O2: 0.81 | P2: 0.82 | Q2: 0.78 | R2: 0.75 | S2: 0.92 | T2: 0.94 | U2: 0.94 | V2: 0.93 | W2: 0.94 | X2: 0.91 | Y2: 0.87 | Z2: 0.86
A3: 10 | B3: 0.97 | C3: 1.03 | D3: 1.06 | E3: 1.08 | F3: 1.09 | G3: 1.09 | H3: 1.08 | I3: 1.01 | J3: 0.95 | K3: 0.93 | L3: 0.92 | M3: 0.94 | N3: 0.9 | O3: 0.88 | P3: 0.88 | Q3: 0.87 | R3: 0.86 | S3: 0.9 | T3: 0.97 | U3: 0.96 | V3: 0.97 | W3: 0.97 | X3: 0.94 | Y3: 0.9 | Z3: 0.85
A4: 20 | B4: 1.02 | C4: 1.06 | D4: 1.09 | E4: 1.12 | F4: 1.14 | G4: 1.14 | H4: 1.12 | I4: 1.07 | J4: 1.05 | K4: 1.02 | L4: 1.01 | M4: 1.01 | N4: 0.99 | O4: 0.98 | P4: 0.98 | Q4: 0.97 | R4: 0.95 | S4: 0.96 | T4: 1.02 | U4: 1 | V4: 1 | W4: 0.99 | X4: 0.97 | Y4: 0.93 | Z4: 0.86
A5: 30 | B5: 1.09 | C5: 1.11 | D5: 1.14 | E5: 1.17 | F5: 1.19 | G5: 1.18 | H5: 1.17 | I5: 1.14 | J5: 1.12 | K5: 1.11 | L5: 1.1 | M5: 1.1 | N5: 1.08 | O5: 1.07 | P5: 1.06 | Q5: 1.04 | R5: 1.02 | S5: 1.01 | T5: 1.06 | U5: 1.05 | V5: 1.03 | W5: 1.02 | X5: 1 | Y5: 0.96 | Z5: 0.91
A6: 40 | B6: 1.13 | C6: 1.13 | D6: 1.17 | E6: 1.2 | F6: 1.22 | G6: 1.22 | H6: 1.2 | I6: 1.19 | J6: 1.18 | K6: 1.18 | L6: 1.17 | M6: 1.16 | N6: 1.14 | O6: 1.14 | P6: 1.12 | Q6: 1.1 | R6: 1.07 | S6: 1.06 | T6: 1.09 | U6: 1.09 | V6: 1.07 | W6: 1.05 | X6: 1.02 | Y6: 1.01 | Z6: 0.92
A7: 50 | B7: 1.14 | C7: 1.13 | D7: 1.18 | E7: 1.21 | F7: 1.23 | G7: 1.24 | H7: 1.23 | I7: 1.22 | J7: 1.21 | K7: 1.21 | L7: 1.2 | M7: 1.21 | N7: 1.18 | O7: 1.19 | P7: 1.17 | Q7: 1.14 | R7: 1.12 | S7: 1.1 | T7: 1.11 | U7: 1.12 | V7: 1.1 | W7: 1.08 | X7: 1.04 | Y7: 1.02 | Z7: 0.94
A8: 60 | B8: 1.09 | C8: 1.15 | D8: 1.18 | E8: 1.22 | F8: 1.24 | G8: 1.24 | H8: 1.24 | I8: 1.24 | J8: 1.25 | K8: 1.25 | L8: 1.25 | M8: 1.25 | N8: 1.24 | O8: 1.23 | P8: 1.21 | Q8: 1.17 | R8: 1.15 | S8: 1.13 | T8: 1.13 | U8: 1.12 | V8: 1.12 | W8: 1.1 | X8: 1.06 | Y8: 1.03 | Z8: 0.99
A9: 70 | B9: 1.11 | C9: 1.15 | D9: 1.18 | E9: 1.22 | F9: 1.24 | G9: 1.25 | H9: 1.23 | I9: 1.25 | J9: 1.25 | K9: 1.26 | L9: 1.26 | M9: 1.26 | N9: 1.26 | O9: 1.24 | P9: 1.21 | Q9: 1.19 | R9: 1.16 | S9: 1.14 | T9: 1.13 | U9: 1.16 | V9: 1.15 | W9: 1.12 | X9: 1.08 | Y9: 1.05 | Z9: 1.02
A10: 80 | B10: 1.12 | C10: 1.14 | D10: 1.17 | E10: 1.21 | F10: 1.22 | G10: 1.24 | H10: 1.22 | I10: 1.25 | J10: 1.25 | K10: 1.25 | L10: 1.26 | M10: 1.26 | N10: 1.25 | O10: 1.24 | P10: 1.21 | Q10: 1.19 | R10: 1.16 | S10: 1.14 | T10: 1.12 | U10: 1.16 | V10: 1.15 | W10: 1.13 | X10: 1.09 | Y10: 1.06 | Z10: 1.02
A11: 90 | B11: 1.11 | C11: 1.13 | D11: 1.16 | E11: 1.18 | F11: 1.2 | G11: 1.2 | H11: 1.19 | I11: 1.24 | J11: 1.23 | K11: 1.24 | L11: 1.24 | M11: 1.24 | N11: 1.23 | O11: 1.22 | P11: 1.2 | Q11: 1.18 | R11: 1.15 | S11: 1.13 | T11: 1.09 | U11: 1.15 | V11: 1.14 | W11: 1.12 | X11: 1.08 | Y11: 1.04 | Z11: 1
A12: 100 | B12: 1.08 | C12: 1.1 | D12: 1.12 | E12: 1.15 | F12: 1.17 | G12: 1.17 | H12: 1.16 | I12: 1.2 | J12: 1.21 | K12: 1.21 | L12: 1.21 | M12: 1.21 | N12: 1.2 | O12: 1.19 | P12: 1.17 | Q12: 1.15 | R12: 1.12 | S12: 1.11 | T12: 1.05 | U12: 1.14 | V12: 1.11 | W12: 1.09 | X12: 1.06 | Y12: 1.04 | Z12: 0.98
A13: 110 | B13: 1.05 | C13: 1.04 | D13: 1.07 | E13: 1.1 | F13: 1.12 | G13: 1.12 | H13: 1.12 | I13: 1.15 | J13: 1.16 | K13: 1.17 | L13: 1.17 | M13: 1.16 | N13: 1.15 | O13: 1.15 | P13: 1.13 | Q13: 1.11 | R13: 1.08 | S13: 1.07 | T13: 0.99 | U13: 1.09 | V13: 1.06 | W13: 1.06 | X13: 1.02 | Y13: 1 | Z13: 0.97
... A26: 240 | B26: 0.33 | C26: 0.32 | D26: 0.31 | E26: 0.31 | F26: 0.3 | G26: 0.26 | H26: 0.27 | I26: 0 | J26: 0 | K26: 0 | L26: 0 | M26: 0 | N26: 0 | O26: 0 | P26: 0 | Q26: 0 | R26: 0 | S26: 0 | T26: 0.26 | U26: 0.29 | V26: 0.29 | W26: 0.29 | X26: 0.3 | Y26: 0.31 | Z26: 0.31

Sheet Ecart
A1: ='Essai 2 hauteur 60'!E1 -> 30 | B1: ='Essai 2 hauteur 60'!F1 -> 40 | C1: ='Essai 2 hauteur 60'!G1 -> 50 | D1: ='Essai 2 hauteur 60'!H1 -> 60 | E1: ='Essai 2 hauteur 60'!I1 -> 70 | F1: ='Essai 2 hauteur 60'!J1 -> 80 | G1: ='Essai 2 hauteur 60'!K1 -> 90 | H1: ='Essai 2 hauteur 60'!L1 -> 100 | ... AB1: ='Essai 2 hauteur 60'!AF1 -> 0
A2: ='Essai 2 hauteur 60'!E2-'Essai 1 hauteur 50'!E2 -> -120.99 | B2: ='Essai 2 hauteur 60'!F2-'Essai 1 hauteur 50'!F2 -> -121.97 | C2: ='Essai 2 hauteur 60'!G2-'Essai 1 hauteur 50'!G2 -> -123.93 | D2: ='Essai 2 hauteur 60'!H2-'Essai 1 hauteur 50'!H2 -> -116 | E2: ='Essai 2 hauteur 60'!I2-'Essai 1 hauteur 50'!I2 -> -113.98 | F2: ='Essai 2 hauteur 60'!J2-'Essai 1 hauteur 50'!J2 -> -89.17 | G2: ='Essai 2 hauteur 60'!K2-'Essai 1 hauteur 50'!K2 -> -86.16 | H2: ='Essai 2 hauteur 60'!L2-'Essai 1 hauteur 50'!L2 -> -88.16 | ... V2: ='Essai 2 hauteur 60'!Z2-'Essai 1 hauteur 50'!Z2 -> -96.14
A3: ='Essai 2 hauteur 60'!E3-'Essai 1 hauteur 50'!E3 -> -126.92 | B3: ='Essai 2 hauteur 60'!F3-'Essai 1 hauteur 50'!F3 -> -128.91 | C3: ='Essai 2 hauteur 60'!G3-'Essai 1 hauteur 50'!G3 -> -128.91 | D3: ='Essai 2 hauteur 60'!H3-'Essai 1 hauteur 50'!H3 -> -120.92 | E3: ='Essai 2 hauteur 60'!I3-'Essai 1 hauteur 50'!I3 -> -114.99 | F3: ='Essai 2 hauteur 60'!J3-'Essai 1 hauteur 50'!J3 -> -104.05 | G3: ='Essai 2 hauteur 60'!K3-'Essai 1 hauteur 50'!K3 -> -99.07 | H3: ='Essai 2 hauteur 60'!L3-'Essai 1 hauteur 50'!L3 -> -99.08 | ... V3: ='Essai 2 hauteur 60'!Z3-'Essai 1 hauteur 50'!Z3 -> -96.15
A4: ='Essai 2 hauteur 60'!E4-'Essai 1 hauteur 50'!E4 -> -134.88 | B4: ='Essai 2 hauteur 60'!F4-'Essai 1 hauteur 50'!F4 -> -137.86 | C4: ='Essai 2 hauteur 60'!G4-'Essai 1 hauteur 50'!G4 -> -136.86 | D4: ='Essai 2 hauteur 60'!H4-'Essai 1 hauteur 50'!H4 -> -128.88 | E4: ='Essai 2 hauteur 60'!I4-'Essai 1 hauteur 50'!I4 -> -123.93 | F4: ='Essai 2 hauteur 60'!J4-'Essai 1 hauteur 50'!J4 -> -116.95 | G4: ='Essai 2 hauteur 60'!K4-'Essai 1 hauteur 50'!K4 -> -111.98 | H4: ='Essai 2 hauteur 60'!L4-'Essai 1 hauteur 50'!L4 -> -111.99 | ... V4: ='Essai 2 hauteur 60'!Z4-'Essai 1 hauteur 50'!Z4 -> -101.14
A5: ='Essai 2 hauteur 60'!E5-'Essai 1 hauteur 50'!E5 -> -140.83 | B5: ='Essai 2 hauteur 60'!F5-'Essai 1 hauteur 50'!F5 -> -144.81 | C5: ='Essai 2 hauteur 60'!G5-'Essai 1 hauteur 50'!G5 -> -144.82 | D5: ='Essai 2 hauteur 60'!H5-'Essai 1 hauteur 50'!H5 -> -135.83 | E5: ='Essai 2 hauteur 60'!I5-'Essai 1 hauteur 50'!I5 -> -131.86 | F5: ='Essai 2 hauteur 60'!J5-'Essai 1 hauteur 50'!J5 -> -125.88 | G5: ='Essai 2 hauteur 60'!K5-'Essai 1 hauteur 50'!K5 -> -121.89 | H5: ='Essai 2 hauteur 60'!L5-'Essai 1 hauteur 50'!L5 -> -122.9 | ... V5: ='Essai 2 hauteur 60'!Z5-'Essai 1 hauteur 50'!Z5 -> -104.09
A6: ='Essai 2 hauteur 60'!E6-'Essai 1 hauteur 50'!E6 -> -144.8 | B6: ='Essai 2 hauteur 60'!F6-'Essai 1 hauteur 50'!F6 -> -149.78 | C6: ='Essai 2 hauteur 60'!G6-'Essai 1 hauteur 50'!G6 -> -150.78 | D6: ='Essai 2 hauteur 60'!H6-'Essai 1 hauteur 50'!H6 -> -142.8 | E6: ='Essai 2 hauteur 60'!I6-'Essai 1 hauteur 50'!I6 -> -138.81 | F6: ='Essai 2 hauteur 60'!J6-'Essai 1 hauteur 50'!J6 -> -132.82 | G6: ='Essai 2 hauteur 60'!K6-'Essai 1 hauteur 50'!K6 -> -129.82 | H6: ='Essai 2 hauteur 60'!L6-'Essai 1 hauteur 50'!L6 -> -130.83 | ... V6: ='Essai 2 hauteur 60'!Z6-'Essai 1 hauteur 50'!Z6 -> -110.08
A7: ='Essai 2 hauteur 60'!E7-'Essai 1 hauteur 50'!E7 -> -146.79 | B7: ='Essai 2 hauteur 60'!F7-'Essai 1 hauteur 50'!F7 -> -150.77 | C7: ='Essai 2 hauteur 60'!G7-'Essai 1 hauteur 50'!G7 -> -152.76 | D7: ='Essai 2 hauteur 60'!H7-'Essai 1 hauteur 50'!H7 -> -146.77 | E7: ='Essai 2 hauteur 60'!I7-'Essai 1 hauteur 50'!I7 -> -143.78 | F7: ='Essai 2 hauteur 60'!J7-'Essai 1 hauteur 50'!J7 -> -138.79 | G7: ='Essai 2 hauteur 60'!K7-'Essai 1 hauteur 50'!K7 -> -135.79 | H7: ='Essai 2 hauteur 60'!L7-'Essai 1 hauteur 50'!L7 -> -136.8 | ... V7: ='Essai 2 hauteur 60'!Z7-'Essai 1 hauteur 50'!Z7 -> -115.06
A8: ='Essai 2 hauteur 60'!E8-'Essai 1 hauteur 50'!E8 -> -145.78 | B8: ='Essai 2 hauteur 60'!F8-'Essai 1 hauteur 50'!F8 -> -150.76 | C8: ='Essai 2 hauteur 60'!G8-'Essai 1 hauteur 50'!G8 -> -153.76 | D8: ='Essai 2 hauteur 60'!H8-'Essai 1 hauteur 50'!H8 -> -148.76 | E8: ='Essai 2 hauteur 60'!I8-'Essai 1 hauteur 50'!I8 -> -146.76 | F8: ='Essai 2 hauteur 60'!J8-'Essai 1 hauteur 50'!J8 -> -140.75 | G8: ='Essai 2 hauteur 60'!K8-'Essai 1 hauteur 50'!K8 -> -138.75 | H8: ='Essai 2 hauteur 60'!L8-'Essai 1 hauteur 50'!L8 -> -140.75 | ... V8: ='Essai 2 hauteur 60'!Z8-'Essai 1 hauteur 50'!Z8 -> -112.01
A9: ='Essai 2 hauteur 60'!E9-'Essai 1 hauteur 50'!E9 -> -145.78 | B9: ='Essai 2 hauteur 60'!F9-'Essai 1 hauteur 50'!F9 -> -150.76 | C9: ='Essai 2 hauteur 60'!G9-'Essai 1 hauteur 50'!G9 -> -152.75 | D9: ='Essai 2 hauteur 60'!H9-'Essai 1 hauteur 50'!H9 -> -149.77 | E9: ='Essai 2 hauteur 60'!I9-'Essai 1 hauteur 50'!I9 -> -146.75 | F9: ='Essai 2 hauteur 60'!J9-'Essai 1 hauteur 50'!J9 -> -141.75 | G9: ='Essai 2 hauteur 60'!K9-'Essai 1 hauteur 50'!K9 -> -138.74 | H9: ='Essai 2 hauteur 60'!L9-'Essai 1 hauteur 50'!L9 -> -141.74 | ... V9: ='Essai 2 hauteur 60'!Z9-'Essai 1 hauteur 50'!Z9 -> -111.98
A10: ='Essai 2 hauteur 60'!E10-'Essai 1 hauteur 50'!E10 -> -144.79 | B10: ='Essai 2 hauteur 60'!F10-'Essai 1 hauteur 50'!F10 -> -148.78 | C10: ='Essai 2 hauteur 60'!G10-'Essai 1 hauteur 50'!G10 -> -149.76 | D10: ='Essai 2 hauteur 60'!H10-'Essai 1 hauteur 50'!H10 -> -145.78 | E10: ='Essai 2 hauteur 60'!I10-'Essai 1 hauteur 50'!I10 -> -144.75 | F10: ='Essai 2 hauteur 60'!J10-'Essai 1 hauteur 50'!J10 -> -140.75 | G10: ='Essai 2 hauteur 60'!K10-'Essai 1 hauteur 50'!K10 -> -138.75 | H10: ='Essai 2 hauteur 60'!L10-'Essai 1 hauteur 50'!L10 -> -140.74 | ... V10: ='Essai 2 hauteur 60'!Z10-'Essai 1 hauteur 50'!Z10 -> -113.98
A11: ='Essai 2 hauteur 60'!E11-'Essai 1 hauteur 50'!E11 -> -141.82 | B11: ='Essai 2 hauteur 60'!F11-'Essai 1 hauteur 50'!F11 -> -146.8 | C11: ='Essai 2 hauteur 60'!G11-'Essai 1 hauteur 50'!G11 -> -147.8 | D11: ='Essai 2 hauteur 60'!H11-'Essai 1 hauteur 50'!H11 -> -144.81 | E11: ='Essai 2 hauteur 60'!I11-'Essai 1 hauteur 50'!I11 -> -140.76 | F11: ='Essai 2 hauteur 60'!J11-'Essai 1 hauteur 50'!J11 -> -137.77 | G11: ='Essai 2 hauteur 60'!K11-'Essai 1 hauteur 50'!K11 -> -126.76 | H11: ='Essai 2 hauteur 60'!L11-'Essai 1 hauteur 50'!L11 -> -138.76 | ... V11: ='Essai 2 hauteur 60'!Z11-'Essai 1 hauteur 50'!Z11 -> -118
A12: ='Essai 2 hauteur 60'!E12-'Essai 1 hauteur 50'!E12 -> -136.85 | B12: ='Essai 2 hauteur 60'!F12-'Essai 1 hauteur 50'!F12 -> -140.83 | C12: ='Essai 2 hauteur 60'!G12-'Essai 1 hauteur 50'!G12 -> -141.83 | D12: ='Essai 2 hauteur 60'!H12-'Essai 1 hauteur 50'!H12 -> -140.84 | E12: ='Essai 2 hauteur 60'!I12-'Essai 1 hauteur 50'!I12 -> -138.8 | F12: ='Essai 2 hauteur 60'!J12-'Essai 1 hauteur 50'!J12 -> -133.79 | G12: ='Essai 2 hauteur 60'!K12-'Essai 1 hauteur 50'!K12 -> -131.79 | H12: ='Essai 2 hauteur 60'!L12-'Essai 1 hauteur 50'!L12 -> -133.79 | ... V12: ='Essai 2 hauteur 60'!Z12-'Essai 1 hauteur 50'!Z12 -> -117.02
A13: ='Essai 2 hauteur 60'!E13-'Essai 1 hauteur 50'!E13 -> -131.9 | B13: ='Essai 2 hauteur 60'!F13-'Essai 1 hauteur 50'!F13 -> -135.88 | C13: ='Essai 2 hauteur 60'!G13-'Essai 1 hauteur 50'!G13 -> -135.88 | D13: ='Essai 2 hauteur 60'!H13-'Essai 1 hauteur 50'!H13 -> -134.88 | E13: ='Essai 2 hauteur 60'!I13-'Essai 1 hauteur 50'!I13 -> -131.85 | F13: ='Essai 2 hauteur 60'!J13-'Essai 1 hauteur 50'!J13 -> -128.84 | G13: ='Essai 2 hauteur 60'!K13-'Essai 1 hauteur 50'!K13 -> -125.83 | H13: ='Essai 2 hauteur 60'!L13-'Essai 1 hauteur 50'!L13 -> -128.83 | ... V13: ='Essai 2 hauteur 60'!Z13-'Essai 1 hauteur 50'!Z13 -> -113.03
... A958: ='Essai 2 hauteur 60'!E958-'Essai 1 hauteur 50'!E958 -> 0 | B958: ='Essai 2 hauteur 60'!F958-'Essai 1 hauteur 50'!F958 -> 0 | C958: ='Essai 2 hauteur 60'!G958-'Essai 1 hauteur 50'!G958 -> 0 | D958: ='Essai 2 hauteur 60'!H958-'Essai 1 hauteur 50'!H958 -> 0 | E958: ='Essai 2 hauteur 60'!I958-'Essai 1 hauteur 50'!I958 -> 0 | F958: ='Essai 2 hauteur 60'!J958-'Essai 1 hauteur 50'!J958 -> 0 | G958: ='Essai 2 hauteur 60'!K958-'Essai 1 hauteur 50'!K958 -> 0 | H958: ='Essai 2 hauteur 60'!L958-'Essai 1 hauteur 50'!L958 -> 0 | ... V958: ='Essai 2 hauteur 60'!Z958-'Essai 1 hauteur 50'!Z958 -> 0
