Workbook

Sheet Base de donnée
F3: diamètre
A4: référence | B4: désignation | F4: 2.7 | G4: 3.9 | H4: 4.9 | I4: 5.9 | J4: 7 | K4: 8
A6: 7430199810 | B6: carottes | H6: x | K6: x
A8: 74301931 | B8: poireaux | H8: x | K8: x
A10: 7330048320 | B10: concombres | H10: x | K10: x
A12: 7330048310 | B12: tomates | K12: x
A14: 7330065310 | B14: voiture | G14: x | K14: x
A16: 7110002 | B16: bois | F16: x | J16: x
A18: 72300008 | B18: vélo | G18: x | I18: x | K18: x

Sheet Feuil3
A1: référence | B1: désignation | C1: Colonne1 | D1: Colonne2 | E1: Colonne3 | F1: quantité
A3: 7430199810 | B3: carottes | F3: 100
A5: 74301931 | B5: poireaux
A7: 7330048320 | B7: concombres
A9: 7330048310 | B9: tomates
A11: 74301931 | B11: poireaux
A13: 7330065310 | B13: voiture
A15: 7110002 | B15: bois | F15: 300
A17: 72300008 | B17: vélo
A37: 7430199810 | B37: carottes | F37: 100
A39: 74301931 | B39: poireaux
A41: 7330048320 | B41: concombres
A43: 7330048310 | B43: tomates
A45: 74301931 | B45: poireaux
A47: 7330065310 | B47: voiture
A49: 7110002 | B49: bois | F49: 300
A51: 72300008 | B51: vélo

Sheet Feuil1
A1: référence | B1: désignation | C1: Colonne1 | D1: Colonne2 | E1: Colonne3 | F1: quantité | G1: Personnalisé
G2: Essai 1
A3: 7430199810 | B3: carottes | F3: 100 | G3: Essai 1
G4: Essai 1
A5: 74301931 | B5: poireaux | G5: Essai 1
G6: Essai 1
A7: 7330048320 | B7: concombres | G7: Essai 1
G8: Essai 1
A9: 7330048310 | B9: tomates | G9: Essai 1
G10: Essai 1
A11: 74301931 | B11: poireaux | G11: Essai 1
G12: Essai 1
A13: 7330065310 | B13: voiture | G13: Essai 1
G14: Essai 1
A15: 7110002 | B15: bois | F15: 300 | G15: Essai 1
G16: Essai 1
A17: 72300008 | B17: vélo | G17: Essai 1
G18: Essai 1
G19: Essai 1
G20: Essai 1
G21: Essai 1
G22: Essai 1
G23: Essai 1
G24: Essai 1
G25: Essai 1
G26: Essai 1
G27: Essai 1
G28: Essai 1
G29: Essai 1
... G35: Essai 1

Sheet essai1
A3: essai 1
H4: diamètre
A5: référence | B5: désignation | C5: Colonne1 | D5: Colonne2 | E5: Colonne3 | F5: quantité | H5: 2.7 | I5: 3.9 | J5: 4.9 | K5: 5.9 | L5: 7 | M5: 8
A7: 7430199810 | B7: =IF(ISNA(IF(VLOOKUP(A7,'Base de donnée'!A:K,2,FALSE)=0,"",VLOOKUP(A7,'Base de donnée'!A:K,2,FALSE)))=FALSE,IF(VLOOKUP(A7,'Base de donnée'!A:K,2,FALSE)=0,"",VLOOKUP(A7,'Base de donnée'!A:K,2,FALSE)),"") -> carottes | F7: 100 | H7: =IF(ISNA(IF(VLOOKUP(A7,'Base de donnée'!A:K,6,FALSE)=0,"",VLOOKUP(A7,'Base de donnée'!A:K,6,FALSE)))=FALSE,IF(VLOOKUP(A7,'Base de donnée'!A:K,6,FALSE)=0,"",VLOOKUP(A7,'Base de donnée'!A:K,6,FALSE)),"") | I7: =IF(ISNA(IF(VLOOKUP(A7,'Base de donnée'!A:K,7,FALSE)=0,"",VLOOKUP(A7,'Base de donnée'!A:K,7,FALSE)))=FALSE,IF(VLOOKUP(A7,'Base de donnée'!A:K,7,FALSE)=0,"",VLOOKUP(A7,'Base de donnée'!A:K,7,FALSE)),"") | J7: =IF(ISNA(IF(VLOOKUP(A7,'Base de donnée'!A:K,8,FALSE)=0,"",VLOOKUP(A7,'Base de donnée'!A:K,8,FALSE)))=FALSE,IF(VLOOKUP(A7,'Base de donnée'!A:K,8,FALSE)=0,"",VLOOKUP(A7,'Base de donnée'!A:K,8,FALSE)),"") -> x | K7: =IF(ISNA(IF(VLOOKUP(A7,'Base de donnée'!A:K,9,FALSE)=0,"",VLOOKUP(A7,'Base de donnée'!A:K,9,FALSE)))=FALSE,IF(VLOOKUP(A7,'Base de donnée'!A:K,9,FALSE)=0,"",VLOOKUP(A7,'Base de donnée'!A:K,9,FALSE)),"") | L7: =IF(ISNA(IF(VLOOKUP(A7,'Base de donnée'!A:K,10,FALSE)=0,"",VLOOKUP(A7,'Base de donnée'!A:K,10,FALSE)))=FALSE,IF(VLOOKUP(A7,'Base de donnée'!A:K,10,FALSE)=0,"",VLOOKUP(A7,'Base de donnée'!A:K,10,FALSE)),"") | M7: =IF(ISNA(IF(VLOOKUP(A7,'Base de donnée'!A:K,11,FALSE)=0,"",VLOOKUP(A7,'Base de donnée'!A:K,11,FALSE)))=FALSE,IF(VLOOKUP(A7,'Base de donnée'!A:K,11,FALSE)=0,"",VLOOKUP(A7,'Base de donnée'!A:K,11,FALSE)),"") -> x
B8: =IF(ISNA(IF(VLOOKUP(A8,'Base de donnée'!A:K,2,FALSE)=0,"",VLOOKUP(A8,'Base de donnée'!A:K,2,FALSE)))=FALSE,IF(VLOOKUP(A8,'Base de donnée'!A:K,2,FALSE)=0,"",VLOOKUP(A8,'Base de donnée'!A:K,2,FALSE)),"") | H8: =IF(ISNA(IF(VLOOKUP(A8,'Base de donnée'!A:K,6,FALSE)=0,"",VLOOKUP(A8,'Base de donnée'!A:K,6,FALSE)))=FALSE,IF(VLOOKUP(A8,'Base de donnée'!A:K,6,FALSE)=0,"",VLOOKUP(A8,'Base de donnée'!A:K,6,FALSE)),"") | I8: =IF(ISNA(IF(VLOOKUP(A8,'Base de donnée'!A:K,7,FALSE)=0,"",VLOOKUP(A8,'Base de donnée'!A:K,7,FALSE)))=FALSE,IF(VLOOKUP(A8,'Base de donnée'!A:K,7,FALSE)=0,"",VLOOKUP(A8,'Base de donnée'!A:K,7,FALSE)),"") | J8: =IF(ISNA(IF(VLOOKUP(A8,'Base de donnée'!A:K,8,FALSE)=0,"",VLOOKUP(A8,'Base de donnée'!A:K,8,FALSE)))=FALSE,IF(VLOOKUP(A8,'Base de donnée'!A:K,8,FALSE)=0,"",VLOOKUP(A8,'Base de donnée'!A:K,8,FALSE)),"") | K8: =IF(ISNA(IF(VLOOKUP(A8,'Base de donnée'!A:K,9,FALSE)=0,"",VLOOKUP(A8,'Base de donnée'!A:K,9,FALSE)))=FALSE,IF(VLOOKUP(A8,'Base de donnée'!A:K,9,FALSE)=0,"",VLOOKUP(A8,'Base de donnée'!A:K,9,FALSE)),"") | L8: =IF(ISNA(IF(VLOOKUP(A8,'Base de donnée'!A:K,10,FALSE)=0,"",VLOOKUP(A8,'Base de donnée'!A:K,10,FALSE)))=FALSE,IF(VLOOKUP(A8,'Base de donnée'!A:K,10,FALSE)=0,"",VLOOKUP(A8,'Base de donnée'!A:K,10,FALSE)),"") | M8: =IF(ISNA(IF(VLOOKUP(A8,'Base de donnée'!A:K,11,FALSE)=0,"",VLOOKUP(A8,'Base de donnée'!A:K,11,FALSE)))=FALSE,IF(VLOOKUP(A8,'Base de donnée'!A:K,11,FALSE)=0,"",VLOOKUP(A8,'Base de donnée'!A:K,11,FALSE)),"")
A9: 74301931 | B9: =IF(ISNA(IF(VLOOKUP(A9,'Base de donnée'!A:K,2,FALSE)=0,"",VLOOKUP(A9,'Base de donnée'!A:K,2,FALSE)))=FALSE,IF(VLOOKUP(A9,'Base de donnée'!A:K,2,FALSE)=0,"",VLOOKUP(A9,'Base de donnée'!A:K,2,FALSE)),"") -> poireaux | H9: =IF(ISNA(IF(VLOOKUP(A9,'Base de donnée'!A:K,6,FALSE)=0,"",VLOOKUP(A9,'Base de donnée'!A:K,6,FALSE)))=FALSE,IF(VLOOKUP(A9,'Base de donnée'!A:K,6,FALSE)=0,"",VLOOKUP(A9,'Base de donnée'!A:K,6,FALSE)),"") | I9: =IF(ISNA(IF(VLOOKUP(A9,'Base de donnée'!A:K,7,FALSE)=0,"",VLOOKUP(A9,'Base de donnée'!A:K,7,FALSE)))=FALSE,IF(VLOOKUP(A9,'Base de donnée'!A:K,7,FALSE)=0,"",VLOOKUP(A9,'Base de donnée'!A:K,7,FALSE)),"") | J9: =IF(ISNA(IF(VLOOKUP(A9,'Base de donnée'!A:K,8,FALSE)=0,"",VLOOKUP(A9,'Base de donnée'!A:K,8,FALSE)))=FALSE,IF(VLOOKUP(A9,'Base de donnée'!A:K,8,FALSE)=0,"",VLOOKUP(A9,'Base de donnée'!A:K,8,FALSE)),"") -> x | K9: =IF(ISNA(IF(VLOOKUP(A9,'Base de donnée'!A:K,9,FALSE)=0,"",VLOOKUP(A9,'Base de donnée'!A:K,9,FALSE)))=FALSE,IF(VLOOKUP(A9,'Base de donnée'!A:K,9,FALSE)=0,"",VLOOKUP(A9,'Base de donnée'!A:K,9,FALSE)),"") | L9: =IF(ISNA(IF(VLOOKUP(A9,'Base de donnée'!A:K,10,FALSE)=0,"",VLOOKUP(A9,'Base de donnée'!A:K,10,FALSE)))=FALSE,IF(VLOOKUP(A9,'Base de donnée'!A:K,10,FALSE)=0,"",VLOOKUP(A9,'Base de donnée'!A:K,10,FALSE)),"") | M9: =IF(ISNA(IF(VLOOKUP(A9,'Base de donnée'!A:K,11,FALSE)=0,"",VLOOKUP(A9,'Base de donnée'!A:K,11,FALSE)))=FALSE,IF(VLOOKUP(A9,'Base de donnée'!A:K,11,FALSE)=0,"",VLOOKUP(A9,'Base de donnée'!A:K,11,FALSE)),"") -> x
B10: =IF(ISNA(IF(VLOOKUP(A10,'Base de donnée'!A:K,2,FALSE)=0,"",VLOOKUP(A10,'Base de donnée'!A:K,2,FALSE)))=FALSE,IF(VLOOKUP(A10,'Base de donnée'!A:K,2,FALSE)=0,"",VLOOKUP(A10,'Base de donnée'!A:K,2,FALSE)),"") | H10: =IF(ISNA(IF(VLOOKUP(A10,'Base de donnée'!A:K,6,FALSE)=0,"",VLOOKUP(A10,'Base de donnée'!A:K,6,FALSE)))=FALSE,IF(VLOOKUP(A10,'Base de donnée'!A:K,6,FALSE)=0,"",VLOOKUP(A10,'Base de donnée'!A:K,6,FALSE)),"") | I10: =IF(ISNA(IF(VLOOKUP(A10,'Base de donnée'!A:K,7,FALSE)=0,"",VLOOKUP(A10,'Base de donnée'!A:K,7,FALSE)))=FALSE,IF(VLOOKUP(A10,'Base de donnée'!A:K,7,FALSE)=0,"",VLOOKUP(A10,'Base de donnée'!A:K,7,FALSE)),"") | J10: =IF(ISNA(IF(VLOOKUP(A10,'Base de donnée'!A:K,8,FALSE)=0,"",VLOOKUP(A10,'Base de donnée'!A:K,8,FALSE)))=FALSE,IF(VLOOKUP(A10,'Base de donnée'!A:K,8,FALSE)=0,"",VLOOKUP(A10,'Base de donnée'!A:K,8,FALSE)),"") | K10: =IF(ISNA(IF(VLOOKUP(A10,'Base de donnée'!A:K,9,FALSE)=0,"",VLOOKUP(A10,'Base de donnée'!A:K,9,FALSE)))=FALSE,IF(VLOOKUP(A10,'Base de donnée'!A:K,9,FALSE)=0,"",VLOOKUP(A10,'Base de donnée'!A:K,9,FALSE)),"") | L10: =IF(ISNA(IF(VLOOKUP(A10,'Base de donnée'!A:K,10,FALSE)=0,"",VLOOKUP(A10,'Base de donnée'!A:K,10,FALSE)))=FALSE,IF(VLOOKUP(A10,'Base de donnée'!A:K,10,FALSE)=0,"",VLOOKUP(A10,'Base de donnée'!A:K,10,FALSE)),"") | M10: =IF(ISNA(IF(VLOOKUP(A10,'Base de donnée'!A:K,11,FALSE)=0,"",VLOOKUP(A10,'Base de donnée'!A:K,11,FALSE)))=FALSE,IF(VLOOKUP(A10,'Base de donnée'!A:K,11,FALSE)=0,"",VLOOKUP(A10,'Base de donnée'!A:K,11,FALSE)),"")
A11: 7330048320 | B11: =IF(ISNA(IF(VLOOKUP(A11,'Base de donnée'!A:K,2,FALSE)=0,"",VLOOKUP(A11,'Base de donnée'!A:K,2,FALSE)))=FALSE,IF(VLOOKUP(A11,'Base de donnée'!A:K,2,FALSE)=0,"",VLOOKUP(A11,'Base de donnée'!A:K,2,FALSE)),"") -> concombres | H11: =IF(ISNA(IF(VLOOKUP(A11,'Base de donnée'!A:K,6,FALSE)=0,"",VLOOKUP(A11,'Base de donnée'!A:K,6,FALSE)))=FALSE,IF(VLOOKUP(A11,'Base de donnée'!A:K,6,FALSE)=0,"",VLOOKUP(A11,'Base de donnée'!A:K,6,FALSE)),"") | I11: =IF(ISNA(IF(VLOOKUP(A11,'Base de donnée'!A:K,7,FALSE)=0,"",VLOOKUP(A11,'Base de donnée'!A:K,7,FALSE)))=FALSE,IF(VLOOKUP(A11,'Base de donnée'!A:K,7,FALSE)=0,"",VLOOKUP(A11,'Base de donnée'!A:K,7,FALSE)),"") | J11: =IF(ISNA(IF(VLOOKUP(A11,'Base de donnée'!A:K,8,FALSE)=0,"",VLOOKUP(A11,'Base de donnée'!A:K,8,FALSE)))=FALSE,IF(VLOOKUP(A11,'Base de donnée'!A:K,8,FALSE)=0,"",VLOOKUP(A11,'Base de donnée'!A:K,8,FALSE)),"") -> x | K11: =IF(ISNA(IF(VLOOKUP(A11,'Base de donnée'!A:K,9,FALSE)=0,"",VLOOKUP(A11,'Base de donnée'!A:K,9,FALSE)))=FALSE,IF(VLOOKUP(A11,'Base de donnée'!A:K,9,FALSE)=0,"",VLOOKUP(A11,'Base de donnée'!A:K,9,FALSE)),"") | L11: =IF(ISNA(IF(VLOOKUP(A11,'Base de donnée'!A:K,10,FALSE)=0,"",VLOOKUP(A11,'Base de donnée'!A:K,10,FALSE)))=FALSE,IF(VLOOKUP(A11,'Base de donnée'!A:K,10,FALSE)=0,"",VLOOKUP(A11,'Base de donnée'!A:K,10,FALSE)),"") | M11: =IF(ISNA(IF(VLOOKUP(A11,'Base de donnée'!A:K,11,FALSE)=0,"",VLOOKUP(A11,'Base de donnée'!A:K,11,FALSE)))=FALSE,IF(VLOOKUP(A11,'Base de donnée'!A:K,11,FALSE)=0,"",VLOOKUP(A11,'Base de donnée'!A:K,11,FALSE)),"") -> x
B12: =IF(ISNA(IF(VLOOKUP(A12,'Base de donnée'!A:K,2,FALSE)=0,"",VLOOKUP(A12,'Base de donnée'!A:K,2,FALSE)))=FALSE,IF(VLOOKUP(A12,'Base de donnée'!A:K,2,FALSE)=0,"",VLOOKUP(A12,'Base de donnée'!A:K,2,FALSE)),"") | H12: =IF(ISNA(IF(VLOOKUP(A12,'Base de donnée'!A:K,6,FALSE)=0,"",VLOOKUP(A12,'Base de donnée'!A:K,6,FALSE)))=FALSE,IF(VLOOKUP(A12,'Base de donnée'!A:K,6,FALSE)=0,"",VLOOKUP(A12,'Base de donnée'!A:K,6,FALSE)),"") | I12: =IF(ISNA(IF(VLOOKUP(A12,'Base de donnée'!A:K,7,FALSE)=0,"",VLOOKUP(A12,'Base de donnée'!A:K,7,FALSE)))=FALSE,IF(VLOOKUP(A12,'Base de donnée'!A:K,7,FALSE)=0,"",VLOOKUP(A12,'Base de donnée'!A:K,7,FALSE)),"") | J12: =IF(ISNA(IF(VLOOKUP(A12,'Base de donnée'!A:K,8,FALSE)=0,"",VLOOKUP(A12,'Base de donnée'!A:K,8,FALSE)))=FALSE,IF(VLOOKUP(A12,'Base de donnée'!A:K,8,FALSE)=0,"",VLOOKUP(A12,'Base de donnée'!A:K,8,FALSE)),"") | K12: =IF(ISNA(IF(VLOOKUP(A12,'Base de donnée'!A:K,9,FALSE)=0,"",VLOOKUP(A12,'Base de donnée'!A:K,9,FALSE)))=FALSE,IF(VLOOKUP(A12,'Base de donnée'!A:K,9,FALSE)=0,"",VLOOKUP(A12,'Base de donnée'!A:K,9,FALSE)),"") | L12: =IF(ISNA(IF(VLOOKUP(A12,'Base de donnée'!A:K,10,FALSE)=0,"",VLOOKUP(A12,'Base de donnée'!A:K,10,FALSE)))=FALSE,IF(VLOOKUP(A12,'Base de donnée'!A:K,10,FALSE)=0,"",VLOOKUP(A12,'Base de donnée'!A:K,10,FALSE)),"") | M12: =IF(ISNA(IF(VLOOKUP(A12,'Base de donnée'!A:K,11,FALSE)=0,"",VLOOKUP(A12,'Base de donnée'!A:K,11,FALSE)))=FALSE,IF(VLOOKUP(A12,'Base de donnée'!A:K,11,FALSE)=0,"",VLOOKUP(A12,'Base de donnée'!A:K,11,FALSE)),"")
A13: 7330048310 | B13: =IF(ISNA(IF(VLOOKUP(A13,'Base de donnée'!A:K,2,FALSE)=0,"",VLOOKUP(A13,'Base de donnée'!A:K,2,FALSE)))=FALSE,IF(VLOOKUP(A13,'Base de donnée'!A:K,2,FALSE)=0,"",VLOOKUP(A13,'Base de donnée'!A:K,2,FALSE)),"") -> tomates | H13: =IF(ISNA(IF(VLOOKUP(A13,'Base de donnée'!A:K,6,FALSE)=0,"",VLOOKUP(A13,'Base de donnée'!A:K,6,FALSE)))=FALSE,IF(VLOOKUP(A13,'Base de donnée'!A:K,6,FALSE)=0,"",VLOOKUP(A13,'Base de donnée'!A:K,6,FALSE)),"") | I13: =IF(ISNA(IF(VLOOKUP(A13,'Base de donnée'!A:K,7,FALSE)=0,"",VLOOKUP(A13,'Base de donnée'!A:K,7,FALSE)))=FALSE,IF(VLOOKUP(A13,'Base de donnée'!A:K,7,FALSE)=0,"",VLOOKUP(A13,'Base de donnée'!A:K,7,FALSE)),"") | J13: =IF(ISNA(IF(VLOOKUP(A13,'Base de donnée'!A:K,8,FALSE)=0,"",VLOOKUP(A13,'Base de donnée'!A:K,8,FALSE)))=FALSE,IF(VLOOKUP(A13,'Base de donnée'!A:K,8,FALSE)=0,"",VLOOKUP(A13,'Base de donnée'!A:K,8,FALSE)),"") | K13: =IF(ISNA(IF(VLOOKUP(A13,'Base de donnée'!A:K,9,FALSE)=0,"",VLOOKUP(A13,'Base de donnée'!A:K,9,FALSE)))=FALSE,IF(VLOOKUP(A13,'Base de donnée'!A:K,9,FALSE)=0,"",VLOOKUP(A13,'Base de donnée'!A:K,9,FALSE)),"") | L13: =IF(ISNA(IF(VLOOKUP(A13,'Base de donnée'!A:K,10,FALSE)=0,"",VLOOKUP(A13,'Base de donnée'!A:K,10,FALSE)))=FALSE,IF(VLOOKUP(A13,'Base de donnée'!A:K,10,FALSE)=0,"",VLOOKUP(A13,'Base de donnée'!A:K,10,FALSE)),"") | M13: =IF(ISNA(IF(VLOOKUP(A13,'Base de donnée'!A:K,11,FALSE)=0,"",VLOOKUP(A13,'Base de donnée'!A:K,11,FALSE)))=FALSE,IF(VLOOKUP(A13,'Base de donnée'!A:K,11,FALSE)=0,"",VLOOKUP(A13,'Base de donnée'!A:K,11,FALSE)),"") -> x
B14: =IF(ISNA(IF(VLOOKUP(A14,'Base de donnée'!A:K,2,FALSE)=0,"",VLOOKUP(A14,'Base de donnée'!A:K,2,FALSE)))=FALSE,IF(VLOOKUP(A14,'Base de donnée'!A:K,2,FALSE)=0,"",VLOOKUP(A14,'Base de donnée'!A:K,2,FALSE)),"") | H14: =IF(ISNA(IF(VLOOKUP(A14,'Base de donnée'!A:K,6,FALSE)=0,"",VLOOKUP(A14,'Base de donnée'!A:K,6,FALSE)))=FALSE,IF(VLOOKUP(A14,'Base de donnée'!A:K,6,FALSE)=0,"",VLOOKUP(A14,'Base de donnée'!A:K,6,FALSE)),"") | I14: =IF(ISNA(IF(VLOOKUP(A14,'Base de donnée'!A:K,7,FALSE)=0,"",VLOOKUP(A14,'Base de donnée'!A:K,7,FALSE)))=FALSE,IF(VLOOKUP(A14,'Base de donnée'!A:K,7,FALSE)=0,"",VLOOKUP(A14,'Base de donnée'!A:K,7,FALSE)),"") | J14: =IF(ISNA(IF(VLOOKUP(A14,'Base de donnée'!A:K,8,FALSE)=0,"",VLOOKUP(A14,'Base de donnée'!A:K,8,FALSE)))=FALSE,IF(VLOOKUP(A14,'Base de donnée'!A:K,8,FALSE)=0,"",VLOOKUP(A14,'Base de donnée'!A:K,8,FALSE)),"") | K14: =IF(ISNA(IF(VLOOKUP(A14,'Base de donnée'!A:K,9,FALSE)=0,"",VLOOKUP(A14,'Base de donnée'!A:K,9,FALSE)))=FALSE,IF(VLOOKUP(A14,'Base de donnée'!A:K,9,FALSE)=0,"",VLOOKUP(A14,'Base de donnée'!A:K,9,FALSE)),"") | L14: =IF(ISNA(IF(VLOOKUP(A14,'Base de donnée'!A:K,10,FALSE)=0,"",VLOOKUP(A14,'Base de donnée'!A:K,10,FALSE)))=FALSE,IF(VLOOKUP(A14,'Base de donnée'!A:K,10,FALSE)=0,"",VLOOKUP(A14,'Base de donnée'!A:K,10,FALSE)),"") | M14: =IF(ISNA(IF(VLOOKUP(A14,'Base de donnée'!A:K,11,FALSE)=0,"",VLOOKUP(A14,'Base de donnée'!A:K,11,FALSE)))=FALSE,IF(VLOOKUP(A14,'Base de donnée'!A:K,11,FALSE)=0,"",VLOOKUP(A14,'Base de donnée'!A:K,11,FALSE)),"")
A15: 74301931 | B15: =IF(ISNA(IF(VLOOKUP(A15,'Base de donnée'!A:K,2,FALSE)=0,"",VLOOKUP(A15,'Base de donnée'!A:K,2,FALSE)))=FALSE,IF(VLOOKUP(A15,'Base de donnée'!A:K,2,FALSE)=0,"",VLOOKUP(A15,'Base de donnée'!A:K,2,FALSE)),"") -> poireaux | H15: =IF(ISNA(IF(VLOOKUP(A15,'Base de donnée'!A:K,6,FALSE)=0,"",VLOOKUP(A15,'Base de donnée'!A:K,6,FALSE)))=FALSE,IF(VLOOKUP(A15,'Base de donnée'!A:K,6,FALSE)=0,"",VLOOKUP(A15,'Base de donnée'!A:K,6,FALSE)),"") | I15: =IF(ISNA(IF(VLOOKUP(A15,'Base de donnée'!A:K,7,FALSE)=0,"",VLOOKUP(A15,'Base de donnée'!A:K,7,FALSE)))=FALSE,IF(VLOOKUP(A15,'Base de donnée'!A:K,7,FALSE)=0,"",VLOOKUP(A15,'Base de donnée'!A:K,7,FALSE)),"") | J15: =IF(ISNA(IF(VLOOKUP(A15,'Base de donnée'!A:K,8,FALSE)=0,"",VLOOKUP(A15,'Base de donnée'!A:K,8,FALSE)))=FALSE,IF(VLOOKUP(A15,'Base de donnée'!A:K,8,FALSE)=0,"",VLOOKUP(A15,'Base de donnée'!A:K,8,FALSE)),"") -> x | K15: =IF(ISNA(IF(VLOOKUP(A15,'Base de donnée'!A:K,9,FALSE)=0,"",VLOOKUP(A15,'Base de donnée'!A:K,9,FALSE)))=FALSE,IF(VLOOKUP(A15,'Base de donnée'!A:K,9,FALSE)=0,"",VLOOKUP(A15,'Base de donnée'!A:K,9,FALSE)),"") | L15: =IF(ISNA(IF(VLOOKUP(A15,'Base de donnée'!A:K,10,FALSE)=0,"",VLOOKUP(A15,'Base de donnée'!A:K,10,FALSE)))=FALSE,IF(VLOOKUP(A15,'Base de donnée'!A:K,10,FALSE)=0,"",VLOOKUP(A15,'Base de donnée'!A:K,10,FALSE)),"") | M15: =IF(ISNA(IF(VLOOKUP(A15,'Base de donnée'!A:K,11,FALSE)=0,"",VLOOKUP(A15,'Base de donnée'!A:K,11,FALSE)))=FALSE,IF(VLOOKUP(A15,'Base de donnée'!A:K,11,FALSE)=0,"",VLOOKUP(A15,'Base de donnée'!A:K,11,FALSE)),"") -> x
B16: =IF(ISNA(IF(VLOOKUP(A16,'Base de donnée'!A:K,2,FALSE)=0,"",VLOOKUP(A16,'Base de donnée'!A:K,2,FALSE)))=FALSE,IF(VLOOKUP(A16,'Base de donnée'!A:K,2,FALSE)=0,"",VLOOKUP(A16,'Base de donnée'!A:K,2,FALSE)),"") | H16: =IF(ISNA(IF(VLOOKUP(A16,'Base de donnée'!A:K,6,FALSE)=0,"",VLOOKUP(A16,'Base de donnée'!A:K,6,FALSE)))=FALSE,IF(VLOOKUP(A16,'Base de donnée'!A:K,6,FALSE)=0,"",VLOOKUP(A16,'Base de donnée'!A:K,6,FALSE)),"") | I16: =IF(ISNA(IF(VLOOKUP(A16,'Base de donnée'!A:K,7,FALSE)=0,"",VLOOKUP(A16,'Base de donnée'!A:K,7,FALSE)))=FALSE,IF(VLOOKUP(A16,'Base de donnée'!A:K,7,FALSE)=0,"",VLOOKUP(A16,'Base de donnée'!A:K,7,FALSE)),"") | J16: =IF(ISNA(IF(VLOOKUP(A16,'Base de donnée'!A:K,8,FALSE)=0,"",VLOOKUP(A16,'Base de donnée'!A:K,8,FALSE)))=FALSE,IF(VLOOKUP(A16,'Base de donnée'!A:K,8,FALSE)=0,"",VLOOKUP(A16,'Base de donnée'!A:K,8,FALSE)),"") | K16: =IF(ISNA(IF(VLOOKUP(A16,'Base de donnée'!A:K,9,FALSE)=0,"",VLOOKUP(A16,'Base de donnée'!A:K,9,FALSE)))=FALSE,IF(VLOOKUP(A16,'Base de donnée'!A:K,9,FALSE)=0,"",VLOOKUP(A16,'Base de donnée'!A:K,9,FALSE)),"") | L16: =IF(ISNA(IF(VLOOKUP(A16,'Base de donnée'!A:K,10,FALSE)=0,"",VLOOKUP(A16,'Base de donnée'!A:K,10,FALSE)))=FALSE,IF(VLOOKUP(A16,'Base de donnée'!A:K,10,FALSE)=0,"",VLOOKUP(A16,'Base de donnée'!A:K,10,FALSE)),"") | M16: =IF(ISNA(IF(VLOOKUP(A16,'Base de donnée'!A:K,11,FALSE)=0,"",VLOOKUP(A16,'Base de donnée'!A:K,11,FALSE)))=FALSE,IF(VLOOKUP(A16,'Base de donnée'!A:K,11,FALSE)=0,"",VLOOKUP(A16,'Base de donnée'!A:K,11,FALSE)),"")
A17: 7330065310 | B17: =IF(ISNA(IF(VLOOKUP(A17,'Base de donnée'!A:K,2,FALSE)=0,"",VLOOKUP(A17,'Base de donnée'!A:K,2,FALSE)))=FALSE,IF(VLOOKUP(A17,'Base de donnée'!A:K,2,FALSE)=0,"",VLOOKUP(A17,'Base de donnée'!A:K,2,FALSE)),"") -> voiture | H17: =IF(ISNA(IF(VLOOKUP(A17,'Base de donnée'!A:K,6,FALSE)=0,"",VLOOKUP(A17,'Base de donnée'!A:K,6,FALSE)))=FALSE,IF(VLOOKUP(A17,'Base de donnée'!A:K,6,FALSE)=0,"",VLOOKUP(A17,'Base de donnée'!A:K,6,FALSE)),"") | I17: =IF(ISNA(IF(VLOOKUP(A17,'Base de donnée'!A:K,7,FALSE)=0,"",VLOOKUP(A17,'Base de donnée'!A:K,7,FALSE)))=FALSE,IF(VLOOKUP(A17,'Base de donnée'!A:K,7,FALSE)=0,"",VLOOKUP(A17,'Base de donnée'!A:K,7,FALSE)),"") -> x | J17: =IF(ISNA(IF(VLOOKUP(A17,'Base de donnée'!A:K,8,FALSE)=0,"",VLOOKUP(A17,'Base de donnée'!A:K,8,FALSE)))=FALSE,IF(VLOOKUP(A17,'Base de donnée'!A:K,8,FALSE)=0,"",VLOOKUP(A17,'Base de donnée'!A:K,8,FALSE)),"") | K17: =IF(ISNA(IF(VLOOKUP(A17,'Base de donnée'!A:K,9,FALSE)=0,"",VLOOKUP(A17,'Base de donnée'!A:K,9,FALSE)))=FALSE,IF(VLOOKUP(A17,'Base de donnée'!A:K,9,FALSE)=0,"",VLOOKUP(A17,'Base de donnée'!A:K,9,FALSE)),"") | L17: =IF(ISNA(IF(VLOOKUP(A17,'Base de donnée'!A:K,10,FALSE)=0,"",VLOOKUP(A17,'Base de donnée'!A:K,10,FALSE)))=FALSE,IF(VLOOKUP(A17,'Base de donnée'!A:K,10,FALSE)=0,"",VLOOKUP(A17,'Base de donnée'!A:K,10,FALSE)),"") | M17: =IF(ISNA(IF(VLOOKUP(A17,'Base de donnée'!A:K,11,FALSE)=0,"",VLOOKUP(A17,'Base de donnée'!A:K,11,FALSE)))=FALSE,IF(VLOOKUP(A17,'Base de donnée'!A:K,11,FALSE)=0,"",VLOOKUP(A17,'Base de donnée'!A:K,11,FALSE)),"") -> x
B18: =IF(ISNA(IF(VLOOKUP(A18,'Base de donnée'!A:K,2,FALSE)=0,"",VLOOKUP(A18,'Base de donnée'!A:K,2,FALSE)))=FALSE,IF(VLOOKUP(A18,'Base de donnée'!A:K,2,FALSE)=0,"",VLOOKUP(A18,'Base de donnée'!A:K,2,FALSE)),"") | H18: =IF(ISNA(IF(VLOOKUP(A18,'Base de donnée'!A:K,6,FALSE)=0,"",VLOOKUP(A18,'Base de donnée'!A:K,6,FALSE)))=FALSE,IF(VLOOKUP(A18,'Base de donnée'!A:K,6,FALSE)=0,"",VLOOKUP(A18,'Base de donnée'!A:K,6,FALSE)),"") | I18: =IF(ISNA(IF(VLOOKUP(A18,'Base de donnée'!A:K,7,FALSE)=0,"",VLOOKUP(A18,'Base de donnée'!A:K,7,FALSE)))=FALSE,IF(VLOOKUP(A18,'Base de donnée'!A:K,7,FALSE)=0,"",VLOOKUP(A18,'Base de donnée'!A:K,7,FALSE)),"") | J18: =IF(ISNA(IF(VLOOKUP(A18,'Base de donnée'!A:K,8,FALSE)=0,"",VLOOKUP(A18,'Base de donnée'!A:K,8,FALSE)))=FALSE,IF(VLOOKUP(A18,'Base de donnée'!A:K,8,FALSE)=0,"",VLOOKUP(A18,'Base de donnée'!A:K,8,FALSE)),"") | K18: =IF(ISNA(IF(VLOOKUP(A18,'Base de donnée'!A:K,9,FALSE)=0,"",VLOOKUP(A18,'Base de donnée'!A:K,9,FALSE)))=FALSE,IF(VLOOKUP(A18,'Base de donnée'!A:K,9,FALSE)=0,"",VLOOKUP(A18,'Base de donnée'!A:K,9,FALSE)),"") | L18: =IF(ISNA(IF(VLOOKUP(A18,'Base de donnée'!A:K,10,FALSE)=0,"",VLOOKUP(A18,'Base de donnée'!A:K,10,FALSE)))=FALSE,IF(VLOOKUP(A18,'Base de donnée'!A:K,10,FALSE)=0,"",VLOOKUP(A18,'Base de donnée'!A:K,10,FALSE)),"") | M18: =IF(ISNA(IF(VLOOKUP(A18,'Base de donnée'!A:K,11,FALSE)=0,"",VLOOKUP(A18,'Base de donnée'!A:K,11,FALSE)))=FALSE,IF(VLOOKUP(A18,'Base de donnée'!A:K,11,FALSE)=0,"",VLOOKUP(A18,'Base de donnée'!A:K,11,FALSE)),"")
A19: 7110002 | B19: =IF(ISNA(IF(VLOOKUP(A19,'Base de donnée'!A:K,2,FALSE)=0,"",VLOOKUP(A19,'Base de donnée'!A:K,2,FALSE)))=FALSE,IF(VLOOKUP(A19,'Base de donnée'!A:K,2,FALSE)=0,"",VLOOKUP(A19,'Base de donnée'!A:K,2,FALSE)),"") -> bois | F19: 300 | H19: =IF(ISNA(IF(VLOOKUP(A19,'Base de donnée'!A:K,6,FALSE)=0,"",VLOOKUP(A19,'Base de donnée'!A:K,6,FALSE)))=FALSE,IF(VLOOKUP(A19,'Base de donnée'!A:K,6,FALSE)=0,"",VLOOKUP(A19,'Base de donnée'!A:K,6,FALSE)),"") -> x | I19: =IF(ISNA(IF(VLOOKUP(A19,'Base de donnée'!A:K,7,FALSE)=0,"",VLOOKUP(A19,'Base de donnée'!A:K,7,FALSE)))=FALSE,IF(VLOOKUP(A19,'Base de donnée'!A:K,7,FALSE)=0,"",VLOOKUP(A19,'Base de donnée'!A:K,7,FALSE)),"") | J19: =IF(ISNA(IF(VLOOKUP(A19,'Base de donnée'!A:K,8,FALSE)=0,"",VLOOKUP(A19,'Base de donnée'!A:K,8,FALSE)))=FALSE,IF(VLOOKUP(A19,'Base de donnée'!A:K,8,FALSE)=0,"",VLOOKUP(A19,'Base de donnée'!A:K,8,FALSE)),"") | K19: =IF(ISNA(IF(VLOOKUP(A19,'Base de donnée'!A:K,9,FALSE)=0,"",VLOOKUP(A19,'Base de donnée'!A:K,9,FALSE)))=FALSE,IF(VLOOKUP(A19,'Base de donnée'!A:K,9,FALSE)=0,"",VLOOKUP(A19,'Base de donnée'!A:K,9,FALSE)),"") | L19: =IF(ISNA(IF(VLOOKUP(A19,'Base de donnée'!A:K,10,FALSE)=0,"",VLOOKUP(A19,'Base de donnée'!A:K,10,FALSE)))=FALSE,IF(VLOOKUP(A19,'Base de donnée'!A:K,10,FALSE)=0,"",VLOOKUP(A19,'Base de donnée'!A:K,10,FALSE)),"") -> x | M19: =IF(ISNA(IF(VLOOKUP(A19,'Base de donnée'!A:K,11,FALSE)=0,"",VLOOKUP(A19,'Base de donnée'!A:K,11,FALSE)))=FALSE,IF(VLOOKUP(A19,'Base de donnée'!A:K,11,FALSE)=0,"",VLOOKUP(A19,'Base de donnée'!A:K,11,FALSE)),"")
B20: =IF(ISNA(IF(VLOOKUP(A20,'Base de donnée'!A:K,2,FALSE)=0,"",VLOOKUP(A20,'Base de donnée'!A:K,2,FALSE)))=FALSE,IF(VLOOKUP(A20,'Base de donnée'!A:K,2,FALSE)=0,"",VLOOKUP(A20,'Base de donnée'!A:K,2,FALSE)),"") | H20: =IF(ISNA(IF(VLOOKUP(A20,'Base de donnée'!A:K,6,FALSE)=0,"",VLOOKUP(A20,'Base de donnée'!A:K,6,FALSE)))=FALSE,IF(VLOOKUP(A20,'Base de donnée'!A:K,6,FALSE)=0,"",VLOOKUP(A20,'Base de donnée'!A:K,6,FALSE)),"") | I20: =IF(ISNA(IF(VLOOKUP(A20,'Base de donnée'!A:K,7,FALSE)=0,"",VLOOKUP(A20,'Base de donnée'!A:K,7,FALSE)))=FALSE,IF(VLOOKUP(A20,'Base de donnée'!A:K,7,FALSE)=0,"",VLOOKUP(A20,'Base de donnée'!A:K,7,FALSE)),"") | J20: =IF(ISNA(IF(VLOOKUP(A20,'Base de donnée'!A:K,8,FALSE)=0,"",VLOOKUP(A20,'Base de donnée'!A:K,8,FALSE)))=FALSE,IF(VLOOKUP(A20,'Base de donnée'!A:K,8,FALSE)=0,"",VLOOKUP(A20,'Base de donnée'!A:K,8,FALSE)),"") | K20: =IF(ISNA(IF(VLOOKUP(A20,'Base de donnée'!A:K,9,FALSE)=0,"",VLOOKUP(A20,'Base de donnée'!A:K,9,FALSE)))=FALSE,IF(VLOOKUP(A20,'Base de donnée'!A:K,9,FALSE)=0,"",VLOOKUP(A20,'Base de donnée'!A:K,9,FALSE)),"") | L20: =IF(ISNA(IF(VLOOKUP(A20,'Base de donnée'!A:K,10,FALSE)=0,"",VLOOKUP(A20,'Base de donnée'!A:K,10,FALSE)))=FALSE,IF(VLOOKUP(A20,'Base de donnée'!A:K,10,FALSE)=0,"",VLOOKUP(A20,'Base de donnée'!A:K,10,FALSE)),"") | M20: =IF(ISNA(IF(VLOOKUP(A20,'Base de donnée'!A:K,11,FALSE)=0,"",VLOOKUP(A20,'Base de donnée'!A:K,11,FALSE)))=FALSE,IF(VLOOKUP(A20,'Base de donnée'!A:K,11,FALSE)=0,"",VLOOKUP(A20,'Base de donnée'!A:K,11,FALSE)),"")
A21: 72300008 | B21: =IF(ISNA(IF(VLOOKUP(A21,'Base de donnée'!A:K,2,FALSE)=0,"",VLOOKUP(A21,'Base de donnée'!A:K,2,FALSE)))=FALSE,IF(VLOOKUP(A21,'Base de donnée'!A:K,2,FALSE)=0,"",VLOOKUP(A21,'Base de donnée'!A:K,2,FALSE)),"") -> vélo | H21: =IF(ISNA(IF(VLOOKUP(A21,'Base de donnée'!A:K,6,FALSE)=0,"",VLOOKUP(A21,'Base de donnée'!A:K,6,FALSE)))=FALSE,IF(VLOOKUP(A21,'Base de donnée'!A:K,6,FALSE)=0,"",VLOOKUP(A21,'Base de donnée'!A:K,6,FALSE)),"") | I21: =IF(ISNA(IF(VLOOKUP(A21,'Base de donnée'!A:K,7,FALSE)=0,"",VLOOKUP(A21,'Base de donnée'!A:K,7,FALSE)))=FALSE,IF(VLOOKUP(A21,'Base de donnée'!A:K,7,FALSE)=0,"",VLOOKUP(A21,'Base de donnée'!A:K,7,FALSE)),"") -> x | J21: =IF(ISNA(IF(VLOOKUP(A21,'Base de donnée'!A:K,8,FALSE)=0,"",VLOOKUP(A21,'Base de donnée'!A:K,8,FALSE)))=FALSE,IF(VLOOKUP(A21,'Base de donnée'!A:K,8,FALSE)=0,"",VLOOKUP(A21,'Base de donnée'!A:K,8,FALSE)),"") | K21: =IF(ISNA(IF(VLOOKUP(A21,'Base de donnée'!A:K,9,FALSE)=0,"",VLOOKUP(A21,'Base de donnée'!A:K,9,FALSE)))=FALSE,IF(VLOOKUP(A21,'Base de donnée'!A:K,9,FALSE)=0,"",VLOOKUP(A21,'Base de donnée'!A:K,9,FALSE)),"") -> x | L21: =IF(ISNA(IF(VLOOKUP(A21,'Base de donnée'!A:K,10,FALSE)=0,"",VLOOKUP(A21,'Base de donnée'!A:K,10,FALSE)))=FALSE,IF(VLOOKUP(A21,'Base de donnée'!A:K,10,FALSE)=0,"",VLOOKUP(A21,'Base de donnée'!A:K,10,FALSE)),"") | M21: =IF(ISNA(IF(VLOOKUP(A21,'Base de donnée'!A:K,11,FALSE)=0,"",VLOOKUP(A21,'Base de donnée'!A:K,11,FALSE)))=FALSE,IF(VLOOKUP(A21,'Base de donnée'!A:K,11,FALSE)=0,"",VLOOKUP(A21,'Base de donnée'!A:K,11,FALSE)),"") -> x
B22: =IF(ISNA(IF(VLOOKUP(A22,'Base de donnée'!A:K,2,FALSE)=0,"",VLOOKUP(A22,'Base de donnée'!A:K,2,FALSE)))=FALSE,IF(VLOOKUP(A22,'Base de donnée'!A:K,2,FALSE)=0,"",VLOOKUP(A22,'Base de donnée'!A:K,2,FALSE)),"") | H22: =IF(ISNA(IF(VLOOKUP(A22,'Base de donnée'!A:K,6,FALSE)=0,"",VLOOKUP(A22,'Base de donnée'!A:K,6,FALSE)))=FALSE,IF(VLOOKUP(A22,'Base de donnée'!A:K,6,FALSE)=0,"",VLOOKUP(A22,'Base de donnée'!A:K,6,FALSE)),"") | I22: =IF(ISNA(IF(VLOOKUP(A22,'Base de donnée'!A:K,7,FALSE)=0,"",VLOOKUP(A22,'Base de donnée'!A:K,7,FALSE)))=FALSE,IF(VLOOKUP(A22,'Base de donnée'!A:K,7,FALSE)=0,"",VLOOKUP(A22,'Base de donnée'!A:K,7,FALSE)),"") | J22: =IF(ISNA(IF(VLOOKUP(A22,'Base de donnée'!A:K,8,FALSE)=0,"",VLOOKUP(A22,'Base de donnée'!A:K,8,FALSE)))=FALSE,IF(VLOOKUP(A22,'Base de donnée'!A:K,8,FALSE)=0,"",VLOOKUP(A22,'Base de donnée'!A:K,8,FALSE)),"") | K22: =IF(ISNA(IF(VLOOKUP(A22,'Base de donnée'!A:K,9,FALSE)=0,"",VLOOKUP(A22,'Base de donnée'!A:K,9,FALSE)))=FALSE,IF(VLOOKUP(A22,'Base de donnée'!A:K,9,FALSE)=0,"",VLOOKUP(A22,'Base de donnée'!A:K,9,FALSE)),"") | L22: =IF(ISNA(IF(VLOOKUP(A22,'Base de donnée'!A:K,10,FALSE)=0,"",VLOOKUP(A22,'Base de donnée'!A:K,10,FALSE)))=FALSE,IF(VLOOKUP(A22,'Base de donnée'!A:K,10,FALSE)=0,"",VLOOKUP(A22,'Base de donnée'!A:K,10,FALSE)),"") | M22: =IF(ISNA(IF(VLOOKUP(A22,'Base de donnée'!A:K,11,FALSE)=0,"",VLOOKUP(A22,'Base de donnée'!A:K,11,FALSE)))=FALSE,IF(VLOOKUP(A22,'Base de donnée'!A:K,11,FALSE)=0,"",VLOOKUP(A22,'Base de donnée'!A:K,11,FALSE)),"")
B23: =IF(ISNA(IF(VLOOKUP(A23,'Base de donnée'!A:K,2,FALSE)=0,"",VLOOKUP(A23,'Base de donnée'!A:K,2,FALSE)))=FALSE,IF(VLOOKUP(A23,'Base de donnée'!A:K,2,FALSE)=0,"",VLOOKUP(A23,'Base de donnée'!A:K,2,FALSE)),"") | H23: =IF(ISNA(IF(VLOOKUP(A23,'Base de donnée'!A:K,6,FALSE)=0,"",VLOOKUP(A23,'Base de donnée'!A:K,6,FALSE)))=FALSE,IF(VLOOKUP(A23,'Base de donnée'!A:K,6,FALSE)=0,"",VLOOKUP(A23,'Base de donnée'!A:K,6,FALSE)),"") | I23: =IF(ISNA(IF(VLOOKUP(A23,'Base de donnée'!A:K,7,FALSE)=0,"",VLOOKUP(A23,'Base de donnée'!A:K,7,FALSE)))=FALSE,IF(VLOOKUP(A23,'Base de donnée'!A:K,7,FALSE)=0,"",VLOOKUP(A23,'Base de donnée'!A:K,7,FALSE)),"") | J23: =IF(ISNA(IF(VLOOKUP(A23,'Base de donnée'!A:K,8,FALSE)=0,"",VLOOKUP(A23,'Base de donnée'!A:K,8,FALSE)))=FALSE,IF(VLOOKUP(A23,'Base de donnée'!A:K,8,FALSE)=0,"",VLOOKUP(A23,'Base de donnée'!A:K,8,FALSE)),"") | K23: =IF(ISNA(IF(VLOOKUP(A23,'Base de donnée'!A:K,9,FALSE)=0,"",VLOOKUP(A23,'Base de donnée'!A:K,9,FALSE)))=FALSE,IF(VLOOKUP(A23,'Base de donnée'!A:K,9,FALSE)=0,"",VLOOKUP(A23,'Base de donnée'!A:K,9,FALSE)),"") | L23: =IF(ISNA(IF(VLOOKUP(A23,'Base de donnée'!A:K,10,FALSE)=0,"",VLOOKUP(A23,'Base de donnée'!A:K,10,FALSE)))=FALSE,IF(VLOOKUP(A23,'Base de donnée'!A:K,10,FALSE)=0,"",VLOOKUP(A23,'Base de donnée'!A:K,10,FALSE)),"") | M23: =IF(ISNA(IF(VLOOKUP(A23,'Base de donnée'!A:K,11,FALSE)=0,"",VLOOKUP(A23,'Base de donnée'!A:K,11,FALSE)))=FALSE,IF(VLOOKUP(A23,'Base de donnée'!A:K,11,FALSE)=0,"",VLOOKUP(A23,'Base de donnée'!A:K,11,FALSE)),"")
B24: =IF(ISNA(IF(VLOOKUP(A24,'Base de donnée'!A:K,2,FALSE)=0,"",VLOOKUP(A24,'Base de donnée'!A:K,2,FALSE)))=FALSE,IF(VLOOKUP(A24,'Base de donnée'!A:K,2,FALSE)=0,"",VLOOKUP(A24,'Base de donnée'!A:K,2,FALSE)),"") | H24: =IF(ISNA(IF(VLOOKUP(A24,'Base de donnée'!A:K,6,FALSE)=0,"",VLOOKUP(A24,'Base de donnée'!A:K,6,FALSE)))=FALSE,IF(VLOOKUP(A24,'Base de donnée'!A:K,6,FALSE)=0,"",VLOOKUP(A24,'Base de donnée'!A:K,6,FALSE)),"") | I24: =IF(ISNA(IF(VLOOKUP(A24,'Base de donnée'!A:K,7,FALSE)=0,"",VLOOKUP(A24,'Base de donnée'!A:K,7,FALSE)))=FALSE,IF(VLOOKUP(A24,'Base de donnée'!A:K,7,FALSE)=0,"",VLOOKUP(A24,'Base de donnée'!A:K,7,FALSE)),"") | J24: =IF(ISNA(IF(VLOOKUP(A24,'Base de donnée'!A:K,8,FALSE)=0,"",VLOOKUP(A24,'Base de donnée'!A:K,8,FALSE)))=FALSE,IF(VLOOKUP(A24,'Base de donnée'!A:K,8,FALSE)=0,"",VLOOKUP(A24,'Base de donnée'!A:K,8,FALSE)),"") | K24: =IF(ISNA(IF(VLOOKUP(A24,'Base de donnée'!A:K,9,FALSE)=0,"",VLOOKUP(A24,'Base de donnée'!A:K,9,FALSE)))=FALSE,IF(VLOOKUP(A24,'Base de donnée'!A:K,9,FALSE)=0,"",VLOOKUP(A24,'Base de donnée'!A:K,9,FALSE)),"") | L24: =IF(ISNA(IF(VLOOKUP(A24,'Base de donnée'!A:K,10,FALSE)=0,"",VLOOKUP(A24,'Base de donnée'!A:K,10,FALSE)))=FALSE,IF(VLOOKUP(A24,'Base de donnée'!A:K,10,FALSE)=0,"",VLOOKUP(A24,'Base de donnée'!A:K,10,FALSE)),"") | M24: =IF(ISNA(IF(VLOOKUP(A24,'Base de donnée'!A:K,11,FALSE)=0,"",VLOOKUP(A24,'Base de donnée'!A:K,11,FALSE)))=FALSE,IF(VLOOKUP(A24,'Base de donnée'!A:K,11,FALSE)=0,"",VLOOKUP(A24,'Base de donnée'!A:K,11,FALSE)),"")
B25: =IF(ISNA(IF(VLOOKUP(A25,'Base de donnée'!A:K,2,FALSE)=0,"",VLOOKUP(A25,'Base de donnée'!A:K,2,FALSE)))=FALSE,IF(VLOOKUP(A25,'Base de donnée'!A:K,2,FALSE)=0,"",VLOOKUP(A25,'Base de donnée'!A:K,2,FALSE)),"") | H25: =IF(ISNA(IF(VLOOKUP(A25,'Base de donnée'!A:K,6,FALSE)=0,"",VLOOKUP(A25,'Base de donnée'!A:K,6,FALSE)))=FALSE,IF(VLOOKUP(A25,'Base de donnée'!A:K,6,FALSE)=0,"",VLOOKUP(A25,'Base de donnée'!A:K,6,FALSE)),"") | I25: =IF(ISNA(IF(VLOOKUP(A25,'Base de donnée'!A:K,7,FALSE)=0,"",VLOOKUP(A25,'Base de donnée'!A:K,7,FALSE)))=FALSE,IF(VLOOKUP(A25,'Base de donnée'!A:K,7,FALSE)=0,"",VLOOKUP(A25,'Base de donnée'!A:K,7,FALSE)),"") | J25: =IF(ISNA(IF(VLOOKUP(A25,'Base de donnée'!A:K,8,FALSE)=0,"",VLOOKUP(A25,'Base de donnée'!A:K,8,FALSE)))=FALSE,IF(VLOOKUP(A25,'Base de donnée'!A:K,8,FALSE)=0,"",VLOOKUP(A25,'Base de donnée'!A:K,8,FALSE)),"") | K25: =IF(ISNA(IF(VLOOKUP(A25,'Base de donnée'!A:K,9,FALSE)=0,"",VLOOKUP(A25,'Base de donnée'!A:K,9,FALSE)))=FALSE,IF(VLOOKUP(A25,'Base de donnée'!A:K,9,FALSE)=0,"",VLOOKUP(A25,'Base de donnée'!A:K,9,FALSE)),"") | L25: =IF(ISNA(IF(VLOOKUP(A25,'Base de donnée'!A:K,10,FALSE)=0,"",VLOOKUP(A25,'Base de donnée'!A:K,10,FALSE)))=FALSE,IF(VLOOKUP(A25,'Base de donnée'!A:K,10,FALSE)=0,"",VLOOKUP(A25,'Base de donnée'!A:K,10,FALSE)),"") | M25: =IF(ISNA(IF(VLOOKUP(A25,'Base de donnée'!A:K,11,FALSE)=0,"",VLOOKUP(A25,'Base de donnée'!A:K,11,FALSE)))=FALSE,IF(VLOOKUP(A25,'Base de donnée'!A:K,11,FALSE)=0,"",VLOOKUP(A25,'Base de donnée'!A:K,11,FALSE)),"")

Sheet Feuil4
A1: Personnalisé | B1: référence | C1: désignation | D1: quantité
A2: Essai 1 | B2: 7430199810 | C2: carottes | D2: 100
A3: Essai 1 | B3: 74301931 | C3: poireaux
A4: Essai 1 | B4: 7330048320 | C4: concombres
A5: Essai 1 | B5: 7330048310 | C5: tomates
A6: Essai 1 | B6: 74301931 | C6: poireaux
A7: Essai 1 | B7: 7330065310 | C7: voiture
A8: Essai 1 | B8: 7110002 | C8: bois | D8: 300
A9: Essai 1 | B9: 72300008 | C9: vélo
A10: Essai 2 | B10: 7430199810 | C10: carottes | D10: 100
A11: Essai 2 | B11: 74301931 | C11: poireaux
A12: Essai 2 | B12: 7330048320 | C12: concombres
A13: Essai 2 | B13: 7330048310 | C13: tomates
A14: Essai 2 | B14: 74301931 | C14: poireaux
A15: Essai 2 | B15: 7330065310 | C15: voiture
A16: Essai 2 | B16: 7110002 | C16: bois | D16: 300
A17: Essai 2 | B17: 72300008 | C17: vélo

Sheet Feuil2
A1: référence | B1: désignation | C1: Colonne1 | D1: Colonne2 | E1: Colonne3 | F1: quantité | G1: Personnalisé
G2: Essai 2
A3: 7430199810 | B3: carottes | F3: 100 | G3: Essai 2
G4: Essai 2
A5: 74301931 | B5: poireaux | G5: Essai 2
G6: Essai 2
A7: 7330048320 | B7: concombres | G7: Essai 2
G8: Essai 2
A9: 7330048310 | B9: tomates | G9: Essai 2
G10: Essai 2
A11: 74301931 | B11: poireaux | G11: Essai 2
G12: Essai 2
A13: 7330065310 | B13: voiture | G13: Essai 2
G14: Essai 2
A15: 7110002 | B15: bois | F15: 300 | G15: Essai 2
G16: Essai 2
A17: 72300008 | B17: vélo | G17: Essai 2
G18: Essai 2
G19: Essai 2
G20: Essai 2
G21: Essai 2
G22: Essai 2
G23: Essai 2
G24: Essai 2
G25: Essai 2
G26: Essai 2
G27: Essai 2
G28: Essai 2
G29: Essai 2
... G36: Essai 2

Sheet essai2
A3: essai 2
H4: diamètre
A5: référence | B5: désignation | C5: Colonne1 | D5: Colonne2 | E5: Colonne3 | F5: quantité | H5: 2.7 | I5: 3.9 | J5: 4.9 | K5: 5.9 | L5: 7 | M5: 8
A7: 7430199810 | B7: =IF(ISNA(IF(VLOOKUP(A7,'Base de donnée'!A:K,2,FALSE)=0,"",VLOOKUP(A7,'Base de donnée'!A:K,2,FALSE)))=FALSE,IF(VLOOKUP(A7,'Base de donnée'!A:K,2,FALSE)=0,"",VLOOKUP(A7,'Base de donnée'!A:K,2,FALSE)),"") -> carottes | F7: 100 | H7: =IF(ISNA(IF(VLOOKUP(A7,'Base de donnée'!A:K,6,FALSE)=0,"",VLOOKUP(A7,'Base de donnée'!A:K,6,FALSE)))=FALSE,IF(VLOOKUP(A7,'Base de donnée'!A:K,6,FALSE)=0,"",VLOOKUP(A7,'Base de donnée'!A:K,6,FALSE)),"") | I7: =IF(ISNA(IF(VLOOKUP(A7,'Base de donnée'!A:K,7,FALSE)=0,"",VLOOKUP(A7,'Base de donnée'!A:K,7,FALSE)))=FALSE,IF(VLOOKUP(A7,'Base de donnée'!A:K,7,FALSE)=0,"",VLOOKUP(A7,'Base de donnée'!A:K,7,FALSE)),"") | J7: =IF(ISNA(IF(VLOOKUP(A7,'Base de donnée'!A:K,8,FALSE)=0,"",VLOOKUP(A7,'Base de donnée'!A:K,8,FALSE)))=FALSE,IF(VLOOKUP(A7,'Base de donnée'!A:K,8,FALSE)=0,"",VLOOKUP(A7,'Base de donnée'!A:K,8,FALSE)),"") -> x | K7: =IF(ISNA(IF(VLOOKUP(A7,'Base de donnée'!A:K,9,FALSE)=0,"",VLOOKUP(A7,'Base de donnée'!A:K,9,FALSE)))=FALSE,IF(VLOOKUP(A7,'Base de donnée'!A:K,9,FALSE)=0,"",VLOOKUP(A7,'Base de donnée'!A:K,9,FALSE)),"") | L7: =IF(ISNA(IF(VLOOKUP(A7,'Base de donnée'!A:K,10,FALSE)=0,"",VLOOKUP(A7,'Base de donnée'!A:K,10,FALSE)))=FALSE,IF(VLOOKUP(A7,'Base de donnée'!A:K,10,FALSE)=0,"",VLOOKUP(A7,'Base de donnée'!A:K,10,FALSE)),"") | M7: =IF(ISNA(IF(VLOOKUP(A7,'Base de donnée'!A:K,11,FALSE)=0,"",VLOOKUP(A7,'Base de donnée'!A:K,11,FALSE)))=FALSE,IF(VLOOKUP(A7,'Base de donnée'!A:K,11,FALSE)=0,"",VLOOKUP(A7,'Base de donnée'!A:K,11,FALSE)),"") -> x
B8: =IF(ISNA(IF(VLOOKUP(A8,'Base de donnée'!A:K,2,FALSE)=0,"",VLOOKUP(A8,'Base de donnée'!A:K,2,FALSE)))=FALSE,IF(VLOOKUP(A8,'Base de donnée'!A:K,2,FALSE)=0,"",VLOOKUP(A8,'Base de donnée'!A:K,2,FALSE)),"") | H8: =IF(ISNA(IF(VLOOKUP(A8,'Base de donnée'!A:K,6,FALSE)=0,"",VLOOKUP(A8,'Base de donnée'!A:K,6,FALSE)))=FALSE,IF(VLOOKUP(A8,'Base de donnée'!A:K,6,FALSE)=0,"",VLOOKUP(A8,'Base de donnée'!A:K,6,FALSE)),"") | I8: =IF(ISNA(IF(VLOOKUP(A8,'Base de donnée'!A:K,7,FALSE)=0,"",VLOOKUP(A8,'Base de donnée'!A:K,7,FALSE)))=FALSE,IF(VLOOKUP(A8,'Base de donnée'!A:K,7,FALSE)=0,"",VLOOKUP(A8,'Base de donnée'!A:K,7,FALSE)),"") | J8: =IF(ISNA(IF(VLOOKUP(A8,'Base de donnée'!A:K,8,FALSE)=0,"",VLOOKUP(A8,'Base de donnée'!A:K,8,FALSE)))=FALSE,IF(VLOOKUP(A8,'Base de donnée'!A:K,8,FALSE)=0,"",VLOOKUP(A8,'Base de donnée'!A:K,8,FALSE)),"") | K8: =IF(ISNA(IF(VLOOKUP(A8,'Base de donnée'!A:K,9,FALSE)=0,"",VLOOKUP(A8,'Base de donnée'!A:K,9,FALSE)))=FALSE,IF(VLOOKUP(A8,'Base de donnée'!A:K,9,FALSE)=0,"",VLOOKUP(A8,'Base de donnée'!A:K,9,FALSE)),"") | L8: =IF(ISNA(IF(VLOOKUP(A8,'Base de donnée'!A:K,10,FALSE)=0,"",VLOOKUP(A8,'Base de donnée'!A:K,10,FALSE)))=FALSE,IF(VLOOKUP(A8,'Base de donnée'!A:K,10,FALSE)=0,"",VLOOKUP(A8,'Base de donnée'!A:K,10,FALSE)),"") | M8: =IF(ISNA(IF(VLOOKUP(A8,'Base de donnée'!A:K,11,FALSE)=0,"",VLOOKUP(A8,'Base de donnée'!A:K,11,FALSE)))=FALSE,IF(VLOOKUP(A8,'Base de donnée'!A:K,11,FALSE)=0,"",VLOOKUP(A8,'Base de donnée'!A:K,11,FALSE)),"")
A9: 74301931 | B9: =IF(ISNA(IF(VLOOKUP(A9,'Base de donnée'!A:K,2,FALSE)=0,"",VLOOKUP(A9,'Base de donnée'!A:K,2,FALSE)))=FALSE,IF(VLOOKUP(A9,'Base de donnée'!A:K,2,FALSE)=0,"",VLOOKUP(A9,'Base de donnée'!A:K,2,FALSE)),"") -> poireaux | H9: =IF(ISNA(IF(VLOOKUP(A9,'Base de donnée'!A:K,6,FALSE)=0,"",VLOOKUP(A9,'Base de donnée'!A:K,6,FALSE)))=FALSE,IF(VLOOKUP(A9,'Base de donnée'!A:K,6,FALSE)=0,"",VLOOKUP(A9,'Base de donnée'!A:K,6,FALSE)),"") | I9: =IF(ISNA(IF(VLOOKUP(A9,'Base de donnée'!A:K,7,FALSE)=0,"",VLOOKUP(A9,'Base de donnée'!A:K,7,FALSE)))=FALSE,IF(VLOOKUP(A9,'Base de donnée'!A:K,7,FALSE)=0,"",VLOOKUP(A9,'Base de donnée'!A:K,7,FALSE)),"") | J9: =IF(ISNA(IF(VLOOKUP(A9,'Base de donnée'!A:K,8,FALSE)=0,"",VLOOKUP(A9,'Base de donnée'!A:K,8,FALSE)))=FALSE,IF(VLOOKUP(A9,'Base de donnée'!A:K,8,FALSE)=0,"",VLOOKUP(A9,'Base de donnée'!A:K,8,FALSE)),"") -> x | K9: =IF(ISNA(IF(VLOOKUP(A9,'Base de donnée'!A:K,9,FALSE)=0,"",VLOOKUP(A9,'Base de donnée'!A:K,9,FALSE)))=FALSE,IF(VLOOKUP(A9,'Base de donnée'!A:K,9,FALSE)=0,"",VLOOKUP(A9,'Base de donnée'!A:K,9,FALSE)),"") | L9: =IF(ISNA(IF(VLOOKUP(A9,'Base de donnée'!A:K,10,FALSE)=0,"",VLOOKUP(A9,'Base de donnée'!A:K,10,FALSE)))=FALSE,IF(VLOOKUP(A9,'Base de donnée'!A:K,10,FALSE)=0,"",VLOOKUP(A9,'Base de donnée'!A:K,10,FALSE)),"") | M9: =IF(ISNA(IF(VLOOKUP(A9,'Base de donnée'!A:K,11,FALSE)=0,"",VLOOKUP(A9,'Base de donnée'!A:K,11,FALSE)))=FALSE,IF(VLOOKUP(A9,'Base de donnée'!A:K,11,FALSE)=0,"",VLOOKUP(A9,'Base de donnée'!A:K,11,FALSE)),"") -> x
B10: =IF(ISNA(IF(VLOOKUP(A10,'Base de donnée'!A:K,2,FALSE)=0,"",VLOOKUP(A10,'Base de donnée'!A:K,2,FALSE)))=FALSE,IF(VLOOKUP(A10,'Base de donnée'!A:K,2,FALSE)=0,"",VLOOKUP(A10,'Base de donnée'!A:K,2,FALSE)),"") | H10: =IF(ISNA(IF(VLOOKUP(A10,'Base de donnée'!A:K,6,FALSE)=0,"",VLOOKUP(A10,'Base de donnée'!A:K,6,FALSE)))=FALSE,IF(VLOOKUP(A10,'Base de donnée'!A:K,6,FALSE)=0,"",VLOOKUP(A10,'Base de donnée'!A:K,6,FALSE)),"") | I10: =IF(ISNA(IF(VLOOKUP(A10,'Base de donnée'!A:K,7,FALSE)=0,"",VLOOKUP(A10,'Base de donnée'!A:K,7,FALSE)))=FALSE,IF(VLOOKUP(A10,'Base de donnée'!A:K,7,FALSE)=0,"",VLOOKUP(A10,'Base de donnée'!A:K,7,FALSE)),"") | J10: =IF(ISNA(IF(VLOOKUP(A10,'Base de donnée'!A:K,8,FALSE)=0,"",VLOOKUP(A10,'Base de donnée'!A:K,8,FALSE)))=FALSE,IF(VLOOKUP(A10,'Base de donnée'!A:K,8,FALSE)=0,"",VLOOKUP(A10,'Base de donnée'!A:K,8,FALSE)),"") | K10: =IF(ISNA(IF(VLOOKUP(A10,'Base de donnée'!A:K,9,FALSE)=0,"",VLOOKUP(A10,'Base de donnée'!A:K,9,FALSE)))=FALSE,IF(VLOOKUP(A10,'Base de donnée'!A:K,9,FALSE)=0,"",VLOOKUP(A10,'Base de donnée'!A:K,9,FALSE)),"") | L10: =IF(ISNA(IF(VLOOKUP(A10,'Base de donnée'!A:K,10,FALSE)=0,"",VLOOKUP(A10,'Base de donnée'!A:K,10,FALSE)))=FALSE,IF(VLOOKUP(A10,'Base de donnée'!A:K,10,FALSE)=0,"",VLOOKUP(A10,'Base de donnée'!A:K,10,FALSE)),"") | M10: =IF(ISNA(IF(VLOOKUP(A10,'Base de donnée'!A:K,11,FALSE)=0,"",VLOOKUP(A10,'Base de donnée'!A:K,11,FALSE)))=FALSE,IF(VLOOKUP(A10,'Base de donnée'!A:K,11,FALSE)=0,"",VLOOKUP(A10,'Base de donnée'!A:K,11,FALSE)),"")
A11: 7330048320 | B11: =IF(ISNA(IF(VLOOKUP(A11,'Base de donnée'!A:K,2,FALSE)=0,"",VLOOKUP(A11,'Base de donnée'!A:K,2,FALSE)))=FALSE,IF(VLOOKUP(A11,'Base de donnée'!A:K,2,FALSE)=0,"",VLOOKUP(A11,'Base de donnée'!A:K,2,FALSE)),"") -> concombres | H11: =IF(ISNA(IF(VLOOKUP(A11,'Base de donnée'!A:K,6,FALSE)=0,"",VLOOKUP(A11,'Base de donnée'!A:K,6,FALSE)))=FALSE,IF(VLOOKUP(A11,'Base de donnée'!A:K,6,FALSE)=0,"",VLOOKUP(A11,'Base de donnée'!A:K,6,FALSE)),"") | I11: =IF(ISNA(IF(VLOOKUP(A11,'Base de donnée'!A:K,7,FALSE)=0,"",VLOOKUP(A11,'Base de donnée'!A:K,7,FALSE)))=FALSE,IF(VLOOKUP(A11,'Base de donnée'!A:K,7,FALSE)=0,"",VLOOKUP(A11,'Base de donnée'!A:K,7,FALSE)),"") | J11: =IF(ISNA(IF(VLOOKUP(A11,'Base de donnée'!A:K,8,FALSE)=0,"",VLOOKUP(A11,'Base de donnée'!A:K,8,FALSE)))=FALSE,IF(VLOOKUP(A11,'Base de donnée'!A:K,8,FALSE)=0,"",VLOOKUP(A11,'Base de donnée'!A:K,8,FALSE)),"") -> x | K11: =IF(ISNA(IF(VLOOKUP(A11,'Base de donnée'!A:K,9,FALSE)=0,"",VLOOKUP(A11,'Base de donnée'!A:K,9,FALSE)))=FALSE,IF(VLOOKUP(A11,'Base de donnée'!A:K,9,FALSE)=0,"",VLOOKUP(A11,'Base de donnée'!A:K,9,FALSE)),"") | L11: =IF(ISNA(IF(VLOOKUP(A11,'Base de donnée'!A:K,10,FALSE)=0,"",VLOOKUP(A11,'Base de donnée'!A:K,10,FALSE)))=FALSE,IF(VLOOKUP(A11,'Base de donnée'!A:K,10,FALSE)=0,"",VLOOKUP(A11,'Base de donnée'!A:K,10,FALSE)),"") | M11: =IF(ISNA(IF(VLOOKUP(A11,'Base de donnée'!A:K,11,FALSE)=0,"",VLOOKUP(A11,'Base de donnée'!A:K,11,FALSE)))=FALSE,IF(VLOOKUP(A11,'Base de donnée'!A:K,11,FALSE)=0,"",VLOOKUP(A11,'Base de donnée'!A:K,11,FALSE)),"") -> x
B12: =IF(ISNA(IF(VLOOKUP(A12,'Base de donnée'!A:K,2,FALSE)=0,"",VLOOKUP(A12,'Base de donnée'!A:K,2,FALSE)))=FALSE,IF(VLOOKUP(A12,'Base de donnée'!A:K,2,FALSE)=0,"",VLOOKUP(A12,'Base de donnée'!A:K,2,FALSE)),"") | H12: =IF(ISNA(IF(VLOOKUP(A12,'Base de donnée'!A:K,6,FALSE)=0,"",VLOOKUP(A12,'Base de donnée'!A:K,6,FALSE)))=FALSE,IF(VLOOKUP(A12,'Base de donnée'!A:K,6,FALSE)=0,"",VLOOKUP(A12,'Base de donnée'!A:K,6,FALSE)),"") | I12: =IF(ISNA(IF(VLOOKUP(A12,'Base de donnée'!A:K,7,FALSE)=0,"",VLOOKUP(A12,'Base de donnée'!A:K,7,FALSE)))=FALSE,IF(VLOOKUP(A12,'Base de donnée'!A:K,7,FALSE)=0,"",VLOOKUP(A12,'Base de donnée'!A:K,7,FALSE)),"") | J12: =IF(ISNA(IF(VLOOKUP(A12,'Base de donnée'!A:K,8,FALSE)=0,"",VLOOKUP(A12,'Base de donnée'!A:K,8,FALSE)))=FALSE,IF(VLOOKUP(A12,'Base de donnée'!A:K,8,FALSE)=0,"",VLOOKUP(A12,'Base de donnée'!A:K,8,FALSE)),"") | K12: =IF(ISNA(IF(VLOOKUP(A12,'Base de donnée'!A:K,9,FALSE)=0,"",VLOOKUP(A12,'Base de donnée'!A:K,9,FALSE)))=FALSE,IF(VLOOKUP(A12,'Base de donnée'!A:K,9,FALSE)=0,"",VLOOKUP(A12,'Base de donnée'!A:K,9,FALSE)),"") | L12: =IF(ISNA(IF(VLOOKUP(A12,'Base de donnée'!A:K,10,FALSE)=0,"",VLOOKUP(A12,'Base de donnée'!A:K,10,FALSE)))=FALSE,IF(VLOOKUP(A12,'Base de donnée'!A:K,10,FALSE)=0,"",VLOOKUP(A12,'Base de donnée'!A:K,10,FALSE)),"") | M12: =IF(ISNA(IF(VLOOKUP(A12,'Base de donnée'!A:K,11,FALSE)=0,"",VLOOKUP(A12,'Base de donnée'!A:K,11,FALSE)))=FALSE,IF(VLOOKUP(A12,'Base de donnée'!A:K,11,FALSE)=0,"",VLOOKUP(A12,'Base de donnée'!A:K,11,FALSE)),"")
A13: 7330048310 | B13: =IF(ISNA(IF(VLOOKUP(A13,'Base de donnée'!A:K,2,FALSE)=0,"",VLOOKUP(A13,'Base de donnée'!A:K,2,FALSE)))=FALSE,IF(VLOOKUP(A13,'Base de donnée'!A:K,2,FALSE)=0,"",VLOOKUP(A13,'Base de donnée'!A:K,2,FALSE)),"") -> tomates | H13: =IF(ISNA(IF(VLOOKUP(A13,'Base de donnée'!A:K,6,FALSE)=0,"",VLOOKUP(A13,'Base de donnée'!A:K,6,FALSE)))=FALSE,IF(VLOOKUP(A13,'Base de donnée'!A:K,6,FALSE)=0,"",VLOOKUP(A13,'Base de donnée'!A:K,6,FALSE)),"") | I13: =IF(ISNA(IF(VLOOKUP(A13,'Base de donnée'!A:K,7,FALSE)=0,"",VLOOKUP(A13,'Base de donnée'!A:K,7,FALSE)))=FALSE,IF(VLOOKUP(A13,'Base de donnée'!A:K,7,FALSE)=0,"",VLOOKUP(A13,'Base de donnée'!A:K,7,FALSE)),"") | J13: =IF(ISNA(IF(VLOOKUP(A13,'Base de donnée'!A:K,8,FALSE)=0,"",VLOOKUP(A13,'Base de donnée'!A:K,8,FALSE)))=FALSE,IF(VLOOKUP(A13,'Base de donnée'!A:K,8,FALSE)=0,"",VLOOKUP(A13,'Base de donnée'!A:K,8,FALSE)),"") | K13: =IF(ISNA(IF(VLOOKUP(A13,'Base de donnée'!A:K,9,FALSE)=0,"",VLOOKUP(A13,'Base de donnée'!A:K,9,FALSE)))=FALSE,IF(VLOOKUP(A13,'Base de donnée'!A:K,9,FALSE)=0,"",VLOOKUP(A13,'Base de donnée'!A:K,9,FALSE)),"") | L13: =IF(ISNA(IF(VLOOKUP(A13,'Base de donnée'!A:K,10,FALSE)=0,"",VLOOKUP(A13,'Base de donnée'!A:K,10,FALSE)))=FALSE,IF(VLOOKUP(A13,'Base de donnée'!A:K,10,FALSE)=0,"",VLOOKUP(A13,'Base de donnée'!A:K,10,FALSE)),"") | M13: =IF(ISNA(IF(VLOOKUP(A13,'Base de donnée'!A:K,11,FALSE)=0,"",VLOOKUP(A13,'Base de donnée'!A:K,11,FALSE)))=FALSE,IF(VLOOKUP(A13,'Base de donnée'!A:K,11,FALSE)=0,"",VLOOKUP(A13,'Base de donnée'!A:K,11,FALSE)),"") -> x
B14: =IF(ISNA(IF(VLOOKUP(A14,'Base de donnée'!A:K,2,FALSE)=0,"",VLOOKUP(A14,'Base de donnée'!A:K,2,FALSE)))=FALSE,IF(VLOOKUP(A14,'Base de donnée'!A:K,2,FALSE)=0,"",VLOOKUP(A14,'Base de donnée'!A:K,2,FALSE)),"") | H14: =IF(ISNA(IF(VLOOKUP(A14,'Base de donnée'!A:K,6,FALSE)=0,"",VLOOKUP(A14,'Base de donnée'!A:K,6,FALSE)))=FALSE,IF(VLOOKUP(A14,'Base de donnée'!A:K,6,FALSE)=0,"",VLOOKUP(A14,'Base de donnée'!A:K,6,FALSE)),"") | I14: =IF(ISNA(IF(VLOOKUP(A14,'Base de donnée'!A:K,7,FALSE)=0,"",VLOOKUP(A14,'Base de donnée'!A:K,7,FALSE)))=FALSE,IF(VLOOKUP(A14,'Base de donnée'!A:K,7,FALSE)=0,"",VLOOKUP(A14,'Base de donnée'!A:K,7,FALSE)),"") | J14: =IF(ISNA(IF(VLOOKUP(A14,'Base de donnée'!A:K,8,FALSE)=0,"",VLOOKUP(A14,'Base de donnée'!A:K,8,FALSE)))=FALSE,IF(VLOOKUP(A14,'Base de donnée'!A:K,8,FALSE)=0,"",VLOOKUP(A14,'Base de donnée'!A:K,8,FALSE)),"") | K14: =IF(ISNA(IF(VLOOKUP(A14,'Base de donnée'!A:K,9,FALSE)=0,"",VLOOKUP(A14,'Base de donnée'!A:K,9,FALSE)))=FALSE,IF(VLOOKUP(A14,'Base de donnée'!A:K,9,FALSE)=0,"",VLOOKUP(A14,'Base de donnée'!A:K,9,FALSE)),"") | L14: =IF(ISNA(IF(VLOOKUP(A14,'Base de donnée'!A:K,10,FALSE)=0,"",VLOOKUP(A14,'Base de donnée'!A:K,10,FALSE)))=FALSE,IF(VLOOKUP(A14,'Base de donnée'!A:K,10,FALSE)=0,"",VLOOKUP(A14,'Base de donnée'!A:K,10,FALSE)),"") | M14: =IF(ISNA(IF(VLOOKUP(A14,'Base de donnée'!A:K,11,FALSE)=0,"",VLOOKUP(A14,'Base de donnée'!A:K,11,FALSE)))=FALSE,IF(VLOOKUP(A14,'Base de donnée'!A:K,11,FALSE)=0,"",VLOOKUP(A14,'Base de donnée'!A:K,11,FALSE)),"")
A15: 74301931 | B15: =IF(ISNA(IF(VLOOKUP(A15,'Base de donnée'!A:K,2,FALSE)=0,"",VLOOKUP(A15,'Base de donnée'!A:K,2,FALSE)))=FALSE,IF(VLOOKUP(A15,'Base de donnée'!A:K,2,FALSE)=0,"",VLOOKUP(A15,'Base de donnée'!A:K,2,FALSE)),"") -> poireaux | H15: =IF(ISNA(IF(VLOOKUP(A15,'Base de donnée'!A:K,6,FALSE)=0,"",VLOOKUP(A15,'Base de donnée'!A:K,6,FALSE)))=FALSE,IF(VLOOKUP(A15,'Base de donnée'!A:K,6,FALSE)=0,"",VLOOKUP(A15,'Base de donnée'!A:K,6,FALSE)),"") | I15: =IF(ISNA(IF(VLOOKUP(A15,'Base de donnée'!A:K,7,FALSE)=0,"",VLOOKUP(A15,'Base de donnée'!A:K,7,FALSE)))=FALSE,IF(VLOOKUP(A15,'Base de donnée'!A:K,7,FALSE)=0,"",VLOOKUP(A15,'Base de donnée'!A:K,7,FALSE)),"") | J15: =IF(ISNA(IF(VLOOKUP(A15,'Base de donnée'!A:K,8,FALSE)=0,"",VLOOKUP(A15,'Base de donnée'!A:K,8,FALSE)))=FALSE,IF(VLOOKUP(A15,'Base de donnée'!A:K,8,FALSE)=0,"",VLOOKUP(A15,'Base de donnée'!A:K,8,FALSE)),"") -> x | K15: =IF(ISNA(IF(VLOOKUP(A15,'Base de donnée'!A:K,9,FALSE)=0,"",VLOOKUP(A15,'Base de donnée'!A:K,9,FALSE)))=FALSE,IF(VLOOKUP(A15,'Base de donnée'!A:K,9,FALSE)=0,"",VLOOKUP(A15,'Base de donnée'!A:K,9,FALSE)),"") | L15: =IF(ISNA(IF(VLOOKUP(A15,'Base de donnée'!A:K,10,FALSE)=0,"",VLOOKUP(A15,'Base de donnée'!A:K,10,FALSE)))=FALSE,IF(VLOOKUP(A15,'Base de donnée'!A:K,10,FALSE)=0,"",VLOOKUP(A15,'Base de donnée'!A:K,10,FALSE)),"") | M15: =IF(ISNA(IF(VLOOKUP(A15,'Base de donnée'!A:K,11,FALSE)=0,"",VLOOKUP(A15,'Base de donnée'!A:K,11,FALSE)))=FALSE,IF(VLOOKUP(A15,'Base de donnée'!A:K,11,FALSE)=0,"",VLOOKUP(A15,'Base de donnée'!A:K,11,FALSE)),"") -> x
B16: =IF(ISNA(IF(VLOOKUP(A16,'Base de donnée'!A:K,2,FALSE)=0,"",VLOOKUP(A16,'Base de donnée'!A:K,2,FALSE)))=FALSE,IF(VLOOKUP(A16,'Base de donnée'!A:K,2,FALSE)=0,"",VLOOKUP(A16,'Base de donnée'!A:K,2,FALSE)),"") | H16: =IF(ISNA(IF(VLOOKUP(A16,'Base de donnée'!A:K,6,FALSE)=0,"",VLOOKUP(A16,'Base de donnée'!A:K,6,FALSE)))=FALSE,IF(VLOOKUP(A16,'Base de donnée'!A:K,6,FALSE)=0,"",VLOOKUP(A16,'Base de donnée'!A:K,6,FALSE)),"") | I16: =IF(ISNA(IF(VLOOKUP(A16,'Base de donnée'!A:K,7,FALSE)=0,"",VLOOKUP(A16,'Base de donnée'!A:K,7,FALSE)))=FALSE,IF(VLOOKUP(A16,'Base de donnée'!A:K,7,FALSE)=0,"",VLOOKUP(A16,'Base de donnée'!A:K,7,FALSE)),"") | J16: =IF(ISNA(IF(VLOOKUP(A16,'Base de donnée'!A:K,8,FALSE)=0,"",VLOOKUP(A16,'Base de donnée'!A:K,8,FALSE)))=FALSE,IF(VLOOKUP(A16,'Base de donnée'!A:K,8,FALSE)=0,"",VLOOKUP(A16,'Base de donnée'!A:K,8,FALSE)),"") | K16: =IF(ISNA(IF(VLOOKUP(A16,'Base de donnée'!A:K,9,FALSE)=0,"",VLOOKUP(A16,'Base de donnée'!A:K,9,FALSE)))=FALSE,IF(VLOOKUP(A16,'Base de donnée'!A:K,9,FALSE)=0,"",VLOOKUP(A16,'Base de donnée'!A:K,9,FALSE)),"") | L16: =IF(ISNA(IF(VLOOKUP(A16,'Base de donnée'!A:K,10,FALSE)=0,"",VLOOKUP(A16,'Base de donnée'!A:K,10,FALSE)))=FALSE,IF(VLOOKUP(A16,'Base de donnée'!A:K,10,FALSE)=0,"",VLOOKUP(A16,'Base de donnée'!A:K,10,FALSE)),"") | M16: =IF(ISNA(IF(VLOOKUP(A16,'Base de donnée'!A:K,11,FALSE)=0,"",VLOOKUP(A16,'Base de donnée'!A:K,11,FALSE)))=FALSE,IF(VLOOKUP(A16,'Base de donnée'!A:K,11,FALSE)=0,"",VLOOKUP(A16,'Base de donnée'!A:K,11,FALSE)),"")
A17: 7330065310 | B17: =IF(ISNA(IF(VLOOKUP(A17,'Base de donnée'!A:K,2,FALSE)=0,"",VLOOKUP(A17,'Base de donnée'!A:K,2,FALSE)))=FALSE,IF(VLOOKUP(A17,'Base de donnée'!A:K,2,FALSE)=0,"",VLOOKUP(A17,'Base de donnée'!A:K,2,FALSE)),"") -> voiture | H17: =IF(ISNA(IF(VLOOKUP(A17,'Base de donnée'!A:K,6,FALSE)=0,"",VLOOKUP(A17,'Base de donnée'!A:K,6,FALSE)))=FALSE,IF(VLOOKUP(A17,'Base de donnée'!A:K,6,FALSE)=0,"",VLOOKUP(A17,'Base de donnée'!A:K,6,FALSE)),"") | I17: =IF(ISNA(IF(VLOOKUP(A17,'Base de donnée'!A:K,7,FALSE)=0,"",VLOOKUP(A17,'Base de donnée'!A:K,7,FALSE)))=FALSE,IF(VLOOKUP(A17,'Base de donnée'!A:K,7,FALSE)=0,"",VLOOKUP(A17,'Base de donnée'!A:K,7,FALSE)),"") -> x | J17: =IF(ISNA(IF(VLOOKUP(A17,'Base de donnée'!A:K,8,FALSE)=0,"",VLOOKUP(A17,'Base de donnée'!A:K,8,FALSE)))=FALSE,IF(VLOOKUP(A17,'Base de donnée'!A:K,8,FALSE)=0,"",VLOOKUP(A17,'Base de donnée'!A:K,8,FALSE)),"") | K17: =IF(ISNA(IF(VLOOKUP(A17,'Base de donnée'!A:K,9,FALSE)=0,"",VLOOKUP(A17,'Base de donnée'!A:K,9,FALSE)))=FALSE,IF(VLOOKUP(A17,'Base de donnée'!A:K,9,FALSE)=0,"",VLOOKUP(A17,'Base de donnée'!A:K,9,FALSE)),"") | L17: =IF(ISNA(IF(VLOOKUP(A17,'Base de donnée'!A:K,10,FALSE)=0,"",VLOOKUP(A17,'Base de donnée'!A:K,10,FALSE)))=FALSE,IF(VLOOKUP(A17,'Base de donnée'!A:K,10,FALSE)=0,"",VLOOKUP(A17,'Base de donnée'!A:K,10,FALSE)),"") | M17: =IF(ISNA(IF(VLOOKUP(A17,'Base de donnée'!A:K,11,FALSE)=0,"",VLOOKUP(A17,'Base de donnée'!A:K,11,FALSE)))=FALSE,IF(VLOOKUP(A17,'Base de donnée'!A:K,11,FALSE)=0,"",VLOOKUP(A17,'Base de donnée'!A:K,11,FALSE)),"") -> x
B18: =IF(ISNA(IF(VLOOKUP(A18,'Base de donnée'!A:K,2,FALSE)=0,"",VLOOKUP(A18,'Base de donnée'!A:K,2,FALSE)))=FALSE,IF(VLOOKUP(A18,'Base de donnée'!A:K,2,FALSE)=0,"",VLOOKUP(A18,'Base de donnée'!A:K,2,FALSE)),"") | H18: =IF(ISNA(IF(VLOOKUP(A18,'Base de donnée'!A:K,6,FALSE)=0,"",VLOOKUP(A18,'Base de donnée'!A:K,6,FALSE)))=FALSE,IF(VLOOKUP(A18,'Base de donnée'!A:K,6,FALSE)=0,"",VLOOKUP(A18,'Base de donnée'!A:K,6,FALSE)),"") | I18: =IF(ISNA(IF(VLOOKUP(A18,'Base de donnée'!A:K,7,FALSE)=0,"",VLOOKUP(A18,'Base de donnée'!A:K,7,FALSE)))=FALSE,IF(VLOOKUP(A18,'Base de donnée'!A:K,7,FALSE)=0,"",VLOOKUP(A18,'Base de donnée'!A:K,7,FALSE)),"") | J18: =IF(ISNA(IF(VLOOKUP(A18,'Base de donnée'!A:K,8,FALSE)=0,"",VLOOKUP(A18,'Base de donnée'!A:K,8,FALSE)))=FALSE,IF(VLOOKUP(A18,'Base de donnée'!A:K,8,FALSE)=0,"",VLOOKUP(A18,'Base de donnée'!A:K,8,FALSE)),"") | K18: =IF(ISNA(IF(VLOOKUP(A18,'Base de donnée'!A:K,9,FALSE)=0,"",VLOOKUP(A18,'Base de donnée'!A:K,9,FALSE)))=FALSE,IF(VLOOKUP(A18,'Base de donnée'!A:K,9,FALSE)=0,"",VLOOKUP(A18,'Base de donnée'!A:K,9,FALSE)),"") | L18: =IF(ISNA(IF(VLOOKUP(A18,'Base de donnée'!A:K,10,FALSE)=0,"",VLOOKUP(A18,'Base de donnée'!A:K,10,FALSE)))=FALSE,IF(VLOOKUP(A18,'Base de donnée'!A:K,10,FALSE)=0,"",VLOOKUP(A18,'Base de donnée'!A:K,10,FALSE)),"") | M18: =IF(ISNA(IF(VLOOKUP(A18,'Base de donnée'!A:K,11,FALSE)=0,"",VLOOKUP(A18,'Base de donnée'!A:K,11,FALSE)))=FALSE,IF(VLOOKUP(A18,'Base de donnée'!A:K,11,FALSE)=0,"",VLOOKUP(A18,'Base de donnée'!A:K,11,FALSE)),"")
A19: 7110002 | B19: =IF(ISNA(IF(VLOOKUP(A19,'Base de donnée'!A:K,2,FALSE)=0,"",VLOOKUP(A19,'Base de donnée'!A:K,2,FALSE)))=FALSE,IF(VLOOKUP(A19,'Base de donnée'!A:K,2,FALSE)=0,"",VLOOKUP(A19,'Base de donnée'!A:K,2,FALSE)),"") -> bois | F19: 300 | H19: =IF(ISNA(IF(VLOOKUP(A19,'Base de donnée'!A:K,6,FALSE)=0,"",VLOOKUP(A19,'Base de donnée'!A:K,6,FALSE)))=FALSE,IF(VLOOKUP(A19,'Base de donnée'!A:K,6,FALSE)=0,"",VLOOKUP(A19,'Base de donnée'!A:K,6,FALSE)),"") -> x | I19: =IF(ISNA(IF(VLOOKUP(A19,'Base de donnée'!A:K,7,FALSE)=0,"",VLOOKUP(A19,'Base de donnée'!A:K,7,FALSE)))=FALSE,IF(VLOOKUP(A19,'Base de donnée'!A:K,7,FALSE)=0,"",VLOOKUP(A19,'Base de donnée'!A:K,7,FALSE)),"") | J19: =IF(ISNA(IF(VLOOKUP(A19,'Base de donnée'!A:K,8,FALSE)=0,"",VLOOKUP(A19,'Base de donnée'!A:K,8,FALSE)))=FALSE,IF(VLOOKUP(A19,'Base de donnée'!A:K,8,FALSE)=0,"",VLOOKUP(A19,'Base de donnée'!A:K,8,FALSE)),"") | K19: =IF(ISNA(IF(VLOOKUP(A19,'Base de donnée'!A:K,9,FALSE)=0,"",VLOOKUP(A19,'Base de donnée'!A:K,9,FALSE)))=FALSE,IF(VLOOKUP(A19,'Base de donnée'!A:K,9,FALSE)=0,"",VLOOKUP(A19,'Base de donnée'!A:K,9,FALSE)),"") | L19: =IF(ISNA(IF(VLOOKUP(A19,'Base de donnée'!A:K,10,FALSE)=0,"",VLOOKUP(A19,'Base de donnée'!A:K,10,FALSE)))=FALSE,IF(VLOOKUP(A19,'Base de donnée'!A:K,10,FALSE)=0,"",VLOOKUP(A19,'Base de donnée'!A:K,10,FALSE)),"") -> x | M19: =IF(ISNA(IF(VLOOKUP(A19,'Base de donnée'!A:K,11,FALSE)=0,"",VLOOKUP(A19,'Base de donnée'!A:K,11,FALSE)))=FALSE,IF(VLOOKUP(A19,'Base de donnée'!A:K,11,FALSE)=0,"",VLOOKUP(A19,'Base de donnée'!A:K,11,FALSE)),"")
B20: =IF(ISNA(IF(VLOOKUP(A20,'Base de donnée'!A:K,2,FALSE)=0,"",VLOOKUP(A20,'Base de donnée'!A:K,2,FALSE)))=FALSE,IF(VLOOKUP(A20,'Base de donnée'!A:K,2,FALSE)=0,"",VLOOKUP(A20,'Base de donnée'!A:K,2,FALSE)),"") | H20: =IF(ISNA(IF(VLOOKUP(A20,'Base de donnée'!A:K,6,FALSE)=0,"",VLOOKUP(A20,'Base de donnée'!A:K,6,FALSE)))=FALSE,IF(VLOOKUP(A20,'Base de donnée'!A:K,6,FALSE)=0,"",VLOOKUP(A20,'Base de donnée'!A:K,6,FALSE)),"") | I20: =IF(ISNA(IF(VLOOKUP(A20,'Base de donnée'!A:K,7,FALSE)=0,"",VLOOKUP(A20,'Base de donnée'!A:K,7,FALSE)))=FALSE,IF(VLOOKUP(A20,'Base de donnée'!A:K,7,FALSE)=0,"",VLOOKUP(A20,'Base de donnée'!A:K,7,FALSE)),"") | J20: =IF(ISNA(IF(VLOOKUP(A20,'Base de donnée'!A:K,8,FALSE)=0,"",VLOOKUP(A20,'Base de donnée'!A:K,8,FALSE)))=FALSE,IF(VLOOKUP(A20,'Base de donnée'!A:K,8,FALSE)=0,"",VLOOKUP(A20,'Base de donnée'!A:K,8,FALSE)),"") | K20: =IF(ISNA(IF(VLOOKUP(A20,'Base de donnée'!A:K,9,FALSE)=0,"",VLOOKUP(A20,'Base de donnée'!A:K,9,FALSE)))=FALSE,IF(VLOOKUP(A20,'Base de donnée'!A:K,9,FALSE)=0,"",VLOOKUP(A20,'Base de donnée'!A:K,9,FALSE)),"") | L20: =IF(ISNA(IF(VLOOKUP(A20,'Base de donnée'!A:K,10,FALSE)=0,"",VLOOKUP(A20,'Base de donnée'!A:K,10,FALSE)))=FALSE,IF(VLOOKUP(A20,'Base de donnée'!A:K,10,FALSE)=0,"",VLOOKUP(A20,'Base de donnée'!A:K,10,FALSE)),"") | M20: =IF(ISNA(IF(VLOOKUP(A20,'Base de donnée'!A:K,11,FALSE)=0,"",VLOOKUP(A20,'Base de donnée'!A:K,11,FALSE)))=FALSE,IF(VLOOKUP(A20,'Base de donnée'!A:K,11,FALSE)=0,"",VLOOKUP(A20,'Base de donnée'!A:K,11,FALSE)),"")
A21: 72300008 | B21: =IF(ISNA(IF(VLOOKUP(A21,'Base de donnée'!A:K,2,FALSE)=0,"",VLOOKUP(A21,'Base de donnée'!A:K,2,FALSE)))=FALSE,IF(VLOOKUP(A21,'Base de donnée'!A:K,2,FALSE)=0,"",VLOOKUP(A21,'Base de donnée'!A:K,2,FALSE)),"") -> vélo | H21: =IF(ISNA(IF(VLOOKUP(A21,'Base de donnée'!A:K,6,FALSE)=0,"",VLOOKUP(A21,'Base de donnée'!A:K,6,FALSE)))=FALSE,IF(VLOOKUP(A21,'Base de donnée'!A:K,6,FALSE)=0,"",VLOOKUP(A21,'Base de donnée'!A:K,6,FALSE)),"") | I21: =IF(ISNA(IF(VLOOKUP(A21,'Base de donnée'!A:K,7,FALSE)=0,"",VLOOKUP(A21,'Base de donnée'!A:K,7,FALSE)))=FALSE,IF(VLOOKUP(A21,'Base de donnée'!A:K,7,FALSE)=0,"",VLOOKUP(A21,'Base de donnée'!A:K,7,FALSE)),"") -> x | J21: =IF(ISNA(IF(VLOOKUP(A21,'Base de donnée'!A:K,8,FALSE)=0,"",VLOOKUP(A21,'Base de donnée'!A:K,8,FALSE)))=FALSE,IF(VLOOKUP(A21,'Base de donnée'!A:K,8,FALSE)=0,"",VLOOKUP(A21,'Base de donnée'!A:K,8,FALSE)),"") | K21: =IF(ISNA(IF(VLOOKUP(A21,'Base de donnée'!A:K,9,FALSE)=0,"",VLOOKUP(A21,'Base de donnée'!A:K,9,FALSE)))=FALSE,IF(VLOOKUP(A21,'Base de donnée'!A:K,9,FALSE)=0,"",VLOOKUP(A21,'Base de donnée'!A:K,9,FALSE)),"") -> x | L21: =IF(ISNA(IF(VLOOKUP(A21,'Base de donnée'!A:K,10,FALSE)=0,"",VLOOKUP(A21,'Base de donnée'!A:K,10,FALSE)))=FALSE,IF(VLOOKUP(A21,'Base de donnée'!A:K,10,FALSE)=0,"",VLOOKUP(A21,'Base de donnée'!A:K,10,FALSE)),"") | M21: =IF(ISNA(IF(VLOOKUP(A21,'Base de donnée'!A:K,11,FALSE)=0,"",VLOOKUP(A21,'Base de donnée'!A:K,11,FALSE)))=FALSE,IF(VLOOKUP(A21,'Base de donnée'!A:K,11,FALSE)=0,"",VLOOKUP(A21,'Base de donnée'!A:K,11,FALSE)),"") -> x
B22: =IF(ISNA(IF(VLOOKUP(A22,'Base de donnée'!A:K,2,FALSE)=0,"",VLOOKUP(A22,'Base de donnée'!A:K,2,FALSE)))=FALSE,IF(VLOOKUP(A22,'Base de donnée'!A:K,2,FALSE)=0,"",VLOOKUP(A22,'Base de donnée'!A:K,2,FALSE)),"") | H22: =IF(ISNA(IF(VLOOKUP(A22,'Base de donnée'!A:K,6,FALSE)=0,"",VLOOKUP(A22,'Base de donnée'!A:K,6,FALSE)))=FALSE,IF(VLOOKUP(A22,'Base de donnée'!A:K,6,FALSE)=0,"",VLOOKUP(A22,'Base de donnée'!A:K,6,FALSE)),"") | I22: =IF(ISNA(IF(VLOOKUP(A22,'Base de donnée'!A:K,7,FALSE)=0,"",VLOOKUP(A22,'Base de donnée'!A:K,7,FALSE)))=FALSE,IF(VLOOKUP(A22,'Base de donnée'!A:K,7,FALSE)=0,"",VLOOKUP(A22,'Base de donnée'!A:K,7,FALSE)),"") | J22: =IF(ISNA(IF(VLOOKUP(A22,'Base de donnée'!A:K,8,FALSE)=0,"",VLOOKUP(A22,'Base de donnée'!A:K,8,FALSE)))=FALSE,IF(VLOOKUP(A22,'Base de donnée'!A:K,8,FALSE)=0,"",VLOOKUP(A22,'Base de donnée'!A:K,8,FALSE)),"") | K22: =IF(ISNA(IF(VLOOKUP(A22,'Base de donnée'!A:K,9,FALSE)=0,"",VLOOKUP(A22,'Base de donnée'!A:K,9,FALSE)))=FALSE,IF(VLOOKUP(A22,'Base de donnée'!A:K,9,FALSE)=0,"",VLOOKUP(A22,'Base de donnée'!A:K,9,FALSE)),"") | L22: =IF(ISNA(IF(VLOOKUP(A22,'Base de donnée'!A:K,10,FALSE)=0,"",VLOOKUP(A22,'Base de donnée'!A:K,10,FALSE)))=FALSE,IF(VLOOKUP(A22,'Base de donnée'!A:K,10,FALSE)=0,"",VLOOKUP(A22,'Base de donnée'!A:K,10,FALSE)),"") | M22: =IF(ISNA(IF(VLOOKUP(A22,'Base de donnée'!A:K,11,FALSE)=0,"",VLOOKUP(A22,'Base de donnée'!A:K,11,FALSE)))=FALSE,IF(VLOOKUP(A22,'Base de donnée'!A:K,11,FALSE)=0,"",VLOOKUP(A22,'Base de donnée'!A:K,11,FALSE)),"")
B23: =IF(ISNA(IF(VLOOKUP(A23,'Base de donnée'!A:K,2,FALSE)=0,"",VLOOKUP(A23,'Base de donnée'!A:K,2,FALSE)))=FALSE,IF(VLOOKUP(A23,'Base de donnée'!A:K,2,FALSE)=0,"",VLOOKUP(A23,'Base de donnée'!A:K,2,FALSE)),"") | H23: =IF(ISNA(IF(VLOOKUP(A23,'Base de donnée'!A:K,6,FALSE)=0,"",VLOOKUP(A23,'Base de donnée'!A:K,6,FALSE)))=FALSE,IF(VLOOKUP(A23,'Base de donnée'!A:K,6,FALSE)=0,"",VLOOKUP(A23,'Base de donnée'!A:K,6,FALSE)),"") | I23: =IF(ISNA(IF(VLOOKUP(A23,'Base de donnée'!A:K,7,FALSE)=0,"",VLOOKUP(A23,'Base de donnée'!A:K,7,FALSE)))=FALSE,IF(VLOOKUP(A23,'Base de donnée'!A:K,7,FALSE)=0,"",VLOOKUP(A23,'Base de donnée'!A:K,7,FALSE)),"") | J23: =IF(ISNA(IF(VLOOKUP(A23,'Base de donnée'!A:K,8,FALSE)=0,"",VLOOKUP(A23,'Base de donnée'!A:K,8,FALSE)))=FALSE,IF(VLOOKUP(A23,'Base de donnée'!A:K,8,FALSE)=0,"",VLOOKUP(A23,'Base de donnée'!A:K,8,FALSE)),"") | K23: =IF(ISNA(IF(VLOOKUP(A23,'Base de donnée'!A:K,9,FALSE)=0,"",VLOOKUP(A23,'Base de donnée'!A:K,9,FALSE)))=FALSE,IF(VLOOKUP(A23,'Base de donnée'!A:K,9,FALSE)=0,"",VLOOKUP(A23,'Base de donnée'!A:K,9,FALSE)),"") | L23: =IF(ISNA(IF(VLOOKUP(A23,'Base de donnée'!A:K,10,FALSE)=0,"",VLOOKUP(A23,'Base de donnée'!A:K,10,FALSE)))=FALSE,IF(VLOOKUP(A23,'Base de donnée'!A:K,10,FALSE)=0,"",VLOOKUP(A23,'Base de donnée'!A:K,10,FALSE)),"") | M23: =IF(ISNA(IF(VLOOKUP(A23,'Base de donnée'!A:K,11,FALSE)=0,"",VLOOKUP(A23,'Base de donnée'!A:K,11,FALSE)))=FALSE,IF(VLOOKUP(A23,'Base de donnée'!A:K,11,FALSE)=0,"",VLOOKUP(A23,'Base de donnée'!A:K,11,FALSE)),"")
B24: =IF(ISNA(IF(VLOOKUP(A24,'Base de donnée'!A:K,2,FALSE)=0,"",VLOOKUP(A24,'Base de donnée'!A:K,2,FALSE)))=FALSE,IF(VLOOKUP(A24,'Base de donnée'!A:K,2,FALSE)=0,"",VLOOKUP(A24,'Base de donnée'!A:K,2,FALSE)),"") | H24: =IF(ISNA(IF(VLOOKUP(A24,'Base de donnée'!A:K,6,FALSE)=0,"",VLOOKUP(A24,'Base de donnée'!A:K,6,FALSE)))=FALSE,IF(VLOOKUP(A24,'Base de donnée'!A:K,6,FALSE)=0,"",VLOOKUP(A24,'Base de donnée'!A:K,6,FALSE)),"") | I24: =IF(ISNA(IF(VLOOKUP(A24,'Base de donnée'!A:K,7,FALSE)=0,"",VLOOKUP(A24,'Base de donnée'!A:K,7,FALSE)))=FALSE,IF(VLOOKUP(A24,'Base de donnée'!A:K,7,FALSE)=0,"",VLOOKUP(A24,'Base de donnée'!A:K,7,FALSE)),"") | J24: =IF(ISNA(IF(VLOOKUP(A24,'Base de donnée'!A:K,8,FALSE)=0,"",VLOOKUP(A24,'Base de donnée'!A:K,8,FALSE)))=FALSE,IF(VLOOKUP(A24,'Base de donnée'!A:K,8,FALSE)=0,"",VLOOKUP(A24,'Base de donnée'!A:K,8,FALSE)),"") | K24: =IF(ISNA(IF(VLOOKUP(A24,'Base de donnée'!A:K,9,FALSE)=0,"",VLOOKUP(A24,'Base de donnée'!A:K,9,FALSE)))=FALSE,IF(VLOOKUP(A24,'Base de donnée'!A:K,9,FALSE)=0,"",VLOOKUP(A24,'Base de donnée'!A:K,9,FALSE)),"") | L24: =IF(ISNA(IF(VLOOKUP(A24,'Base de donnée'!A:K,10,FALSE)=0,"",VLOOKUP(A24,'Base de donnée'!A:K,10,FALSE)))=FALSE,IF(VLOOKUP(A24,'Base de donnée'!A:K,10,FALSE)=0,"",VLOOKUP(A24,'Base de donnée'!A:K,10,FALSE)),"") | M24: =IF(ISNA(IF(VLOOKUP(A24,'Base de donnée'!A:K,11,FALSE)=0,"",VLOOKUP(A24,'Base de donnée'!A:K,11,FALSE)))=FALSE,IF(VLOOKUP(A24,'Base de donnée'!A:K,11,FALSE)=0,"",VLOOKUP(A24,'Base de donnée'!A:K,11,FALSE)),"")
