Workbook

Sheet Données brutes
A1: Mois | B1: Semaine | C1: CA | D1: Date réelle | E1: Date de clôture | F1: ND intervention | G1: Code travaux | H1: Nb Travaux
A2: =(YEAR(Tableau2[[#This Row],[Date réelle]])-2000)&"_"&IF(MONTH(Tableau2[[#This Row],[Date réelle]])>9,"","0")&MONTH(Tableau2[[#This Row],[Date réelle]]) -> 15_10 | B2: =(YEAR(Tableau2[[#This Row],[Date réelle]])-2000)&"S"&IF(_xlfn.ISOWEEKNUM(Tableau2[[#This Row],[Date réelle]])>9,"","0")&_xlfn.ISOWEEKNUM(Tableau2[[#This Row],[Date réelle]]) -> 15S40 | C2: =IF(F2<>"",VLOOKUP('Données brutes'!G2,Tableau1[[Forfait]:[PV ]],2,FALSE)*'Données brutes'!H2) -> 56 | D2: =INT(Tableau2[[#This Row],[Date de clôture ]]) -> 42279 | E2: 42279 | F2: 556504461 | G2: BAOC | H2: 1
A3: =(YEAR(Tableau2[[#This Row],[Date réelle]])-2000)&"_"&IF(MONTH(Tableau2[[#This Row],[Date réelle]])>9,"","0")&MONTH(Tableau2[[#This Row],[Date réelle]]) -> 15_10 | B3: =(YEAR(Tableau2[[#This Row],[Date réelle]])-2000)&"S"&IF(_xlfn.ISOWEEKNUM(Tableau2[[#This Row],[Date réelle]])>9,"","0")&_xlfn.ISOWEEKNUM(Tableau2[[#This Row],[Date réelle]]) -> 15S40 | C3: =IF(F3<>"",VLOOKUP('Données brutes'!G3,Tableau1[[Forfait]:[PV ]],2,FALSE)*'Données brutes'!H3) -> 3 | D3: =INT(Tableau2[[#This Row],[Date de clôture ]]) -> 42279 | E3: 42279 | F3: 556506480 | G3: JRTOR | H3: 1
A4: =(YEAR(Tableau2[[#This Row],[Date réelle]])-2000)&"_"&IF(MONTH(Tableau2[[#This Row],[Date réelle]])>9,"","0")&MONTH(Tableau2[[#This Row],[Date réelle]]) -> 15_10 | B4: =(YEAR(Tableau2[[#This Row],[Date réelle]])-2000)&"S"&IF(_xlfn.ISOWEEKNUM(Tableau2[[#This Row],[Date réelle]])>9,"","0")&_xlfn.ISOWEEKNUM(Tableau2[[#This Row],[Date réelle]]) -> 15S40 | C4: =IF(F4<>"",VLOOKUP('Données brutes'!G4,Tableau1[[Forfait]:[PV ]],2,FALSE)*'Données brutes'!H4) -> 3 | D4: =INT(Tableau2[[#This Row],[Date de clôture ]]) -> 42279 | E4: 42279 | F4: 556504461 | G4: JRTOR | H4: 1
A5: =(YEAR(Tableau2[[#This Row],[Date réelle]])-2000)&"_"&IF(MONTH(Tableau2[[#This Row],[Date réelle]])>9,"","0")&MONTH(Tableau2[[#This Row],[Date réelle]]) -> 15_10 | B5: =(YEAR(Tableau2[[#This Row],[Date réelle]])-2000)&"S"&IF(_xlfn.ISOWEEKNUM(Tableau2[[#This Row],[Date réelle]])>9,"","0")&_xlfn.ISOWEEKNUM(Tableau2[[#This Row],[Date réelle]]) -> 15S40 | C5: =IF(F5<>"",VLOOKUP('Données brutes'!G5,Tableau1[[Forfait]:[PV ]],2,FALSE)*'Données brutes'!H5) -> 3.4 | D5: =INT(Tableau2[[#This Row],[Date de clôture ]]) -> 42279 | E5: 42279 | F5: 556506480 | G5: MSONT | H5: 1
A6: =(YEAR(Tableau2[[#This Row],[Date réelle]])-2000)&"_"&IF(MONTH(Tableau2[[#This Row],[Date réelle]])>9,"","0")&MONTH(Tableau2[[#This Row],[Date réelle]]) -> 15_10 | B6: =(YEAR(Tableau2[[#This Row],[Date réelle]])-2000)&"S"&IF(_xlfn.ISOWEEKNUM(Tableau2[[#This Row],[Date réelle]])>9,"","0")&_xlfn.ISOWEEKNUM(Tableau2[[#This Row],[Date réelle]]) -> 15S40 | C6: =IF(F6<>"",VLOOKUP('Données brutes'!G6,Tableau1[[Forfait]:[PV ]],2,FALSE)*'Données brutes'!H6) -> 3.4 | D6: =INT(Tableau2[[#This Row],[Date de clôture ]]) -> 42279 | E6: 42279 | F6: 556504461 | G6: MSONT | H6: 1
A7: =(YEAR(Tableau2[[#This Row],[Date réelle]])-2000)&"_"&IF(MONTH(Tableau2[[#This Row],[Date réelle]])>9,"","0")&MONTH(Tableau2[[#This Row],[Date réelle]]) -> 15_10 | B7: =(YEAR(Tableau2[[#This Row],[Date réelle]])-2000)&"S"&IF(_xlfn.ISOWEEKNUM(Tableau2[[#This Row],[Date réelle]])>9,"","0")&_xlfn.ISOWEEKNUM(Tableau2[[#This Row],[Date réelle]]) -> 15S40 | C7: =IF(F7<>"",VLOOKUP('Données brutes'!G7,Tableau1[[Forfait]:[PV ]],2,FALSE)*'Données brutes'!H7) -> 34 | D7: =INT(Tableau2[[#This Row],[Date de clôture ]]) -> 42279 | E7: 42279 | F7: 556506480 | G7: SFTTH | H7: 1
A8: =(YEAR(Tableau2[[#This Row],[Date réelle]])-2000)&"_"&IF(MONTH(Tableau2[[#This Row],[Date réelle]])>9,"","0")&MONTH(Tableau2[[#This Row],[Date réelle]]) -> 15_10 | B8: =(YEAR(Tableau2[[#This Row],[Date réelle]])-2000)&"S"&IF(_xlfn.ISOWEEKNUM(Tableau2[[#This Row],[Date réelle]])>9,"","0")&_xlfn.ISOWEEKNUM(Tableau2[[#This Row],[Date réelle]]) -> 15S40 | C8: =IF(F8<>"",VLOOKUP('Données brutes'!G8,Tableau1[[Forfait]:[PV ]],2,FALSE)*'Données brutes'!H8) -> 34 | D8: =INT(Tableau2[[#This Row],[Date de clôture ]]) -> 42279 | E8: 42279 | F8: 556504461 | G8: SFTTH | H8: 1
A9: =(YEAR(Tableau2[[#This Row],[Date réelle]])-2000)&"_"&IF(MONTH(Tableau2[[#This Row],[Date réelle]])>9,"","0")&MONTH(Tableau2[[#This Row],[Date réelle]]) -> 15_10 | B9: =(YEAR(Tableau2[[#This Row],[Date réelle]])-2000)&"S"&IF(_xlfn.ISOWEEKNUM(Tableau2[[#This Row],[Date réelle]])>9,"","0")&_xlfn.ISOWEEKNUM(Tableau2[[#This Row],[Date réelle]]) -> 15S41 | C9: =IF(F9<>"",VLOOKUP('Données brutes'!G9,Tableau1[[Forfait]:[PV ]],2,FALSE)*'Données brutes'!H9) -> 130 | D9: =INT(Tableau2[[#This Row],[Date de clôture ]]) -> 42283 | E9: 42283 | F9: 557547289 | G9: BAST | H9: 1
A10: =(YEAR(Tableau2[[#This Row],[Date réelle]])-2000)&"_"&IF(MONTH(Tableau2[[#This Row],[Date réelle]])>9,"","0")&MONTH(Tableau2[[#This Row],[Date réelle]]) -> 15_10 | B10: =(YEAR(Tableau2[[#This Row],[Date réelle]])-2000)&"S"&IF(_xlfn.ISOWEEKNUM(Tableau2[[#This Row],[Date réelle]])>9,"","0")&_xlfn.ISOWEEKNUM(Tableau2[[#This Row],[Date réelle]]) -> 15S41 | C10: =IF(F10<>"",VLOOKUP('Données brutes'!G10,Tableau1[[Forfait]:[PV ]],2,FALSE)*'Données brutes'!H10) -> 130 | D10: =INT(Tableau2[[#This Row],[Date de clôture ]]) -> 42283 | E10: 42283 | F10: 557546898 | G10: BAST | H10: 1
A11: =(YEAR(Tableau2[[#This Row],[Date réelle]])-2000)&"_"&IF(MONTH(Tableau2[[#This Row],[Date réelle]])>9,"","0")&MONTH(Tableau2[[#This Row],[Date réelle]]) -> 15_10 | B11: =(YEAR(Tableau2[[#This Row],[Date réelle]])-2000)&"S"&IF(_xlfn.ISOWEEKNUM(Tableau2[[#This Row],[Date réelle]])>9,"","0")&_xlfn.ISOWEEKNUM(Tableau2[[#This Row],[Date réelle]]) -> 15S41 | C11: =IF(F11<>"",VLOOKUP('Données brutes'!G11,Tableau1[[Forfait]:[PV ]],2,FALSE)*'Données brutes'!H11) -> 3 | D11: =INT(Tableau2[[#This Row],[Date de clôture ]]) -> 42283 | E11: 42283 | F11: 557547289 | G11: JRTOR | H11: 1
A12: =(YEAR(Tableau2[[#This Row],[Date réelle]])-2000)&"_"&IF(MONTH(Tableau2[[#This Row],[Date réelle]])>9,"","0")&MONTH(Tableau2[[#This Row],[Date réelle]]) -> 15_10 | B12: =(YEAR(Tableau2[[#This Row],[Date réelle]])-2000)&"S"&IF(_xlfn.ISOWEEKNUM(Tableau2[[#This Row],[Date réelle]])>9,"","0")&_xlfn.ISOWEEKNUM(Tableau2[[#This Row],[Date réelle]]) -> 15S41 | C12: =IF(F12<>"",VLOOKUP('Données brutes'!G12,Tableau1[[Forfait]:[PV ]],2,FALSE)*'Données brutes'!H12) -> 3 | D12: =INT(Tableau2[[#This Row],[Date de clôture ]]) -> 42283 | E12: 42283 | F12: 557546898 | G12: JRTOR | H12: 1
A13: =(YEAR(Tableau2[[#This Row],[Date réelle]])-2000)&"_"&IF(MONTH(Tableau2[[#This Row],[Date réelle]])>9,"","0")&MONTH(Tableau2[[#This Row],[Date réelle]]) -> 15_10 | B13: =(YEAR(Tableau2[[#This Row],[Date réelle]])-2000)&"S"&IF(_xlfn.ISOWEEKNUM(Tableau2[[#This Row],[Date réelle]])>9,"","0")&_xlfn.ISOWEEKNUM(Tableau2[[#This Row],[Date réelle]]) -> 15S41 | C13: =IF(F13<>"",VLOOKUP('Données brutes'!G13,Tableau1[[Forfait]:[PV ]],2,FALSE)*'Données brutes'!H13) -> 3.4 | D13: =INT(Tableau2[[#This Row],[Date de clôture ]]) -> 42283 | E13: 42283 | F13: 557547289 | G13: MSONT | H13: 1
... A1367: =(YEAR(Tableau2[[#This Row],[Date réelle]])-2000)&"_"&IF(MONTH(Tableau2[[#This Row],[Date réelle]])>9,"","0")&MONTH(Tableau2[[#This Row],[Date réelle]]) -> 16_03 | B1367: =(YEAR(Tableau2[[#This Row],[Date réelle]])-2000)&"S"&IF(_xlfn.ISOWEEKNUM(Tableau2[[#This Row],[Date réelle]])>9,"","0")&_xlfn.ISOWEEKNUM(Tableau2[[#This Row],[Date réelle]]) -> 16S11 | C1367: =IF(F1367<>"",VLOOKUP('Données brutes'!G1367,Tableau1[[Forfait]:[PV ]],2,FALSE)*'Données brutes'!H1367) -> 0 | D1367: =INT(Tableau2[[#This Row],[Date de clôture ]]) -> 42448 | E1367: 42448 | F1367: 556864731 | G1367: ZERO | H1367: 1

Sheet Analyse Quot
A3: Date de validation | B3: CA par jour
A4: 42279 | B4: 136.8
A5: 42283 | B5: 345.8
A6: 42284 | B6: 345.8
A7: 42285 | B7: 0
A8: 42289 | B8: 0.65
A9: 42290 | B9: 172.9
A10: 42292 | B10: 198.15
A11: 42296 | B11: 172.9
A12: 42297 | B12: 516.2
A13: 42299 | B13: 172.9
A14: 42300 | B14: 345.8
A15: 42302 | B15: 172.9
... A121: 42448 | B121: 401.2
A122: Total général | B122: 33259.6

Sheet Analyse Hebdo
A3: Semaine | B3: CA par semaine
A4: 15S40 | B4: 136.8
A5: 15S41 | B5: 691.6
A6: 15S42 | B6: 371.7
A7: 15S43 | B7: 1380.7
A8: 15S44 | B8: 1916.9
A9: 15S45 | B9: 1919.4
A10: 15S46 | B10: 1139.5
A11: 15S47 | B11: 987.2
A12: 15S48 | B12: 1161.4
A13: 15S49 | B13: 978.8
A14: 15S50 | B14: 1336.6
A15: 15S51 | B15: 1201.8
... A29: Total général | B29: 33259.6

Sheet Analyse Mensuelle
A3: Mois | B3: CA par mois | C3: Somme de CA
A4: 15_10 | B4: 4497.7
A5: 15_11 | B5: 5492.4 | C5: 0.22115748
A6: 15_12 | B6: 4970.3 | C6: -0.095058626
A7: 16_01 | B7: 3954.5 | C7: -0.20437398
A8: 16_02 | B8: 6113.4 | C8: 0.54593501
A9: 16_03 | B9: 8231.3 | C9: 0.3464357
A10: Total général | B10: 33259.6

Sheet TdB Quot

Sheet TdB Hebdo-Mens

Sheet BPU
A1: Forfaits | B1: Forfait | C1: PV
A2: assistance multiservices FTTH | B2: AFTTH | C2: 52
A3: branchement FTTH en aérien couplé avec installation intérieure. | B3: BAAA | C3: 255
A4: branchement FTTH en aérien couplé non avec installation intérieure. | B4: BAAA1 | C4: 284
A5: branchement FTTH en apparent couplé avec installation intérieure. | B5: BAAP | C5: 51
A6: branchement FTTH en apparent non couplé avec installation intérieure. | B6: BAAP1 | C6: 65
A7: branchement FTTH en façade couplé avec installation intérieure. | B7: BAFA | C7: 220
A8: branchement FTTH en façade non couplé avec installation intérieure. | B8: BAFA1 | C8: 215
A9: branchement FTTH en espace occupé mono fibre couplé avec installation intérieure. | B9: BAOC | C9: 56
A10: branchement FTTH en espace occupé mono fibre non couplé avec installation intérieure. | B10: BAOC1 | C10: 70
A11: branchement FTTH en souterrain couplé avec installation intérieure. | B11: BAST | C11: 130
A12: branchement FTTH en souterrain non couplé avec installation intérieure. | B12: BAST1 | C12: 145
A13: fourniture d’accès internet et multiservices hors configuration TV | B13: BFTTH | C13: 28
... A35: installation et configuration d’une solution de sécurité | B35: VFTTH | C35: 15
B36: ZERO | C36: 0

Sheet Codes par OT
A3: Étiquettes de lignes | B3: Nombre de Nb Travaux
A4: 556316976 | B4: 1
A5: ZERO | B5: 1
A6: 556381120 | B6: 6
A7: BAOC | B7: 1
A8: JRT | B8: 1
A9: JRTOP | B9: 1
A10: MSONT | B10: 1
A11: RAFOB | B11: 1
A12: SFTTH | B12: 1
A13: 556396646 | B13: 1
A14: JRTOP | B14: 1
A15: 556504461 | B15: 4
A16: BAOC | B16: 1
A17: JRTOR | B17: 1
A18: MSONT | B18: 1
A19: SFTTH | B19: 1
A20: 556506480 | B20: 3
A21: JRTOR | B21: 1
A22: MSONT | B22: 1
A23: SFTTH | B23: 1
A24: 556643240 | B24: 5
A25: BAST | B25: 1
A26: JRTOR | B26: 1
A27: MSONT | B27: 1
A28: RAFOB | B28: 1
A29: SFTTH | B29: 1
A30: 556922158 | B30: 5
A31: BAST | B31: 1
A32: JRTOR | B32: 1
A33: MSONT | B33: 1
A34: RAFOB | B34: 1
A35: SFTTH | B35: 1
A36: 557540343 | B36: 1
A37: ZERO | B37: 1
A38: 557540710 | B38: 1
A39: ZERO | B39: 1
A40: 557546734 | B40: 5
A41: BAOC | B41: 1
A42: JRTOR | B42: 1
...
