Workbook

Sheet SA 4.3.17
C1: 30 | D1: 15 | E1: 0
A2: 14H | B2: Nom Prénom | C2: Inscription | F2: Langue parlée | G2: Pays | H2: Téléphone portable | I2: E-Mail | J2: Réduction | K2: Prix | L2: Réservé par | N2: Confirmation | P2: Effectif | S2: Montant payé | T2: Encaissement | V2: Remarques / Bons cadeau
C3: Adultes | D3: 6-16 ans | E3: 0-5 ans | L3: Date | M3: Nom | N3: Date | O3: Nom | P3: Adultes | Q3: 6-16 ans | R3: 0-5 ans | T3: Cash/Crédit | U3: Nom
K4: =((C4*$C$1)+(D4*$D$1))-J4 -> 0
D5: suisse | K5: =((C5*$C$1)+(D5*$D$1))-J5 -> #VALUE!
K6: =((C6*$C$1)+(D6*$D$1))-J6 -> 0
K7: =((C7*$C$1)+(D7*$D$1))-J7 -> 0
K8: =((C8*$C$1)+(D8*$D$1))-J8 -> 0
K9: =((C9*$C$1)+(D9*$D$1))-J9 -> 0
B10: Total | C10: =SUM(C4:C9) -> 0 | D10: =SUM(D4:D9) -> 0 | E10: =SUM(E4:E9) -> 0 | G10: =SUMPRODUCT((C4:E9="SUISSE")*1) -> 1 | K10: =SUM(K4:K9) -> #VALUE! | P10: =SUM(P4:P9) -> 0 | Q10: =SUM(Q4:Q9) -> 0 | R10: =SUM(R4:R9) -> 0 | S10: =SUM(S4:S9) -> 0
C11: =SUM(C10:E10) -> 0 | G11: =SUMIF(G4:G9,"Etranger",C4:E9) -> 0 | P11: =SUM(P10:R10) -> 0
C12: =IF(SUM(C4:D9)>=8,"Randonnée complète","Il reste des places libres") -> Il reste des places libres
A15: 15H | B15: Nom Prénom | C15: Inscription | F15: Langue parlée | G15: Pays | H15: Téléphone | I15: E-Mail | J15: Réduction | K15: Prix | L15: Réservé par | N15: Confirmation | P15: Effectif | S15: Montant payé | T15: Encaissement | V15: Remarques / Bons cadeau
C16: Adultes | D16: 6-16 ans | E16: 0-5 ans | L16: Date | M16: Nom | N16: Date | O16: Nom | P16: Adultes | Q16: 6-16 ans | R16: 0-5 ans | T16: Cash/Crédit | U16: Nom
G17: Suisse | K17: =((C17*$C$1)+(D17*$D$1))-J17 -> 0
K18: =((C18*$C$1)+(D18*$D$1))-J18 -> 0
K19: =((C19*$C$1)+(D19*$D$1))-J19 -> 0
K20: =((C20*$C$1)+(D20*$D$1))-J20 -> 0
K21: =((C21*$C$1)+(D21*$D$1))-J21 -> 0
K22: =((C22*$C$1)+(D22*$D$1))-J22 -> 0
B23: Total | C23: =SUM(C17:C22) -> 0 | D23: =SUM(D17:D22) -> 0 | E23: =SUM(E17:E22) -> 0 | G23: =SUMIF(G17:G22,"Suisse",C17:E22) -> 0 | K23: =SUM(K17:K22) -> 0 | P23: =SUM(P17:P22) -> 0 | Q23: =SUM(Q17:Q22) -> 0 | R23: =SUM(R17:R22) -> 0 | S23: =SUM(S17:S22) -> 0
C24: =SUM(C23:E23) -> 0 | G24: =SUMIF(G17:G22,"Etranger",C17:E22) -> 0 | P24: =SUM(P23:R23) -> 0
C25: =IF(SUM(C17:D22)>=8,"Randonnée complète","Il reste des places libres") -> Il reste des places libres
B29: Inscrits | C29: =C11+C24 -> 0
B30: Participants | C30: =P11+P24 -> 0
B31: Non venus/annulés | C31: =P11-C11 -> 0
B32: Total Adultes | C32: =P10+P23 -> 0
B34: Total Enfants | C34: =Q10+R10+Q23+R23 -> 0
B35: Origine suisse | C35: =G10+G23 -> 1
B36: Origine étrangère | C36: =G11+G24 -> 0
B37: Total recettes prévu | C37: =K10+K23 -> #VALUE!
B38: Total recettes effectif | C38: =S10+S23 -> 0
B39: Total inscrits | C39: =C29 -> 0
B40: Total participants | C40: =C30 -> 0
B41: Total non venus/annulés | C41: =C31 -> 0

Sheet DI 5.3.17
C1: 48 | D1: 46 | E1: 10 | F1: 0
A2: 10H | B2: Nom Prénom | C2: Inscription | G2: Langue parlée | H2: Pays | I2: Téléphone portable | J2: E-Mail | K2: Réduction | L2: Prix | M2: Réservé par | O2: Confirmation | Q2: Effectif | U2: Montant payé | V2: Encaissement | X2: Remarques / Bons cadeau
C3: Adultes | D3: Senior | E3: 8-17 ans | F3: 0-7 ans | M3: Date | N3: Nom | O3: Date | P3: Nom | Q3: Adultes | R3: Senior | S3: 8-17 ans | T3: 0-7 ans | V3: Cash/Crédit | W3: Nom
L4: =((C4*$C$1)+(D4*$D$1)+(E4*$E$1))-K4 -> 0
L5: =((C5*$C$1)+(D5*$D$1)+(E5*$E$1))-K5 -> 0
L6: =((C6*$C$1)+(D6*$D$1)+(E6*$E$1))-K6 -> 0
L7: =((C7*$C$1)+(D7*$D$1)+(E7*$E$1))-K7 -> 0
L8: =((C8*$C$1)+(D8*$D$1)+(E8*$E$1))-K8 -> 0
L9: =((C9*$C$1)+(D9*$D$1)+(E9*$E$1))-K9 -> 0
B10: Total | C10: =SUM(C4:C9) -> 0 | D10: =SUM(D4:D9) -> 0 | E10: =SUM(E4:E9) -> 0 | F10: =SUM(F4:F9) -> 0 | H10: =SUMIF(H4:H9,"Suisse",C4:F9) -> 0 | L10: =SUM(L4:L9) -> 0 | Q10: =SUM(Q4:Q9) -> 0 | R10: =SUM(R4:R9) -> 0 | S10: =SUM(S4:S9) -> 0 | T10: =SUM(T4:T9) -> 0 | U10: =SUM(U4:U9) -> 0
C11: =SUM(C10:F10) -> 0 | H11: =SUMIF(H4:H9,"Etranger",C4:F9) -> 0 | Q11: =SUM(Q10:T10) -> 0
C12: =IF(SUM(C4:E9)>=10,"Randonnée complète","Il reste des places libres") -> Il reste des places libres
A15: 14H | B15: Nom Prénom | C15: Inscription | G15: Langue parlée | H15: Pays | I15: Téléphone | J15: E-Mail | K15: Réduction | L15: Prix | M15: Réservé par | O15: Confirmation | Q15: Effectif | U15: Montant payé | V15: Encaissement | X15: Remarques / Bons cadeau
C16: Adultes | D16: Senior | E16: 8-17 ans | F16: 0-7 ans | M16: Date | N16: Nom | O16: Date | P16: Nom | Q16: Adultes | R16: Senior | S16: 8-17 ans | T16: 0-7 ans | V16: Cash/Crédit | W16: Nom
L17: =((C17*$C$1)+(D17*$D$1)+(E17*$E$1))-K17 -> 0
L18: =((C18*$C$1)+(D18*$D$1)+(E18*$E$1))-K18 -> 0
L19: =((C19*$C$1)+(D19*$D$1)+(E19*$E$1))-K19 -> 0
L20: =((C20*$C$1)+(D20*$D$1)+(E20*$E$1))-K20 -> 0
L21: =((C21*$C$1)+(D21*$D$1)+(E21*$E$1))-K21 -> 0
L22: =((C22*$C$1)+(D22*$D$1)+(E22*$E$1))-K22 -> 0
B23: Total | C23: =SUM(C17:C22) -> 0 | D23: =SUM(D17:D22) -> 0 | E23: =SUM(E17:E22) -> 0 | F23: =SUM(F17:F22) -> 0 | H23: =SUMIF(H17:H22,"Suisse",C17:F22) -> 0 | L23: =SUM(L17:L22) -> 0 | Q23: =SUM(Q17:Q22) -> 0 | R23: =SUM(R17:R22) -> 0 | S23: =SUM(S17:S22) -> 0 | T23: =SUM(T17:T22) -> 0 | U23: =SUM(U17:U22) -> 0
C24: =SUM(C23:F23) -> 0 | H24: =SUMIF(H17:H22,"Etranger",C17:F22) -> 0 | Q24: =SUM(Q23:T23) -> 0
C25: =IF(SUM(C17:E22)>=10,"Randonnée complète","Il reste des places libres") -> Il reste des places libres
B29: Inscrits | C29: =C11+C24 -> 0
B30: Participants | C30: =Q11+Q24 -> 0
B31: Non venus/annulés | C31: =Q11-C11 -> 0
B32: Total Adultes | C32: =Q10+Q23 -> 0
B33: Total Senior | C33: =R10+R23 -> 0
B34: Total Enfants | C34: =S10+T10+S23+T23 -> 0
B35: Origine suisse | C35: =H10+H23 -> 0
B36: Origine étrangère | C36: =H11+H24 -> 0
B37: Total recettes prévu | C37: =L10+L23 -> 0
B38: Total recettes effectif | C38: =U10+U23 -> 0
B39: Total inscrits | C39: =C29 -> 0
B40: Total participants | C40: =C30 -> 0
B41: Total non venus/annulés | C41: =C31 -> 0

Sheet SA 11.3.17
C1: 48 | D1: 46 | E1: 10 | F1: 0
A2: 10H | B2: Nom Prénom | C2: Inscription | G2: Langue parlée | H2: Pays | I2: Téléphone portable | J2: E-Mail | K2: Réduction | L2: Prix | M2: Réservé par | O2: Confirmation | Q2: Effectif | U2: Montant payé | V2: Encaissement | X2: Remarques / Bons cadeau
C3: Adultes | D3: Senior | E3: 8-17 ans | F3: 0-7 ans | M3: Date | N3: Nom | O3: Date | P3: Nom | Q3: Adultes | R3: Senior | S3: 8-17 ans | T3: 0-7 ans | V3: Cash/Crédit | W3: Nom
L4: =((C4*$C$1)+(D4*$D$1)+(E4*$E$1))-K4 -> 0
L5: =((C5*$C$1)+(D5*$D$1)+(E5*$E$1))-K5 -> 0
L6: =((C6*$C$1)+(D6*$D$1)+(E6*$E$1))-K6 -> 0
L7: =((C7*$C$1)+(D7*$D$1)+(E7*$E$1))-K7 -> 0
L8: =((C8*$C$1)+(D8*$D$1)+(E8*$E$1))-K8 -> 0
L9: =((C9*$C$1)+(D9*$D$1)+(E9*$E$1))-K9 -> 0
B10: Total | C10: =SUM(C4:C9) -> 0 | D10: =SUM(D4:D9) -> 0 | E10: =SUM(E4:E9) -> 0 | F10: =SUM(F4:F9) -> 0 | H10: =SUMIF(H4:H9,"Suisse",C4:F9) -> 0 | L10: =SUM(L4:L9) -> 0 | Q10: =SUM(Q4:Q9) -> 0 | R10: =SUM(R4:R9) -> 0 | S10: =SUM(S4:S9) -> 0 | T10: =SUM(T4:T9) -> 0 | U10: =SUM(U4:U9) -> 0
C11: =SUM(C10:F10) -> 0 | H11: =SUMIF(H4:H9,"Etranger",C4:F9) -> 0 | Q11: =SUM(Q10:T10) -> 0
C12: =IF(SUM(C4:E9)>=10,"Randonnée complète","Il reste des places libres") -> Il reste des places libres
A15: 14H | B15: Nom Prénom | C15: Inscription | G15: Langue parlée | H15: Pays | I15: Téléphone | J15: E-Mail | K15: Réduction | L15: Prix | M15: Réservé par | O15: Confirmation | Q15: Effectif | U15: Montant payé | V15: Encaissement | X15: Remarques / Bons cadeau
C16: Adultes | D16: Senior | E16: 8-17 ans | F16: 0-7 ans | M16: Date | N16: Nom | O16: Date | P16: Nom | Q16: Adultes | R16: Senior | S16: 8-17 ans | T16: 0-7 ans | V16: Cash/Crédit | W16: Nom
L17: =((C17*$C$1)+(D17*$D$1)+(E17*$E$1))-K17 -> 0
L18: =((C18*$C$1)+(D18*$D$1)+(E18*$E$1))-K18 -> 0
L19: =((C19*$C$1)+(D19*$D$1)+(E19*$E$1))-K19 -> 0
L20: =((C20*$C$1)+(D20*$D$1)+(E20*$E$1))-K20 -> 0
L21: =((C21*$C$1)+(D21*$D$1)+(E21*$E$1))-K21 -> 0
L22: =((C22*$C$1)+(D22*$D$1)+(E22*$E$1))-K22 -> 0
B23: Total | C23: =SUM(C17:C22) -> 0 | D23: =SUM(D17:D22) -> 0 | E23: =SUM(E17:E22) -> 0 | F23: =SUM(F17:F22) -> 0 | H23: =SUMIF(H17:H22,"Suisse",C17:F22) -> 0 | L23: =SUM(L17:L22) -> 0 | Q23: =SUM(Q17:Q22) -> 0 | R23: =SUM(R17:R22) -> 0 | S23: =SUM(S17:S22) -> 0 | T23: =SUM(T17:T22) -> 0 | U23: =SUM(U17:U22) -> 0
C24: =SUM(C23:F23) -> 0 | H24: =SUMIF(H17:H22,"Etranger",C17:F22) -> 0 | Q24: =SUM(Q23:T23) -> 0
C25: =IF(SUM(C17:E22)>=10,"Randonnée complète","Il reste des places libres") -> Il reste des places libres
B29: Inscrits | C29: =C11+C24 -> 0
B30: Participants | C30: =Q11+Q24 -> 0
B31: Non venus/annulés | C31: =Q11-C11 -> 0
B32: Total Adultes | C32: =Q10+Q23 -> 0
B33: Total Senior | C33: =R10+R23 -> 0
B34: Total Enfants | C34: =S10+T10+S23+T23 -> 0
B35: Origine suisse | C35: =H10+H23 -> 0
B36: Origine étrangère | C36: =H11+H24 -> 0
B37: Total recettes prévu | C37: =L10+L23 -> 0
B38: Total recettes effectif | C38: =U10+U23 -> 0
B39: Total inscrits | C39: =C29 -> 0
B40: Total participants | C40: =C30 -> 0
B41: Total non venus/annulés | C41: =C31 -> 0

Sheet DI 12.3.17
C1: 48 | D1: 46 | E1: 10 | F1: 0
A2: 10H | B2: Nom Prénom | C2: Inscription | G2: Langue parlée | H2: Pays | I2: Téléphone portable | J2: E-Mail | K2: Réduction | L2: Prix | M2: Réservé par | O2: Confirmation | Q2: Effectif | U2: Montant payé | V2: Encaissement | X2: Remarques / Bons cadeau
C3: Adultes | D3: Senior | E3: 8-17 ans | F3: 0-7 ans | M3: Date | N3: Nom | O3: Date | P3: Nom | Q3: Adultes | R3: Senior | S3: 8-17 ans | T3: 0-7 ans | V3: Cash/Crédit | W3: Nom
L4: =((C4*$C$1)+(D4*$D$1)+(E4*$E$1))-K4 -> 0
L5: =((C5*$C$1)+(D5*$D$1)+(E5*$E$1))-K5 -> 0
L6: =((C6*$C$1)+(D6*$D$1)+(E6*$E$1))-K6 -> 0
L7: =((C7*$C$1)+(D7*$D$1)+(E7*$E$1))-K7 -> 0
L8: =((C8*$C$1)+(D8*$D$1)+(E8*$E$1))-K8 -> 0
L9: =((C9*$C$1)+(D9*$D$1)+(E9*$E$1))-K9 -> 0
B10: Total | C10: =SUM(C4:C9) -> 0 | D10: =SUM(D4:D9) -> 0 | E10: =SUM(E4:E9) -> 0 | F10: =SUM(F4:F9) -> 0 | H10: =SUMIF(H4:H9,"Suisse",C4:F9) -> 0 | L10: =SUM(L4:L9) -> 0 | Q10: =SUM(Q4:Q9) -> 0 | R10: =SUM(R4:R9) -> 0 | S10: =SUM(S4:S9) -> 0 | T10: =SUM(T4:T9) -> 0 | U10: =SUM(U4:U9) -> 0
C11: =SUM(C10:F10) -> 0 | H11: =SUMIF(H4:H9,"Etranger",C4:F9) -> 0 | Q11: =SUM(Q10:T10) -> 0
C12: =IF(SUM(C4:E9)>=10,"Randonnée complète","Il reste des places libres") -> Il reste des places libres
A15: 14H | B15: Nom Prénom | C15: Inscription | G15: Langue parlée | H15: Pays | I15: Téléphone | J15: E-Mail | K15: Réduction | L15: Prix | M15: Réservé par | O15: Confirmation | Q15: Effectif | U15: Montant payé | V15: Encaissement | X15: Remarques / Bons cadeau
C16: Adultes | D16: Senior | E16: 8-17 ans | F16: 0-7 ans | M16: Date | N16: Nom | O16: Date | P16: Nom | Q16: Adultes | R16: Senior | S16: 8-17 ans | T16: 0-7 ans | V16: Cash/Crédit | W16: Nom
L17: =((C17*$C$1)+(D17*$D$1)+(E17*$E$1))-K17 -> 0
L18: =((C18*$C$1)+(D18*$D$1)+(E18*$E$1))-K18 -> 0
L19: =((C19*$C$1)+(D19*$D$1)+(E19*$E$1))-K19 -> 0
L20: =((C20*$C$1)+(D20*$D$1)+(E20*$E$1))-K20 -> 0
L21: =((C21*$C$1)+(D21*$D$1)+(E21*$E$1))-K21 -> 0
L22: =((C22*$C$1)+(D22*$D$1)+(E22*$E$1))-K22 -> 0
B23: Total | C23: =SUM(C17:C22) -> 0 | D23: =SUM(D17:D22) -> 0 | E23: =SUM(E17:E22) -> 0 | F23: =SUM(F17:F22) -> 0 | H23: =SUMIF(H17:H22,"Suisse",C17:F22) -> 0 | L23: =SUM(L17:L22) -> 0 | Q23: =SUM(Q17:Q22) -> 0 | R23: =SUM(R17:R22) -> 0 | S23: =SUM(S17:S22) -> 0 | T23: =SUM(T17:T22) -> 0 | U23: =SUM(U17:U22) -> 0
C24: =SUM(C23:F23) -> 0 | H24: =SUMIF(H17:H22,"Etranger",C17:F22) -> 0 | Q24: =SUM(Q23:T23) -> 0
C25: =IF(SUM(C17:E22)>=10,"Randonnée complète","Il reste des places libres") -> Il reste des places libres
B29: Inscrits | C29: =C11+C24 -> 0
B30: Participants | C30: =Q11+Q24 -> 0
B31: Non venus/annulés | C31: =Q11-C11 -> 0
B32: Total Adultes | C32: =Q10+Q23 -> 0
B33: Total Senior | C33: =R10+R23 -> 0
B34: Total Enfants | C34: =S10+T10+S23+T23 -> 0
B35: Origine suisse | C35: =H10+H23 -> 0
B36: Origine étrangère | C36: =H11+H24 -> 0
B37: Total recettes prévu | C37: =L10+L23 -> 0
B38: Total recettes effectif | C38: =U10+U23 -> 0
B39: Total inscrits | C39: =C29 -> 0
B40: Total participants | C40: =C30 -> 0
B41: Total non venus/annulés | C41: =C31 -> 0

Sheet SA 18.3.17
C1: 48 | D1: 46 | E1: 10 | F1: 0
A2: 10H | B2: Nom Prénom | C2: Inscription | G2: Langue parlée | H2: Pays | I2: Téléphone portable | J2: E-Mail | K2: Réduction | L2: Prix | M2: Réservé par | O2: Confirmation | Q2: Effectif | U2: Montant payé | V2: Encaissement | X2: Remarques / Bons cadeau
C3: Adultes | D3: Senior | E3: 8-17 ans | F3: 0-7 ans | M3: Date | N3: Nom | O3: Date | P3: Nom | Q3: Adultes | R3: Senior | S3: 8-17 ans | T3: 0-7 ans | V3: Cash/Crédit | W3: Nom
L4: =((C4*$C$1)+(D4*$D$1)+(E4*$E$1))-K4 -> 0
L5: =((C5*$C$1)+(D5*$D$1)+(E5*$E$1))-K5 -> 0
L6: =((C6*$C$1)+(D6*$D$1)+(E6*$E$1))-K6 -> 0
L7: =((C7*$C$1)+(D7*$D$1)+(E7*$E$1))-K7 -> 0
L8: =((C8*$C$1)+(D8*$D$1)+(E8*$E$1))-K8 -> 0
L9: =((C9*$C$1)+(D9*$D$1)+(E9*$E$1))-K9 -> 0
B10: Total | C10: =SUM(C4:C9) -> 0 | D10: =SUM(D4:D9) -> 0 | E10: =SUM(E4:E9) -> 0 | F10: =SUM(F4:F9) -> 0 | H10: =SUMIF(H4:H9,"Suisse",C4:F9) -> 0 | L10: =SUM(L4:L9) -> 0 | Q10: =SUM(Q4:Q9) -> 0 | R10: =SUM(R4:R9) -> 0 | S10: =SUM(S4:S9) -> 0 | T10: =SUM(T4:T9) -> 0 | U10: =SUM(U4:U9) -> 0
C11: =SUM(C10:F10) -> 0 | H11: =SUMIF(H4:H9,"Etranger",C4:F9) -> 0 | Q11: =SUM(Q10:T10) -> 0
C12: =IF(SUM(C4:E9)>=10,"Randonnée complète","Il reste des places libres") -> Il reste des places libres
A15: 14H | B15: Nom Prénom | C15: Inscription | G15: Langue parlée | H15: Pays | I15: Téléphone | J15: E-Mail | K15: Réduction | L15: Prix | M15: Réservé par | O15: Confirmation | Q15: Effectif | U15: Montant payé | V15: Encaissement | X15: Remarques / Bons cadeau
C16: Adultes | D16: Senior | E16: 8-17 ans | F16: 0-7 ans | M16: Date | N16: Nom | O16: Date | P16: Nom | Q16: Adultes | R16: Senior | S16: 8-17 ans | T16: 0-7 ans | V16: Cash/Crédit | W16: Nom
L17: =((C17*$C$1)+(D17*$D$1)+(E17*$E$1))-K17 -> 0
L18: =((C18*$C$1)+(D18*$D$1)+(E18*$E$1))-K18 -> 0
L19: =((C19*$C$1)+(D19*$D$1)+(E19*$E$1))-K19 -> 0
L20: =((C20*$C$1)+(D20*$D$1)+(E20*$E$1))-K20 -> 0
L21: =((C21*$C$1)+(D21*$D$1)+(E21*$E$1))-K21 -> 0
L22: =((C22*$C$1)+(D22*$D$1)+(E22*$E$1))-K22 -> 0
B23: Total | C23: =SUM(C17:C22) -> 0 | D23: =SUM(D17:D22) -> 0 | E23: =SUM(E17:E22) -> 0 | F23: =SUM(F17:F22) -> 0 | H23: =SUMIF(H17:H22,"Suisse",C17:F22) -> 0 | L23: =SUM(L17:L22) -> 0 | Q23: =SUM(Q17:Q22) -> 0 | R23: =SUM(R17:R22) -> 0 | S23: =SUM(S17:S22) -> 0 | T23: =SUM(T17:T22) -> 0 | U23: =SUM(U17:U22) -> 0
C24: =SUM(C23:F23) -> 0 | H24: =SUMIF(H17:H22,"Etranger",C17:F22) -> 0 | Q24: =SUM(Q23:T23) -> 0
C25: =IF(SUM(C17:E22)>=10,"Randonnée complète","Il reste des places libres") -> Il reste des places libres
B29: Inscrits | C29: =C11+C24 -> 0
B30: Participants | C30: =Q11+Q24 -> 0
B31: Non venus/annulés | C31: =Q11-C11 -> 0
B32: Total Adultes | C32: =Q10+Q23 -> 0
B33: Total Senior | C33: =R10+R23 -> 0
B34: Total Enfants | C34: =S10+T10+S23+T23 -> 0
B35: Origine suisse | C35: =H10+H23 -> 0
B36: Origine étrangère | C36: =H11+H24 -> 0
B37: Total recettes prévu | C37: =L10+L23 -> 0
B38: Total recettes effectif | C38: =U10+U23 -> 0
B39: Total inscrits | C39: =C29 -> 0
B40: Total participants | C40: =C30 -> 0
B41: Total non venus/annulés | C41: =C31 -> 0

Sheet DI 19.3.17
C1: 48 | D1: 46 | E1: 10 | F1: 0
A2: 10H | B2: Nom Prénom | C2: Inscription | G2: Langue parlée | H2: Pays | I2: Téléphone portable | J2: E-Mail | K2: Réduction | L2: Prix | M2: Réservé par | O2: Confirmation | Q2: Effectif | U2: Montant payé | V2: Encaissement | X2: Remarques / Bons cadeau
C3: Adultes | D3: Senior | E3: 8-17 ans | F3: 0-7 ans | M3: Date | N3: Nom | O3: Date | P3: Nom | Q3: Adultes | R3: Senior | S3: 8-17 ans | T3: 0-7 ans | V3: Cash/Crédit | W3: Nom
L4: =((C4*$C$1)+(D4*$D$1)+(E4*$E$1))-K4 -> 0
L5: =((C5*$C$1)+(D5*$D$1)+(E5*$E$1))-K5 -> 0
L6: =((C6*$C$1)+(D6*$D$1)+(E6*$E$1))-K6 -> 0
L7: =((C7*$C$1)+(D7*$D$1)+(E7*$E$1))-K7 -> 0
L8: =((C8*$C$1)+(D8*$D$1)+(E8*$E$1))-K8 -> 0
L9: =((C9*$C$1)+(D9*$D$1)+(E9*$E$1))-K9 -> 0
B10: Total | C10: =SUM(C4:C9) -> 0 | D10: =SUM(D4:D9) -> 0 | E10: =SUM(E4:E9) -> 0 | F10: =SUM(F4:F9) -> 0 | H10: =SUMIF(H4:H9,"Suisse",C4:F9) -> 0 | L10: =SUM(L4:L9) -> 0 | Q10: =SUM(Q4:Q9) -> 0 | R10: =SUM(R4:R9) -> 0 | S10: =SUM(S4:S9) -> 0 | T10: =SUM(T4:T9) -> 0 | U10: =SUM(U4:U9) -> 0
C11: =SUM(C10:F10) -> 0 | H11: =SUMIF(H4:H9,"Etranger",C4:F9) -> 0 | Q11: =SUM(Q10:T10) -> 0
C12: =IF(SUM(C4:E9)>=10,"Randonnée complète","Il reste des places libres") -> Il reste des places libres
A15: 14H | B15: Nom Prénom | C15: Inscription | G15: Langue parlée | H15: Pays | I15: Téléphone | J15: E-Mail | K15: Réduction | L15: Prix | M15: Réservé par | O15: Confirmation | Q15: Effectif | U15: Montant payé | V15: Encaissement | X15: Remarques / Bons cadeau
C16: Adultes | D16: Senior | E16: 8-17 ans | F16: 0-7 ans | M16: Date | N16: Nom | O16: Date | P16: Nom | Q16: Adultes | R16: Senior | S16: 8-17 ans | T16: 0-7 ans | V16: Cash/Crédit | W16: Nom
L17: =((C17*$C$1)+(D17*$D$1)+(E17*$E$1))-K17 -> 0
L18: =((C18*$C$1)+(D18*$D$1)+(E18*$E$1))-K18 -> 0
L19: =((C19*$C$1)+(D19*$D$1)+(E19*$E$1))-K19 -> 0
L20: =((C20*$C$1)+(D20*$D$1)+(E20*$E$1))-K20 -> 0
L21: =((C21*$C$1)+(D21*$D$1)+(E21*$E$1))-K21 -> 0
L22: =((C22*$C$1)+(D22*$D$1)+(E22*$E$1))-K22 -> 0
B23: Total | C23: =SUM(C17:C22) -> 0 | D23: =SUM(D17:D22) -> 0 | E23: =SUM(E17:E22) -> 0 | F23: =SUM(F17:F22) -> 0 | H23: =SUMIF(H17:H22,"Suisse",C17:F22) -> 0 | L23: =SUM(L17:L22) -> 0 | Q23: =SUM(Q17:Q22) -> 0 | R23: =SUM(R17:R22) -> 0 | S23: =SUM(S17:S22) -> 0 | T23: =SUM(T17:T22) -> 0 | U23: =SUM(U17:U22) -> 0
C24: =SUM(C23:F23) -> 0 | H24: =SUMIF(H17:H22,"Etranger",C17:F22) -> 0 | Q24: =SUM(Q23:T23) -> 0
C25: =IF(SUM(C17:E22)>=10,"Randonnée complète","Il reste des places libres") -> Il reste des places libres
B29: Inscrits | C29: =C11+C24 -> 0
B30: Participants | C30: =Q11+Q24 -> 0
B31: Non venus/annulés | C31: =Q11-C11 -> 0
B32: Total Adultes | C32: =Q10+Q23 -> 0
B33: Total Senior | C33: =R10+R23 -> 0
B34: Total Enfants | C34: =S10+T10+S23+T23 -> 0
B35: Origine suisse | C35: =H10+H23 -> 0
B36: Origine étrangère | C36: =H11+H24 -> 0
B37: Total recettes prévu | C37: =L10+L23 -> 0
B38: Total recettes effectif | C38: =U10+U23 -> 0
B39: Total inscrits | C39: =C29 -> 0
B40: Total participants | C40: =C30 -> 0
B41: Total non venus/annulés | C41: =C31 -> 0

Sheet SA 25.3.17
C1: 48 | D1: 46 | E1: 10 | F1: 0
A2: 10H | B2: Nom Prénom | C2: Inscription | G2: Langue parlée | H2: Pays | I2: Téléphone portable | J2: E-Mail | K2: Réduction | L2: Prix | M2: Réservé par | O2: Confirmation | Q2: Effectif | U2: Montant payé | V2: Encaissement | X2: Remarques / Bons cadeau
C3: Adultes | D3: Senior | E3: 8-17 ans | F3: 0-7 ans | M3: Date | N3: Nom | O3: Date | P3: Nom | Q3: Adultes | R3: Senior | S3: 8-17 ans | T3: 0-7 ans | V3: Cash/Crédit | W3: Nom
L4: =((C4*$C$1)+(D4*$D$1)+(E4*$E$1))-K4 -> 0
L5: =((C5*$C$1)+(D5*$D$1)+(E5*$E$1))-K5 -> 0
L6: =((C6*$C$1)+(D6*$D$1)+(E6*$E$1))-K6 -> 0
L7: =((C7*$C$1)+(D7*$D$1)+(E7*$E$1))-K7 -> 0
L8: =((C8*$C$1)+(D8*$D$1)+(E8*$E$1))-K8 -> 0
L9: =((C9*$C$1)+(D9*$D$1)+(E9*$E$1))-K9 -> 0
B10: Total | C10: =SUM(C4:C9) -> 0 | D10: =SUM(D4:D9) -> 0 | E10: =SUM(E4:E9) -> 0 | F10: =SUM(F4:F9) -> 0 | H10: =SUMIF(H4:H9,"Suisse",C4:F9) -> 0 | L10: =SUM(L4:L9) -> 0 | Q10: =SUM(Q4:Q9) -> 0 | R10: =SUM(R4:R9) -> 0 | S10: =SUM(S4:S9) -> 0 | T10: =SUM(T4:T9) -> 0 | U10: =SUM(U4:U9) -> 0
C11: =SUM(C10:F10) -> 0 | H11: =SUMIF(H4:H9,"Etranger",C4:F9) -> 0 | Q11: =SUM(Q10:T10) -> 0
C12: =IF(SUM(C4:E9)>=10,"Randonnée complète","Il reste des places libres") -> Il reste des places libres
A15: 14H | B15: Nom Prénom | C15: Inscription | G15: Langue parlée | H15: Pays | I15: Téléphone | J15: E-Mail | K15: Réduction | L15: Prix | M15: Réservé par | O15: Confirmation | Q15: Effectif | U15: Montant payé | V15: Encaissement | X15: Remarques / Bons cadeau
C16: Adultes | D16: Senior | E16: 8-17 ans | F16: 0-7 ans | M16: Date | N16: Nom | O16: Date | P16: Nom | Q16: Adultes | R16: Senior | S16: 8-17 ans | T16: 0-7 ans | V16: Cash/Crédit | W16: Nom
L17: =((C17*$C$1)+(D17*$D$1)+(E17*$E$1))-K17 -> 0
L18: =((C18*$C$1)+(D18*$D$1)+(E18*$E$1))-K18 -> 0
L19: =((C19*$C$1)+(D19*$D$1)+(E19*$E$1))-K19 -> 0
L20: =((C20*$C$1)+(D20*$D$1)+(E20*$E$1))-K20 -> 0
L21: =((C21*$C$1)+(D21*$D$1)+(E21*$E$1))-K21 -> 0
L22: =((C22*$C$1)+(D22*$D$1)+(E22*$E$1))-K22 -> 0
B23: Total | C23: =SUM(C17:C22) -> 0 | D23: =SUM(D17:D22) -> 0 | E23: =SUM(E17:E22) -> 0 | F23: =SUM(F17:F22) -> 0 | H23: =SUMIF(H17:H22,"Suisse",C17:F22) -> 0 | L23: =SUM(L17:L22) -> 0 | Q23: =SUM(Q17:Q22) -> 0 | R23: =SUM(R17:R22) -> 0 | S23: =SUM(S17:S22) -> 0 | T23: =SUM(T17:T22) -> 0 | U23: =SUM(U17:U22) -> 0
C24: =SUM(C23:F23) -> 0 | H24: =SUMIF(H17:H22,"Etranger",C17:F22) -> 0 | Q24: =SUM(Q23:T23) -> 0
C25: =IF(SUM(C17:E22)>=10,"Randonnée complète","Il reste des places libres") -> Il reste des places libres
B29: Inscrits | C29: =C11+C24 -> 0
B30: Participants | C30: =Q11+Q24 -> 0
B31: Non venus/annulés | C31: =Q11-C11 -> 0
B32: Total Adultes | C32: =Q10+Q23 -> 0
B33: Total Senior | C33: =R10+R23 -> 0
B34: Total Enfants | C34: =S10+T10+S23+T23 -> 0
B35: Origine suisse | C35: =H10+H23 -> 0
B36: Origine étrangère | C36: =H11+H24 -> 0
B37: Total recettes prévu | C37: =L10+L23 -> 0
B38: Total recettes effectif | C38: =U10+U23 -> 0
B39: Total inscrits | C39: =C29 -> 0
B40: Total participants | C40: =C30 -> 0
B41: Total non venus/annulés | C41: =C31 -> 0

Sheet DI 26.3.17
C1: 48 | D1: 46 | E1: 10 | F1: 0
A2: 10H | B2: Nom Prénom | C2: Inscription | G2: Langue parlée | H2: Pays | I2: Téléphone portable | J2: E-Mail | K2: Réduction | L2: Prix | M2: Réservé par | O2: Confirmation | Q2: Effectif | U2: Montant payé | V2: Encaissement | X2: Remarques / Bons cadeau
C3: Adultes | D3: Senior | E3: 8-17 ans | F3: 0-7 ans | M3: Date | N3: Nom | O3: Date | P3: Nom | Q3: Adultes | R3: Senior | S3: 8-17 ans | T3: 0-7 ans | V3: Cash/Crédit | W3: Nom
L4: =((C4*$C$1)+(D4*$D$1)+(E4*$E$1))-K4 -> 0
L5: =((C5*$C$1)+(D5*$D$1)+(E5*$E$1))-K5 -> 0
L6: =((C6*$C$1)+(D6*$D$1)+(E6*$E$1))-K6 -> 0
L7: =((C7*$C$1)+(D7*$D$1)+(E7*$E$1))-K7 -> 0
L8: =((C8*$C$1)+(D8*$D$1)+(E8*$E$1))-K8 -> 0
L9: =((C9*$C$1)+(D9*$D$1)+(E9*$E$1))-K9 -> 0
B10: Total | C10: =SUM(C4:C9) -> 0 | D10: =SUM(D4:D9) -> 0 | E10: =SUM(E4:E9) -> 0 | F10: =SUM(F4:F9) -> 0 | H10: =SUMIF(H4:H9,"Suisse",C4:F9) -> 0 | L10: =SUM(L4:L9) -> 0 | Q10: =SUM(Q4:Q9) -> 0 | R10: =SUM(R4:R9) -> 0 | S10: =SUM(S4:S9) -> 0 | T10: =SUM(T4:T9) -> 0 | U10: =SUM(U4:U9) -> 0
C11: =SUM(C10:F10) -> 0 | H11: =SUMIF(H4:H9,"Etranger",C4:F9) -> 0 | Q11: =SUM(Q10:T10) -> 0
C12: =IF(SUM(C4:E9)>=10,"Randonnée complète","Il reste des places libres") -> Il reste des places libres
A15: 14H | B15: Nom Prénom | C15: Inscription | G15: Langue parlée | H15: Pays | I15: Téléphone | J15: E-Mail | K15: Réduction | L15: Prix | M15: Réservé par | O15: Confirmation | Q15: Effectif | U15: Montant payé | V15: Encaissement | X15: Remarques / Bons cadeau
C16: Adultes | D16: Senior | E16: 8-17 ans | F16: 0-7 ans | M16: Date | N16: Nom | O16: Date | P16: Nom | Q16: Adultes | R16: Senior | S16: 8-17 ans | T16: 0-7 ans | V16: Cash/Crédit | W16: Nom
L17: =((C17*$C$1)+(D17*$D$1)+(E17*$E$1))-K17 -> 0
L18: =((C18*$C$1)+(D18*$D$1)+(E18*$E$1))-K18 -> 0
L19: =((C19*$C$1)+(D19*$D$1)+(E19*$E$1))-K19 -> 0
L20: =((C20*$C$1)+(D20*$D$1)+(E20*$E$1))-K20 -> 0
L21: =((C21*$C$1)+(D21*$D$1)+(E21*$E$1))-K21 -> 0
L22: =((C22*$C$1)+(D22*$D$1)+(E22*$E$1))-K22 -> 0
B23: Total | C23: =SUM(C17:C22) -> 0 | D23: =SUM(D17:D22) -> 0 | E23: =SUM(E17:E22) -> 0 | F23: =SUM(F17:F22) -> 0 | H23: =SUMIF(H17:H22,"Suisse",C17:F22) -> 0 | L23: =SUM(L17:L22) -> 0 | Q23: =SUM(Q17:Q22) -> 0 | R23: =SUM(R17:R22) -> 0 | S23: =SUM(S17:S22) -> 0 | T23: =SUM(T17:T22) -> 0 | U23: =SUM(U17:U22) -> 0
C24: =SUM(C23:F23) -> 0 | H24: =SUMIF(H17:H22,"Etranger",C17:F22) -> 0 | Q24: =SUM(Q23:T23) -> 0
C25: =IF(SUM(C17:E22)>=10,"Randonnée complète","Il reste des places libres") -> Il reste des places libres
B29: Inscrits | C29: =C11+C24 -> 0
B30: Participants | C30: =Q11+Q24 -> 0
B31: Non venus/annulés | C31: =Q11-C11 -> 0
B32: Total Adultes | C32: =Q10+Q23 -> 0
B33: Total Senior | C33: =R10+R23 -> 0
B34: Total Enfants | C34: =S10+T10+S23+T23 -> 0
B35: Origine suisse | C35: =H10+H23 -> 0
B36: Origine étrangère | C36: =H11+H24 -> 0
B37: Total recettes prévu | C37: =L10+L23 -> 0
B38: Total recettes effectif | C38: =U10+U23 -> 0
B39: Total inscrits | C39: =C29 -> 0
B40: Total participants | C40: =C30 -> 0
B41: Total non venus/annulés | C41: =C31 -> 0

Sheet SA 1.4.17
C1: 48 | D1: 46 | E1: 10 | F1: 0
A2: 10H | B2: Nom Prénom | C2: Inscription | G2: Langue parlée | H2: Pays | I2: Téléphone portable | J2: E-Mail | K2: Réduction | L2: Prix | M2: Réservé par | O2: Confirmation | Q2: Effectif | U2: Montant payé | V2: Encaissement | X2: Remarques / Bons cadeau
C3: Adultes | D3: Senior | E3: 8-17 ans | F3: 0-7 ans | M3: Date | N3: Nom | O3: Date | P3: Nom | Q3: Adultes | R3: Senior | S3: 8-17 ans | T3: 0-7 ans | V3: Cash/Crédit | W3: Nom
L4: =((C4*$C$1)+(D4*$D$1)+(E4*$E$1))-K4 -> 0
L5: =((C5*$C$1)+(D5*$D$1)+(E5*$E$1))-K5 -> 0
L6: =((C6*$C$1)+(D6*$D$1)+(E6*$E$1))-K6 -> 0
L7: =((C7*$C$1)+(D7*$D$1)+(E7*$E$1))-K7 -> 0
L8: =((C8*$C$1)+(D8*$D$1)+(E8*$E$1))-K8 -> 0
L9: =((C9*$C$1)+(D9*$D$1)+(E9*$E$1))-K9 -> 0
B10: Total | C10: =SUM(C4:C9) -> 0 | D10: =SUM(D4:D9) -> 0 | E10: =SUM(E4:E9) -> 0 | F10: =SUM(F4:F9) -> 0 | H10: =SUMIF(H4:H9,"Suisse",C4:F9) -> 0 | L10: =SUM(L4:L9) -> 0 | Q10: =SUM(Q4:Q9) -> 0 | R10: =SUM(R4:R9) -> 0 | S10: =SUM(S4:S9) -> 0 | T10: =SUM(T4:T9) -> 0 | U10: =SUM(U4:U9) -> 0
C11: =SUM(C10:F10) -> 0 | H11: =SUMIF(H4:H9,"Etranger",C4:F9) -> 0 | Q11: =SUM(Q10:T10) -> 0
C12: =IF(SUM(C4:E9)>=10,"Randonnée complète","Il reste des places libres") -> Il reste des places libres
A15: 14H | B15: Nom Prénom | C15: Inscription | G15: Langue parlée | H15: Pays | I15: Téléphone | J15: E-Mail | K15: Réduction | L15: Prix | M15: Réservé par | O15: Confirmation | Q15: Effectif | U15: Montant payé | V15: Encaissement | X15: Remarques / Bons cadeau
C16: Adultes | D16: Senior | E16: 8-17 ans | F16: 0-7 ans | M16: Date | N16: Nom | O16: Date | P16: Nom | Q16: Adultes | R16: Senior | S16: 8-17 ans | T16: 0-7 ans | V16: Cash/Crédit | W16: Nom
L17: =((C17*$C$1)+(D17*$D$1)+(E17*$E$1))-K17 -> 0
L18: =((C18*$C$1)+(D18*$D$1)+(E18*$E$1))-K18 -> 0
L19: =((C19*$C$1)+(D19*$D$1)+(E19*$E$1))-K19 -> 0
L20: =((C20*$C$1)+(D20*$D$1)+(E20*$E$1))-K20 -> 0
L21: =((C21*$C$1)+(D21*$D$1)+(E21*$E$1))-K21 -> 0
L22: =((C22*$C$1)+(D22*$D$1)+(E22*$E$1))-K22 -> 0
B23: Total | C23: =SUM(C17:C22) -> 0 | D23: =SUM(D17:D22) -> 0 | E23: =SUM(E17:E22) -> 0 | F23: =SUM(F17:F22) -> 0 | H23: =SUMIF(H17:H22,"Suisse",C17:F22) -> 0 | L23: =SUM(L17:L22) -> 0 | Q23: =SUM(Q17:Q22) -> 0 | R23: =SUM(R17:R22) -> 0 | S23: =SUM(S17:S22) -> 0 | T23: =SUM(T17:T22) -> 0 | U23: =SUM(U17:U22) -> 0
C24: =SUM(C23:F23) -> 0 | H24: =SUMIF(H17:H22,"Etranger",C17:F22) -> 0 | Q24: =SUM(Q23:T23) -> 0
C25: =IF(SUM(C17:E22)>=10,"Randonnée complète","Il reste des places libres") -> Il reste des places libres
B29: Inscrits | C29: =C11+C24 -> 0
B30: Participants | C30: =Q11+Q24 -> 0
B31: Non venus/annulés | C31: =Q11-C11 -> 0
B32: Total Adultes | C32: =Q10+Q23 -> 0
B33: Total Senior | C33: =R10+R23 -> 0
B34: Total Enfants | C34: =S10+T10+S23+T23 -> 0
B35: Origine suisse | C35: =H10+H23 -> 0
B36: Origine étrangère | C36: =H11+H24 -> 0
B37: Total recettes prévu | C37: =L10+L23 -> 0
B38: Total recettes effectif | C38: =U10+U23 -> 0
B39: Total inscrits | C39: =C29 -> 0
B40: Total participants | C40: =C30 -> 0
B41: Total non venus/annulés | C41: =C31 -> 0

Sheet DI 2.4.17
C1: 48 | D1: 46 | E1: 10 | F1: 0
A2: 10H | B2: Nom Prénom | C2: Inscription | G2: Langue parlée | H2: Pays | I2: Téléphone portable | J2: E-Mail | K2: Réduction | L2: Prix | M2: Réservé par | O2: Confirmation | Q2: Effectif | U2: Montant payé | V2: Encaissement | X2: Remarques / Bons cadeau
C3: Adultes | D3: Senior | E3: 8-17 ans | F3: 0-7 ans | M3: Date | N3: Nom | O3: Date | P3: Nom | Q3: Adultes | R3: Senior | S3: 8-17 ans | T3: 0-7 ans | V3: Cash/Crédit | W3: Nom
L4: =((C4*$C$1)+(D4*$D$1)+(E4*$E$1))-K4 -> 0
L5: =((C5*$C$1)+(D5*$D$1)+(E5*$E$1))-K5 -> 0
L6: =((C6*$C$1)+(D6*$D$1)+(E6*$E$1))-K6 -> 0
L7: =((C7*$C$1)+(D7*$D$1)+(E7*$E$1))-K7 -> 0
L8: =((C8*$C$1)+(D8*$D$1)+(E8*$E$1))-K8 -> 0
L9: =((C9*$C$1)+(D9*$D$1)+(E9*$E$1))-K9 -> 0
B10: Total | C10: =SUM(C4:C9) -> 0 | D10: =SUM(D4:D9) -> 0 | E10: =SUM(E4:E9) -> 0 | F10: =SUM(F4:F9) -> 0 | H10: =SUMIF(H4:H9,"Suisse",C4:F9) -> 0 | L10: =SUM(L4:L9) -> 0 | Q10: =SUM(Q4:Q9) -> 0 | R10: =SUM(R4:R9) -> 0 | S10: =SUM(S4:S9) -> 0 | T10: =SUM(T4:T9) -> 0 | U10: =SUM(U4:U9) -> 0
C11: =SUM(C10:F10) -> 0 | H11: =SUMIF(H4:H9,"Etranger",C4:F9) -> 0 | Q11: =SUM(Q10:T10) -> 0
C12: =IF(SUM(C4:E9)>=10,"Randonnée complète","Il reste des places libres") -> Il reste des places libres
A15: 14H | B15: Nom Prénom | C15: Inscription | G15: Langue parlée | H15: Pays | I15: Téléphone | J15: E-Mail | K15: Réduction | L15: Prix | M15: Réservé par | O15: Confirmation | Q15: Effectif | U15: Montant payé | V15: Encaissement | X15: Remarques / Bons cadeau
C16: Adultes | D16: Senior | E16: 8-17 ans | F16: 0-7 ans | M16: Date | N16: Nom | O16: Date | P16: Nom | Q16: Adultes | R16: Senior | S16: 8-17 ans | T16: 0-7 ans | V16: Cash/Crédit | W16: Nom
L17: =((C17*$C$1)+(D17*$D$1)+(E17*$E$1))-K17 -> 0
L18: =((C18*$C$1)+(D18*$D$1)+(E18*$E$1))-K18 -> 0
L19: =((C19*$C$1)+(D19*$D$1)+(E19*$E$1))-K19 -> 0
L20: =((C20*$C$1)+(D20*$D$1)+(E20*$E$1))-K20 -> 0
L21: =((C21*$C$1)+(D21*$D$1)+(E21*$E$1))-K21 -> 0
L22: =((C22*$C$1)+(D22*$D$1)+(E22*$E$1))-K22 -> 0
B23: Total | C23: =SUM(C17:C22) -> 0 | D23: =SUM(D17:D22) -> 0 | E23: =SUM(E17:E22) -> 0 | F23: =SUM(F17:F22) -> 0 | H23: =SUMIF(H17:H22,"Suisse",C17:F22) -> 0 | L23: =SUM(L17:L22) -> 0 | Q23: =SUM(Q17:Q22) -> 0 | R23: =SUM(R17:R22) -> 0 | S23: =SUM(S17:S22) -> 0 | T23: =SUM(T17:T22) -> 0 | U23: =SUM(U17:U22) -> 0
C24: =SUM(C23:F23) -> 0 | H24: =SUMIF(H17:H22,"Etranger",C17:F22) -> 0 | Q24: =SUM(Q23:T23) -> 0
C25: =IF(SUM(C17:E22)>=10,"Randonnée complète","Il reste des places libres") -> Il reste des places libres
B29: Inscrits | C29: =C11+C24 -> 0
B30: Participants | C30: =Q11+Q24 -> 0
B31: Non venus/annulés | C31: =Q11-C11 -> 0
B32: Total Adultes | C32: =Q10+Q23 -> 0
B33: Total Senior | C33: =R10+R23 -> 0
B34: Total Enfants | C34: =S10+T10+S23+T23 -> 0
B35: Origine suisse | C35: =H10+H23 -> 0
B36: Origine étrangère | C36: =H11+H24 -> 0
B37: Total recettes prévu | C37: =L10+L23 -> 0
B38: Total recettes effectif | C38: =U10+U23 -> 0
B39: Total inscrits | C39: =C29 -> 0
B40: Total participants | C40: =C30 -> 0
B41: Total non venus/annulés | C41: =C31 -> 0

Sheet SA 8.4.17
C1: 48 | D1: 46 | E1: 10 | F1: 0
A2: 10H | B2: Nom Prénom | C2: Inscription | G2: Langue parlée | H2: Pays | I2: Téléphone portable | J2: E-Mail | K2: Réduction | L2: Prix | M2: Réservé par | O2: Confirmation | Q2: Effectif | U2: Montant payé | V2: Encaissement | X2: Remarques / Bons cadeau
C3: Adultes | D3: Senior | E3: 8-17 ans | F3: 0-7 ans | M3: Date | N3: Nom | O3: Date | P3: Nom | Q3: Adultes | R3: Senior | S3: 8-17 ans | T3: 0-7 ans | V3: Cash/Crédit | W3: Nom
L4: =((C4*$C$1)+(D4*$D$1)+(E4*$E$1))-K4 -> 0
L5: =((C5*$C$1)+(D5*$D$1)+(E5*$E$1))-K5 -> 0
L6: =((C6*$C$1)+(D6*$D$1)+(E6*$E$1))-K6 -> 0
L7: =((C7*$C$1)+(D7*$D$1)+(E7*$E$1))-K7 -> 0
L8: =((C8*$C$1)+(D8*$D$1)+(E8*$E$1))-K8 -> 0
L9: =((C9*$C$1)+(D9*$D$1)+(E9*$E$1))-K9 -> 0
B10: Total | C10: =SUM(C4:C9) -> 0 | D10: =SUM(D4:D9) -> 0 | E10: =SUM(E4:E9) -> 0 | F10: =SUM(F4:F9) -> 0 | H10: =SUMIF(H4:H9,"Suisse",C4:F9) -> 0 | L10: =SUM(L4:L9) -> 0 | Q10: =SUM(Q4:Q9) -> 0 | R10: =SUM(R4:R9) -> 0 | S10: =SUM(S4:S9) -> 0 | T10: =SUM(T4:T9) -> 0 | U10: =SUM(U4:U9) -> 0
C11: =SUM(C10:F10) -> 0 | H11: =SUMIF(H4:H9,"Etranger",C4:F9) -> 0 | Q11: =SUM(Q10:T10) -> 0
C12: =IF(SUM(C4:E9)>=10,"Randonnée complète","Il reste des places libres") -> Il reste des places libres
A15: 14H | B15: Nom Prénom | C15: Inscription | G15: Langue parlée | H15: Pays | I15: Téléphone | J15: E-Mail | K15: Réduction | L15: Prix | M15: Réservé par | O15: Confirmation | Q15: Effectif | U15: Montant payé | V15: Encaissement | X15: Remarques / Bons cadeau
C16: Adultes | D16: Senior | E16: 8-17 ans | F16: 0-7 ans | M16: Date | N16: Nom | O16: Date | P16: Nom | Q16: Adultes | R16: Senior | S16: 8-17 ans | T16: 0-7 ans | V16: Cash/Crédit | W16: Nom
L17: =((C17*$C$1)+(D17*$D$1)+(E17*$E$1))-K17 -> 0
L18: =((C18*$C$1)+(D18*$D$1)+(E18*$E$1))-K18 -> 0
L19: =((C19*$C$1)+(D19*$D$1)+(E19*$E$1))-K19 -> 0
L20: =((C20*$C$1)+(D20*$D$1)+(E20*$E$1))-K20 -> 0
L21: =((C21*$C$1)+(D21*$D$1)+(E21*$E$1))-K21 -> 0
L22: =((C22*$C$1)+(D22*$D$1)+(E22*$E$1))-K22 -> 0
B23: Total | C23: =SUM(C17:C22) -> 0 | D23: =SUM(D17:D22) -> 0 | E23: =SUM(E17:E22) -> 0 | F23: =SUM(F17:F22) -> 0 | H23: =SUMIF(H17:H22,"Suisse",C17:F22) -> 0 | L23: =SUM(L17:L22) -> 0 | Q23: =SUM(Q17:Q22) -> 0 | R23: =SUM(R17:R22) -> 0 | S23: =SUM(S17:S22) -> 0 | T23: =SUM(T17:T22) -> 0 | U23: =SUM(U17:U22) -> 0
C24: =SUM(C23:F23) -> 0 | H24: =SUMIF(H17:H22,"Etranger",C17:F22) -> 0 | Q24: =SUM(Q23:T23) -> 0
C25: =IF(SUM(C17:E22)>=10,"Randonnée complète","Il reste des places libres") -> Il reste des places libres
B29: Inscrits | C29: =C11+C24 -> 0
B30: Participants | C30: =Q11+Q24 -> 0
B31: Non venus/annulés | C31: =Q11-C11 -> 0
B32: Total Adultes | C32: =Q10+Q23 -> 0
B33: Total Senior | C33: =R10+R23 -> 0
B34: Total Enfants | C34: =S10+T10+S23+T23 -> 0
B35: Origine suisse | C35: =H10+H23 -> 0
B36: Origine étrangère | C36: =H11+H24 -> 0
B37: Total recettes prévu | C37: =L10+L23 -> 0
B38: Total recettes effectif | C38: =U10+U23 -> 0
B39: Total inscrits | C39: =C29 -> 0
B40: Total participants | C40: =C30 -> 0
B41: Total non venus/annulés | C41: =C31 -> 0

Sheet DI 9.4.17
C1: 48 | D1: 46 | E1: 10 | F1: 0
A2: 10H | B2: Nom Prénom | C2: Inscription | G2: Langue parlée | H2: Pays | I2: Téléphone portable | J2: E-Mail | K2: Réduction | L2: Prix | M2: Réservé par | O2: Confirmation | Q2: Effectif | U2: Montant payé | V2: Encaissement | X2: Remarques / Bons cadeau
C3: Adultes | D3: Senior | E3: 8-17 ans | F3: 0-7 ans | M3: Date | N3: Nom | O3: Date | P3: Nom | Q3: Adultes | R3: Senior | S3: 8-17 ans | T3: 0-7 ans | V3: Cash/Crédit | W3: Nom
L4: =((C4*$C$1)+(D4*$D$1)+(E4*$E$1))-K4 -> 0
L5: =((C5*$C$1)+(D5*$D$1)+(E5*$E$1))-K5 -> 0
L6: =((C6*$C$1)+(D6*$D$1)+(E6*$E$1))-K6 -> 0
L7: =((C7*$C$1)+(D7*$D$1)+(E7*$E$1))-K7 -> 0
L8: =((C8*$C$1)+(D8*$D$1)+(E8*$E$1))-K8 -> 0
L9: =((C9*$C$1)+(D9*$D$1)+(E9*$E$1))-K9 -> 0
B10: Total | C10: =SUM(C4:C9) -> 0 | D10: =SUM(D4:D9) -> 0 | E10: =SUM(E4:E9) -> 0 | F10: =SUM(F4:F9) -> 0 | H10: =SUMIF(H4:H9,"Suisse",C4:F9) -> 0 | L10: =SUM(L4:L9) -> 0 | Q10: =SUM(Q4:Q9) -> 0 | R10: =SUM(R4:R9) -> 0 | S10: =SUM(S4:S9) -> 0 | T10: =SUM(T4:T9) -> 0 | U10: =SUM(U4:U9) -> 0
C11: =SUM(C10:F10) -> 0 | H11: =SUMIF(H4:H9,"Etranger",C4:F9) -> 0 | Q11: =SUM(Q10:T10) -> 0
C12: =IF(SUM(C4:E9)>=10,"Randonnée complète","Il reste des places libres") -> Il reste des places libres
A15: 14H | B15: Nom Prénom | C15: Inscription | G15: Langue parlée | H15: Pays | I15: Téléphone | J15: E-Mail | K15: Réduction | L15: Prix | M15: Réservé par | O15: Confirmation | Q15: Effectif | U15: Montant payé | V15: Encaissement | X15: Remarques / Bons cadeau
C16: Adultes | D16: Senior | E16: 8-17 ans | F16: 0-7 ans | M16: Date | N16: Nom | O16: Date | P16: Nom | Q16: Adultes | R16: Senior | S16: 8-17 ans | T16: 0-7 ans | V16: Cash/Crédit | W16: Nom
L17: =((C17*$C$1)+(D17*$D$1)+(E17*$E$1))-K17 -> 0
L18: =((C18*$C$1)+(D18*$D$1)+(E18*$E$1))-K18 -> 0
L19: =((C19*$C$1)+(D19*$D$1)+(E19*$E$1))-K19 -> 0
L20: =((C20*$C$1)+(D20*$D$1)+(E20*$E$1))-K20 -> 0
L21: =((C21*$C$1)+(D21*$D$1)+(E21*$E$1))-K21 -> 0
L22: =((C22*$C$1)+(D22*$D$1)+(E22*$E$1))-K22 -> 0
B23: Total | C23: =SUM(C17:C22) -> 0 | D23: =SUM(D17:D22) -> 0 | E23: =SUM(E17:E22) -> 0 | F23: =SUM(F17:F22) -> 0 | H23: =SUMIF(H17:H22,"Suisse",C17:F22) -> 0 | L23: =SUM(L17:L22) -> 0 | Q23: =SUM(Q17:Q22) -> 0 | R23: =SUM(R17:R22) -> 0 | S23: =SUM(S17:S22) -> 0 | T23: =SUM(T17:T22) -> 0 | U23: =SUM(U17:U22) -> 0
C24: =SUM(C23:F23) -> 0 | H24: =SUMIF(H17:H22,"Etranger",C17:F22) -> 0 | Q24: =SUM(Q23:T23) -> 0
C25: =IF(SUM(C17:E22)>=10,"Randonnée complète","Il reste des places libres") -> Il reste des places libres
B29: Inscrits | C29: =C11+C24 -> 0
B30: Participants | C30: =Q11+Q24 -> 0
B31: Non venus/annulés | C31: =Q11-C11 -> 0
B32: Total Adultes | C32: =Q10+Q23 -> 0
B33: Total Senior | C33: =R10+R23 -> 0
B34: Total Enfants | C34: =S10+T10+S23+T23 -> 0
B35: Origine suisse | C35: =H10+H23 -> 0
B36: Origine étrangère | C36: =H11+H24 -> 0
B37: Total recettes prévu | C37: =L10+L23 -> 0
B38: Total recettes effectif | C38: =U10+U23 -> 0
B39: Total inscrits | C39: =C29 -> 0
B40: Total participants | C40: =C30 -> 0
B41: Total non venus/annulés | C41: =C31 -> 0

Sheet SA 15.4.17
C1: 48 | D1: 46 | E1: 10 | F1: 0
A2: 10H | B2: Nom Prénom | C2: Inscription | G2: Langue parlée | H2: Pays | I2: Téléphone portable | J2: E-Mail | K2: Réduction | L2: Prix | M2: Réservé par | O2: Confirmation | Q2: Effectif | U2: Montant payé | V2: Encaissement | X2: Remarques / Bons cadeau
C3: Adultes | D3: Senior | E3: 8-17 ans | F3: 0-7 ans | M3: Date | N3: Nom | O3: Date | P3: Nom | Q3: Adultes | R3: Senior | S3: 8-17 ans | T3: 0-7 ans | V3: Cash/Crédit | W3: Nom
L4: =((C4*$C$1)+(D4*$D$1)+(E4*$E$1))-K4 -> 0
L5: =((C5*$C$1)+(D5*$D$1)+(E5*$E$1))-K5 -> 0
L6: =((C6*$C$1)+(D6*$D$1)+(E6*$E$1))-K6 -> 0
L7: =((C7*$C$1)+(D7*$D$1)+(E7*$E$1))-K7 -> 0
L8: =((C8*$C$1)+(D8*$D$1)+(E8*$E$1))-K8 -> 0
L9: =((C9*$C$1)+(D9*$D$1)+(E9*$E$1))-K9 -> 0
B10: Total | C10: =SUM(C4:C9) -> 0 | D10: =SUM(D4:D9) -> 0 | E10: =SUM(E4:E9) -> 0 | F10: =SUM(F4:F9) -> 0 | H10: =SUMIF(H4:H9,"Suisse",C4:F9) -> 0 | L10: =SUM(L4:L9) -> 0 | Q10: =SUM(Q4:Q9) -> 0 | R10: =SUM(R4:R9) -> 0 | S10: =SUM(S4:S9) -> 0 | T10: =SUM(T4:T9) -> 0 | U10: =SUM(U4:U9) -> 0
C11: =SUM(C10:F10) -> 0 | H11: =SUMIF(H4:H9,"Etranger",C4:F9) -> 0 | Q11: =SUM(Q10:T10) -> 0
C12: =IF(SUM(C4:E9)>=10,"Randonnée complète","Il reste des places libres") -> Il reste des places libres
A15: 14H | B15: Nom Prénom | C15: Inscription | G15: Langue parlée | H15: Pays | I15: Téléphone | J15: E-Mail | K15: Réduction | L15: Prix | M15: Réservé par | O15: Confirmation | Q15: Effectif | U15: Montant payé | V15: Encaissement | X15: Remarques / Bons cadeau
C16: Adultes | D16: Senior | E16: 8-17 ans | F16: 0-7 ans | M16: Date | N16: Nom | O16: Date | P16: Nom | Q16: Adultes | R16: Senior | S16: 8-17 ans | T16: 0-7 ans | V16: Cash/Crédit | W16: Nom
L17: =((C17*$C$1)+(D17*$D$1)+(E17*$E$1))-K17 -> 0
L18: =((C18*$C$1)+(D18*$D$1)+(E18*$E$1))-K18 -> 0
L19: =((C19*$C$1)+(D19*$D$1)+(E19*$E$1))-K19 -> 0
L20: =((C20*$C$1)+(D20*$D$1)+(E20*$E$1))-K20 -> 0
L21: =((C21*$C$1)+(D21*$D$1)+(E21*$E$1))-K21 -> 0
L22: =((C22*$C$1)+(D22*$D$1)+(E22*$E$1))-K22 -> 0
B23: Total | C23: =SUM(C17:C22) -> 0 | D23: =SUM(D17:D22) -> 0 | E23: =SUM(E17:E22) -> 0 | F23: =SUM(F17:F22) -> 0 | H23: =SUMIF(H17:H22,"Suisse",C17:F22) -> 0 | L23: =SUM(L17:L22) -> 0 | Q23: =SUM(Q17:Q22) -> 0 | R23: =SUM(R17:R22) -> 0 | S23: =SUM(S17:S22) -> 0 | T23: =SUM(T17:T22) -> 0 | U23: =SUM(U17:U22) -> 0
C24: =SUM(C23:F23) -> 0 | H24: =SUMIF(H17:H22,"Etranger",C17:F22) -> 0 | Q24: =SUM(Q23:T23) -> 0
C25: =IF(SUM(C17:E22)>=10,"Randonnée complète","Il reste des places libres") -> Il reste des places libres
B29: Inscrits | C29: =C11+C24 -> 0
B30: Participants | C30: =Q11+Q24 -> 0
B31: Non venus/annulés | C31: =Q11-C11 -> 0
B32: Total Adultes | C32: =Q10+Q23 -> 0
B33: Total Senior | C33: =R10+R23 -> 0
B34: Total Enfants | C34: =S10+T10+S23+T23 -> 0
B35: Origine suisse | C35: =H10+H23 -> 0
B36: Origine étrangère | C36: =H11+H24 -> 0
B37: Total recettes prévu | C37: =L10+L23 -> 0
B38: Total recettes effectif | C38: =U10+U23 -> 0
B39: Total inscrits | C39: =C29 -> 0
B40: Total participants | C40: =C30 -> 0
B41: Total non venus/annulés | C41: =C31 -> 0

Sheet DI 16.4.17
C1: 48 | D1: 46 | E1: 10 | F1: 0
A2: 10H | B2: Nom Prénom | C2: Inscription | G2: Langue parlée | H2: Pays | I2: Téléphone portable | J2: E-Mail | K2: Réduction | L2: Prix | M2: Réservé par | O2: Confirmation | Q2: Effectif | U2: Montant payé | V2: Encaissement | X2: Remarques / Bons cadeau
C3: Adultes | D3: Senior | E3: 8-17 ans | F3: 0-7 ans | M3: Date | N3: Nom | O3: Date | P3: Nom | Q3: Adultes | R3: Senior | S3: 8-17 ans | T3: 0-7 ans | V3: Cash/Crédit | W3: Nom
L4: =((C4*$C$1)+(D4*$D$1)+(E4*$E$1))-K4 -> 0
L5: =((C5*$C$1)+(D5*$D$1)+(E5*$E$1))-K5 -> 0
L6: =((C6*$C$1)+(D6*$D$1)+(E6*$E$1))-K6 -> 0
L7: =((C7*$C$1)+(D7*$D$1)+(E7*$E$1))-K7 -> 0
L8: =((C8*$C$1)+(D8*$D$1)+(E8*$E$1))-K8 -> 0
L9: =((C9*$C$1)+(D9*$D$1)+(E9*$E$1))-K9 -> 0
B10: Total | C10: =SUM(C4:C9) -> 0 | D10: =SUM(D4:D9) -> 0 | E10: =SUM(E4:E9) -> 0 | F10: =SUM(F4:F9) -> 0 | H10: =SUMIF(H4:H9,"Suisse",C4:F9) -> 0 | L10: =SUM(L4:L9) -> 0 | Q10: =SUM(Q4:Q9) -> 0 | R10: =SUM(R4:R9) -> 0 | S10: =SUM(S4:S9) -> 0 | T10: =SUM(T4:T9) -> 0 | U10: =SUM(U4:U9) -> 0
C11: =SUM(C10:F10) -> 0 | H11: =SUMIF(H4:H9,"Etranger",C4:F9) -> 0 | Q11: =SUM(Q10:T10) -> 0
C12: =IF(SUM(C4:E9)>=10,"Randonnée complète","Il reste des places libres") -> Il reste des places libres
A15: 14H | B15: Nom Prénom | C15: Inscription | G15: Langue parlée | H15: Pays | I15: Téléphone | J15: E-Mail | K15: Réduction | L15: Prix | M15: Réservé par | O15: Confirmation | Q15: Effectif | U15: Montant payé | V15: Encaissement | X15: Remarques / Bons cadeau
C16: Adultes | D16: Senior | E16: 8-17 ans | F16: 0-7 ans | M16: Date | N16: Nom | O16: Date | P16: Nom | Q16: Adultes | R16: Senior | S16: 8-17 ans | T16: 0-7 ans | V16: Cash/Crédit | W16: Nom
L17: =((C17*$C$1)+(D17*$D$1)+(E17*$E$1))-K17 -> 0
L18: =((C18*$C$1)+(D18*$D$1)+(E18*$E$1))-K18 -> 0
L19: =((C19*$C$1)+(D19*$D$1)+(E19*$E$1))-K19 -> 0
L20: =((C20*$C$1)+(D20*$D$1)+(E20*$E$1))-K20 -> 0
L21: =((C21*$C$1)+(D21*$D$1)+(E21*$E$1))-K21 -> 0
L22: =((C22*$C$1)+(D22*$D$1)+(E22*$E$1))-K22 -> 0
B23: Total | C23: =SUM(C17:C22) -> 0 | D23: =SUM(D17:D22) -> 0 | E23: =SUM(E17:E22) -> 0 | F23: =SUM(F17:F22) -> 0 | H23: =SUMIF(H17:H22,"Suisse",C17:F22) -> 0 | L23: =SUM(L17:L22) -> 0 | Q23: =SUM(Q17:Q22) -> 0 | R23: =SUM(R17:R22) -> 0 | S23: =SUM(S17:S22) -> 0 | T23: =SUM(T17:T22) -> 0 | U23: =SUM(U17:U22) -> 0
C24: =SUM(C23:F23) -> 0 | H24: =SUMIF(H17:H22,"Etranger",C17:F22) -> 0 | Q24: =SUM(Q23:T23) -> 0
C25: =IF(SUM(C17:E22)>=10,"Randonnée complète","Il reste des places libres") -> Il reste des places libres
B29: Inscrits | C29: =C11+C24 -> 0
B30: Participants | C30: =Q11+Q24 -> 0
B31: Non venus/annulés | C31: =Q11-C11 -> 0
B32: Total Adultes | C32: =Q10+Q23 -> 0
B33: Total Senior | C33: =R10+R23 -> 0
B34: Total Enfants | C34: =S10+T10+S23+T23 -> 0
B35: Origine suisse | C35: =H10+H23 -> 0
B36: Origine étrangère | C36: =H11+H24 -> 0
B37: Total recettes prévu | C37: =L10+L23 -> 0
B38: Total recettes effectif | C38: =U10+U23 -> 0
B39: Total inscrits | C39: =C29 -> 0
B40: Total participants | C40: =C30 -> 0
B41: Total non venus/annulés | C41: =C31 -> 0

Sheet SA 22.4.17
C1: 48 | D1: 46 | E1: 10 | F1: 0
A2: 10H | B2: Nom Prénom | C2: Inscription | G2: Langue parlée | H2: Pays | I2: Téléphone portable | J2: E-Mail | K2: Réduction | L2: Prix | M2: Réservé par | O2: Confirmation | Q2: Effectif | U2: Montant payé | V2: Encaissement | X2: Remarques / Bons cadeau
C3: Adultes | D3: Senior | E3: 8-17 ans | F3: 0-7 ans | M3: Date | N3: Nom | O3: Date | P3: Nom | Q3: Adultes | R3: Senior | S3: 8-17 ans | T3: 0-7 ans | V3: Cash/Crédit | W3: Nom
L4: =((C4*$C$1)+(D4*$D$1)+(E4*$E$1))-K4 -> 0
L5: =((C5*$C$1)+(D5*$D$1)+(E5*$E$1))-K5 -> 0
L6: =((C6*$C$1)+(D6*$D$1)+(E6*$E$1))-K6 -> 0
L7: =((C7*$C$1)+(D7*$D$1)+(E7*$E$1))-K7 -> 0
L8: =((C8*$C$1)+(D8*$D$1)+(E8*$E$1))-K8 -> 0
L9: =((C9*$C$1)+(D9*$D$1)+(E9*$E$1))-K9 -> 0
B10: Total | C10: =SUM(C4:C9) -> 0 | D10: =SUM(D4:D9) -> 0 | E10: =SUM(E4:E9) -> 0 | F10: =SUM(F4:F9) -> 0 | H10: =SUMIF(H4:H9,"Suisse",C4:F9) -> 0 | L10: =SUM(L4:L9) -> 0 | Q10: =SUM(Q4:Q9) -> 0 | R10: =SUM(R4:R9) -> 0 | S10: =SUM(S4:S9) -> 0 | T10: =SUM(T4:T9) -> 0 | U10: =SUM(U4:U9) -> 0
C11: =SUM(C10:F10) -> 0 | H11: =SUMIF(H4:H9,"Etranger",C4:F9) -> 0 | Q11: =SUM(Q10:T10) -> 0
C12: =IF(SUM(C4:E9)>=10,"Randonnée complète","Il reste des places libres") -> Il reste des places libres
A15: 14H | B15: Nom Prénom | C15: Inscription | G15: Langue parlée | H15: Pays | I15: Téléphone | J15: E-Mail | K15: Réduction | L15: Prix | M15: Réservé par | O15: Confirmation | Q15: Effectif | U15: Montant payé | V15: Encaissement | X15: Remarques / Bons cadeau
C16: Adultes | D16: Senior | E16: 8-17 ans | F16: 0-7 ans | M16: Date | N16: Nom | O16: Date | P16: Nom | Q16: Adultes | R16: Senior | S16: 8-17 ans | T16: 0-7 ans | V16: Cash/Crédit | W16: Nom
L17: =((C17*$C$1)+(D17*$D$1)+(E17*$E$1))-K17 -> 0
L18: =((C18*$C$1)+(D18*$D$1)+(E18*$E$1))-K18 -> 0
L19: =((C19*$C$1)+(D19*$D$1)+(E19*$E$1))-K19 -> 0
L20: =((C20*$C$1)+(D20*$D$1)+(E20*$E$1))-K20 -> 0
L21: =((C21*$C$1)+(D21*$D$1)+(E21*$E$1))-K21 -> 0
L22: =((C22*$C$1)+(D22*$D$1)+(E22*$E$1))-K22 -> 0
B23: Total | C23: =SUM(C17:C22) -> 0 | D23: =SUM(D17:D22) -> 0 | E23: =SUM(E17:E22) -> 0 | F23: =SUM(F17:F22) -> 0 | H23: =SUMIF(H17:H22,"Suisse",C17:F22) -> 0 | L23: =SUM(L17:L22) -> 0 | Q23: =SUM(Q17:Q22) -> 0 | R23: =SUM(R17:R22) -> 0 | S23: =SUM(S17:S22) -> 0 | T23: =SUM(T17:T22) -> 0 | U23: =SUM(U17:U22) -> 0
C24: =SUM(C23:F23) -> 0 | H24: =SUMIF(H17:H22,"Etranger",C17:F22) -> 0 | Q24: =SUM(Q23:T23) -> 0
C25: =IF(SUM(C17:E22)>=10,"Randonnée complète","Il reste des places libres") -> Il reste des places libres
B29: Inscrits | C29: =C11+C24 -> 0
B30: Participants | C30: =Q11+Q24 -> 0
B31: Non venus/annulés | C31: =Q11-C11 -> 0
B32: Total Adultes | C32: =Q10+Q23 -> 0
B33: Total Senior | C33: =R10+R23 -> 0
B34: Total Enfants | C34: =S10+T10+S23+T23 -> 0
B35: Origine suisse | C35: =H10+H23 -> 0
B36: Origine étrangère | C36: =H11+H24 -> 0
B37: Total recettes prévu | C37: =L10+L23 -> 0
B38: Total recettes effectif | C38: =U10+U23 -> 0
B39: Total inscrits | C39: =C29 -> 0
B40: Total participants | C40: =C30 -> 0
B41: Total non venus/annulés | C41: =C31 -> 0

Sheet DI 23.4.17
C1: 48 | D1: 46 | E1: 10 | F1: 0
A2: 10H | B2: Nom Prénom | C2: Inscription | G2: Langue parlée | H2: Pays | I2: Téléphone portable | J2: E-Mail | K2: Réduction | L2: Prix | M2: Réservé par | O2: Confirmation | Q2: Effectif | U2: Montant payé | V2: Encaissement | X2: Remarques / Bons cadeau
C3: Adultes | D3: Senior | E3: 8-17 ans | F3: 0-7 ans | M3: Date | N3: Nom | O3: Date | P3: Nom | Q3: Adultes | R3: Senior | S3: 8-17 ans | T3: 0-7 ans | V3: Cash/Crédit | W3: Nom
L4: =((C4*$C$1)+(D4*$D$1)+(E4*$E$1))-K4 -> 0
L5: =((C5*$C$1)+(D5*$D$1)+(E5*$E$1))-K5 -> 0
L6: =((C6*$C$1)+(D6*$D$1)+(E6*$E$1))-K6 -> 0
L7: =((C7*$C$1)+(D7*$D$1)+(E7*$E$1))-K7 -> 0
L8: =((C8*$C$1)+(D8*$D$1)+(E8*$E$1))-K8 -> 0
L9: =((C9*$C$1)+(D9*$D$1)+(E9*$E$1))-K9 -> 0
B10: Total | C10: =SUM(C4:C9) -> 0 | D10: =SUM(D4:D9) -> 0 | E10: =SUM(E4:E9) -> 0 | F10: =SUM(F4:F9) -> 0 | H10: =SUMIF(H4:H9,"Suisse",C4:F9) -> 0 | L10: =SUM(L4:L9) -> 0 | Q10: =SUM(Q4:Q9) -> 0 | R10: =SUM(R4:R9) -> 0 | S10: =SUM(S4:S9) -> 0 | T10: =SUM(T4:T9) -> 0 | U10: =SUM(U4:U9) -> 0
C11: =SUM(C10:F10) -> 0 | H11: =SUMIF(H4:H9,"Etranger",C4:F9) -> 0 | Q11: =SUM(Q10:T10) -> 0
C12: =IF(SUM(C4:E9)>=10,"Randonnée complète","Il reste des places libres") -> Il reste des places libres
A15: 14H | B15: Nom Prénom | C15: Inscription | G15: Langue parlée | H15: Pays | I15: Téléphone | J15: E-Mail | K15: Réduction | L15: Prix | M15: Réservé par | O15: Confirmation | Q15: Effectif | U15: Montant payé | V15: Encaissement | X15: Remarques / Bons cadeau
C16: Adultes | D16: Senior | E16: 8-17 ans | F16: 0-7 ans | M16: Date | N16: Nom | O16: Date | P16: Nom | Q16: Adultes | R16: Senior | S16: 8-17 ans | T16: 0-7 ans | V16: Cash/Crédit | W16: Nom
L17: =((C17*$C$1)+(D17*$D$1)+(E17*$E$1))-K17 -> 0
L18: =((C18*$C$1)+(D18*$D$1)+(E18*$E$1))-K18 -> 0
L19: =((C19*$C$1)+(D19*$D$1)+(E19*$E$1))-K19 -> 0
L20: =((C20*$C$1)+(D20*$D$1)+(E20*$E$1))-K20 -> 0
L21: =((C21*$C$1)+(D21*$D$1)+(E21*$E$1))-K21 -> 0
L22: =((C22*$C$1)+(D22*$D$1)+(E22*$E$1))-K22 -> 0
B23: Total | C23: =SUM(C17:C22) -> 0 | D23: =SUM(D17:D22) -> 0 | E23: =SUM(E17:E22) -> 0 | F23: =SUM(F17:F22) -> 0 | H23: =SUMIF(H17:H22,"Suisse",C17:F22) -> 0 | L23: =SUM(L17:L22) -> 0 | Q23: =SUM(Q17:Q22) -> 0 | R23: =SUM(R17:R22) -> 0 | S23: =SUM(S17:S22) -> 0 | T23: =SUM(T17:T22) -> 0 | U23: =SUM(U17:U22) -> 0
C24: =SUM(C23:F23) -> 0 | H24: =SUMIF(H17:H22,"Etranger",C17:F22) -> 0 | Q24: =SUM(Q23:T23) -> 0
C25: =IF(SUM(C17:E22)>=10,"Randonnée complète","Il reste des places libres") -> Il reste des places libres
B29: Inscrits | C29: =C11+C24 -> 0
B30: Participants | C30: =Q11+Q24 -> 0
B31: Non venus/annulés | C31: =Q11-C11 -> 0
B32: Total Adultes | C32: =Q10+Q23 -> 0
B33: Total Senior | C33: =R10+R23 -> 0
B34: Total Enfants | C34: =S10+T10+S23+T23 -> 0
B35: Origine suisse | C35: =H10+H23 -> 0
B36: Origine étrangère | C36: =H11+H24 -> 0
B37: Total recettes prévu | C37: =L10+L23 -> 0
B38: Total recettes effectif | C38: =U10+U23 -> 0
B39: Total inscrits | C39: =C29 -> 0
B40: Total participants | C40: =C30 -> 0
B41: Total non venus/annulés | C41: =C31 -> 0

Sheet SA 29.4.17
C1: 48 | D1: 46 | E1: 10 | F1: 0
A2: 10H | B2: Nom Prénom | C2: Inscription | G2: Langue parlée | H2: Pays | I2: Téléphone portable | J2: E-Mail | K2: Réduction | L2: Prix | M2: Réservé par | O2: Confirmation | Q2: Effectif | U2: Montant payé | V2: Encaissement | X2: Remarques / Bons cadeau
C3: Adultes | D3: Senior | E3: 8-17 ans | F3: 0-7 ans | M3: Date | N3: Nom | O3: Date | P3: Nom | Q3: Adultes | R3: Senior | S3: 8-17 ans | T3: 0-7 ans | V3: Cash/Crédit | W3: Nom
L4: =((C4*$C$1)+(D4*$D$1)+(E4*$E$1))-K4 -> 0
L5: =((C5*$C$1)+(D5*$D$1)+(E5*$E$1))-K5 -> 0
L6: =((C6*$C$1)+(D6*$D$1)+(E6*$E$1))-K6 -> 0
L7: =((C7*$C$1)+(D7*$D$1)+(E7*$E$1))-K7 -> 0
L8: =((C8*$C$1)+(D8*$D$1)+(E8*$E$1))-K8 -> 0
L9: =((C9*$C$1)+(D9*$D$1)+(E9*$E$1))-K9 -> 0
B10: Total | C10: =SUM(C4:C9) -> 0 | D10: =SUM(D4:D9) -> 0 | E10: =SUM(E4:E9) -> 0 | F10: =SUM(F4:F9) -> 0 | H10: =SUMIF(H4:H9,"Suisse",C4:F9) -> 0 | L10: =SUM(L4:L9) -> 0 | Q10: =SUM(Q4:Q9) -> 0 | R10: =SUM(R4:R9) -> 0 | S10: =SUM(S4:S9) -> 0 | T10: =SUM(T4:T9) -> 0 | U10: =SUM(U4:U9) -> 0
C11: =SUM(C10:F10) -> 0 | H11: =SUMIF(H4:H9,"Etranger",C4:F9) -> 0 | Q11: =SUM(Q10:T10) -> 0
C12: =IF(SUM(C4:E9)>=10,"Randonnée complète","Il reste des places libres") -> Il reste des places libres
A15: 14H | B15: Nom Prénom | C15: Inscription | G15: Langue parlée | H15: Pays | I15: Téléphone | J15: E-Mail | K15: Réduction | L15: Prix | M15: Réservé par | O15: Confirmation | Q15: Effectif | U15: Montant payé | V15: Encaissement | X15: Remarques / Bons cadeau
C16: Adultes | D16: Senior | E16: 8-17 ans | F16: 0-7 ans | M16: Date | N16: Nom | O16: Date | P16: Nom | Q16: Adultes | R16: Senior | S16: 8-17 ans | T16: 0-7 ans | V16: Cash/Crédit | W16: Nom
L17: =((C17*$C$1)+(D17*$D$1)+(E17*$E$1))-K17 -> 0
L18: =((C18*$C$1)+(D18*$D$1)+(E18*$E$1))-K18 -> 0
L19: =((C19*$C$1)+(D19*$D$1)+(E19*$E$1))-K19 -> 0
L20: =((C20*$C$1)+(D20*$D$1)+(E20*$E$1))-K20 -> 0
L21: =((C21*$C$1)+(D21*$D$1)+(E21*$E$1))-K21 -> 0
L22: =((C22*$C$1)+(D22*$D$1)+(E22*$E$1))-K22 -> 0
B23: Total | C23: =SUM(C17:C22) -> 0 | D23: =SUM(D17:D22) -> 0 | E23: =SUM(E17:E22) -> 0 | F23: =SUM(F17:F22) -> 0 | H23: =SUMIF(H17:H22,"Suisse",C17:F22) -> 0 | L23: =SUM(L17:L22) -> 0 | Q23: =SUM(Q17:Q22) -> 0 | R23: =SUM(R17:R22) -> 0 | S23: =SUM(S17:S22) -> 0 | T23: =SUM(T17:T22) -> 0 | U23: =SUM(U17:U22) -> 0
C24: =SUM(C23:F23) -> 0 | H24: =SUMIF(H17:H22,"Etranger",C17:F22) -> 0 | Q24: =SUM(Q23:T23) -> 0
C25: =IF(SUM(C17:E22)>=10,"Randonnée complète","Il reste des places libres") -> Il reste des places libres
B29: Inscrits | C29: =C11+C24 -> 0
B30: Participants | C30: =Q11+Q24 -> 0
B31: Non venus/annulés | C31: =Q11-C11 -> 0
B32: Total Adultes | C32: =Q10+Q23 -> 0
B33: Total Senior | C33: =R10+R23 -> 0
B34: Total Enfants | C34: =S10+T10+S23+T23 -> 0
B35: Origine suisse | C35: =H10+H23 -> 0
B36: Origine étrangère | C36: =H11+H24 -> 0
B37: Total recettes prévu | C37: =L10+L23 -> 0
B38: Total recettes effectif | C38: =U10+U23 -> 0
B39: Total inscrits | C39: =C29 -> 0
B40: Total participants | C40: =C30 -> 0
B41: Total non venus/annulés | C41: =C31 -> 0

Sheet DI 30.4.17
C1: 48 | D1: 46 | E1: 10 | F1: 0
A2: 10H | B2: Nom Prénom | C2: Inscription | G2: Langue parlée | H2: Pays | I2: Téléphone portable | J2: E-Mail | K2: Réduction | L2: Prix | M2: Réservé par | O2: Confirmation | Q2: Effectif | U2: Montant payé | V2: Encaissement | X2: Remarques / Bons cadeau
C3: Adultes | D3: Senior | E3: 8-17 ans | F3: 0-7 ans | M3: Date | N3: Nom | O3: Date | P3: Nom | Q3: Adultes | R3: Senior | S3: 8-17 ans | T3: 0-7 ans | V3: Cash/Crédit | W3: Nom
L4: =((C4*$C$1)+(D4*$D$1)+(E4*$E$1))-K4 -> 0
L5: =((C5*$C$1)+(D5*$D$1)+(E5*$E$1))-K5 -> 0
L6: =((C6*$C$1)+(D6*$D$1)+(E6*$E$1))-K6 -> 0
L7: =((C7*$C$1)+(D7*$D$1)+(E7*$E$1))-K7 -> 0
L8: =((C8*$C$1)+(D8*$D$1)+(E8*$E$1))-K8 -> 0
L9: =((C9*$C$1)+(D9*$D$1)+(E9*$E$1))-K9 -> 0
B10: Total | C10: =SUM(C4:C9) -> 0 | D10: =SUM(D4:D9) -> 0 | E10: =SUM(E4:E9) -> 0 | F10: =SUM(F4:F9) -> 0 | H10: =SUMIF(H4:H9,"Suisse",C4:F9) -> 0 | L10: =SUM(L4:L9) -> 0 | Q10: =SUM(Q4:Q9) -> 0 | R10: =SUM(R4:R9) -> 0 | S10: =SUM(S4:S9) -> 0 | T10: =SUM(T4:T9) -> 0 | U10: =SUM(U4:U9) -> 0
C11: =SUM(C10:F10) -> 0 | H11: =SUMIF(H4:H9,"Etranger",C4:F9) -> 0 | Q11: =SUM(Q10:T10) -> 0
C12: =IF(SUM(C4:E9)>=10,"Randonnée complète","Il reste des places libres") -> Il reste des places libres
A15: 14H | B15: Nom Prénom | C15: Inscription | G15: Langue parlée | H15: Pays | I15: Téléphone | J15: E-Mail | K15: Réduction | L15: Prix | M15: Réservé par | O15: Confirmation | Q15: Effectif | U15: Montant payé | V15: Encaissement | X15: Remarques / Bons cadeau
C16: Adultes | D16: Senior | E16: 8-17 ans | F16: 0-7 ans | M16: Date | N16: Nom | O16: Date | P16: Nom | Q16: Adultes | R16: Senior | S16: 8-17 ans | T16: 0-7 ans | V16: Cash/Crédit | W16: Nom
L17: =((C17*$C$1)+(D17*$D$1)+(E17*$E$1))-K17 -> 0
L18: =((C18*$C$1)+(D18*$D$1)+(E18*$E$1))-K18 -> 0
L19: =((C19*$C$1)+(D19*$D$1)+(E19*$E$1))-K19 -> 0
L20: =((C20*$C$1)+(D20*$D$1)+(E20*$E$1))-K20 -> 0
L21: =((C21*$C$1)+(D21*$D$1)+(E21*$E$1))-K21 -> 0
L22: =((C22*$C$1)+(D22*$D$1)+(E22*$E$1))-K22 -> 0
B23: Total | C23: =SUM(C17:C22) -> 0 | D23: =SUM(D17:D22) -> 0 | E23: =SUM(E17:E22) -> 0 | F23: =SUM(F17:F22) -> 0 | H23: =SUMIF(H17:H22,"Suisse",C17:F22) -> 0 | L23: =SUM(L17:L22) -> 0 | Q23: =SUM(Q17:Q22) -> 0 | R23: =SUM(R17:R22) -> 0 | S23: =SUM(S17:S22) -> 0 | T23: =SUM(T17:T22) -> 0 | U23: =SUM(U17:U22) -> 0
C24: =SUM(C23:F23) -> 0 | H24: =SUMIF(H17:H22,"Etranger",C17:F22) -> 0 | Q24: =SUM(Q23:T23) -> 0
C25: =IF(SUM(C17:E22)>=10,"Randonnée complète","Il reste des places libres") -> Il reste des places libres
B29: Inscrits | C29: =C11+C24 -> 0
B30: Participants | C30: =Q11+Q24 -> 0
B31: Non venus/annulés | C31: =Q11-C11 -> 0
B32: Total Adultes | C32: =Q10+Q23 -> 0
B33: Total Senior | C33: =R10+R23 -> 0
B34: Total Enfants | C34: =S10+T10+S23+T23 -> 0
B35: Origine suisse | C35: =H10+H23 -> 0
B36: Origine étrangère | C36: =H11+H24 -> 0
B37: Total recettes prévu | C37: =L10+L23 -> 0
B38: Total recettes effectif | C38: =U10+U23 -> 0
B39: Total inscrits | C39: =C29 -> 0
B40: Total participants | C40: =C30 -> 0
B41: Total non venus/annulés | C41: =C31 -> 0

Sheet SA 6.5.17
C1: 48 | D1: 46 | E1: 10 | F1: 0
A2: 10H | B2: Nom Prénom | C2: Inscription | G2: Langue parlée | H2: Pays | I2: Téléphone portable | J2: E-Mail | K2: Réduction | L2: Prix | M2: Réservé par | O2: Confirmation | Q2: Effectif | U2: Montant payé | V2: Encaissement | X2: Remarques / Bons cadeau
C3: Adultes | D3: Senior | E3: 8-17 ans | F3: 0-7 ans | M3: Date | N3: Nom | O3: Date | P3: Nom | Q3: Adultes | R3: Senior | S3: 8-17 ans | T3: 0-7 ans | V3: Cash/Crédit | W3: Nom
L4: =((C4*$C$1)+(D4*$D$1)+(E4*$E$1))-K4 -> 0
L5: =((C5*$C$1)+(D5*$D$1)+(E5*$E$1))-K5 -> 0
L6: =((C6*$C$1)+(D6*$D$1)+(E6*$E$1))-K6 -> 0
L7: =((C7*$C$1)+(D7*$D$1)+(E7*$E$1))-K7 -> 0
L8: =((C8*$C$1)+(D8*$D$1)+(E8*$E$1))-K8 -> 0
L9: =((C9*$C$1)+(D9*$D$1)+(E9*$E$1))-K9 -> 0
B10: Total | C10: =SUM(C4:C9) -> 0 | D10: =SUM(D4:D9) -> 0 | E10: =SUM(E4:E9) -> 0 | F10: =SUM(F4:F9) -> 0 | H10: =SUMIF(H4:H9,"Suisse",C4:F9) -> 0 | L10: =SUM(L4:L9) -> 0 | Q10: =SUM(Q4:Q9) -> 0 | R10: =SUM(R4:R9) -> 0 | S10: =SUM(S4:S9) -> 0 | T10: =SUM(T4:T9) -> 0 | U10: =SUM(U4:U9) -> 0
C11: =SUM(C10:F10) -> 0 | H11: =SUMIF(H4:H9,"Etranger",C4:F9) -> 0 | Q11: =SUM(Q10:T10) -> 0
C12: =IF(SUM(C4:E9)>=10,"Randonnée complète","Il reste des places libres") -> Il reste des places libres
A15: 14H | B15: Nom Prénom | C15: Inscription | G15: Langue parlée | H15: Pays | I15: Téléphone | J15: E-Mail | K15: Réduction | L15: Prix | M15: Réservé par | O15: Confirmation | Q15: Effectif | U15: Montant payé | V15: Encaissement | X15: Remarques / Bons cadeau
C16: Adultes | D16: Senior | E16: 8-17 ans | F16: 0-7 ans | M16: Date | N16: Nom | O16: Date | P16: Nom | Q16: Adultes | R16: Senior | S16: 8-17 ans | T16: 0-7 ans | V16: Cash/Crédit | W16: Nom
L17: =((C17*$C$1)+(D17*$D$1)+(E17*$E$1))-K17 -> 0
L18: =((C18*$C$1)+(D18*$D$1)+(E18*$E$1))-K18 -> 0
L19: =((C19*$C$1)+(D19*$D$1)+(E19*$E$1))-K19 -> 0
L20: =((C20*$C$1)+(D20*$D$1)+(E20*$E$1))-K20 -> 0
L21: =((C21*$C$1)+(D21*$D$1)+(E21*$E$1))-K21 -> 0
L22: =((C22*$C$1)+(D22*$D$1)+(E22*$E$1))-K22 -> 0
B23: Total | C23: =SUM(C17:C22) -> 0 | D23: =SUM(D17:D22) -> 0 | E23: =SUM(E17:E22) -> 0 | F23: =SUM(F17:F22) -> 0 | H23: =SUMIF(H17:H22,"Suisse",C17:F22) -> 0 | L23: =SUM(L17:L22) -> 0 | Q23: =SUM(Q17:Q22) -> 0 | R23: =SUM(R17:R22) -> 0 | S23: =SUM(S17:S22) -> 0 | T23: =SUM(T17:T22) -> 0 | U23: =SUM(U17:U22) -> 0
C24: =SUM(C23:F23) -> 0 | H24: =SUMIF(H17:H22,"Etranger",C17:F22) -> 0 | Q24: =SUM(Q23:T23) -> 0
C25: =IF(SUM(C17:E22)>=10,"Randonnée complète","Il reste des places libres") -> Il reste des places libres
B29: Inscrits | C29: =C11+C24 -> 0
B30: Participants | C30: =Q11+Q24 -> 0
B31: Non venus/annulés | C31: =Q11-C11 -> 0
B32: Total Adultes | C32: =Q10+Q23 -> 0
B33: Total Senior | C33: =R10+R23 -> 0
B34: Total Enfants | C34: =S10+T10+S23+T23 -> 0
B35: Origine suisse | C35: =H10+H23 -> 0
B36: Origine étrangère | C36: =H11+H24 -> 0
B37: Total recettes prévu | C37: =L10+L23 -> 0
B38: Total recettes effectif | C38: =U10+U23 -> 0
B39: Total inscrits | C39: =C29 -> 0
B40: Total participants | C40: =C30 -> 0
B41: Total non venus/annulés | C41: =C31 -> 0

Sheet DI 7.5.17
C1: 48 | D1: 46 | E1: 10 | F1: 0
A2: 10H | B2: Nom Prénom | C2: Inscription | G2: Langue parlée | H2: Pays | I2: Téléphone portable | J2: E-Mail | K2: Réduction | L2: Prix | M2: Réservé par | O2: Confirmation | Q2: Effectif | U2: Montant payé | V2: Encaissement | X2: Remarques / Bons cadeau
C3: Adultes | D3: Senior | E3: 8-17 ans | F3: 0-7 ans | M3: Date | N3: Nom | O3: Date | P3: Nom | Q3: Adultes | R3: Senior | S3: 8-17 ans | T3: 0-7 ans | V3: Cash/Crédit | W3: Nom
L4: =((C4*$C$1)+(D4*$D$1)+(E4*$E$1))-K4 -> 0
L5: =((C5*$C$1)+(D5*$D$1)+(E5*$E$1))-K5 -> 0
L6: =((C6*$C$1)+(D6*$D$1)+(E6*$E$1))-K6 -> 0
L7: =((C7*$C$1)+(D7*$D$1)+(E7*$E$1))-K7 -> 0
L8: =((C8*$C$1)+(D8*$D$1)+(E8*$E$1))-K8 -> 0
L9: =((C9*$C$1)+(D9*$D$1)+(E9*$E$1))-K9 -> 0
B10: Total | C10: =SUM(C4:C9) -> 0 | D10: =SUM(D4:D9) -> 0 | E10: =SUM(E4:E9) -> 0 | F10: =SUM(F4:F9) -> 0 | H10: =SUMIF(H4:H9,"Suisse",C4:F9) -> 0 | L10: =SUM(L4:L9) -> 0 | Q10: =SUM(Q4:Q9) -> 0 | R10: =SUM(R4:R9) -> 0 | S10: =SUM(S4:S9) -> 0 | T10: =SUM(T4:T9) -> 0 | U10: =SUM(U4:U9) -> 0
C11: =SUM(C10:F10) -> 0 | H11: =SUMIF(H4:H9,"Etranger",C4:F9) -> 0 | Q11: =SUM(Q10:T10) -> 0
C12: =IF(SUM(C4:E9)>=10,"Randonnée complète","Il reste des places libres") -> Il reste des places libres
A15: 14H | B15: Nom Prénom | C15: Inscription | G15: Langue parlée | H15: Pays | I15: Téléphone | J15: E-Mail | K15: Réduction | L15: Prix | M15: Réservé par | O15: Confirmation | Q15: Effectif | U15: Montant payé | V15: Encaissement | X15: Remarques / Bons cadeau
C16: Adultes | D16: Senior | E16: 8-17 ans | F16: 0-7 ans | M16: Date | N16: Nom | O16: Date | P16: Nom | Q16: Adultes | R16: Senior | S16: 8-17 ans | T16: 0-7 ans | V16: Cash/Crédit | W16: Nom
L17: =((C17*$C$1)+(D17*$D$1)+(E17*$E$1))-K17 -> 0
