Workbook

Sheet Feuil1
A3: Nombre de Début de l'impact | B3: Étiquettes de colonnes
A4: Étiquettes de lignes | B4: 1 | C4: 2 | D4: 3 | E4: 4 | F4: 5 | G4: 6 | H4: 8 | I4: 10 | J4: 11 | K4: 12 | L4: 17 | M4: 20 | N4: 21 | O4: 32 | P4: 33 | Q4: 35 | R4: 44 | S4: 52 | T4: (vide) | U4: Total général
A5: 01 | B5: 1 | U5: 1
A6: 02 | B6: 1 | U6: 1
A7: 03 | C7: 1 | U7: 1
A8: 04 | F8: 1 | U8: 1
A9: 05 | D9: 1 | U9: 1
A10: 06 | L10: 1 | U10: 1
A11: 07 | F11: 1 | U11: 1
A12: 08 | N12: 1 | U12: 1
A13: 09 | K13: 1 | U13: 1
A14: 10 | Q14: 1 | U14: 1
A15: 11 | S15: 1 | U15: 1
A16: 12 | I16: 1 | U16: 1
A17: 13 | K17: 1 | U17: 1
A18: 14 | J18: 1 | U18: 1
A19: 15 | H19: 1 | U19: 1
A20: 16 | G20: 1 | U20: 1
A21: 17 | D21: 1 | U21: 1
A22: 18 | R22: 1 | U22: 1
A23: 19 | E23: 1 | U23: 1
A24: 20 | P24: 1 | U24: 1
A25: 21 | O25: 1 | U25: 1
A26: 22 | I26: 1 | U26: 1
A27: 23 | M27: 1 | U27: 1
A28: 24
A29: 25
A30: 26
A31: 27
A32: 28
A33: 29
A34: 30
A35: 31
A36: 32
A37: 33
A38: 34
A39: 35
... A56: 52
A57: Total général | B57: 2 | C57: 1 | D57: 2 | E57: 1 | F57: 2 | G57: 1 | H57: 1 | I57: 2 | J57: 1 | K57: 2 | L57: 1 | M57: 1 | N57: 1 | O57: 1 | P57: 1 | Q57: 1 | R57: 1 | S57: 1 | U57: 23

Sheet BDD
F1: 1 | G1: =F1+1 -> 2 | H1: =G1+1 -> 3 | I1: =H1+1 -> 4 | J1: =I1+1 -> 5 | K1: =J1+1 -> 6 | L1: =K1+1 -> 7 | M1: =L1+1 -> 8 | N1: =M1+1 -> 9 | ... BE1: =BD1+1 -> 52
F2: ="S"&F1 -> S1 | G2: ="S"&G1 -> S2 | H2: ="S"&H1 -> S3 | I2: ="S"&I1 -> S4 | J2: ="S"&J1 -> S5 | K2: ="S"&K1 -> S6 | L2: ="S"&L1 -> S7 | M2: ="S"&M1 -> S8 | ... BE2: ="S"&BE1 -> S52
B3: =1+1 -> 2 | C3: =1+1 -> 2 | F3: =COUNTIF(F4:F27,1) -> 2 | G3: =COUNTIF(G4:G27,1) -> 1 | H3: =COUNTIF(H4:H27,1) -> 2 | I3: =COUNTIF(I4:I27,1) -> 1 | J3: =COUNTIF(J4:J27,1) -> 2 | K3: =COUNTIF(K4:K27,1) -> 1 | L3: =COUNTIF(L4:L27,1) -> 0 | M3: =COUNTIF(M4:M27,1) -> 1 | ... BE3: =COUNTIF(BE4:BE27,1) -> 1
A5: Semaine de l'année | B5: Sem N° | C5: Activité | D5: Début de l'impact | F5: =IF("S"&$D6=F$2,1,"") -> 1 | G5: =IF("S"&$D6=G$2,1,"") | H5: =IF("S"&$D6=H$2,1,"") | I5: =IF("S"&$D6=I$2,1,"") | J5: =IF("S"&$D6=J$2,1,"") | K5: =IF("S"&$D6=K$2,1,"") | L5: =IF("S"&$D6=L$2,1,"") | M5: =IF("S"&$D6=M$2,1,"") | ... BE5: =IF("S"&$D6=BE$2,1,"")
A6: S1 | B6: =TEXT(SUBSTITUTE(Tableau2[[#This Row],[Semaine de l''année]],"S",""),"00") -> 01 | C6: Test1 | D6: 1 | F6: =IF("S"&$D7=F$2,1,"") -> 1 | G6: =IF("S"&$D7=G$2,1,"") | H6: =IF("S"&$D7=H$2,1,"") | I6: =IF("S"&$D7=I$2,1,"") | J6: =IF("S"&$D7=J$2,1,"") | K6: =IF("S"&$D7=K$2,1,"") | L6: =IF("S"&$D7=L$2,1,"") | M6: =IF("S"&$D7=M$2,1,"") | ... BE6: =IF("S"&$D7=BE$2,1,"")
A7: S2 | B7: =TEXT(SUBSTITUTE(Tableau2[[#This Row],[Semaine de l''année]],"S",""),"00") -> 02 | C7: Test2 | D7: 1 | F7: =IF("S"&$D8=F$2,1,"") | G7: =IF("S"&$D8=G$2,1,"") -> 1 | H7: =IF("S"&$D8=H$2,1,"") | I7: =IF("S"&$D8=I$2,1,"") | J7: =IF("S"&$D8=J$2,1,"") | K7: =IF("S"&$D8=K$2,1,"") | L7: =IF("S"&$D8=L$2,1,"") | M7: =IF("S"&$D8=M$2,1,"") | ... BE7: =IF("S"&$D8=BE$2,1,"")
A8: S3 | B8: =TEXT(SUBSTITUTE(Tableau2[[#This Row],[Semaine de l''année]],"S",""),"00") -> 03 | C8: Test3 | D8: 2 | F8: =IF("S"&$D9=F$2,1,"") | G8: =IF("S"&$D9=G$2,1,"") | H8: =IF("S"&$D9=H$2,1,"") | I8: =IF("S"&$D9=I$2,1,"") | J8: =IF("S"&$D9=J$2,1,"") -> 1 | K8: =IF("S"&$D9=K$2,1,"") | L8: =IF("S"&$D9=L$2,1,"") | M8: =IF("S"&$D9=M$2,1,"") | ... BE8: =IF("S"&$D9=BE$2,1,"")
A9: S4 | B9: =TEXT(SUBSTITUTE(Tableau2[[#This Row],[Semaine de l''année]],"S",""),"00") -> 04 | C9: Test4 | D9: 5 | F9: =IF("S"&$D10=F$2,1,"") | G9: =IF("S"&$D10=G$2,1,"") | H9: =IF("S"&$D10=H$2,1,"") -> 1 | I9: =IF("S"&$D10=I$2,1,"") | J9: =IF("S"&$D10=J$2,1,"") | K9: =IF("S"&$D10=K$2,1,"") | L9: =IF("S"&$D10=L$2,1,"") | M9: =IF("S"&$D10=M$2,1,"") | ... BE9: =IF("S"&$D10=BE$2,1,"")
A10: S5 | B10: =TEXT(SUBSTITUTE(Tableau2[[#This Row],[Semaine de l''année]],"S",""),"00") -> 05 | C10: Test5 | D10: 3 | F10: =IF("S"&$D11=F$2,1,"") | G10: =IF("S"&$D11=G$2,1,"") | H10: =IF("S"&$D11=H$2,1,"") | I10: =IF("S"&$D11=I$2,1,"") | J10: =IF("S"&$D11=J$2,1,"") | K10: =IF("S"&$D11=K$2,1,"") | L10: =IF("S"&$D11=L$2,1,"") | M10: =IF("S"&$D11=M$2,1,"") | ... BE10: =IF("S"&$D11=BE$2,1,"")
A11: S6 | B11: =TEXT(SUBSTITUTE(Tableau2[[#This Row],[Semaine de l''année]],"S",""),"00") -> 06 | C11: Test6 | D11: 17 | F11: =IF("S"&$D12=F$2,1,"") | G11: =IF("S"&$D12=G$2,1,"") | H11: =IF("S"&$D12=H$2,1,"") | I11: =IF("S"&$D12=I$2,1,"") | J11: =IF("S"&$D12=J$2,1,"") -> 1 | K11: =IF("S"&$D12=K$2,1,"") | L11: =IF("S"&$D12=L$2,1,"") | M11: =IF("S"&$D12=M$2,1,"") | ... BE11: =IF("S"&$D12=BE$2,1,"")
A12: S7 | B12: =TEXT(SUBSTITUTE(Tableau2[[#This Row],[Semaine de l''année]],"S",""),"00") -> 07 | C12: Test7 | D12: 5 | F12: =IF("S"&$D13=F$2,1,"") | G12: =IF("S"&$D13=G$2,1,"") | H12: =IF("S"&$D13=H$2,1,"") | I12: =IF("S"&$D13=I$2,1,"") | J12: =IF("S"&$D13=J$2,1,"") | K12: =IF("S"&$D13=K$2,1,"") | L12: =IF("S"&$D13=L$2,1,"") | M12: =IF("S"&$D13=M$2,1,"") | ... BE12: =IF("S"&$D13=BE$2,1,"")
A13: S8 | B13: =TEXT(SUBSTITUTE(Tableau2[[#This Row],[Semaine de l''année]],"S",""),"00") -> 08 | C13: Test8 | D13: 21 | F13: =IF("S"&$D14=F$2,1,"") | G13: =IF("S"&$D14=G$2,1,"") | H13: =IF("S"&$D14=H$2,1,"") | I13: =IF("S"&$D14=I$2,1,"") | J13: =IF("S"&$D14=J$2,1,"") | K13: =IF("S"&$D14=K$2,1,"") | L13: =IF("S"&$D14=L$2,1,"") | M13: =IF("S"&$D14=M$2,1,"") | ... BE13: =IF("S"&$D14=BE$2,1,"")
A14: S9 | B14: =TEXT(SUBSTITUTE(Tableau2[[#This Row],[Semaine de l''année]],"S",""),"00") -> 09 | C14: Test9 | D14: 12 | F14: =IF("S"&$D15=F$2,1,"") | G14: =IF("S"&$D15=G$2,1,"") | H14: =IF("S"&$D15=H$2,1,"") | I14: =IF("S"&$D15=I$2,1,"") | J14: =IF("S"&$D15=J$2,1,"") | K14: =IF("S"&$D15=K$2,1,"") | L14: =IF("S"&$D15=L$2,1,"") | M14: =IF("S"&$D15=M$2,1,"") | ... BE14: =IF("S"&$D15=BE$2,1,"")
A15: S10 | B15: =TEXT(SUBSTITUTE(Tableau2[[#This Row],[Semaine de l''année]],"S",""),"00") -> 10 | C15: Test10 | D15: 35 | F15: =IF("S"&$D16=F$2,1,"") | G15: =IF("S"&$D16=G$2,1,"") | H15: =IF("S"&$D16=H$2,1,"") | I15: =IF("S"&$D16=I$2,1,"") | J15: =IF("S"&$D16=J$2,1,"") | K15: =IF("S"&$D16=K$2,1,"") | L15: =IF("S"&$D16=L$2,1,"") | M15: =IF("S"&$D16=M$2,1,"") | ... BE15: =IF("S"&$D16=BE$2,1,"") -> 1
A16: S11 | B16: =TEXT(SUBSTITUTE(Tableau2[[#This Row],[Semaine de l''année]],"S",""),"00") -> 11 | C16: Test11 | D16: 52 | F16: =IF("S"&$D17=F$2,1,"") | G16: =IF("S"&$D17=G$2,1,"") | H16: =IF("S"&$D17=H$2,1,"") | I16: =IF("S"&$D17=I$2,1,"") | J16: =IF("S"&$D17=J$2,1,"") | K16: =IF("S"&$D17=K$2,1,"") | L16: =IF("S"&$D17=L$2,1,"") | M16: =IF("S"&$D17=M$2,1,"") | ... BE16: =IF("S"&$D17=BE$2,1,"")
A17: S12 | B17: =TEXT(SUBSTITUTE(Tableau2[[#This Row],[Semaine de l''année]],"S",""),"00") -> 12 | C17: Test12 | D17: 10 | F17: =IF("S"&$D18=F$2,1,"") | G17: =IF("S"&$D18=G$2,1,"") | H17: =IF("S"&$D18=H$2,1,"") | I17: =IF("S"&$D18=I$2,1,"") | J17: =IF("S"&$D18=J$2,1,"") | K17: =IF("S"&$D18=K$2,1,"") | L17: =IF("S"&$D18=L$2,1,"") | M17: =IF("S"&$D18=M$2,1,"") | ... BE17: =IF("S"&$D18=BE$2,1,"")
... A27: S22 | B27: =TEXT(SUBSTITUTE(Tableau2[[#This Row],[Semaine de l''année]],"S",""),"00") -> 22 | C27: Test22 | D27: 10 | F27: =IF("S"&$D28=F$2,1,"") | G27: =IF("S"&$D28=G$2,1,"") | H27: =IF("S"&$D28=H$2,1,"") | I27: =IF("S"&$D28=I$2,1,"") | J27: =IF("S"&$D28=J$2,1,"") | K27: =IF("S"&$D28=K$2,1,"") | L27: =IF("S"&$D28=L$2,1,"") | M27: =IF("S"&$D28=M$2,1,"") | ... BE27: =IF("S"&$D28=BE$2,1,"")
A28: S23 | B28: =TEXT(SUBSTITUTE(Tableau2[[#This Row],[Semaine de l''année]],"S",""),"00") -> 23 | C28: Test23 | D28: 20
A29: S24 | B29: =TEXT(SUBSTITUTE(Tableau2[[#This Row],[Semaine de l''année]],"S",""),"00") -> 24
A30: S25 | B30: =TEXT(SUBSTITUTE(Tableau2[[#This Row],[Semaine de l''année]],"S",""),"00") -> 25
A31: S26 | B31: =TEXT(SUBSTITUTE(Tableau2[[#This Row],[Semaine de l''année]],"S",""),"00") -> 26
A32: S27 | B32: =TEXT(SUBSTITUTE(Tableau2[[#This Row],[Semaine de l''année]],"S",""),"00") -> 27
A33: S28 | B33: =TEXT(SUBSTITUTE(Tableau2[[#This Row],[Semaine de l''année]],"S",""),"00") -> 28
A34: S29 | B34: =TEXT(SUBSTITUTE(Tableau2[[#This Row],[Semaine de l''année]],"S",""),"00") -> 29
A35: S30 | B35: =TEXT(SUBSTITUTE(Tableau2[[#This Row],[Semaine de l''année]],"S",""),"00") -> 30
A36: S31 | B36: =TEXT(SUBSTITUTE(Tableau2[[#This Row],[Semaine de l''année]],"S",""),"00") -> 31
A37: S32 | B37: =TEXT(SUBSTITUTE(Tableau2[[#This Row],[Semaine de l''année]],"S",""),"00") -> 32
A38: S33 | B38: =TEXT(SUBSTITUTE(Tableau2[[#This Row],[Semaine de l''année]],"S",""),"00") -> 33
A39: S34 | B39: =TEXT(SUBSTITUTE(Tableau2[[#This Row],[Semaine de l''année]],"S",""),"00") -> 34
A40: S35 | B40: =TEXT(SUBSTITUTE(Tableau2[[#This Row],[Semaine de l''année]],"S",""),"00") -> 35
... A57: S52 | B57: =TEXT(SUBSTITUTE(Tableau2[[#This Row],[Semaine de l''année]],"S",""),"00") -> 52

Sheet Test
F1: =F17 -> 5 | G1: =G17 -> 7
B3: Nom | C3: Debut | D3: Fin
B4: =IF(AND(BDD!D7>Test!$F$1,BDD!#REF!<Test!$G$1),BDD!C6,"") -> #REF! | C4: =IF(Tableau1[[#This Row],[Nom]]="","",BDD!D6) -> #REF! | D4: =IF(Tableau1[[#This Row],[Nom]]="","",BDD!#REF!) -> #REF!
B5: =IF(AND(BDD!D8>Test!$F$1,BDD!#REF!<Test!$G$1),BDD!C7,"") -> #REF! | C5: =IF(Tableau1[[#This Row],[Nom]]="","",BDD!D7) -> #REF! | D5: =IF(Tableau1[[#This Row],[Nom]]="","",BDD!#REF!) -> #REF!
B6: =IF(AND(BDD!D9>Test!$F$1,BDD!#REF!<Test!$G$1),BDD!C8,"") -> #REF! | C6: =IF(Tableau1[[#This Row],[Nom]]="","",BDD!D8) -> #REF! | D6: =IF(Tableau1[[#This Row],[Nom]]="","",BDD!#REF!) -> #REF!
B7: =IF(AND(BDD!D10>Test!$F$1,BDD!#REF!<Test!$G$1),BDD!C9,"") -> #REF! | C7: =IF(Tableau1[[#This Row],[Nom]]="","",BDD!D9) -> #REF! | D7: =IF(Tableau1[[#This Row],[Nom]]="","",BDD!#REF!) -> #REF!
B8: =IF(AND(BDD!D11>Test!$F$1,BDD!#REF!<Test!$G$1),BDD!C10,"") -> #REF! | C8: =IF(Tableau1[[#This Row],[Nom]]="","",BDD!D10) -> #REF! | D8: =IF(Tableau1[[#This Row],[Nom]]="","",BDD!#REF!) -> #REF!
B9: =IF(AND(BDD!D12>Test!$F$1,BDD!#REF!<Test!$G$1),BDD!C11,"") -> #REF! | C9: =IF(Tableau1[[#This Row],[Nom]]="","",BDD!D11) -> #REF! | D9: =IF(Tableau1[[#This Row],[Nom]]="","",BDD!#REF!) -> #REF!
B10: =IF(AND(BDD!D13>Test!$F$1,BDD!#REF!<Test!$G$1),BDD!C12,"") -> #REF! | C10: =IF(Tableau1[[#This Row],[Nom]]="","",BDD!D12) -> #REF! | D10: =IF(Tableau1[[#This Row],[Nom]]="","",BDD!#REF!) -> #REF!
B11: =IF(AND(BDD!D14>Test!$F$1,BDD!#REF!<Test!$G$1),BDD!C13,"") -> #REF! | C11: =IF(Tableau1[[#This Row],[Nom]]="","",BDD!D13) -> #REF! | D11: =IF(Tableau1[[#This Row],[Nom]]="","",BDD!#REF!) -> #REF!
F16: Semaine a zoomer
F17: 5 | G17: =F17+2 -> 7
