Workbook
Name _FilterDatabase_0: '01-02-2013'!$A$1:$HT$31
Name _FilterDatabase_0: '01-03-2013'!$A$1:$HU$73
Name _FilterDatabase_0: BdC!$A$2:$AU$280
Name _FilterDatabase_0: Comparatif!$E$1:$G$356
Name _FilterDatabase_0: 'FAS + désat ! 01-03-2013'!$A$1:$HT$1
Name _FilterDatabase_0: main!$A$1:$Z$414
Name ADSLVDSL: main!$H$18:$H$19
Name liste: main!$I$10:$I$30
Name MyCode: #REF!
Name MyStatus: #REF!
Name Mystatus2: #REF!
Name MyType: #REF!
Name Print_Area_0: '01-01-2013'!$A$1:$K$24
Name Print_Area_0: '01-02-2013'!$A$1:$M$39
Name Print_Area_0: 'FAS + désat ! 01-03-2013'!$A$1:$K$232
Name Print_Titles_0: main!$A$1:$A$1048378,main!#REF!
Name test: #REF!
Name YesNo: #REF!

Sheet BdC
M1: Proposition faite par la REGION | W1: Proposition faite par OBIANE | AH1: Optimisation en SDSL BIS
A2: Nom du site | B2: Adresse | C2: CP | D2: Ville | E2: Téléphone | F2: Type de site | G2: N° de liaison actuel | H2: Technologie actuelle | I2: Débit actuel | J2: Clé site | K2: Type de routeur | L2: Tarif actuel € HT | M2: Abonnement mensuel € HT | N2: Option Interface Ethernet € HT | O2: Frais de mise en service € HT | P2: Référence catalogue Obiane | Q2: Mise en service | R2: Remarque | S2: Porte | T2: Bande passante | W2: Référence catalogue Obiane | X2: Abonnement mensuel € HT | Y2: =N2 -> Option Interface Ethernet € HT | Z2: Frais de mise en service € HT | AA2: Frais de Desaturation € HT | AB2: Désaturation | AC2: Nombre de paire | AD2: Coût désaturation | AG2: NDI | AH2: Eligible SDSL bis à débit équivalent ? | AI2: Nb de paires ? | AJ2: Désat ? | AK2: Référence catalogue Obiane | AL2: Abonnement mensuel € HT | AM2: Frais de mise en service € HT | AN2: Désat
A3: CFA Agricole de Chauny | B3: =VLOOKUP(BdC!A3,main!A$1:Z$1048378,2,0) -> #N/A | C3: =VLOOKUP(A3,main!A$1:Z$1048378,4,0) -> #N/A | D3: Chauny | E3: =VLOOKUP(A3,'PRIX LOT1'!A:I,5,0) -> #N/A | F3: =VLOOKUP(A3,main!A$1:E$1048378,5,0) -> #N/A | G3: 0005GJR7 | H3: ADSL | I3: 0.5cA | J3: CFA_Agri_Chauny | K3: =VLOOKUP(A3,main!A$1:Z$1048378,12,0) -> #N/A | L3: 79.55 | M3: =AL3 -> 95.5 | N3: 0 | O3: 562.5 | P3: =AK3 -> FT_SDSLBis_2M_4p_C1 | Q3: 41365 | R3: Pourquoi pas de 1M sur 2p | S3: CE2O/SDSL | T3: 2 | W3: =P3 -> FT_SDSLBis_2M_4p_C1 | X3: =M3 -> 95.5 | Y3: =N3 -> 0 | Z3: =O3 -> 562.5 | AA3: =AN3 -> 0 | AB3: NON | AD3: =AN3 -> 0 | AG3: =VLOOKUP(A3,,5,0) -> #N/A | AH3: OUI | AI3: 4 | AJ3: NON | AK3: FT_SDSLBis_2M_4p_C1 | AL3: 95.5 | AM3: 562.5
A4: CFA Agricole de Verdilly | B4: =VLOOKUP(BdC!A4,main!A$1:Z$1048378,2,0) -> #N/A | C4: =VLOOKUP(A4,main!A$1:Z$1048378,4,0) -> #N/A | D4: Verdilly | E4: =VLOOKUP(A4,'PRIX LOT1'!A:I,5,0) -> #N/A | F4: =VLOOKUP(A4,main!A$1:E$1048378,5,0) -> #N/A | G4: 0005GLK9 | H4: ADSL | I4: 0.5cA | J4: CFA_Agri_Verdilly | K4: =VLOOKUP(A4,main!A$1:Z$1048378,12,0) -> #N/A | L4: 79.55 | M4: =AL4 -> 95.5 | N4: 0 | O4: 562.5 | P4: =AK4 -> FT_SDSLBis_2M_4p_C1 | Q4: 41365 | R4: Pourquoi pas de 1M sur 2p | S4: CE2O/SDSL | T4: 2 | W4: =P4 -> FT_SDSLBis_2M_4p_C1 | X4: =M4 -> 95.5 | Y4: =N4 -> 0 | Z4: =O4 -> 562.5 | AA4: =AN4 -> 1208 | AB4: NON | AD4: =AN4 -> 1208 | AG4: =VLOOKUP(A4,,5,0) -> #N/A | AH4: OUI | AI4: 4 | AJ4: OUI | AK4: FT_SDSLBis_2M_4p_C1 | AL4: 95.5 | AM4: 562.5 | AN4: 1208
A5: Mission Régionale | B5: =VLOOKUP(BdC!A5,main!A$1:Z$1048378,2,0) -> #N/A | C5: =VLOOKUP(A5,main!A$1:Z$1048378,4,0) -> #N/A | D5: Creil | E5: =VLOOKUP(A5,'PRIX LOT1'!A:I,5,0) -> #N/A | F5: =VLOOKUP(A5,main!A$1:E$1048378,5,0) -> #N/A | G5: 0018GUL0 | H5: SDSL_4p | I5: 4c500S | J5: MR_Creil | K5: =VLOOKUP(A5,main!A$1:Z$1048378,12,0) -> #N/A | L5: 213 | M5: 85.13 | N5: 27.63 | O5: 475 | P5: FT_SDSL_4M_2p_C1 | Q5: 41365 | R5: à vérifier (absence dans les onglets) | S5: SDSLBis | T5: 4 | W5: FT_SDSL_4M_2p_C1 | X5: 85.13 | Y5: =N5 -> 27.63 | Z5: =O5 -> 475 | AA5: =AN5 -> 0 | AB5: OUI | AC5: 2P | AD5: 1043 | AG5: =VLOOKUP(A5,,5,0) -> #N/A | AH5: NON
A6: Collège Les Frères Le Nain | B6: =VLOOKUP(BdC!A6,main!A$1:Z$1048378,2,0) -> #N/A | C6: =VLOOKUP(A6,main!A$1:Z$1048378,4,0) -> #N/A | D6: Laon | E6: =VLOOKUP(A6,'PRIX LOT1'!A:I,5,0) -> #N/A | F6: =VLOOKUP(A6,main!A$1:E$1048378,5,0) -> #N/A | G6: 0015FER3 | H6: SDSL | I6: 4c1000S | J6: Lenain_Laon | K6: =VLOOKUP(A6,main!A$1:Z$1048378,12,0) -> #N/A | L6: 293.38 | M6: =AL6 -> 77.5 | N6: 31.25 | O6: 475 | P6: =AK6 -> FT_SDSLBis_4M_2p_C1 | Q6: 41365 | S6: CE2O/SDSL | T6: 4 | W6: FT_SDSL_4M_4p_C1 | X6: 116 | Y6: =N6 -> 31.25 | Z6: 562.5 | AA6: =AN6 -> 1043 | AB6: OUI | AC6: 4P | AD6: 1208 | AG6: =VLOOKUP(A6,,5,0) -> #N/A | AH6: OUI | AI6: 4 | AJ6: OUI | AK6: FT_SDSLBis_4M_2p_C1 | AL6: 77.5 | AM6: 475 | AN6: 1043
A7: Lycée agricole de l'Oise Airion | B7: =VLOOKUP(BdC!A7,main!A$1:Z$1048378,2,0) -> #N/A | C7: =VLOOKUP(A7,main!A$1:Z$1048378,4,0) -> #N/A | D7: Airion | E7: =VLOOKUP(A7,'PRIX LOT1'!A:I,5,0) -> #N/A | F7: =VLOOKUP(A7,main!A$1:E$1048378,5,0) -> #N/A | G7: 0007WYS4 | H7: SDSL_2p | I7: 0.5cS | J7: LEGTA_Airion | K7: =VLOOKUP(A7,main!A$1:Z$1048378,12,0) -> #N/A | L7: 101.44 | M7: =AL7 -> 51 | N7: 0 | O7: 475 | P7: =AK7 -> FT_SDSLBis_512K_2p_C1 | Q7: 41395 | S7: CE2O/SDSL | T7: 0.5 | W7: =P7 -> FT_SDSLBis_512K_2p_C1 | X7: =M7 -> 51 | Y7: =N7 -> 0 | Z7: =O7 -> 475 | AA7: =AN7 -> 0 | AB7: OUI | AC7: 2P | AD7: 1043 | AG7: =VLOOKUP(A7,,5,0) -> #N/A | AH7: OUI | AI7: 2 | AJ7: OUI | AK7: FT_SDSLBis_512K_2p_C1 | AL7: 51 | AM7: 475
A8: Lycée agricole de l'Oise Airion | B8: =VLOOKUP(BdC!A8,main!A$1:Z$1048378,2,0) -> #N/A | C8: =VLOOKUP(A8,main!A$1:Z$1048378,4,0) -> #N/A | D8: Airion | E8: =VLOOKUP(A8,'PRIX LOT1'!A:I,5,0) -> #N/A | F8: =VLOOKUP(A8,main!A$1:E$1048378,5,0) -> #N/A | G8: 0011TKZ5 | H8: SDSL_2p | I8: 0.5cS | J8: LEGTA_Airion_R2 | K8: =VLOOKUP(A8,main!A$1:Z$1048378,12,0) -> #N/A | L8: 101.44 | M8: =AL8 -> 51 | N8: 0 | O8: 475 | P8: =AK8 -> FT_SDSLBis_512K_2p_C1 | Q8: 41395 | S8: CE2O/SDSL | T8: 0.5 | W8: =P8 -> FT_SDSLBis_512K_2p_C1 | X8: =M8 -> 51 | Y8: =N8 -> 0 | Z8: =O8 -> 475 | AA8: =AN8 -> 0 | AB8: OUI | AC8: 2P | AD8: 1043 | AG8: =VLOOKUP(A8,,5,0) -> #N/A | AH8: OUI | AI8: 2 | AJ8: OUI | AK8: FT_SDSLBis_512K_2p_C1 | AL8: 51 | AM8: 475
A9: MFREO Beauquesne | B9: =VLOOKUP(BdC!A9,main!A$1:Z$1048378,2,0) -> #N/A | C9: =VLOOKUP(A9,main!A$1:Z$1048378,4,0) -> #N/A | D9: Beauquesne | E9: =VLOOKUP(A9,'PRIX LOT1'!A:I,5,0) -> #N/A | F9: =VLOOKUP(A9,main!A$1:E$1048378,5,0) -> #N/A | G9: 0004WRV9 | H9: SDSL_2p | I9: 0.5cS | J9: MFREO_Beauquesne | K9: =VLOOKUP(A9,main!A$1:Z$1048378,12,0) -> #N/A | L9: 101.44 | M9: 370.75 | N9: 0 | O9: 0 | P9: SMSN_FO_20M | Q9: 41426 | S9: SMSN | T9: 20 | W9: =P9 -> SMSN_FO_20M | X9: =M9 -> 370.75 | Y9: =N9 -> 0 | Z9: =O9 -> 0 | AA9: =AD9 -> 0 | AB9: NON | AD9: =AN9 -> 0 | AG9: =VLOOKUP(A9,,5,0) -> #N/A | AH9: NON
A10: Collège Jean Mermoz Laon | B10: =VLOOKUP(BdC!A10,main!A$1:Z$1048378,2,0) -> #N/A | C10: =VLOOKUP(A10,main!A$1:Z$1048378,4,0) -> #N/A | D10: Laon | E10: =VLOOKUP(A10,'PRIX LOT1'!A:I,5,0) -> #N/A | F10: =VLOOKUP(A10,main!A$1:E$1048378,5,0) -> #N/A | G10: 0015EDW2 | H10: SDSL | I10: 4c1000S | J10: Mermoz_Laon | K10: =VLOOKUP(A10,main!A$1:Z$1048378,12,0) -> #N/A | L10: 293.38 | M10: =AL10 -> 77.5 | N10: 31.25 | O10: 475 | P10: =AK10 -> FT_SDSLBis_4M_2p_C1 | Q10: 41365 | S10: CE2O/SDSL | T10: 4 | W10: FT_SDSL_4M_4p_C1 | X10: 116 | Y10: =N10 -> 31.25 | Z10: 563 | AA10: =AD10 -> 0 | AB10: NON | AD10: =AN10 -> 0 | AG10: =VLOOKUP(A10,,5,0) -> #N/A | AH10: OUI | AI10: 4 | AJ10: NON | AK10: FT_SDSLBis_4M_2p_C1 | AL10: 77.5 | AM10: 475
A11: CFAI Aisne AFIDA Billy-sur-Aisne | B11: =VLOOKUP(BdC!A11,main!A$1:Z$1048378,2,0) -> #N/A | C11: =VLOOKUP(A11,main!A$1:Z$1048378,4,0) -> #N/A | D11: Soissons | E11: =VLOOKUP(A11,'PRIX LOT1'!A:I,5,0) -> #N/A | F11: =VLOOKUP(A11,main!A$1:E$1048378,5,0) -> #N/A | G11: 0005GLP0 | H11: ADSL | I11: 1cA | J11: CFA_AFIDA_Soissons | K11: =VLOOKUP(A11,main!A$1:Z$1048378,12,0) -> #N/A | L11: 94.87 | M11: =AL11 -> 56.13 | N11: 0 | O11: 475 | P11: =AK11 -> FT_SDSLBis_1M_2p_C1 | Q11: 41365 | S11: CE2O/SDSL | T11: 1 | W11: =P11 -> FT_SDSLBis_1M_2p_C1 | X11: =M11 -> 56.13 | Y11: =N11 -> 0 | Z11: =O11 -> 475 | AA11: =AD11 -> 0 | AB11: NON | AD11: =AN11 -> 0 | AG11: =VLOOKUP(A11,,5,0) -> #N/A | AH11: OUI | AI11: 2 | AJ11: NON | AK11: FT_SDSLBis_1M_2p_C1 | AL11: 56.13 | AM11: 475
A12: CFA des Bâtiments et Travaux Publics de la Somme d'Amiens (AFOBAT) | B12: =VLOOKUP(BdC!A12,main!A$1:Z$1048378,2,0) -> #N/A | C12: =VLOOKUP(A12,main!A$1:Z$1048378,4,0) -> #N/A | D12: Amiens | E12: =VLOOKUP(A12,'PRIX LOT1'!A:I,5,0) -> #N/A | F12: =VLOOKUP(A12,main!A$1:E$1048378,5,0) -> #N/A | G12: 0005GJS2 | H12: ADSL | I12: 1cA | J12: CFA_AFOBAT_Amiens | K12: =VLOOKUP(A12,main!A$1:Z$1048378,12,0) -> #N/A | L12: 94.87 | M12: 51.75 | N12: 0 | O12: 263.75 | P12: SMSN_ADSLMax | Q12: 41365 | S12: SMSN | T12: 20 | W12: =P12 -> SMSN_ADSLMax | X12: =M12 -> 51.75 | Y12: =N12 -> 0 | Z12: =O12 -> 263.75 | AA12: =AD12 -> 0 | AB12: NON | AD12: =AN12 -> 0
A13: CFA des Bâtiments et Travaux Publics de l'Aisne (AFOBAT) | B13: =VLOOKUP(BdC!A13,main!A$1:Z$1048378,2,0) -> #N/A | C13: =VLOOKUP(A13,main!A$1:Z$1048378,4,0) -> #N/A | D13: Laon | E13: =VLOOKUP(A13,'PRIX LOT1'!A:I,5,0) -> #N/A | F13: =VLOOKUP(A13,main!A$1:E$1048378,5,0) -> #N/A | G13: 0005FTM9 | H13: ADSL | I13: 1cA | J13: CFA_AFOBAT_Laon | K13: =VLOOKUP(A13,main!A$1:Z$1048378,12,0) -> #N/A | L13: 94.87 | M13: =AL13 -> 42.63 | N13: 0 | O13: 475 | P13: =AK13 -> FT_SDSLBis_1M_1p_C1 | Q13: 41334 | S13: CE2O/SDSL | T13: 1 | W13: =P13 -> FT_SDSLBis_1M_1p_C1 | X13: =M13 -> 42.63 | Y13: =N13 -> 0 | Z13: =O13 -> 475 | AA13: =AD13 -> 0 | AB13: NON | AD13: =AN13 -> 0 | AG13: =VLOOKUP(A13,,5,0) -> #N/A | AH13: OUI | AI13: 1 | AJ13: NON | AK13: FT_SDSLBis_1M_1p_C1 | AL13: 42.63 | AM13: 375
A14: AFPB Oise | B14: =VLOOKUP(BdC!A14,main!A$1:Z$1048378,2,0) -> #N/A | C14: =VLOOKUP(A14,main!A$1:Z$1048378,4,0) -> #N/A | D14: Agnetz | E14: =VLOOKUP(A14,'PRIX LOT1'!A:I,5,0) -> #N/A | F14: =VLOOKUP(A14,main!A$1:E$1048378,5,0) -> #N/A | G14: 0008BGT5 | H14: ADSL | I14: 1cA | J14: CFA_AFPB_Agnetz | K14: =VLOOKUP(A14,main!A$1:Z$1048378,12,0) -> #N/A | L14: 94.87 | M14: =AL14 -> 42.63 | N14: 0 | O14: 475 | P14: =AK14 -> FT_SDSLBis_1M_1p_C1 | Q14: 41334 | S14: CE2O/SDSL | T14: 1 | W14: FT_SDSL_1M_2p_C1 | X14: 475 | Y14: =N14 -> 0 | Z14: 54.38 | AA14: =AD14 -> 0 | AB14: NON | AD14: =AN14 -> 0 | AG14: =VLOOKUP(A14,,5,0) -> #N/A | AH14: OUI | AI14: 1 | AJ14: NON | AK14: FT_SDSLBis_1M_1p_C1 | AL14: 42.63 | AM14: 375
A15: CFA Agricole de Laon | B15: =VLOOKUP(BdC!A15,main!A$1:Z$1048378,2,0) -> #N/A | C15: =VLOOKUP(A15,main!A$1:Z$1048378,4,0) -> #N/A | D15: Laon | E15: =VLOOKUP(A15,'PRIX LOT1'!A:I,5,0) -> #N/A | F15: =VLOOKUP(A15,main!A$1:E$1048378,5,0) -> #N/A | G15: 0013PMB2 | H15: ADSL | I15: 1cA | J15: CFA_Agri_Laon | K15: =VLOOKUP(A15,main!A$1:Z$1048378,12,0) -> #N/A | L15: 94.87 | M15: 54.38 | N15: 0 | O15: 475 | P15: FT_SDSL_1M_2p_C1 | Q15: 41334 | S15: CE2O/SDSL | T15: 1 | W15: =P15 -> FT_SDSL_1M_2p_C1 | X15: =M15 -> 54.38 | Y15: =N15 -> 0 | Z15: =O15 -> 475 | AA15: =AD15 -> 0 | AB15: NON | AD15: =AN15 -> 0 | AG15: =VLOOKUP(A15,,5,0) -> #N/A | AH15: NON
A16: CFA Agricole et Horticole Pierrefonds | B16: =VLOOKUP(BdC!A16,main!A$1:Z$1048378,2,0) -> #N/A | C16: =VLOOKUP(A16,main!A$1:Z$1048378,4,0) -> #N/A | D16: Pierrefonds | E16: =VLOOKUP(A16,'PRIX LOT1'!A:I,5,0) -> #N/A | F16: =VLOOKUP(A16,main!A$1:E$1048378,5,0) -> #N/A | G16: 0008FRY3 | H16: ADSL | I16: 1cA | J16: CFA_Agri_Pierrefonds | K16: =VLOOKUP(A16,main!A$1:Z$1048378,12,0) -> #N/A | L16: 94.87 | M16: 54.38 | N16: 0 | O16: 475 | P16: FT_SDSL_1M_2p_C1 | Q16: 41334 | S16: CE2O/SDSL | T16: 1 | W16: =P16 -> FT_SDSL_1M_2p_C1 | X16: =M16 -> 54.38 | Y16: =N16 -> 0 | Z16: =O16 -> 475 | AA16: =AD16 -> 0 | AB16: NON | AD16: =AN16 -> 0 | AG16: =VLOOKUP(A16,,5,0) -> #N/A | AH16: NON
A17: CFA Agricole de Vervins | B17: =VLOOKUP(BdC!A17,main!A$1:Z$1048378,2,0) -> #N/A | C17: =VLOOKUP(A17,main!A$1:Z$1048378,4,0) -> #N/A | D17: Vervins | E17: =VLOOKUP(A17,'PRIX LOT1'!A:I,5,0) -> #N/A | F17: =VLOOKUP(A17,main!A$1:E$1048378,5,0) -> #N/A | G17: 0005GLP8 | H17: ADSL | I17: 1cA | J17: CFA_Agri_Vervins | K17: =VLOOKUP(A17,main!A$1:Z$1048378,12,0) -> #N/A | L17: 94.87 | M17: 54.38 | N17: 0 | O17: 475 | P17: FT_SDSL_1M_2p_C1 | Q17: 41334 | S17: CE2O/SDSL | T17: 1 | W17: =P17 -> FT_SDSL_1M_2p_C1 | X17: =M17 -> 54.38 | Y17: =N17 -> 0 | Z17: =O17 -> 475 | AA17: =AD17 -> 0 | AB17: NON | AD17: =AN17 -> 0 | AG17: =VLOOKUP(A17,,5,0) -> #N/A | AH17: NON
A18: CFA de la CCI de l'Oise de Nogent-sur-Oise (Antenne) | B18: =VLOOKUP(BdC!A18,main!A$1:Z$1048378,2,0) -> #N/A | C18: =VLOOKUP(A18,main!A$1:Z$1048378,4,0) -> #N/A | D18: Nogent-sur-Oise | E18: =VLOOKUP(A18,'PRIX LOT1'!A:I,5,0) -> #N/A | F18: =VLOOKUP(A18,main!A$1:E$1048378,5,0) -> #N/A | G18: 0005GJR1 | H18: ADSL | I18: 1cA | J18: CFA_ChComInd2_Nogent | K18: =VLOOKUP(A18,main!A$1:Z$1048378,12,0) -> #N/A | L18: 94.87 | M18: 54.38 | N18: 0 | O18: 475 | P18: FT_SDSL_1M_2p_C1 | Q18: 41334 | S18: CE2O/SDSL | T18: 1 | W18: =P18 -> FT_SDSL_1M_2p_C1 | X18: =M18 -> 54.38 | Y18: =N18 -> 0 | Z18: =O18 -> 475 | AA18: =AD18 -> 0 | AB18: NON | AD18: =AN18 -> 0 | AG18: =VLOOKUP(A18,,5,0) -> #N/A | AH18: NON
A19: CFA de la CCI de l'Aisne de Laon | B19: =VLOOKUP(BdC!A19,main!A$1:Z$1048378,2,0) -> #N/A | C19: =VLOOKUP(A19,main!A$1:Z$1048378,4,0) -> #N/A | D19: Laon | E19: =VLOOKUP(A19,'PRIX LOT1'!A:I,5,0) -> #N/A | F19: =VLOOKUP(A19,main!A$1:E$1048378,5,0) -> #N/A | G19: 0005GLN0 | H19: ADSL | I19: 1cA | J19: CFA_ChComInd_Laon | K19: =VLOOKUP(A19,main!A$1:Z$1048378,12,0) -> #N/A | L19: 94.87 | M19: 54.38 | N19: 0 | O19: 475 | P19: FT_SDSL_1M_2p_C1 | Q19: 41334 | S19: CE2O/SDSL | T19: 1 | W19: =P19 -> FT_SDSL_1M_2p_C1 | X19: =M19 -> 54.38 | Y19: =N19 -> 0 | Z19: =O19 -> 475 | AA19: =AD19 -> 0 | AB19: NON | AD19: =AN19 -> 0 | AG19: =VLOOKUP(A19,,5,0) -> #N/A | AH19: NON
A20: CFA de la CCI de l'Oise de Nogent-sur-Oise | B20: =VLOOKUP(BdC!A20,main!A$1:Z$1048378,2,0) -> #N/A | C20: =VLOOKUP(A20,main!A$1:Z$1048378,4,0) -> #N/A | D20: Nogent-sur-Oise | E20: =VLOOKUP(A20,'PRIX LOT1'!A:I,5,0) -> #N/A | F20: =VLOOKUP(A20,main!A$1:E$1048378,5,0) -> #N/A | G20: 0005FTV7 | H20: ADSL | I20: 1cA | J20: CFA_ChComInd_Nogent | K20: =VLOOKUP(A20,main!A$1:Z$1048378,12,0) -> #N/A | L20: 94.87 | M20: 54.38 | N20: 0 | O20: 475 | P20: FT_SDSL_1M_2p_C1 | Q20: 41334 | S20: CE2O/SDSL | T20: 1 | W20: =P20 -> FT_SDSL_1M_2p_C1 | X20: =M20 -> 54.38 | Y20: =N20 -> 0 | Z20: =O20 -> 475 | AA20: =AD20 -> 0 | AB20: NON | AD20: =AN20 -> 0 | AG20: =VLOOKUP(A20,,5,0) -> #N/A | AH20: NON
A21: CFA Chambre des Métiers de l'Aisne de La-Capelle | B21: =VLOOKUP(BdC!A21,main!A$1:Z$1048378,2,0) -> #N/A | C21: =VLOOKUP(A21,main!A$1:Z$1048378,4,0) -> #N/A | D21: La Capelle | E21: =VLOOKUP(A21,'PRIX LOT1'!A:I,5,0) -> #N/A | F21: =VLOOKUP(A21,main!A$1:E$1048378,5,0) -> #N/A | G21: 0005GJX5 | H21: ADSL | I21: 1cA | J21: CFA_ChMetiers_Capelle | K21: =VLOOKUP(A21,main!A$1:Z$1048378,12,0) -> #N/A | L21: 94.87 | M21: =AL21 -> 42.63 | N21: 0 | O21: 475 | P21: =AK21 -> FT_SDSLBis_1M_1p_C1 | Q21: 41334 | S21: CE2O/SDSL | T21: 1 | W21: =P21 -> FT_SDSLBis_1M_1p_C1 | X21: =M21 -> 42.63 | Y21: =N21 -> 0 | Z21: =O21 -> 475 | AA21: =AD21 -> 0 | AB21: NON | AD21: =AN21 -> 0 | AG21: =VLOOKUP(A21,,5,0) -> #N/A | AH21: OUI | AI21: 1 | AJ21: NON | AK21: FT_SDSLBis_1M_1p_C1 | AL21: 42.63 | AM21: 375
A22: CFA Chambre des Métiers de l'Aisne de Château-Thierry | B22: =VLOOKUP(BdC!A22,main!A$1:Z$1048378,2,0) -> #N/A | C22: =VLOOKUP(A22,main!A$1:Z$1048378,4,0) -> #N/A | D22: Château-Thierry | E22: =VLOOKUP(A22,'PRIX LOT1'!A:I,5,0) -> #N/A | F22: =VLOOKUP(A22,main!A$1:E$1048378,5,0) -> #N/A | G22: 0005GLN6 | H22: ADSL | I22: 1cA | J22: CFA_ChMetiers_ChThierry | K22: =VLOOKUP(A22,main!A$1:Z$1048378,12,0) -> #N/A | L22: 94.87 | M22: =AL22 -> 42.63 | N22: 0 | O22: 475 | P22: =AK22 -> FT_SDSLBis_1M_1p_C1 | Q22: 41334 | S22: CE2O/SDSL | T22: 1 | W22: =P22 -> FT_SDSLBis_1M_1p_C1 | X22: =M22 -> 42.63 | Y22: =N22 -> 0 | Z22: =O22 -> 475 | AA22: =AD22 -> 0 | AB22: NON | AD22: =AN22 -> 0 | AG22: =VLOOKUP(A22,,5,0) -> #N/A | AH22: OUI | AI22: 1 | AJ22: NON | AK22: FT_SDSLBis_1M_1p_C1 | AL22: 42.63 | AM22: 375
A23: CFA Chambre des Métiers de l'Oise de Compiègne | B23: =VLOOKUP(BdC!A23,main!A$1:Z$1048378,2,0) -> #N/A | C23: =VLOOKUP(A23,main!A$1:Z$1048378,4,0) -> #N/A | D23: Compiègne | E23: =VLOOKUP(A23,'PRIX LOT1'!A:I,5,0) -> #N/A | F23: =VLOOKUP(A23,main!A$1:E$1048378,5,0) -> #N/A | G23: 0005FTN2 | H23: ADSL | I23: 1cA | J23: CFA_ChMetiers_Compiegne | K23: =VLOOKUP(A23,main!A$1:Z$1048378,12,0) -> #N/A | L23: 94.87 | M23: 54.38 | N23: 0 | O23: 475 | P23: FT_SDSL_1M_2p_C1 | Q23: 41334 | S23: CE2O/SDSL | T23: 1 | W23: =P23 -> FT_SDSL_1M_2p_C1 | X23: =M23 -> 54.38 | Y23: =N23 -> 0 | Z23: =O23 -> 475 | AA23: =AD23 -> 0 | AB23: NON | AD23: =AN23 -> 0 | AG23: =VLOOKUP(A23,,5,0) -> #N/A | AH23: NON
A24: CFA Chambre des Métiers de l'Aisne de Laon | B24: =VLOOKUP(BdC!A24,main!A$1:Z$1048378,2,0) -> #N/A | C24: =VLOOKUP(A24,main!A$1:Z$1048378,4,0) -> #N/A | D24: Laon | E24: =VLOOKUP(A24,'PRIX LOT1'!A:I,5,0) -> #N/A | F24: =VLOOKUP(A24,main!A$1:E$1048378,5,0) -> #N/A | G24: 0005FTM6 | H24: ADSL | I24: 1cA | J24: CFA_ChMetiers_Laon | K24: =VLOOKUP(A24,main!A$1:Z$1048378,12,0) -> #N/A | L24: 94.87 | M24: =AL24 -> 42.63 | N24: 0 | O24: 475 | P24: =AK24 -> FT_SDSLBis_1M_1p_C1 | Q24: 41334 | S24: CE2O/SDSL | T24: 1 | W24: =P24 -> FT_SDSLBis_1M_1p_C1 | X24: =M24 -> 42.63 | Y24: =N24 -> 0 | Z24: =O24 -> 475 | AA24: =AD24 -> 0 | AB24: NON | AD24: =AN24 -> 0 | AG24: =VLOOKUP(A24,,5,0) -> #N/A | AH24: OUI | AI24: 1 | AJ24: NON | AK24: FT_SDSLBis_1M_1p_C1 | AL24: 42.63 | AM24: 375
A25: IRFFE CFA des travailleurs sociaux | B25: =VLOOKUP(BdC!A25,main!A$1:Z$1048378,2,0) -> #N/A | C25: =VLOOKUP(A25,main!A$1:Z$1048378,4,0) -> #N/A | D25: Amiens | E25: =VLOOKUP(A25,'PRIX LOT1'!A:I,5,0) -> #N/A | F25: =VLOOKUP(A25,main!A$1:E$1048378,5,0) -> #N/A | G25: 0008BGU2 | H25: ADSL | I25: 1cA | J25: CFA_IRFFE_Amiens | K25: =VLOOKUP(A25,main!A$1:Z$1048378,12,0) -> #N/A | L25: 94.87 | M25: 51.75 | N25: 0 | O25: 263.75 | P25: SMSN_ADSLMax | Q25: 41306 | S25: SMSN | T25: 20 | W25: =P25 -> SMSN_ADSLMax | X25: =M25 -> 51.75 | Y25: =N25 -> 0 | Z25: =O25 -> 263.75 | AA25: =AD25 -> 0 | AB25: NON | AD25: =AN25 -> 0
A26: Espace Cadres Saint Quentin | B26: =VLOOKUP(BdC!A26,main!A$1:Z$1048378,2,0) -> #N/A | C26: =VLOOKUP(A26,main!A$1:Z$1048378,4,0) -> #N/A | D26: Saint-Quentin | E26: =VLOOKUP(A26,'PRIX LOT1'!A:I,5,0) -> #N/A | F26: =VLOOKUP(A26,main!A$1:E$1048378,5,0) -> #N/A | G26: VV019055 | H26: ADSL | I26: 1cA | J26: Espcadre_SQ | K26: =VLOOKUP(A26,main!A$1:Z$1048378,12,0) -> #N/A | L26: 94.87 | M26: =AL26 -> 56.13 | N26: 0 | O26: 475 | P26: =AK26 -> FT_SDSLBis_1M_2p_C1 | Q26: 41334 | S26: CE2O/SDSL | T26: 1 | W26: =P26 -> FT_SDSLBis_1M_2p_C1 | X26: =M26 -> 56.13 | Y26: =N26 -> 0 | Z26: =O26 -> 475 | AA26: =AD26 -> 0 | AB26: NON | AD26: =AN26 -> 0 | AG26: =VLOOKUP(A26,,5,0) -> #N/A | AH26: OUI | AI26: 2 | AJ26: NON | AK26: FT_SDSLBis_1M_2p_C1 | AL26: 56.13 | AM26: 475
A27: Espace Cadres et Entreprises Soissons | B27: =VLOOKUP(BdC!A27,main!A$1:Z$1048378,2,0) -> #N/A | C27: =VLOOKUP(A27,main!A$1:Z$1048378,4,0) -> #N/A | D27: Soissons | E27: =VLOOKUP(A27,'PRIX LOT1'!A:I,5,0) -> #N/A | F27: =VLOOKUP(A27,main!A$1:E$1048378,5,0) -> #N/A | G27: 0007FZX5 | H27: ADSL | I27: 1cA | J27: Espcadre_Soissons | K27: =VLOOKUP(A27,main!A$1:Z$1048378,12,0) -> #N/A | L27: 94.87 | M27: =AL27 -> 42.63 | N27: 0 | O27: 475 | P27: =AK27 -> FT_SDSLBis_1M_1p_C1 | Q27: 41334 | S27: CE2O/SDSL | T27: 1 | W27: =P27 -> FT_SDSLBis_1M_1p_C1 | X27: =M27 -> 42.63 | Y27: =N27 -> 0 | Z27: =O27 -> 475 | AA27: =AD27 -> 0 | AB27: NON | AD27: =AN27 -> 0 | AG27: =VLOOKUP(A27,,5,0) -> #N/A | AH27: OUI | AI27: 1 | AJ27: NON | AK27: FT_SDSLBis_1M_1p_C1 | AL27: 42.63 | AM27: 375
A28: Collège Charlemagne | B28: =VLOOKUP(BdC!A28,main!A$1:Z$1048378,2,0) -> #N/A | C28: =VLOOKUP(A28,main!A$1:Z$1048378,4,0) -> #N/A | D28: Laon | E28: =VLOOKUP(A28,'PRIX LOT1'!A:I,5,0) -> #N/A | F28: =VLOOKUP(A28,main!A$1:E$1048378,5,0) -> #N/A | G28: 0023CFV4 | H28: SDSL_4p | I28: 8c1000S | J28: Charlemagne_Laon | K28: =VLOOKUP(A28,main!A$1:Z$1048378,12,0) -> #N/A | L28: 248 | M28: 140.13 | N28: 31.25 | O28: 815 | P28: FT_SDSLBis_8M_4p_C1 | Q28: 41365 | S28: SDSLBis | T28: 8 | W28: FT_SDSL_8M_4p_C1 | X28: 157.38 | Y28: =N28 -> 31.25 | Z28: 814.6 | AA28: =AD28 -> 1208 | AB28: OUI | AC28: 4P | AD28: 1208 | AG28: =VLOOKUP(A28,,5,0) -> #N/A | AH28: NON
A29: Collège Pierre de la Ramée | B29: =VLOOKUP(BdC!A29,main!A$1:Z$1048378,2,0) -> #N/A | C29: =VLOOKUP(A29,main!A$1:Z$1048378,4,0) -> #N/A | D29: Saint-Quentin | E29: =VLOOKUP(A29,'PRIX LOT1'!A:I,5,0) -> #N/A | F29: =VLOOKUP(A29,main!A$1:E$1048378,5,0) -> #N/A | G29: 0021RRY1 | H29: SDSL_4p | I29: 8c1000S | J29: RameeC_SQ | K29: =VLOOKUP(A29,main!A$1:Z$1048378,12,0) -> #N/A | L29: 248 | M29: 187.75 | N29: 31.25 | O29: 815 | P29: FT_SDSLBis_12M_4p_C1 | Q29: 41365 | R29: up | S29: SDSLBis | T29: 12 | W29: =P29 -> FT_SDSLBis_12M_4p_C1 | X29: =M29 -> 187.75 | Y29: =N29 -> 31.25 | Z29: =O29 -> 815 | AA29: =AD29 -> 1208 | AB29: OUI | AC29: 4P | AD29: 1208
A30: Collège Gabriel Hanotaux | B30: =VLOOKUP(BdC!A30,main!A$1:Z$1048378,2,0) -> #N/A | C30: =VLOOKUP(A30,main!A$1:Z$1048378,4,0) -> #N/A | D30: Saint-Quentin | E30: =VLOOKUP(A30,'PRIX LOT1'!A:I,5,0) -> #N/A | F30: =VLOOKUP(A30,main!A$1:E$1048378,5,0) -> #N/A | G30: 0015DSV7 | H30: SDSL | I30: 4c1000S | J30: Hanotaux_SQ | K30: =VLOOKUP(A30,main!A$1:Z$1048378,12,0) -> #N/A | L30: 293.38 | M30: 116 | N30: 27.63 | O30: 562.5 | P30: FT_SDSL_4M_4p_C1 | Q30: 41365 | S30: CE2O/SDSL | T30: 4 | W30: FT_SDSL_4M_4p_C1 | X30: 110.38 | Y30: =N30 -> 27.63 | Z30: 562.5 | AA30: =AD30 -> 1208 | AB30: OUI | AC30: 4P | AD30: 1208 | AG30: =VLOOKUP(A30,,5,0) -> #N/A | AH30: NON
A31: MFREO du Vimeu | B31: =VLOOKUP(BdC!A31,main!A$1:Z$1048378,2,0) -> #N/A | C31: =VLOOKUP(A31,main!A$1:Z$1048378,4,0) -> #N/A | D31: Yzengremer | E31: =VLOOKUP(A31,'PRIX LOT1'!A:I,5,0) -> #N/A | F31: =VLOOKUP(A31,main!A$1:E$1048378,5,0) -> #N/A | G31: 0008LHT2 | H31: ADSL | I31: 2cA | J31: MFREO_Yzengremer | K31: =VLOOKUP(A31,main!A$1:Z$1048378,12,0) -> #N/A | L31: 126.99 | M31: 64.63 | N31: 0 | O31: 475 | P31: FT_SDSLBis_2M_2p_C1 | Q31: 41365 | R31: pas de trafic | S31: SDSLBis | T31: 2 | W31: =P31 -> FT_SDSLBis_2M_2p_C1 | X31: =M31 -> 64.63 | Y31: =N31 -> 0 | Z31: =O31 -> 475 | AA31: =AD31 -> 1043 | AB31: OUI | AC31: 2P | AD31: 1043
A32: MFR Flixecourt | B32: =VLOOKUP(BdC!A32,main!A$1:Z$1048378,2,0) -> #N/A | C32: =VLOOKUP(A32,main!A$1:Z$1048378,4,0) -> #N/A | D32: Flixecourt | E32: =VLOOKUP(A32,'PRIX LOT1'!A:I,5,0) -> #N/A | F32: =VLOOKUP(A32,main!A$1:E$1048378,5,0) -> #N/A | G32: 0008LMJ6 | H32: ADSL | I32: 2cA | J32: MFR_Flixecourt | K32: =VLOOKUP(A32,main!A$1:Z$1048378,12,0) -> #N/A | L32: 126.99 | M32: 55.88 | N32: 0 | O32: 375 | P32: FT_SDSLBis_2M_1p_C2 | Q32: 41306 | R32: pas de trafic | S32: SDSLBis | T32: 2 | W32: =P32 -> FT_SDSLBis_2M_1p_C2 | X32: =M32 -> 55.88 | Y32: =N32 -> 0 | Z32: =O32 -> 375 | AA32: =AD32 -> 0 | AB32: NON | AD32: =AN32 -> 0
A33: Collège Charles de Foucauld | B33: =VLOOKUP(BdC!A33,main!A$1:Z$1048378,2,0) -> #N/A | C33: =VLOOKUP(A33,main!A$1:Z$1048378,4,0) -> #N/A | D33: Albert | E33: =VLOOKUP(A33,'PRIX LOT1'!A:I,5,0) -> #N/A | F33: =VLOOKUP(A33,main!A$1:E$1048378,5,0) -> #N/A | G33: 0000VBJ6 | H33: ADSL | I33: 1cA | J33: Foucauld_Albert | K33: =VLOOKUP(A33,main!A$1:Z$1048378,12,0) -> #N/A | L33: 94.87 | M33: 51.13 | N33: 0 | O33: 375 | P33: FT_SDSLBis_2M_1p_C1 | Q33: 41306 | R33: up | S33: SDSLBis | T33: 2 | W33: =P33 -> FT_SDSLBis_2M_1p_C1 | X33: =M33 -> 51.13 | Y33: =N33 -> 0 | Z33: =O33 -> 375 | AA33: =AD33 -> 0 | AB33: NON | AD33: =AN33 -> 0
A34: Collège Notre Dame Rue | B34: =VLOOKUP(BdC!A34,main!A$1:Z$1048378,2,0) -> #N/A | C34: =VLOOKUP(A34,main!A$1:Z$1048378,4,0) -> #N/A | D34: Rue | E34: =VLOOKUP(A34,'PRIX LOT1'!A:I,5,0) -> #N/A | F34: =VLOOKUP(A34,main!A$1:E$1048378,5,0) -> #N/A | G34: 0004MKD8 | H34: ADSL | I34: 1cA | J34: NotreDame_Rue | K34: =VLOOKUP(A34,main!A$1:Z$1048378,12,0) -> #N/A | L34: 94.87 | M34: 68.75 | N34: 0 | O34: 375 | P34: FT_SDSL_2M_1p_C1 | Q34: 41334 | R34: up | S34: CE2O/SDSL | T34: 2 | W34: =P34 -> FT_SDSL_2M_1p_C1 | X34: =M34 -> 68.75 | Y34: =N34 -> 0 | Z34: =O34 -> 375 | AA34: =AD34 -> 0 | AB34: NON | AD34: =AN34 -> 0 | AG34: =VLOOKUP(A34,,5,0) -> #N/A | AH34: NON
A35: Collège Jeanne d'Arc Roye | B35: =VLOOKUP(BdC!A35,main!A$1:Z$1048378,2,0) -> #N/A | C35: =VLOOKUP(A35,main!A$1:Z$1048378,4,0) -> #N/A | D35: Roye | E35: =VLOOKUP(A35,'PRIX LOT1'!A:I,5,0) -> #N/A | F35: =VLOOKUP(A35,main!A$1:E$1048378,5,0) -> #N/A | G35: 0000YSN3 | H35: ADSL | I35: 1cA | J35: JeanneArc_Roye | K35: =VLOOKUP(A35,main!A$1:Z$1048378,12,0) -> #N/A | L35: 94.87 | M35: 51.13 | N35: 0 | O35: 375 | P35: FT_SDSLBis_2M_1p_C1 | Q35: 41365 | R35: up | S35: SDSLBis | T35: 2 | W35: =P35 -> FT_SDSLBis_2M_1p_C1 | X35: =M35 -> 51.13 | Y35: =N35 -> 0 | Z35: =O35 -> 375 | AA35: =AD35 -> 833 | AB35: OUI | AC35: 1P | AD35: 833
A36: Collège Marthe Lefèvre | B36: =VLOOKUP(BdC!A36,main!A$1:Z$1048378,2,0) -> #N/A | C36: =VLOOKUP(A36,main!A$1:Z$1048378,4,0) -> #N/A | D36: Saint-Quentin | E36: =VLOOKUP(A36,'PRIX LOT1'!A:I,5,0) -> #N/A | F36: =VLOOKUP(A36,main!A$1:E$1048378,5,0) -> #N/A | G36: 0015ECY4 | H36: SDSL | I36: 4c1000S | J36: Lefevre_SQ | K36: =VLOOKUP(A36,main!A$1:Z$1048378,12,0) -> #N/A | L36: 293.38 | M36: =AL36 -> 110.38 | N36: 31.25 | O36: 475 | P36: =AK36 -> FT_SDSLBis_4M_4p_C1 | Q36: 41365 | S36: CE2O/SDSL | T36: 4 | W36: FT_SDSL_4M_4p_C1 | X36: 116 | Y36: =N36 -> 31.25 | Z36: 562.5 | AA36: =AD36 -> 1208 | AB36: OUI | AC36: 4P | AD36: 1208 | AG36: =VLOOKUP(A36,,5,0) -> #N/A | AH36: OUI | AI36: 4 | AJ36: OUI | AK36: FT_SDSLBis_4M_4p_C1 | AL36: 110.38 | AM36: 562.5 | AN36: 1208
A37: Collège La Salle | B37: =VLOOKUP(BdC!A37,main!A$1:Z$1048378,2,0) -> #N/A | C37: =VLOOKUP(A37,main!A$1:Z$1048378,4,0) -> #N/A | D37: Amiens | E37: =VLOOKUP(A37,'PRIX LOT1'!A:I,5,0) -> #N/A | F37: =VLOOKUP(A37,main!A$1:E$1048378,5,0) -> #N/A | G37: 0000VEV5 | H37: ADSL | I37: 1cA | J37: Salle_Amiens | K37: =VLOOKUP(A37,main!A$1:Z$1048378,12,0) -> #N/A | L37: 94.87 | M37: 51.75 | N37: 0 | O37: 263.75 | P37: SMSN_ADSLMax | Q37: 41306 | S37: SMSN | T37: 20 | W37: =P37 -> SMSN_ADSLMax | X37: =M37 -> 51.75 | Y37: =N37 -> 0 | Z37: =O37 -> 263.75 | AA37: =AD37 -> 0 | AB37: NON | AD37: =AN37 -> 0
A38: Lycée Robert Schumann | B38: =VLOOKUP(BdC!A38,main!A$1:Z$1048378,2,0) -> #N/A | C38: =VLOOKUP(A38,main!A$1:Z$1048378,4,0) -> #N/A | D38: Chauny | E38: =VLOOKUP(A38,'PRIX LOT1'!A:I,5,0) -> #N/A | F38: =VLOOKUP(A38,main!A$1:E$1048378,5,0) -> #N/A | G38: 0000CCB2 | H38: ADSL | I38: 1cA | J38: Schumann_Chauny | K38: =VLOOKUP(A38,main!A$1:Z$1048378,12,0) -> #N/A | L38: 94.87 | M38: 47.5 | N38: 0 | O38: 475 | P38: FT_ADSL_2M_C1 | Q38: 41306 | S38: CE2O/SDSL | T38: 2 | W38: =P38 -> FT_ADSL_2M_C1 | X38: =M38 -> 47.5 | Y38: =N38 -> 0 | Z38: =O38 -> 475 | AA38: =AD38 -> 0 | AB38: NON | AD38: =AN38 -> 0
A39: Collège Notre Dame Flixecourt | B39: =VLOOKUP(BdC!A39,main!A$1:Z$1048378,2,0) -> #N/A | C39: =VLOOKUP(A39,main!A$1:Z$1048378,4,0) -> #N/A | D39: Flixecourt | E39: =VLOOKUP(A39,'PRIX LOT1'!A:I,5,0) -> #N/A | F39: =VLOOKUP(A39,main!A$1:E$1048378,5,0) -> #N/A | G39: 0000VHP6 | H39: ADSL | I39: 1cA | J39: NotreDame_Flixecourt | K39: =VLOOKUP(A39,main!A$1:Z$1048378,12,0) -> #N/A | L39: 94.87 | M39: 55.88 | N39: 0 | O39: 375 | P39: FT_SDSLBis_2M_1p_C2 | Q39: 41306 | R39: up | S39: SDSLBis | T39: 2 | W39: =P39 -> FT_SDSLBis_2M_1p_C2 | X39: =M39 -> 55.88 | Y39: =N39 -> 0 | Z39: =O39 -> 375 | AA39: =AD39 -> 0 | AB39: NON | AD39: =AN39 -> 0
A40: Collège Sainte Clotilde | B40: =VLOOKUP(BdC!A40,main!A$1:Z$1048378,2,0) -> #N/A | C40: =VLOOKUP(A40,main!A$1:Z$1048378,4,0) -> #N/A | D40: Amiens | E40: =VLOOKUP(A40,'PRIX LOT1'!A:I,5,0) -> #N/A | F40: =VLOOKUP(A40,main!A$1:E$1048378,5,0) -> #N/A | G40: 0000VFA1 | H40: ADSL | I40: 1cA | J40: SteClotilde_Amiens | K40: =VLOOKUP(A40,main!A$1:Z$1048378,12,0) -> #N/A | L40: 94.87 | M40: 51.75 | N40: 0 | O40: 263.75 | P40: SMSN_ADSLMax | Q40: 41306 | S40: SMSN | T40: 20 | W40: =P40 -> SMSN_ADSLMax | X40: =M40 -> 51.75 | Y40: =N40 -> 0 | Z40: =O40 -> 263.75 | AA40: =AD40 -> 0 | AB40: NON | AD40: =AN40 -> 0
...

Sheet Références
A1: FT_SDSL_1M_2p_C1 | B1: 54.38 | C1: 475 | D1: 27.63
A2: FT_SDSL_2M_1p_C1 | B2: 68.75 | C2: 375 | D2: 27.63
A3: FT_SDSL_2M_1p_C2 | B3: 76 | C3: 475 | D3: 27.63
A4: FT_SDSL_2M_2p_C1 | B4: 77.25 | C4: 475 | D4: 27.63
A5: FT_SDSL_2M_2p_C2 | B5: 84.5 | C5: 475 | D5: 27.63
A6: FT_SDSL_2M_4p_C1 | B6: 93.13 | C6: 562.5 | D6: 27.63
A7: FT_SDSL_4M_2p_C1 | B7: 85.13 | C7: 475 | D7: 27.63
A8: FT_SDSL_4M_2p_C2 | B8: 105.38 | C8: 475 | D8: 27.63
A9: FT_SDSL_4M_4p_C1 | B9: 116 | C9: 562.5 | D9: 27.63
A10: FT_SDSL_512K_1p_C2 | B10: 45.25 | C10: 475 | D10: 27.63
A11: FT_SDSL_512K_2p_C1 | B11: 92.01 | C11: 475 | D11: 27.63
A12: FT_SDSL_8M_2p_C2 | B12: 118.38 | C12: 475 | D12: 27.63
... A34: SMSN_ADSLMax | B34: 51.75 | C34: 263.75 | D34: 0
A35: SMSN_FO_20M | B35: 370.75 | C35: 0
A36: SMSN_FO_40M | B36: 398 | C36: 0
A37: SMSN_FO_100M | B37: 566

Sheet FAS + désat ! 01-03-2013
A1: Nom du site | B1: Adresse | C1: CP | D1: Ville | E1: Clé site | F1: Abonnement mensuel € HT | G1: Option Interface Ethernet € HT | H1: Frais de mise en service € HT | I1: Référence catalogue Obiane | J1: Mise en service | K1: Frais de Desaturation € HT
A2: CFA Agricole de Chauny | B2: 10 route d'Ugny | C2: 02300 | D2: Chauny | E2: CFA_Agri_Chauny | F2: 95.5 | G2: 0 | H2: 562.5 | I2: FT_SDSLBis_2M_4p_C1 | J2: 41365 | K2: 0
A3: CFA Agricole de Verdilly | B3: 4 avenue Euphrasie Guynemer | C3: 02400 | D3: Verdilly | E3: CFA_Agri_Verdilly | F3: 95.5 | G3: 0 | H3: 562.5 | I3: FT_SDSLBis_2M_4p_C1 | J3: 41365 | K3: 1208
A4: Mission Régionale | B4: 3 Avenue Jules UHRY | C4: 60100 | D4: Creil | E4: MR_Creil | F4: 85.13 | G4: 27.63 | H4: 475 | I4: FT_SDSL_4M_2p_C1 | J4: 41365 | K4: 0
A5: Collège Les Frères Le Nain | B5: 3 place Saint Martin | C5: 02000 | D5: Laon | E5: Lenain_Laon | F5: 77.5 | G5: 31.25 | H5: 475 | I5: FT_SDSLBis_4M_2p_C1 | J5: 41365 | K5: 1043
A6: Lycée agricole de l'Oise Airion | B6: Lycée agricole de l'Oise | C6: 60600 | D6: Airion | E6: LEGTA_Airion | F6: 51 | G6: 0 | H6: 475 | I6: FT_SDSLBis_512K_2p_C1 | J6: 41395 | K6: 0
A7: Lycée agricole de l'Oise Airion | B7: Lycée agricole de l'Oise | C7: 60600 | D7: Airion | E7: LEGTA_Airion_R2 | F7: 51 | G7: 0 | H7: 475 | I7: FT_SDSLBis_512K_2p_C1 | J7: 41395 | K7: 0
A8: MFREO Beauquesne | B8: 13 rue Alexandre Bouthors | C8: 80600 | D8: Beauquesne | E8: MFREO_Beauquesne | F8: 370.75 | G8: 0 | H8: 0 | I8: SMSN_FO_20M | J8: 41426 | K8: 0
A9: Collège Jean Mermoz Laon | B9: rue du 2ème régiment des dragons | C9: 02000 | D9: Laon | E9: Mermoz_Laon | F9: 77.5 | G9: 31.25 | H9: 475 | I9: FT_SDSLBis_4M_2p_C1 | J9: 41365 | K9: 0
A10: CFAI Aisne AFIDA Billy-sur-Aisne | B10: route de Reims | C10: 02200 | D10: Soissons | E10: CFA_AFIDA_Soissons | F10: 56.13 | G10: 0 | H10: 475 | I10: FT_SDSLBis_1M_2p_C1 | J10: 41365 | K10: 0
A11: CFA des Bâtiments et Travaux Publics de la Somme d'Amiens (AFOBAT) | B11: 17-19 rue Pierre Rollin | C11: 80000 | D11: Amiens | E11: CFA_AFOBAT_Amiens | F11: 51.75 | G11: 0 | H11: 263.75 | I11: SMSN_ADSLMax | J11: 41365 | K11: 0
A12: CFA des Bâtiments et Travaux Publics de l'Aisne (AFOBAT) | B12: cfa du bâtimentchemin d'Aulnois | C12: 02000 | D12: Laon | E12: CFA_AFOBAT_Laon | F12: 42.63 | G12: 0 | H12: 475 | I12: FT_SDSLBis_1M_1p_C1 | J12: 41334 | K12: 0
A13: AFPB Oise | B13: 290 impasse de la Croix Verte | C13: 60600 | D13: Agnetz | E13: CFA_AFPB_Agnetz | F13: 42.63 | G13: 0 | H13: 475 | I13: FT_SDSLBis_1M_1p_C1 | J13: 41334 | K13: 0
... A38: Lycée la Hotoie | B38: 16 rue du bâtonnier Mahiu | C38: 80000 | D38: Amiens | E38: Hotoie_Amiens | F38: 370.75 | G38: 0 | H38: 0 | I38: SMSN_FO_20M | J38: 41426 | K38: 0
A39: INRA | B39: Rue Pierre Gilles de Gennes | C39: 02000 | D39: Barenton-Bugny | E39: INRA_Laon | F39: 695.75 | G39: 0 | H39: 1875 | I39: 0 | K39: 0
A40: IUT Creil | B40: 13 allée de la faiencerie | C40: 60100 | D40: Creil | E40: IUTC | F40: 748.25 | G40: 0 | H40: 1875 | I40: FT_CE2O_20M-ZA | J40: 41365 | K40: 0
A41: Lycée Pierre Mendès France | B41: route de Saint Denis | C41: 80200 | D41: Péronne | E41: MendesFr_Peronne | F41: 370.75 | G41: 0 | H41: 0 | I41: SMSN_FO_20M | J41: 41426 | K41: 0
A42: Lycée Pierre d'Ailly | B42: 136 boulevard des états unis | C42: 60200 | D42: Compiègne | E42: PAilly_Compiegne | F42: 748.25 | G42: 0 | H42: 1875 | I42: FT_CE2O_20M-ZA | J42: 41334 | K42: 0
A43: Lycée Romain Rolland | B43: rue Romain Rolland | C43: 80000 | D43: Amiens | E43: Rolland_Amiens | F43: 370.75 | G43: 0 | H43: 0 | I43: SMSN_FO_20M | J43: 41426 | K43: 0
A44: Lycée Jules Uhry | B44: 10 rue Aristide Briand | C44: 60100 | D44: Creil | E44: Uhry_Creil | F44: 748.25 | G44: 0 | H44: 1875 | I44: FT_CE2O_20M-ZA | J44: 41334 | K44: 0
A45: Lycée Ameublement | B45: 26 rue Fleming | C45: 02100 | D45: Saint-Quentin | E45: Ameublement_SQ | F45: 116 | G45: 0 | H45: 562.5 | I45: FT_SDSL_4M_4p_C1 | J45: 41365 | K45: 1208
A46: Lycée Jean Bouin | B46: rue Gaston Bachelard | C46: 02100 | D46: Saint-Quentin | E46: Bouin_SQ | F46: 64.63 | G46: 0 | H46: 475 | I46: FT_SDSLBis_2M_2p_C1 | J46: 41365 | K46: 1043
A47: Lycée Professionnel Privé Val de Serre | B47: 10 rue de la halle | C47: 02270 | D47: Pouilly-sur-Serre | E47: CFPR_Pouilly | F47: 77.25 | G47: 0 | H47: 475 | I47: FT_SDSL_2M_2p_C1 | J47: 41365 | K47: 1043
A48: CFPR Vaumoise | B48: 10 route de la croix blanche | C48: 60117 | D48: Vaumoise | E48: CFPR_Vaumoise | F48: 77.25 | G48: 0 | H48: 475 | I48: FT_SDSL_2M_2p_C1 | J48: 41334 | K48: 0
A49: Collège Jean Moulin | B49: rue Maurice Bellonte | C49: 02100 | D49: Saint-Quentin | E49: Moulin_SQ | F49: 116 | G49: 27.63 | H49: 562.5 | I49: FT_SDSL_4M_4p_C1 | J49: 41365 | K49: 1208
A50: Collège Sacré Coeur Péronne | B50: 36 boulevard des anglais | C50: 80200 | D50: Péronne | E50: SacreCoeurC_Peronne | F50: 51.13 | G50: 0 | H50: 375 | I50: FT_SDSLBis_2M_1p_C1 | J50: 41365 | K50: 833
A51: Collège Ste Colette | B51: 2 place Jean Catelas | C51: 80800 | D51: Corbie | E51: SteColetteC_Corbie | F51: 51.13 | G51: 0 | H51: 375 | I51: FT_SDSLBis_2M_1p_C1 | J51: 41365 | K51: 833
... A120: Collège Alexandre Dumas | B120: rue de Prouvais | C120: 02190 | D120: Guignicourt | E120: Dumas_Guignicourt | F120: 140.13 | G120: 31.25 | H120: 815 | I120: FT_SDSLBis_8M_4p_C1 | J120: 41334 | K120: 0
A121: Collège Jean Mermoz Belleu | B121: rue Léon Blum | C121: 02200 | D121: Belleu | F121: 110.38 | G121: 31.25 | H121: 562.5 | I121: FT_SDSLBis_4M_4p_C1 | J121: 41395 | K121: 1208
A122: Collège Lamartine | B122: avenue du docteur Marchand | C122: 02200 | D122: Soissons | E122: Lamartine_Soissons | F122: 140.13 | G122: 31.25 | H122: 815 | I122: FT_SDSLBis_8M_4p_C1 | J122: 41395 | K122: 1208
A123: Collège Louise Michel | B123: rue Wilfried Lanoiselle | C123: 02200 | D123: Villeneuve-St-Germain | E123: Michel_VilleneuveStGermain | F123: 95.5 | G123: 31.25 | H123: 475 | I123: FT_SDSLBis_2M_4p_C1 | J123: 41395 | K123: 1208
A124: Lycée St Rémi | B124: 4 rue des sergents | C124: 80000 | D124: Amiens | E124: StRemi_Amiens | F124: 187.75 | G124: 31.25 | H124: 815 | I124: FT_SDSLBis_12M_4p_C1 | J124: 41395 | K124: 1208
A125: Collège Louise Michel | B125: rue Wilfried Lanoiselle | C125: 02200 | D125: Villeneuve-St-Germain | E125: Michel_VilleneuveStGermain_R2 | F125: 95.5 | G125: 31.25 | H125: 475 | I125: FT_SDSLBis_2M_4p_C1 | J125: 41395 | K125: 1208
A126: Collège Jean Mermoz Belleu | B126: rue Léon Blum | C126: 02200 | D126: Belleu | E126: Mermoz_Belleu | F126: 95.5 | G126: 31.25 | H126: 562.5 | I126: FT_SDSLBis_4M_4p_C1 | J126: 41395 | K126: 1208
A127: Collège Saint Just | B127: 14, rue des cordeliers | C127: 02200 | D127: Soissons | E127: StJust_Soissons | F127: 140.13 | G127: 31.25 | H127: 815 | I127: FT_SDSLBis_8M_4p_C1 | J127: 41334 | K127: 0
A128: Collège Pierre et Marie Curie Braine | B128: 35 route de Brenelle | C128: 02220 | D128: Braine | E128: Curie_Braine | F128: 151.25 | G128: 31.25 | H128: 815 | I128: FT_SDSLBis_8M_4p_C2 | J128: 41395 | K128: 1208
A129: Collège Villard de Honnecourt | B129: 130 rue Olivier Deguise | C129: 02230 | D129: Fresnoy-le-Grand | E129: Honnecourt_FresnoyLeGrand | F129: 116.63 | G129: 31.25 | H129: 562.5 | I129: FT_SDSLBis_4M_4p_C2 | J129: 41334 | K129: 0
A130: EREA Crévecoeur-le-Grand | B130: 4 rue Fournier | C130: 60360 | D130: Crevecoeur-le-Grand | E130: EREA_Crevecoeur | F130: 196.75 | G130: 27.63 | H130: 814.6 | I130: FT_SDSL_8M_4p_C2 | J130: 41395 | K130: 1208
A131: Lycée Jules Verne Château-Thierry | B131: 23 rue des chesneaux | C131: 02400 | D131: Château-Thierry | E131: Verne_ChThierry | F131: 213.5 | G131: 31.25 | H131: 1067.4 | I131: FT_SDSLBis_16M_4p_C1 | J131: 41395 | K131: 1208
A132: Antenne CRDP | B132: 2 place de l'Abbé Carpentier | C132: 80100 | D132: Abbeville | E132: CRDP_Abbeville | F132: 110.38 | G132: 31.25 | H132: 562.5 | I132: FT_SDSLBis_4M_4p_C1 | J132: 41334 | K132: 0
...

Sheet 01-01-2013
A1: Nom du site | B1: Adresse | C1: CP | D1: Ville | E1: Clé site | F1: Abonnement mensuel € HT | G1: Option Interface Ethernet € HT | H1: Frais de mise en service € HT | I1: Référence catalogue Obiane | J1: Mise en service | K1: Frais de Desaturation € HT
A2: Lycée Paul Claudel | B2: place Foch | C2: 02000 | D2: Laon | E2: Claudel_Laon | F2: 748.25 | G2: 0 | H2: 0 | I2: FT_CE2O_20M-ZA | J2: 41275 | K2: 0
A3: Lycée Condorcet Saint Quentin | B3: rond point Joliot Curie | C3: 02100 | D3: Saint-Quentin | E3: Condorcet_SQ | F3: 748.25 | G3: 0 | H3: 0 | I3: FT_CE2O_20M-ZA | J3: 41275 | K3: 0
A4: Lycée Joliot Curie | B4: 5 rue Chanzy | C4: 02500 | D4: Hirson | E4: Curie_Hirson | F4: 895.75 | G4: 0 | H4: 0 | I4: FT_CE2O_20M-ZB | J4: 41275 | K4: 0
A5: Lycée Jean de la Fontaine | B5: 1 avenue de champagne | C5: 02400 | D5: Château-Thierry | E5: Fontaine_ChThierry | F5: 748.25 | G5: 0 | H5: 0 | I5: FT_CE2O_20M-ZA | J5: 41275 | K5: 0
A6: Lycée Mireille Grenet | B6: 13 avenue de huy | C6: 60200 | D6: Compiègne | E6: Grenet_Compiegne | F6: 748.25 | G6: 0 | H6: 0 | I6: FT_CE2O_20M-ZA | J6: 41275 | K6: 0
A7: IUT Laon | B7: 2 rue Pierre Curie | C7: 02000 | D7: Laon | E7: IUTL | F7: 748.25 | G7: 0 | H7: 0 | I7: FT_CE2O_20M-ZA | J7: 41275 | K7: 0
A8: IUT Saint Quentin | B8: 48 rue d'Ostende | C8: 02100 | D8: Saint-Quentin | E8: IUTSQ | F8: 748.25 | G8: 0 | H8: 0 | I8: FT_CE2O_20M-ZA | J8: 41275 | K8: 0
A9: Lycée Henri Martin | B9: 1 rue Gabriel Girodon | C9: 02100 | D9: Saint-Quentin | E9: Martin_SQ | F9: 748.25 | G9: 0 | H9: 0 | I9: FT_CE2O_20M-ZA | J9: 41275 | K9: 0
A10: Lycée Pierre Méchain | B10: 19 rue Lèo Lagrange | C10: 02000 | D10: Laon | E10: Mechain_Laon | F10: 748.25 | G10: 0 | H10: 0 | I10: FT_CE2O_20M-ZA | J10: 41275 | K10: 0
A11: Lycée Léonard de Vinci | B11: 1 espace Jean Guerland | C11: 02200 | D11: Soissons | E11: Vinci_Soissons | F11: 748.25 | G11: 0 | H11: 0 | I11: FT_CE2O_20M-ZA | J11: 41275 | K11: 0
A12: Lycée Professionnel de l'Acheuléen | B12: 21 rue du 31 août 1944 | C12: 80000 | D12: Amiens | E12: Acheuleen_Amiens | F12: 370.75 | G12: 0 | H12: 0 | I12: SMSN_FO_20M | J12: 41275 | K12: 0
A13: INTERFOR SIA Amiens | B13: 2 rue du vadé | C13: 80000 | D13: Amiens | E13: CFA_INTERFOR_Amiens | F13: 370.75 | G13: 0 | H13: 0 | I13: SMSN_FO_20M | J13: 41275 | K13: 0
... A22: Lycée Louis Thuillier | B22: 70 boulevard de Saint Quentin | C22: 80000 | D22: Amiens | E22: Thuillier_Amiens | F22: 398 | G22: 0 | H22: 0 | I22: SMSN_FO_40M | J22: 41275 | K22: 0
F23: =SUM(F2:F22) -> 12465.5
C24: Pour commande BP 2012 TTC --> | F24: =F23*2*1.196 -> 29817.476
E27: reste de l'année | F27: =F23*1.196*10 -> 149087.38

Sheet 01-02-2013
A1: Nom du site | B1: Adresse | C1: CP | D1: Ville | E1: Clé site | F1: Abonnement mensuel € HT | G1: Option Interface Ethernet € HT | H1: Frais de mise en service € HT | I1: Référence catalogue Obiane | J1: Mise en service | K1: Frais de Desaturation € HT | L1: NDI | M1: Contact
A2: IRFFE CFA des travailleurs sociaux | B2: 12 rue des Deux Ponts | C2: 80000 | D2: Amiens | E2: CFA_IRFFE_Amiens | F2: 51.75 | G2: 0 | H2: 263.75 | I2: SMSN_ADSLMax | J2: 41306 | K2: 0 | L2: =VLOOKUP(A2,#REF!,5,0) -> #REF! | M2: =VLOOKUP(A2,'PRIX LOT1'!A:I,5,0) -> #N/A
A3: MFR Flixecourt | B3: 28 rue Courbet | C3: 80420 | D3: Flixecourt | E3: MFR_Flixecourt | F3: 55.88 | G3: 0 | H3: 375 | I3: FT_SDSLBis_2M_1p_C2 | J3: 41306 | K3: 0 | L3: =VLOOKUP(A3,#REF!,5,0) -> #REF! | M3: =VLOOKUP(A3,'PRIX LOT1'!A:I,5,0) -> #N/A
A4: Collège Charles de Foucauld | B4: 42 rue de boulan | C4: 80300 | D4: Albert | E4: Foucauld_Albert | F4: 51.13 | G4: 0 | H4: 375 | I4: FT_SDSLBis_2M_1p_C1 | J4: 41306 | K4: 0 | L4: =VLOOKUP(A4,#REF!,5,0) -> #REF! | M4: =VLOOKUP(A4,'PRIX LOT1'!A:I,5,0) -> #N/A
A5: Collège La Salle | B5: 6 rue du cange | C5: 80000 | D5: Amiens | E5: Salle_Amiens | F5: 51.75 | G5: 0 | H5: 263.75 | I5: SMSN_ADSLMax | J5: 41306 | K5: 0 | L5: =VLOOKUP(A5,#REF!,5,0) -> #REF! | M5: =VLOOKUP(A5,'PRIX LOT1'!A:I,5,0) -> #N/A
A6: Lycée Robert Schumann | B6: 10 route d'Ugny | C6: 02300 | D6: Chauny | E6: Schumann_Chauny | F6: 47.5 | G6: 0 | H6: 475 | I6: FT_ADSL_2M_C1 | J6: 41306 | K6: 0 | L6: =VLOOKUP(A6,#REF!,5,0) -> #REF! | M6: =VLOOKUP(A6,'PRIX LOT1'!A:I,5,0) -> #N/A
A7: Collège Notre Dame Flixecourt | B7: 28 rue Gambetta | C7: 80420 | D7: Flixecourt | E7: NotreDame_Flixecourt | F7: 55.88 | G7: 0 | H7: 375 | I7: FT_SDSLBis_2M_1p_C2 | J7: 41306 | K7: 0 | L7: =VLOOKUP(A7,#REF!,5,0) -> #REF! | M7: =VLOOKUP(A7,'PRIX LOT1'!A:I,5,0) -> #N/A
A8: Collège Sainte Clotilde | B8: 18 rue Emile Zola | C8: 80000 | D8: Amiens | E8: SteClotilde_Amiens | F8: 51.75 | G8: 0 | H8: 263.75 | I8: SMSN_ADSLMax | J8: 41306 | K8: 0 | L8: =VLOOKUP(A8,#REF!,5,0) -> #REF! | M8: =VLOOKUP(A8,'PRIX LOT1'!A:I,5,0) -> #N/A
A9: Collège Notre Dame Ham | B9: 10 rue notre Dame | C9: 80400 | D9: Ham | E9: NotreDame_Ham | F9: 51.13 | G9: 0 | H9: 375 | I9: FT_SDSLBis_2M_1p_C1 | J9: 41306 | K9: 0 | L9: =VLOOKUP(A9,#REF!,5,0) -> #REF! | M9: =VLOOKUP(A9,'PRIX LOT1'!A:I,5,0) -> #N/A
A10: Collège Sainte Famille | B10: 22 rue Charles de Foucauld | C10: 80000 | D10: Amiens | E10: SteFamilleC2_Amiens | F10: 51.75 | G10: 0 | H10: 263.75 | I10: SMSN_ADSLMax | J10: 41306 | K10: 0 | L10: =VLOOKUP(A10,#REF!,5,0) -> #REF! | M10: =VLOOKUP(A10,'PRIX LOT1'!A:I,5,0) -> #N/A
A11: Collège St Vincent | B11: 5 rue Charles Mangot | C11: 80500 | D11: Montdidier | E11: StVincent_Montdidier | F11: 51.13 | G11: 0 | H11: 375 | I11: FT_SDSLBis_2M_1p_C1 | J11: 41306 | K11: 0 | L11: =VLOOKUP(A11,#REF!,5,0) -> #REF! | M11: =VLOOKUP(A11,'PRIX LOT1'!A:I,5,0) -> #N/A
A12: MFREO Clairfontaine | B12: 1 lieu dit Beauregard | C12: 02260 | D12: Clairfontaine | E12: MFREO_Clairfontaine | F12: 76 | G12: 0 | H12: 475 | I12: FT_SDSL_2M_1p_C2 | J12: 41306 | K12: 0 | L12: =VLOOKUP(A12,#REF!,5,0) -> #REF! | M12: =VLOOKUP(A12,'PRIX LOT1'!A:I,5,0) -> #N/A
A13: Routeur de test Christophe Lucas | B13: #N/A | C13: #N/A | D13: DURY | E13: CHRISTOPHE | F13: 51.75 | G13: 0 | H13: 263.75 | I13: SMSN_ADSLMax | J13: 41306 | K13: 0 | L13: =VLOOKUP(A13,#REF!,5,0) -> #REF! | M13: =VLOOKUP(A13,'PRIX LOT1'!A:I,5,0) -> #N/A
A14: MFR Songeons | B14: 5 place du général de Gaulle | C14: 60380 | D14: Songeons | E14: MFR_Songeons | F14: 55.88 | G14: 0 | H14: 375 | I14: FT_SDSLBis_2M_1p_C2 | J14: 41306 | K14: 0 | L14: =VLOOKUP(A14,#REF!,5,0) -> #REF! | M14: =VLOOKUP(A14,'PRIX LOT1'!A:I,5,0) -> #N/A
A15: Conseil Régional (61 Mail Albert 1er) | B15: 61 mail Albert 1er | C15: 80000 | D15: Amiens | E15: CRP_61Mail | F15: 51.13 | G15: 31.25 | H15: 375 | I15: FT_SDSLBis_2M_1p_C1 | J15: 41306 | K15: 0 | L15: =VLOOKUP(A15,#REF!,5,0) -> #REF! | M15: =VLOOKUP(A15,'PRIX LOT1'!A:I,5,0) -> #N/A
A16: CRP Service Infrastructures Numériques SDSL | B16: 27-29 boulevard Maignan Larivière | C16: 80000 | D16: Amiens | E16: NTIC_SDSL | F16: 51.13 | G16: 0 | H16: 375 | I16: FT_SDSLBis_2M_1p_C1 | J16: 41306 | K16: 0 | L16: =VLOOKUP(A16,#REF!,5,0) -> #REF! | M16: =VLOOKUP(A16,'PRIX LOT1'!A:I,5,0) -> #N/A
A17: CRP - DESR | B17: 2 Route de Paris | C17: 80000 | D17: Amiens | E17: CRP_DESR | F17: 51.13 | G17: 31.25 | H17: 375 | I17: FT_SDSLBis_2M_1p_C1 | J17: 41306 | K17: 0 | L17: =VLOOKUP(A17,#REF!,5,0) -> #REF! | M17: =VLOOKUP(A17,'PRIX LOT1'!A:I,5,0) -> #N/A
A18: CETMEF | B18: 2 boulevard Gambetta | C18: 60200 | D18: Compiègne | E18: CETMEF | F18: 140.13 | G18: 31.25 | H18: 815 | I18: FT_SDSLBis_8M_4p_C1 | J18: 41306 | K18: 0 | L18: =VLOOKUP(A18,#REF!,5,0) -> #REF! | M18: =VLOOKUP(A18,'PRIX LOT1'!A:I,5,0) -> #N/A
A19: Collège Jean Rostand | B19: 1, avenue de Blanchard | C19: 02400 | D19: Château-Thierry | E19: Rostand_ChThierry | F19: 116 | G19: 27.63 | H19: 562.5 | I19: FT_SDSL_4M_4p_C1 | J19: 41306 | K19: 0 | L19: =VLOOKUP(A19,#REF!,5,0) -> #REF! | M19: =VLOOKUP(A19,'PRIX LOT1'!A:I,5,0) -> #N/A
A20: Conseil Régional | B20: Bd Vauban | C20: 80100 | D20: Abbeville | E20: CRP_Abbeville | F20: 140.13 | G20: 31.25 | H20: 815 | I20: FT_SDSLBis_8M_4p_C1 | J20: 41306 | K20: 0 | L20: =VLOOKUP(A20,#REF!,5,0) -> #REF! | M20: =VLOOKUP(A20,'PRIX LOT1'!A:I,5,0) -> #N/A
A21: Lycée Jean Calvin/Charles de Bovelles | B21: cité scolaire | C21: 60400 | D21: Noyon | E21: Calvin_Noyon | F21: 140.13 | G21: 31.25 | H21: 815 | I21: FT_SDSLBis_8M_4p_C1 | J21: 41306 | K21: 0 | L21: =VLOOKUP(A21,#REF!,5,0) -> #REF! | M21: =VLOOKUP(A21,'PRIX LOT1'!A:I,5,0) -> #N/A
A22: Lycée Paul Langevin | B22: 3 avenue Montaigne | C22: 60000 | D22: Beauvais | E22: Langevin_Beauvais | F22: 157.38 | G22: 27.63 | H22: 814.6 | I22: FT_SDSL_8M_4p_C1 | J22: 41306 | K22: 0 | L22: =VLOOKUP(A22,#REF!,5,0) -> #REF! | M22: =VLOOKUP(A22,'PRIX LOT1'!A:I,5,0) -> #N/A
A23: Lycée Paul Langevin | B23: 3 avenue Montaigne | C23: 60000 | D23: Beauvais | E23: Langevin_Beauvais_R2 | F23: 157.38 | G23: 27.63 | H23: 814.6 | I23: FT_SDSL_8M_4p_C1 | J23: 41306 | K23: 0 | L23: =VLOOKUP(A23,#REF!,5,0) -> #REF! | M23: =VLOOKUP(A23,'PRIX LOT1'!A:I,5,0) -> #N/A
A24: Lycée Gérard de Nerval | B24: 14 rue Paul Deviolaine | C24: 02200 | D24: Soissons | E24: Nerval_Soissons | F24: 157.38 | G24: 27.63 | H24: 814.6 | I24: FT_SDSL_8M_4p_C1 | J24: 41306 | K24: 0 | L24: =VLOOKUP(A24,#REF!,5,0) -> #REF! | M24: =VLOOKUP(A24,'PRIX LOT1'!A:I,5,0) -> #N/A
A25: Lycée Colard Noël | B25: 132 avenue de la république | C25: 02100 | D25: Saint-Quentin | E25: Noel_SQ | F25: 157.38 | G25: 27.63 | H25: 814.6 | I25: FT_SDSL_8M_4p_C1 | J25: 41306 | K25: 0 | L25: =VLOOKUP(A25,#REF!,5,0) -> #REF! | M25: =VLOOKUP(A25,'PRIX LOT1'!A:I,5,0) -> #N/A
... A28: Lycée Félix Faure | B28: 31 boulevard de l'assaut | C28: 60000 | D28: Beauvais | E28: Faure_Beauvais | F28: 140.13 | G28: 31.25 | H28: 815 | I28: FT_SDSLBis_8M_4p_C1 | J28: 41306 | K28: 0 | L28: =VLOOKUP(A28,#REF!,5,0) -> #REF! | M28: =VLOOKUP(A28,'PRIX LOT1'!A:I,5,0) -> #N/A
A29: Conseil Régional de Picardie | B29: 75 rue des Jacobins | C29: 80000 | D29: Amiens | E29: CRP_Jacobins | F29: 85.13 | G29: 27.63 | H29: 475 | I29: FT_SDSL_4M_2p_C1 | J29: 41306 | K29: 0 | L29: =VLOOKUP(A29,#REF!,5,0) -> #REF! | M29: =VLOOKUP(A29,'PRIX LOT1'!A:I,5,0) -> #N/A
F30: =SUM(F2:F29) -> 2584.72 | G30: =SUM(G2:G29) -> 412.16 | H30: =SUM(H2:H29) -> 14829.25
F31: =F30*1*1.196 -> 3091.3251 | G31: =G30*1*1.196 -> 492.94336
F33: =F31+G31+H30 -> 18413.518 | H33: ?? H30 est prise en compte en HT et non TTC ??
C35: Pour commande BP 2012 TTC --> | F35: =F30*1.196*11 -> 34004.576
E38: FAS + abo janv et fev (TTC) | F38: =F33+'FAS + désat ! 01-03-2013'!H232+'01-01-2013'!F24 -> 221818.85
E39: total + portes TTC | F39: =F38+30827.84 -> 252646.69

Sheet 01-03-2013
A1: Nom du site | B1: Adresse | C1: CP | D1: Ville | E1: Clé site | F1: Abonnement mensuel € HT | G1: Option Interface Ethernet € HT | H1: Frais de mise en service € HT | I1: Référence catalogue Obiane | J1: Mise en service | K1: Frais de Desaturation € HT | L1: NDI | M1: Contact
A2: CFA des Bâtiments et Travaux Publics de l'Aisne (AFOBAT) | B2: cfa du bâtimentchemin d'Aulnois | C2: 02000 | D2: Laon | E2: CFA_AFOBAT_Laon | F2: 42.63 | G2: 0 | H2: 475 | I2: FT_SDSLBis_1M_1p_C1 | J2: 41334 | K2: 0 | L2: =VLOOKUP(A2,#REF!,5,0) -> #REF! | M2: =VLOOKUP(A2,'PRIX LOT1'!A:I,5,0) -> #N/A
A3: AFPB Oise | B3: 290 impasse de la Croix Verte | C3: 60600 | D3: Agnetz | E3: CFA_AFPB_Agnetz | F3: 42.63 | G3: 0 | H3: 475 | I3: FT_SDSLBis_1M_1p_C1 | J3: 41334 | K3: 0 | L3: =VLOOKUP(A3,#REF!,5,0) -> #REF! | M3: =VLOOKUP(A3,'PRIX LOT1'!A:I,5,0) -> #N/A
A4: CFA Agricole de Laon | B4: 5 rue des Minimes | C4: 02000 | D4: Laon | E4: CFA_Agri_Laon | F4: 54.38 | G4: 0 | H4: 475 | I4: FT_SDSL_1M_2p_C1 | J4: 41334 | K4: 0 | L4: =VLOOKUP(A4,#REF!,5,0) -> #REF! | M4: =VLOOKUP(A4,'PRIX LOT1'!A:I,5,0) -> #N/A
A5: CFA Agricole et Horticole Pierrefonds | B5: Institut Charles Quentin 1 rue Sabatier | C5: 60350 | D5: Pierrefonds | E5: CFA_Agri_Pierrefonds | F5: 54.38 | G5: 0 | H5: 475 | I5: FT_SDSL_1M_2p_C1 | J5: 41334 | K5: 0 | L5: =VLOOKUP(A5,#REF!,5,0) -> #REF! | M5: =VLOOKUP(A5,'PRIX LOT1'!A:I,5,0) -> #N/A
A6: CFA Agricole de Vervins | B6: rue porte des champs | C6: 02140 | D6: Vervins | E6: CFA_Agri_Vervins | F6: 54.38 | G6: 0 | H6: 475 | I6: FT_SDSL_1M_2p_C1 | J6: 41334 | K6: 0 | L6: =VLOOKUP(A6,#REF!,5,0) -> #REF! | M6: =VLOOKUP(A6,'PRIX LOT1'!A:I,5,0) -> #N/A
A7: CFA de la CCI de l'Oise de Nogent-sur-Oise (Antenne) | B7: 230 rue Charles Somasco Prolongée | C7: 60180 | D7: Nogent-sur-Oise | E7: CFA_ChComInd2_Nogent | F7: 54.38 | G7: 0 | H7: 475 | I7: FT_SDSL_1M_2p_C1 | J7: 41334 | K7: 0 | L7: =VLOOKUP(A7,#REF!,5,0) -> #REF! | M7: =VLOOKUP(A7,'PRIX LOT1'!A:I,5,0) -> #N/A
A8: CFA de la CCI de l'Aisne de Laon | B8: 3 rue des minimes | C8: 02000 | D8: Laon | E8: CFA_ChComInd_Laon | F8: 54.38 | G8: 0 | H8: 475 | I8: FT_SDSL_1M_2p_C1 | J8: 41334 | K8: 0 | L8: =VLOOKUP(A8,#REF!,5,0) -> #REF! | M8: =VLOOKUP(A8,'PRIX LOT1'!A:I,5,0) -> #N/A
A9: CFA de la CCI de l'Oise de Nogent-sur-Oise | B9: 6 rue Charles Somasco Prolongée | C9: 60180 | D9: Nogent-sur-Oise | E9: CFA_ChComInd_Nogent | F9: 54.38 | G9: 0 | H9: 475 | I9: FT_SDSL_1M_2p_C1 | J9: 41334 | K9: 0 | L9: =VLOOKUP(A9,#REF!,5,0) -> #REF! | M9: =VLOOKUP(A9,'PRIX LOT1'!A:I,5,0) -> #N/A
A10: CFA Chambre des Métiers de l'Aisne de La-Capelle | B10: 171 avenue du général de Gaulle | C10: 02260 | D10: La Capelle | E10: CFA_ChMetiers_Capelle | F10: 42.63 | G10: 0 | H10: 475 | I10: FT_SDSLBis_1M_1p_C1 | J10: 41334 | K10: 0 | L10: =VLOOKUP(A10,#REF!,5,0) -> #REF! | M10: =VLOOKUP(A10,'PRIX LOT1'!A:I,5,0) -> #N/A
A11: CFA Chambre des Métiers de l'Aisne de Château-Thierry | B11: 1 passage brise beches | C11: 02400 | D11: Château-Thierry | E11: CFA_ChMetiers_ChThierry | F11: 42.63 | G11: 0 | H11: 475 | I11: FT_SDSLBis_1M_1p_C1 | J11: 41334 | K11: 0 | L11: =VLOOKUP(A11,#REF!,5,0) -> #REF! | M11: =VLOOKUP(A11,'PRIX LOT1'!A:I,5,0) -> #N/A
A12: CFA Chambre des Métiers de l'Oise de Compiègne | B12: ZAC de Mercières3 rue Joseph Cugnot | C12: 60200 | D12: Compiègne | E12: CFA_ChMetiers_Compiegne | F12: 54.38 | G12: 0 | H12: 475 | I12: FT_SDSL_1M_2p_C1 | J12: 41334 | K12: 0 | L12: =VLOOKUP(A12,#REF!,5,0) -> #REF! | M12: =VLOOKUP(A12,'PRIX LOT1'!A:I,5,0) -> #N/A
A13: CFA Chambre des Métiers de l'Aisne de Laon | B13: 30 rue d'enfer | C13: 02000 | D13: Laon | E13: CFA_ChMetiers_Laon | F13: 42.63 | G13: 0 | H13: 475 | I13: FT_SDSLBis_1M_1p_C1 | J13: 41334 | K13: 0 | L13: =VLOOKUP(A13,#REF!,5,0) -> #REF! | M13: =VLOOKUP(A13,'PRIX LOT1'!A:I,5,0) -> #N/A
... A64: Inspection Académique Aisne | B64: inspection académique de l'Aisne cité administrative | C64: 02000 | D64: Laon | E64: IA_Aisne | F64: 64.63 | G64: 31.25 | H64: 475 | I64: FT_SDSLBis_2M_2p_C1 | J64: 41334 | K64: 0 | L64: =VLOOKUP(A64,#REF!,5,0) -> #REF! | M64: =VLOOKUP(A64,'PRIX LOT1'!A:I,5,0) -> #N/A
A65: Collège Victor Hugo | B65: 5 r André Ternynck | C65: 02300 | D65: Chauny | F65: 110.38 | G65: 31.25 | H65: 562.5 | I65: FT_SDSLBis_4M_4p_C1 | J65: 41334 | K65: 0 | L65: =VLOOKUP(A65,#REF!,5,0) -> #REF! | M65: =VLOOKUP(A65,'PRIX LOT1'!A:I,5,0) -> #N/A
A66: Lycée du Vimeu | B66: 3 rue Denis Papin | C66: 80130 | D66: Friville-Escarbotin | E66: Vimeu_FrivilEscarb | F66: 110.38 | G66: 31.25 | H66: 562.5 | I66: FT_SDSLBis_4M_4p_C1 | J66: 41334 | K66: 0 | L66: =VLOOKUP(A66,#REF!,5,0) -> #REF! | M66: =VLOOKUP(A66,'PRIX LOT1'!A:I,5,0) -> #N/A
A67: Lycée du Vimeu | B67: 3 rue Denis Papin | C67: 80130 | D67: Friville-Escarbotin | E67: Vimeu_FrivilEscarb_R2 | F67: 110.38 | G67: 31.25 | H67: 562.5 | I67: FT_SDSLBis_4M_4p_C1 | J67: 41334 | K67: 0 | L67: =VLOOKUP(A67,#REF!,5,0) -> #REF! | M67: =VLOOKUP(A67,'PRIX LOT1'!A:I,5,0) -> #N/A
A68: CRP Terrière | B68: 175 rue de la Terrière | C68: 80000 | D68: Amiens | E68: CRP_Terriere | F68: 116 | G68: 27.63 | H68: 562.5 | I68: FT_SDSL_4M_4p_C1 | J68: 41334 | K68: 0 | L68: =VLOOKUP(A68,#REF!,5,0) -> #REF! | M68: =VLOOKUP(A68,'PRIX LOT1'!A:I,5,0) -> #N/A
A69: Collège Victor Hugo | B69: 5 r André Ternynck | C69: 02300 | D69: Chauny | E69: Hugo_Chauny | F69: 110.38 | G69: 31.25 | H69: 562.5 | I69: FT_SDSLBis_4M_4p_C1 | J69: 41334 | K69: 0 | L69: =VLOOKUP(A69,#REF!,5,0) -> #REF! | M69: =VLOOKUP(A69,'PRIX LOT1'!A:I,5,0) -> #N/A
A70: Lycée Roberval | B70: 10 rue des grez | C70: 60600 | D70: Breuil-le-Vert | E70: Roberval_BreuilVert | F70: 110.38 | G70: 31.25 | H70: 562.5 | I70: FT_SDSLBis_4M_4p_C1 | J70: 41334 | K70: 0 | L70: =VLOOKUP(A70,#REF!,5,0) -> #REF! | M70: =VLOOKUP(A70,'PRIX LOT1'!A:I,5,0) -> #N/A
A71: Lycée Roberval | B71: 10 rue des grez | C71: 60600 | D71: Breuil-le-Vert | E71: Roberval_BreuilVert_R2 | F71: 110.38 | G71: 31.25 | H71: 562.5 | I71: FT_SDSLBis_4M_4p_C1 | J71: 41334 | K71: 0 | L71: =VLOOKUP(A71,#REF!,5,0) -> #REF! | M71: =VLOOKUP(A71,'PRIX LOT1'!A:I,5,0) -> #N/A
F72: =SUM(F2:F71) -> 8751.12 | G72: =SUM(G2:G71) -> 759.53 | H72: =SUM(H2:H71) -> 41751.7 | K72: =SUM(K2:K71) -> 1208
F73: =F72*10*1.196 -> 104663.4 | G73: =G72*11*1.196 -> 9992.3767 | K73: =K72*1.196 -> 1444.768
F75: =F73+G73+K73 -> 116100.54

Sheet 01-04-2013
A1: Nom du site | B1: Adresse | C1: CP | D1: Ville | E1: Clé site | F1: Abonnement mensuel € HT | G1: Option Interface Ethernet € HT | H1: Frais de mise en service € HT | I1: Référence catalogue Obiane | J1: Mise en service | K1: Frais de Desaturation € HT
A2: CFA Agricole de Chauny | B2: 10 route d'Ugny | C2: 02300 | D2: Chauny | E2: CFA_Agri_Chauny | F2: 95.5 | G2: 0 | H2: 562.5 | I2: FT_SDSLBis_2M_4p_C1 | J2: 41365 | K2: 0
A3: CFA Agricole de Verdilly | B3: 4 avenue Euphrasie Guynemer | C3: 02400 | D3: Verdilly | E3: CFA_Agri_Verdilly | F3: 95.5 | G3: 0 | H3: 562.5 | I3: FT_SDSLBis_2M_4p_C1 | J3: 41365 | K3: 1208
A4: Mission Régionale | B4: 3 Avenue Jules UHRY | C4: 60100 | D4: Creil | E4: MR_Creil | F4: 85.13 | G4: 27.63 | H4: 475 | I4: FT_SDSL_4M_2p_C1 | J4: 41365 | K4: 0
A5: Collège Les Frères Le Nain | B5: 3 place Saint Martin | C5: 02000 | D5: Laon | E5: Lenain_Laon | F5: 77.5 | G5: 31.25 | H5: 475 | I5: FT_SDSLBis_4M_2p_C1 | J5: 41365 | K5: 1043
A6: Collège Jean Mermoz Laon | B6: rue du 2ème régiment des dragons | C6: 02000 | D6: Laon | E6: Mermoz_Laon | F6: 77.5 | G6: 31.25 | H6: 475 | I6: FT_SDSLBis_4M_2p_C1 | J6: 41365 | K6: 0
A7: CFAI Aisne AFIDA Billy-sur-Aisne | B7: route de Reims | C7: 02200 | D7: Soissons | E7: CFA_AFIDA_Soissons | F7: 56.13 | G7: 0 | H7: 475 | I7: FT_SDSLBis_1M_2p_C1 | J7: 41365 | K7: 0
A8: CFA des Bâtiments et Travaux Publics de la Somme d'Amiens (AFOBAT) | B8: 17-19 rue Pierre Rollin | C8: 80000 | D8: Amiens | E8: CFA_AFOBAT_Amiens | F8: 51.75 | G8: 0 | H8: 263.75 | I8: SMSN_ADSLMax | J8: 41365 | K8: 0
A9: Collège Charlemagne | B9: 171, rue Léon Blum | C9: 02011 | D9: Laon | E9: Charlemagne_Laon | F9: 140.13 | G9: 31.25 | H9: 815 | I9: FT_SDSLBis_8M_4p_C1 | J9: 41365 | K9: 1208
A10: Collège Pierre de la Ramée | B10: 2 rue de Metz | C10: 02100 | D10: Saint-Quentin | E10: RameeC_SQ | F10: 187.75 | G10: 31.25 | H10: 815 | I10: FT_SDSLBis_12M_4p_C1 | J10: 41365 | K10: 1208
A11: Collège Gabriel Hanotaux | B11: 80 rue Henriette Cabot | C11: 02100 | D11: Saint-Quentin | E11: Hanotaux_SQ | F11: 116 | G11: 27.63 | H11: 562.5 | I11: FT_SDSL_4M_4p_C1 | J11: 41365 | K11: 1208
A12: MFREO du Vimeu | B12: 2 rue du 8 mai 1945 | C12: 80520 | D12: Yzengremer | E12: MFREO_Yzengremer | F12: 64.63 | G12: 0 | H12: 475 | I12: FT_SDSLBis_2M_2p_C1 | J12: 41365 | K12: 1043
A13: Collège Jeanne d'Arc Roye | B13: 11 boulevard de l'est | C13: 80700 | D13: Roye | E13: JeanneArc_Roye | F13: 51.13 | G13: 0 | H13: 375 | I13: FT_SDSLBis_2M_1p_C1 | J13: 41365 | K13: 833
... A60: Mission Régionale Compiègne | B60: 3 rue de l'anthemis | C60: 60200 | D60: Compiègne | E60: MR_Compiegne | F60: 77.5 | G60: 31.25 | H60: 475 | I60: FT_SDSLBis_4M_2p_C1 | J60: 41365 | K60: 0
A61: Collège Gérard Philipe | B61: 3, espace Jean Guerland | C61: 02331 | D61: Soissons | F61: 110.38 | G61: 31.25 | H61: 562.5 | I61: FT_SDSLBis_4M_4p_C1 | J61: 41365 | K61: 0
A62: Collège Gérard Philipe | B62: 3, espace Jean Guerland | C62: 02331 | D62: Soissons | E62: Philipe_Soissons | F62: 110.38 | G62: 31.25 | H62: 562.5 | I62: FT_SDSLBis_4M_4p_C1 | J62: 41365 | K62: 0
A63: Mission Régionale Noyon | B63: 32 rue Saint Eloi | C63: 60400 | D63: Noyon | E63: MR_Noyon | F63: 77.5 | G63: 31.25 | H63: 475 | I63: FT_SDSLBis_4M_2p_C1 | J63: 41365 | K63: 0
A64: Mission Régionale Senlis | B64: 12 rue Villevert | C64: 60300 | D64: Senlis | E64: MR_Senlis | F64: 77.5 | G64: 31.25 | H64: 475 | I64: FT_SDSLBis_4M_2p_C1 | J64: 41365 | K64: 0
A65: Mission Régionale Pays du Soissonais | B65: 17 rue de Villeneuve | C65: 02200 | D65: Soissons | E65: MR_Soissons | F65: 77.5 | G65: 31.25 | H65: 475 | I65: FT_SDSLBis_4M_2p_C1 | J65: 41365 | K65: 0
A66: IUFM Laon | B66: avenue de la république | C66: 02000 | D66: Laon | E66: IUFML | F66: 110.38 | G66: 31.25 | H66: 562.5 | I66: FT_SDSLBis_4M_4p_C1 | J66: 41365 | K66: 0
A67: INRA | B67: Rue Pierre Gilles de Gennes | C67: 02000 | D67: Estrées Mons | E67: INRA_EstreesMons | F67: 196.75 | G67: 27.63 | H67: 814.6 | I67: FT_SDSL_8M_4p_C2 | J67: 41365 | K67: 0
A68: Collège Paul Eluard | B68: 1 rue Gérard Philipe | C68: 02430 | D68: Gauchy | E68: Eluard_Gauchy | F68: 110.38 | G68: 31.25 | H68: 475 | I68: FT_SDSLBis_4M_4p_C1 | J68: 41365 | K68: 0
A69: Lycée Françoise Dolto | B69: 4 avenue des lilas | C69: 02120 | D69: Guise | E69: Dolto_Guise | F69: 157.38 | G69: 27.63 | H69: 814.6 | I69: FT_SDSL_8M_4p_C1 | J69: 41365 | K69: 1208
A70: Collège Joliot Curie Mers-les-Bains | B70: rue du général de Gaulle | C70: 80350 | D70: Mers-les-Bains | E70: Curie_Mers | F70: 90 | G70: 0 | H70: 562.5 | I70: FT_SDSLBis_1M_4p_C2 | J70: 41365 | K70: 1208
A71: Collège Eugène Lefebvre | B71: boulevard Camille Roland | C71: 80800 | D71: Corbie | E71: Lefebvre_Corbie | F71: 140.13 | G71: 0 | H71: 815 | I71: FT_SDSLBis_8M_4p_C1 | J71: 41365 | K71: 1208
F72: =SUM(F2:F71) -> 9217.28 | G72: =SUM(G2:G71) -> 1140.44 | H72: =SUM(H2:H71) -> 43401.75 | K72: =SUM(K2:K71) -> 56268
F73: =F72*1.196 -> 11023.867 | G73: =G72*1.196 -> 1363.9662 | H73: =H72*1.196 -> 51908.493 | K73: =K72*1.196 -> 67296.528
F74: =F73*9 -> 99214.802 | G74: =G73*9 -> 12275.696
F76: =SUM(F74,G74,K73) -> 178787.03

Sheet 01-05-2013
A1: Nom du site | B1: Adresse | C1: CP | D1: Ville | E1: Clé site | F1: Abonnement mensuel € HT | G1: Option Interface Ethernet € HT | H1: Frais de mise en service € HT | I1: Référence catalogue Obiane | J1: Mise en service | K1: Frais de Desaturation € HT
A2: Lycée agricole de l'Oise Airion | B2: Lycée agricole de l'Oise | C2: 60600 | D2: Airion | E2: LEGTA_Airion | F2: 51 | G2: 0 | H2: 475 | I2: FT_SDSLBis_512K_2p_C1 | J2: 41395 | K2: 0
A3: Lycée agricole de l'Oise Airion | B3: Lycée agricole de l'Oise | C3: 60600 | D3: Airion | E3: LEGTA_Airion_R2 | F3: 51 | G3: 0 | H3: 475 | I3: FT_SDSLBis_512K_2p_C1 | J3: 41395 | K3: 0
A4: Lycée des Jacobins | B4: 2 rue Vincent de Beauvais | C4: 60000 | D4: Beauvais | E4: Jacobins_Beauvais | F4: 213.5 | G4: 31.25 | H4: 1067.4 | I4: FT_SDSLBis_16M_4p_C1 | J4: 41395 | K4: 1208
A5: Lycée Gay Lussac | B5: boulevard Gambetta | C5: 02300 | D5: Chauny | E5: Lussac_Chauny | F5: 213.5 | G5: 31.25 | H5: 1067.4 | I5: FT_SDSLBis_16M_4p_C1 | J5: 41395 | K5: 1208
