Workbook

Sheet A
B1: Directions
A2: 0 | B2: 0 | D2: Interval | E2: 30 | J2: PLRPLT_BASE | P2: PLRPLT_SPOKES | W2: =A!$B$1 -> Directions
A3: =C23 -> 20 | B3: 10 | D3: NIntervals | E3: =360/E2 -> 12 | F3: =IF(E8,(ROW()-ROW(F3))*5,((ROW(F75)-ROW())*5)) -> 0 | G3: =IF(F3-E9>=0,F3-E9,360-E9+F3) -> 0 | H3: =IF(G3=360,0,IF(MOD(G3,E2)=0,G3,"")) -> 0 | I3: =IF(E13,H3,CHAR(160)) -> 0 | J3: =E19 -> 0 | K3: 0 | L3: =MATCH(K3,H3:H74,0) -> 1 | M3: =IF(E8,90-INDEX(F3:F74,L3,1),INDEX(F3:F74,L3,1)+90) -> 90 | N3: =IF(E12,+(E7),NA()) -> 10 | O3: =COS(RADIANS(M3))*N3 -> 6.1257423e-16 | P3: =SIN(RADIANS(M3))*N3 -> 10 | Q3: =A2 -> 0 | R3: =B2 -> 0 | S3: =IF(E10,DEGREES(Q3),Q3) -> 0 | T3: =IF(E8,90-S3-E9,S3+90+E9) -> 90 | U3: =IF(E11,ABS(E6)-R3,ABS(E5)+R3) -> 0 | V3: =COS(RADIANS(T3))*U3 -> 0 | W3: =SIN(RADIANS(T3))*U3 -> 0
D4: Value | E4: =10/E3 -> 0.83333333 | F4: =IF(E8,(ROW()-ROW(F3))*5,((ROW(F75)-ROW())*5)) -> 5 | G4: =IF(F4-E9>=0,F4-E9,360-E9+F4) -> 5 | H4: =IF(G4=360,0,IF(MOD(G4,E2)=0,G4,"")) | I4: =IF(E13,H4,CHAR(160)) | J4: =E20 -> 10 | K4: 0 | L4: =L3 -> 1 | M4: =IF(E8,90-INDEX(F3:F74,L4,1),INDEX(F3:F74,L4,1)+90) -> 90 | N4: =IF(E12,-(E7),NA()) -> -10 | O4: =COS(RADIANS(M4))*N4 -> -6.1257423e-16 | P4: =SIN(RADIANS(M4))*N4 -> -10 | Q4: =A3 -> 20 | R4: =B3 -> 10 | S4: =IF(E10,DEGREES(Q4),Q4) -> 20 | T4: =IF(E8,90-S4-E9,S4+90+E9) -> 70 | U4: =IF(E11,ABS(E6)-R4,ABS(E5)+R4) -> 10 | V4: =COS(RADIANS(T4))*U4 -> 3.4202014 | W4: =SIN(RADIANS(T4))*U4 -> 9.3969262
A5: 0 | B5: 0 | D5: MinAxisValue | E5: 0 | F5: =IF(E8,(ROW()-ROW(F3))*5,((ROW(F75)-ROW())*5)) -> 10 | G5: =IF(F5-E9>=0,F5-E9,360-E9+F5) -> 10 | H5: =IF(G5=360,0,IF(MOD(G5,E2)=0,G5,"")) | I5: =IF(E13,H5,CHAR(160)) | J5: =NA() -> #N/A | Q5: =A4 -> 0 | R5: =B4 -> 0 | S5: =IF(E10,DEGREES(Q5),Q5) -> 0 | T5: =IF(E8,90-S5-E9,S5+90+E9) -> 90 | U5: =IF(E11,ABS(E6)-R5,ABS(E5)+R5) -> 0
A6: =C24 -> 20 | B6: 10 | D6: MaxAxisValue | E6: 10 | F6: =IF(E8,(ROW()-ROW(F3))*5,((ROW(F75)-ROW())*5)) -> 15 | G6: =IF(F6-E9>=0,F6-E9,360-E9+F6) -> 15 | H6: =IF(G6=360,0,IF(MOD(G6,E2)=0,G6,"")) | I6: =IF(E13,H6,CHAR(160)) | J6: =NA() -> #N/A | K6: 5 | L6: =MATCH(K6,H3:H74,0) -> #N/A | M6: =IF(E8,90-INDEX(F3:F74,L6,1),INDEX(F3:F74,L6,1)+90) -> #N/A | N6: =IF(E12,+(E7),NA()) -> 10 | O6: =COS(RADIANS(M6))*N6 -> #N/A | P6: =SIN(RADIANS(M6))*N6 -> #N/A | Q6: =A5 -> 0 | R6: =B5 -> 0 | S6: =IF(E10,DEGREES(Q6),Q6) -> 0 | T6: =IF(E8,90-S6-E9,S6+90+E9) -> 90 | U6: =IF(E11,ABS(E6)-R6,ABS(E5)+R6) -> 0 | V6: =COS(RADIANS(T6))*U6 -> 0 | W6: =SIN(RADIANS(T6))*U6 -> 0
D7: Radius | E7: =E6-E5 -> 10 | F7: =IF(E8,(ROW()-ROW(F3))*5,((ROW(F75)-ROW())*5)) -> 20 | G7: =IF(F7-E9>=0,F7-E9,360-E9+F7) -> 20 | H7: =IF(G7=360,0,IF(MOD(G7,E2)=0,G7,"")) | I7: =IF(E13,H7,CHAR(160)) | J7: =NA() -> #N/A | K7: 5 | L7: =L6 -> #N/A | M7: =IF(E8,90-INDEX(F3:F74,L7,1),INDEX(F3:F74,L7,1)+90) -> #N/A | N7: =IF(E12,-(E7),NA()) -> -10 | O7: =COS(RADIANS(M7))*N7 -> #N/A | P7: =SIN(RADIANS(M7))*N7 -> #N/A | Q7: =A6 -> 20 | R7: =B6 -> 10 | S7: =IF(E10,DEGREES(Q7),Q7) -> 20 | T7: =IF(E8,90-S7-E9,S7+90+E9) -> 70 | U7: =IF(E11,ABS(E6)-R7,ABS(E5)+R7) -> 10 | V7: =COS(RADIANS(T7))*U7 -> 3.4202014 | W7: =SIN(RADIANS(T7))*U7 -> 9.3969262
A8: 0 | B8: 0 | D8: Clockwise | E8: TRUE | F8: =IF(E8,(ROW()-ROW(F3))*5,((ROW(F75)-ROW())*5)) -> 25 | G8: =IF(F8-E9>=0,F8-E9,360-E9+F8) -> 25 | H8: =IF(G8=360,0,IF(MOD(G8,E2)=0,G8,"")) | I8: =IF(E13,H8,CHAR(160)) | J8: =NA() -> #N/A | Q8: =A7 -> 0 | R8: =B7 -> 0 | S8: =IF(E10,DEGREES(Q8),Q8) -> 0 | T8: =IF(E8,90-S8-E9,S8+90+E9) -> 90 | U8: =IF(E11,ABS(E6)-R8,ABS(E5)+R8) -> 0
A9: =C25 -> 20 | B9: 10 | D9: StartAngle | E9: 0 | F9: =IF(E8,(ROW()-ROW(F3))*5,((ROW(F75)-ROW())*5)) -> 30 | G9: =IF(F9-E9>=0,F9-E9,360-E9+F9) -> 30 | H9: =IF(G9=360,0,IF(MOD(G9,E2)=0,G9,"")) -> 30 | I9: =IF(E13,H9,CHAR(160)) -> 30 | J9: =NA() -> #N/A | K9: 10 | L9: =MATCH(K9,H3:H74,0) -> #N/A | M9: =IF(E8,90-INDEX(F3:F74,L9,1),INDEX(F3:F74,L9,1)+90) -> #N/A | N9: =IF(E12,+(E7),NA()) -> 10 | O9: =COS(RADIANS(M9))*N9 -> #N/A | P9: =SIN(RADIANS(M9))*N9 -> #N/A | Q9: =A8 -> 0 | R9: =B8 -> 0 | S9: =IF(E10,DEGREES(Q9),Q9) -> 0 | T9: =IF(E8,90-S9-E9,S9+90+E9) -> 90 | U9: =IF(E11,ABS(E6)-R9,ABS(E5)+R9) -> 0 | V9: =COS(RADIANS(T9))*U9 -> 0 | W9: =SIN(RADIANS(T9))*U9 -> 0
D10: Radians | E10: FALSE | F10: =IF(E8,(ROW()-ROW(F3))*5,((ROW(F75)-ROW())*5)) -> 35 | G10: =IF(F10-E9>=0,F10-E9,360-E9+F10) -> 35 | H10: =IF(G10=360,0,IF(MOD(G10,E2)=0,G10,"")) | I10: =IF(E13,H10,CHAR(160)) | J10: =NA() -> #N/A | K10: 10 | L10: =L9 -> #N/A | M10: =IF(E8,90-INDEX(F3:F74,L10,1),INDEX(F3:F74,L10,1)+90) -> #N/A | N10: =IF(E12,-(E7),NA()) -> -10 | O10: =COS(RADIANS(M10))*N10 -> #N/A | P10: =SIN(RADIANS(M10))*N10 -> #N/A | Q10: =A9 -> 20 | R10: =B9 -> 10 | S10: =IF(E10,DEGREES(Q10),Q10) -> 20 | T10: =IF(E8,90-S10-E9,S10+90+E9) -> 70 | U10: =IF(E11,ABS(E6)-R10,ABS(E5)+R10) -> 10 | V10: =COS(RADIANS(T10))*U10 -> 3.4202014 | W10: =SIN(RADIANS(T10))*U10 -> 9.3969262
A11: 0 | B11: 0 | D11: ReverseAxis | E11: FALSE | F11: =IF(E8,(ROW()-ROW(F3))*5,((ROW(F75)-ROW())*5)) -> 40 | G11: =IF(F11-E9>=0,F11-E9,360-E9+F11) -> 40 | H11: =IF(G11=360,0,IF(MOD(G11,E2)=0,G11,"")) | I11: =IF(E13,H11,CHAR(160)) | J11: =NA() -> #N/A | Q11: =A10 -> 0 | R11: =B10 -> 0 | S11: =IF(E10,DEGREES(Q11),Q11) -> 0 | T11: =IF(E8,90-S11-E9,S11+90+E9) -> 90 | U11: =IF(E11,ABS(E6)-R11,ABS(E5)+R11) -> 0
A12: =C26 -> 45 | B12: 10 | D12: Display Spokes | E12: TRUE | F12: =IF(E8,(ROW()-ROW(F3))*5,((ROW(F75)-ROW())*5)) -> 45 | G12: =IF(F12-E9>=0,F12-E9,360-E9+F12) -> 45 | H12: =IF(G12=360,0,IF(MOD(G12,E2)=0,G12,"")) | I12: =IF(E13,H12,CHAR(160)) | J12: =NA() -> #N/A | K12: 15 | L12: =MATCH(K12,H3:H74,0) -> #N/A | M12: =IF(E8,90-INDEX(F3:F74,L12,1),INDEX(F3:F74,L12,1)+90) -> #N/A | N12: =IF(E12,+(E7),NA()) -> 10 | O12: =COS(RADIANS(M12))*N12 -> #N/A | P12: =SIN(RADIANS(M12))*N12 -> #N/A | Q12: =A11 -> 0 | R12: =B11 -> 0 | S12: =IF(E10,DEGREES(Q12),Q12) -> 0 | T12: =IF(E8,90-S12-E9,S12+90+E9) -> 90 | U12: =IF(E11,ABS(E6)-R12,ABS(E5)+R12) -> 0 | V12: =COS(RADIANS(T12))*U12 -> 0 | W12: =SIN(RADIANS(T12))*U12 -> 0
D13: Display Spoke Labels | E13: TRUE | F13: =IF(E8,(ROW()-ROW(F3))*5,((ROW(F75)-ROW())*5)) -> 50 | G13: =IF(F13-E9>=0,F13-E9,360-E9+F13) -> 50 | H13: =IF(G13=360,0,IF(MOD(G13,E2)=0,G13,"")) | I13: =IF(E13,H13,CHAR(160)) | J13: =NA() -> #N/A | K13: 15 | L13: =L12 -> #N/A | M13: =IF(E8,90-INDEX(F3:F74,L13,1),INDEX(F3:F74,L13,1)+90) -> #N/A | N13: =IF(E12,-(E7),NA()) -> -10 | O13: =COS(RADIANS(M13))*N13 -> #N/A | P13: =SIN(RADIANS(M13))*N13 -> #N/A | Q13: =A12 -> 45 | R13: =B12 -> 10 | S13: =IF(E10,DEGREES(Q13),Q13) -> 45 | T13: =IF(E8,90-S13-E9,S13+90+E9) -> 45 | U13: =IF(E11,ABS(E6)-R13,ABS(E5)+R13) -> 10 | V13: =COS(RADIANS(T13))*U13 -> 7.0710678 | W13: =SIN(RADIANS(T13))*U13 -> 7.0710678
A14: 0 | B14: 0 | D14: Display Gridlines | E14: TRUE | F14: =IF(E8,(ROW()-ROW(F3))*5,((ROW(F75)-ROW())*5)) -> 55 | G14: =IF(F14-E9>=0,F14-E9,360-E9+F14) -> 55 | H14: =IF(G14=360,0,IF(MOD(G14,E2)=0,G14,"")) | I14: =IF(E13,H14,CHAR(160)) | J14: =NA() -> #N/A | Q14: =A13 -> 0 | R14: =B13 -> 0 | S14: =IF(E10,DEGREES(Q14),Q14) -> 0 | T14: =IF(E8,90-S14-E9,S14+90+E9) -> 90 | U14: =IF(E11,ABS(E6)-R14,ABS(E5)+R14) -> 0
A15: =C27 -> 60 | B15: 10 | D15: Display Data Lines | E15: TRUE | F15: =IF(E8,(ROW()-ROW(F3))*5,((ROW(F75)-ROW())*5)) -> 60 | G15: =IF(F15-E9>=0,F15-E9,360-E9+F15) -> 60 | H15: =IF(G15=360,0,IF(MOD(G15,E2)=0,G15,"")) -> 60 | I15: =IF(E13,H15,CHAR(160)) -> 60 | J15: =NA() -> #N/A | K15: 20 | L15: =MATCH(K15,H3:H74,0) -> #N/A | M15: =IF(E8,90-INDEX(F3:F74,L15,1),INDEX(F3:F74,L15,1)+90) -> #N/A | N15: =IF(E12,+(E7),NA()) -> 10 | O15: =COS(RADIANS(M15))*N15 -> #N/A | P15: =SIN(RADIANS(M15))*N15 -> #N/A | Q15: =A14 -> 0 | R15: =B14 -> 0 | S15: =IF(E10,DEGREES(Q15),Q15) -> 0 | T15: =IF(E8,90-S15-E9,S15+90+E9) -> 90 | U15: =IF(E11,ABS(E6)-R15,ABS(E5)+R15) -> 0 | V15: =COS(RADIANS(T15))*U15 -> 0 | W15: =SIN(RADIANS(T15))*U15 -> 0
D16: Display Data Markers | E16: FALSE | F16: =IF(E8,(ROW()-ROW(F3))*5,((ROW(F75)-ROW())*5)) -> 65 | G16: =IF(F16-E9>=0,F16-E9,360-E9+F16) -> 65 | H16: =IF(G16=360,0,IF(MOD(G16,E2)=0,G16,"")) | I16: =IF(E13,H16,CHAR(160)) | J16: =NA() -> #N/A | K16: 20 | L16: =L15 -> #N/A | M16: =IF(E8,90-INDEX(F3:F74,L16,1),INDEX(F3:F74,L16,1)+90) -> #N/A | N16: =IF(E12,-(E7),NA()) -> -10 | O16: =COS(RADIANS(M16))*N16 -> #N/A | P16: =SIN(RADIANS(M16))*N16 -> #N/A | Q16: =A15 -> 60 | R16: =B15 -> 10 | S16: =IF(E10,DEGREES(Q16),Q16) -> 60 | T16: =IF(E8,90-S16-E9,S16+90+E9) -> 30 | U16: =IF(E11,ABS(E6)-R16,ABS(E5)+R16) -> 10 | V16: =COS(RADIANS(T16))*U16 -> 8.660254 | W16: =SIN(RADIANS(T16))*U16 -> 5
A17: 0 | B17: 0 | D17: Display Legend | E17: TRUE | F17: =IF(E8,(ROW()-ROW(F3))*5,((ROW(F75)-ROW())*5)) -> 70 | G17: =IF(F17-E9>=0,F17-E9,360-E9+F17) -> 70 | H17: =IF(G17=360,0,IF(MOD(G17,E2)=0,G17,"")) | I17: =IF(E13,H17,CHAR(160)) | J17: =NA() -> #N/A | Q17: =A16 -> 0 | R17: =B16 -> 0 | S17: =IF(E10,DEGREES(Q17),Q17) -> 0 | T17: =IF(E8,90-S17-E9,S17+90+E9) -> 90 | U17: =IF(E11,ABS(E6)-R17,ABS(E5)+R17) -> 0
A18: =C28 -> 90 | B18: 10 | D18: Display Axis | E18: TRUE | F18: =IF(E8,(ROW()-ROW(F3))*5,((ROW(F75)-ROW())*5)) -> 75 | G18: =IF(F18-E9>=0,F18-E9,360-E9+F18) -> 75 | H18: =IF(G18=360,0,IF(MOD(G18,E2)=0,G18,"")) | I18: =IF(E13,H18,CHAR(160)) | J18: =NA() -> #N/A | K18: 25 | L18: =MATCH(K18,H3:H74,0) -> #N/A | M18: =IF(E8,90-INDEX(F3:F74,L18,1),INDEX(F3:F74,L18,1)+90) -> #N/A | N18: =IF(E12,+(E7),NA()) -> 10 | O18: =COS(RADIANS(M18))*N18 -> #N/A | P18: =SIN(RADIANS(M18))*N18 -> #N/A | Q18: =A17 -> 0 | R18: =B17 -> 0 | S18: =IF(E10,DEGREES(Q18),Q18) -> 0 | T18: =IF(E8,90-S18-E9,S18+90+E9) -> 90 | U18: =IF(E11,ABS(E6)-R18,ABS(E5)+R18) -> 0 | V18: =COS(RADIANS(T18))*U18 -> 0 | W18: =SIN(RADIANS(T18))*U18 -> 0
B19: 0 | D19: MinDataValue | E19: 0 | F19: =IF(E8,(ROW()-ROW(F3))*5,((ROW(F75)-ROW())*5)) -> 80 | G19: =IF(F19-E9>=0,F19-E9,360-E9+F19) -> 80 | H19: =IF(G19=360,0,IF(MOD(G19,E2)=0,G19,"")) | I19: =IF(E13,H19,CHAR(160)) | J19: =NA() -> #N/A | K19: 25 | L19: =L18 -> #N/A | M19: =IF(E8,90-INDEX(F3:F74,L19,1),INDEX(F3:F74,L19,1)+90) -> #N/A | N19: =IF(E12,-(E7),NA()) -> -10 | O19: =COS(RADIANS(M19))*N19 -> #N/A | P19: =SIN(RADIANS(M19))*N19 -> #N/A | Q19: =A18 -> 90 | R19: =B18 -> 10 | S19: =IF(E10,DEGREES(Q19),Q19) -> 90 | T19: =IF(E8,90-S19-E9,S19+90+E9) -> 0 | U19: =IF(E11,ABS(E6)-R19,ABS(E5)+R19) -> 10 | V19: =COS(RADIANS(T19))*U19 -> 10 | W19: =SIN(RADIANS(T19))*U19 -> 0
A20: 0 | B20: 0 | D20: MaxDataValue | E20: 10 | F20: =IF(E8,(ROW()-ROW(F3))*5,((ROW(F75)-ROW())*5)) -> 85 | G20: =IF(F20-E9>=0,F20-E9,360-E9+F20) -> 85 | H20: =IF(G20=360,0,IF(MOD(G20,E2)=0,G20,"")) | I20: =IF(E13,H20,CHAR(160)) | J20: =NA() -> #N/A | Q20: =A19 -> 0 | R20: =B19 -> 0 | S20: =IF(E10,DEGREES(Q20),Q20) -> 0 | T20: =IF(E8,90-S20-E9,S20+90+E9) -> 90 | U20: =IF(E11,ABS(E6)-R20,ABS(E5)+R20) -> 0
A21: =C29 -> 380 | B21: 10 | D21: DataRange | E21: ='Example10'!$A$1:$B$21 | F21: =IF(E8,(ROW()-ROW(F3))*5,((ROW(F75)-ROW())*5)) -> 90 | G21: =IF(F21-E9>=0,F21-E9,360-E9+F21) -> 90 | H21: =IF(G21=360,0,IF(MOD(G21,E2)=0,G21,"")) -> 90 | I21: =IF(E13,H21,CHAR(160)) -> 90 | J21: =NA() -> #N/A | K21: 30 | L21: =MATCH(K21,H3:H74,0) -> 7 | M21: =IF(E8,90-INDEX(F3:F74,L21,1),INDEX(F3:F74,L21,1)+90) -> 60 | N21: =IF(E12,+(E7),NA()) -> 10 | O21: =COS(RADIANS(M21))*N21 -> 5 | P21: =SIN(RADIANS(M21))*N21 -> 8.660254 | Q21: =A20 -> 0 | R21: =B20 -> 0 | S21: =IF(E10,DEGREES(Q21),Q21) -> 0 | T21: =IF(E8,90-S21-E9,S21+90+E9) -> 90 | U21: =IF(E11,ABS(E6)-R21,ABS(E5)+R21) -> 0 | V21: =COS(RADIANS(T21))*U21 -> 0 | W21: =SIN(RADIANS(T21))*U21 -> 0
D22: DataChanged | E22: FAUX | F22: =IF(E8,(ROW()-ROW(F3))*5,((ROW(F75)-ROW())*5)) -> 95 | G22: =IF(F22-E9>=0,F22-E9,360-E9+F22) -> 95 | H22: =IF(G22=360,0,IF(MOD(G22,E2)=0,G22,"")) | I22: =IF(E13,H22,CHAR(160)) | J22: =NA() -> #N/A | K22: 30 | L22: =L21 -> 7 | M22: =IF(E8,90-INDEX(F3:F74,L22,1),INDEX(F3:F74,L22,1)+90) -> 60 | N22: =IF(E12,-(E7),NA()) -> -10 | O22: =COS(RADIANS(M22))*N22 -> -5 | P22: =SIN(RADIANS(M22))*N22 -> -8.660254 | Q22: =A21 -> 380 | R22: =B21 -> 10 | S22: =IF(E10,DEGREES(Q22),Q22) -> 380 | T22: =IF(E8,90-S22-E9,S22+90+E9) -> -290 | U22: =IF(E11,ABS(E6)-R22,ABS(E5)+R22) -> 10 | V22: =COS(RADIANS(T22))*U22 -> 3.4202014 | W22: =SIN(RADIANS(T22))*U22 -> 9.3969262
A23: 0 | B23: 0 | C23: =B115 -> 20 | F23: =IF(E8,(ROW()-ROW(F3))*5,((ROW(F75)-ROW())*5)) -> 100 | G23: =IF(F23-E9>=0,F23-E9,360-E9+F23) -> 100 | H23: =IF(G23=360,0,IF(MOD(G23,E2)=0,G23,"")) | I23: =IF(E13,H23,CHAR(160)) | J23: =NA() -> #N/A
A24: =C30 -> 380 | B24: 10 | C24: =B116 -> 20 | F24: =IF(E8,(ROW()-ROW(F3))*5,((ROW(F75)-ROW())*5)) -> 105 | G24: =IF(F24-E9>=0,F24-E9,360-E9+F24) -> 105 | H24: =IF(G24=360,0,IF(MOD(G24,E2)=0,G24,"")) | I24: =IF(E13,H24,CHAR(160)) | J24: =NA() -> #N/A | K24: 35 | L24: =MATCH(K24,H3:H74,0) -> #N/A | M24: =IF(E8,90-INDEX(F3:F74,L24,1),INDEX(F3:F74,L24,1)+90) -> #N/A | N24: =IF(E12,+(E7),NA()) -> 10 | O24: =COS(RADIANS(M24))*N24 -> #N/A | P24: =SIN(RADIANS(M24))*N24 -> #N/A | Q24: =A23 -> 0 | R24: =B23 -> 0 | S24: =IF(E31,DEGREES(Q24),Q24) -> 0 | T24: =IF($E$8,90-S24-E30,S24+90+E30) -> 90 | U24: =IF(E32,ABS(E27)-R24,ABS(E26)+R24) -> 0 | V24: =COS(RADIANS(T24))*U24 -> 0 | W24: =SIN(RADIANS(T24))*U24 -> 0
C25: =B117 -> 20 | F25: =IF(E8,(ROW()-ROW(F3))*5,((ROW(F75)-ROW())*5)) -> 110 | G25: =IF(F25-E9>=0,F25-E9,360-E9+F25) -> 110 | H25: =IF(G25=360,0,IF(MOD(G25,E2)=0,G25,"")) | I25: =IF(E13,H25,CHAR(160)) | J25: =NA() -> #N/A | K25: 35 | L25: =L24 -> #N/A | M25: =IF(E8,90-INDEX(F3:F74,L25,1),INDEX(F3:F74,L25,1)+90) -> #N/A | N25: =IF(E12,-(E7),NA()) -> -10 | O25: =COS(RADIANS(M25))*N25 -> #N/A | P25: =SIN(RADIANS(M25))*N25 -> #N/A | Q25: =A24 -> 380 | R25: =B24 -> 10 | S25: =IF(E31,DEGREES(Q25),Q25) -> 380 | T25: =IF($E$8,90-S25-E31,S25+90+E31) -> -290 | U25: =IF(E32,ABS(E27)-R25,ABS(E26)+R25) -> 10 | V25: =COS(RADIANS(T25))*U25 -> 3.4202014 | W25: =SIN(RADIANS(T25))*U25 -> 9.3969262
A26: 0 | B26: 0 | C26: =B118 -> 45 | F26: =IF(E8,(ROW()-ROW(F3))*5,((ROW(F75)-ROW())*5)) -> 115 | G26: =IF(F26-E9>=0,F26-E9,360-E9+F26) -> 115 | H26: =IF(G26=360,0,IF(MOD(G26,E2)=0,G26,"")) | I26: =IF(E13,H26,CHAR(160)) | J26: =NA() -> #N/A | Q26: =A25 -> 0 | R26: =B25 -> 0 | S26: =IF(E31,DEGREES(Q26),Q26) -> 0 | T26: =IF($E$8,90-S26-E32,S26+90+E32) -> 90 | U26: =IF(E32,ABS(E27)-R26,ABS(E26)+R26) -> 0
A27: =C31 -> 380 | B27: 10 | C27: =B119 -> 60 | F27: =IF(E8,(ROW()-ROW(F3))*5,((ROW(F75)-ROW())*5)) -> 120 | G27: =IF(F27-E9>=0,F27-E9,360-E9+F27) -> 120 | H27: =IF(G27=360,0,IF(MOD(G27,E2)=0,G27,"")) -> 120 | I27: =IF(E13,H27,CHAR(160)) -> 120 | J27: =NA() -> #N/A | K27: 40 | L27: =MATCH(K27,H3:H74,0) -> #N/A | M27: =IF(E8,90-INDEX(F3:F74,L27,1),INDEX(F3:F74,L27,1)+90) -> #N/A | N27: =IF(E12,+(E7),NA()) -> 10 | O27: =COS(RADIANS(M27))*N27 -> #N/A | P27: =SIN(RADIANS(M27))*N27 -> #N/A | Q27: =A26 -> 0 | R27: =B26 -> 0 | S27: =IF(E31,DEGREES(Q27),Q27) -> 0 | T27: =IF($E$8,90-S27-E33,S27+90+E33) -> 90 | U27: =IF(E32,ABS(E27)-R27,ABS(E26)+R27) -> 0 | V27: =COS(RADIANS(T27))*U27 -> 0 | W27: =SIN(RADIANS(T27))*U27 -> 0
C28: =B120 -> 90 | F28: =IF(E8,(ROW()-ROW(F3))*5,((ROW(F75)-ROW())*5)) -> 125 | G28: =IF(F28-E9>=0,F28-E9,360-E9+F28) -> 125 | H28: =IF(G28=360,0,IF(MOD(G28,E2)=0,G28,"")) | I28: =IF(E13,H28,CHAR(160)) | J28: =NA() -> #N/A | K28: 40 | L28: =L27 -> #N/A | M28: =IF(E8,90-INDEX(F3:F74,L28,1),INDEX(F3:F74,L28,1)+90) -> #N/A | N28: =IF(E12,-(E7),NA()) -> -10 | O28: =COS(RADIANS(M28))*N28 -> #N/A | P28: =SIN(RADIANS(M28))*N28 -> #N/A | Q28: =A27 -> 380 | R28: =B27 -> 10 | S28: =IF(E31,DEGREES(Q28),Q28) -> 380 | T28: =IF($E$8,90-S28-E34,S28+90+E34) -> -290 | U28: =IF(E32,ABS(E27)-R28,ABS(E26)+R28) -> 10 | V28: =COS(RADIANS(T28))*U28 -> 3.4202014 | W28: =SIN(RADIANS(T28))*U28 -> 9.3969262
A29: 0 | B29: 0 | C29: =B121 -> 380 | F29: =IF(E8,(ROW()-ROW(F3))*5,((ROW(F75)-ROW())*5)) -> 130 | G29: =IF(F29-E9>=0,F29-E9,360-E9+F29) -> 130 | H29: =IF(G29=360,0,IF(MOD(G29,E2)=0,G29,"")) | I29: =IF(E13,H29,CHAR(160)) | J29: =NA() -> #N/A | Q29: =A28 -> 0 | R29: =B28 -> 0 | S29: =IF(E31,DEGREES(Q29),Q29) -> 0 | T29: =IF($E$8,90-S29-E35,S29+90+E35) -> 90 | U29: =IF(E32,ABS(E27)-R29,ABS(E26)+R29) -> 0
A30: =C32 -> 380 | B30: 10 | C30: =B122 -> 380 | F30: =IF(E8,(ROW()-ROW(F3))*5,((ROW(F75)-ROW())*5)) -> 135 | G30: =IF(F30-E9>=0,F30-E9,360-E9+F30) -> 135 | H30: =IF(G30=360,0,IF(MOD(G30,E2)=0,G30,"")) | I30: =IF(E13,H30,CHAR(160)) | J30: =NA() -> #N/A | K30: 45 | L30: =MATCH(K30,H3:H74,0) -> #N/A | M30: =IF(E8,90-INDEX(F3:F74,L30,1),INDEX(F3:F74,L30,1)+90) -> #N/A | N30: =IF(E12,+(E7),NA()) -> 10 | O30: =COS(RADIANS(M30))*N30 -> #N/A | P30: =SIN(RADIANS(M30))*N30 -> #N/A | Q30: =A29 -> 0 | R30: =B29 -> 0 | S30: =IF(E31,DEGREES(Q30),Q30) -> 0 | T30: =IF($E$8,90-S30-E36,S30+90+E36) -> 90 | U30: =IF(E32,ABS(E27)-R30,ABS(E26)+R30) -> 0 | V30: =COS(RADIANS(T30))*U30 -> 0 | W30: =SIN(RADIANS(T30))*U30 -> 0
C31: =B123 -> 380 | F31: =IF(E8,(ROW()-ROW(F3))*5,((ROW(F75)-ROW())*5)) -> 140 | G31: =IF(F31-E9>=0,F31-E9,360-E9+F31) -> 140 | H31: =IF(G31=360,0,IF(MOD(G31,E2)=0,G31,"")) | I31: =IF(E13,H31,CHAR(160)) | J31: =NA() -> #N/A | K31: 45 | L31: =L30 -> #N/A | M31: =IF(E8,90-INDEX(F3:F74,L31,1),INDEX(F3:F74,L31,1)+90) -> #N/A | N31: =IF(E12,-(E7),NA()) -> -10 | O31: =COS(RADIANS(M31))*N31 -> #N/A | P31: =SIN(RADIANS(M31))*N31 -> #N/A | Q31: =A30 -> 380 | R31: =B30 -> 10 | S31: =IF(E31,DEGREES(Q31),Q31) -> 380 | T31: =IF($E$8,90-S31-E37,S31+90+E37) -> -290 | U31: =IF(E32,ABS(E27)-R31,ABS(E26)+R31) -> 10 | V31: =COS(RADIANS(T31))*U31 -> 3.4202014 | W31: =SIN(RADIANS(T31))*U31 -> 9.3969262
A32: 0 | B32: 0 | C32: =B124 -> 380 | F32: =IF(E8,(ROW()-ROW(F3))*5,((ROW(F75)-ROW())*5)) -> 145 | G32: =IF(F32-E9>=0,F32-E9,360-E9+F32) -> 145 | H32: =IF(G32=360,0,IF(MOD(G32,E2)=0,G32,"")) | I32: =IF(E13,H32,CHAR(160)) | J32: =NA() -> #N/A | Q32: =A31 -> 0 | R32: =B31 -> 0 | S32: =IF(E31,DEGREES(Q32),Q32) -> 0 | T32: =IF($E$8,90-S32-E38,S32+90+E38) -> 90 | U32: =IF(E32,ABS(E27)-R32,ABS(E26)+R32) -> 0
A33: =C33 -> 380 | B33: 10 | C33: =B125 -> 380 | F33: =IF(E8,(ROW()-ROW(F3))*5,((ROW(F75)-ROW())*5)) -> 150 | G33: =IF(F33-E9>=0,F33-E9,360-E9+F33) -> 150 | H33: =IF(G33=360,0,IF(MOD(G33,E2)=0,G33,"")) -> 150 | I33: =IF(E13,H33,CHAR(160)) -> 150 | J33: =NA() -> #N/A | K33: 50 | L33: =MATCH(K33,H3:H74,0) -> #N/A | M33: =IF(E8,90-INDEX(F3:F74,L33,1),INDEX(F3:F74,L33,1)+90) -> #N/A | N33: =IF(E12,+(E7),NA()) -> 10 | O33: =COS(RADIANS(M33))*N33 -> #N/A | P33: =SIN(RADIANS(M33))*N33 -> #N/A | Q33: =A32 -> 0 | R33: =B32 -> 0 | S33: =IF(E31,DEGREES(Q33),Q33) -> 0 | T33: =IF($E$8,90-S33-E39,S33+90+E39) -> 90 | U33: =IF(E32,ABS(E27)-R33,ABS(E26)+R33) -> 0 | V33: =COS(RADIANS(T33))*U33 -> 0 | W33: =SIN(RADIANS(T33))*U33 -> 0
C34: =B126 -> 380 | F34: =IF(E8,(ROW()-ROW(F3))*5,((ROW(F75)-ROW())*5)) -> 155 | G34: =IF(F34-E9>=0,F34-E9,360-E9+F34) -> 155 | H34: =IF(G34=360,0,IF(MOD(G34,E2)=0,G34,"")) | I34: =IF(E13,H34,CHAR(160)) | J34: =NA() -> #N/A | K34: 50 | L34: =L33 -> #N/A | M34: =IF(E8,90-INDEX(F3:F74,L34,1),INDEX(F3:F74,L34,1)+90) -> #N/A | N34: =IF(E12,-(E7),NA()) -> -10 | O34: =COS(RADIANS(M34))*N34 -> #N/A | P34: =SIN(RADIANS(M34))*N34 -> #N/A | Q34: =A33 -> 380 | R34: =B33 -> 10 | S34: =IF(E31,DEGREES(Q34),Q34) -> 380 | T34: =IF($E$8,90-S34-E40,S34+90+E40) -> -290 | U34: =IF(E32,ABS(E27)-R34,ABS(E26)+R34) -> 10 | V34: =COS(RADIANS(T34))*U34 -> 3.4202014 | W34: =SIN(RADIANS(T34))*U34 -> 9.3969262
A35: 0 | B35: 0 | C35: =B127 -> 380 | F35: =IF(E8,(ROW()-ROW(F3))*5,((ROW(F75)-ROW())*5)) -> 160 | G35: =IF(F35-E9>=0,F35-E9,360-E9+F35) -> 160 | H35: =IF(G35=360,0,IF(MOD(G35,E2)=0,G35,"")) | I35: =IF(E13,H35,CHAR(160)) | J35: =NA() -> #N/A | Q35: =A34 -> 0 | R35: =B34 -> 0 | S35: =IF(E31,DEGREES(Q35),Q35) -> 0 | T35: =IF($E$8,90-S35-E41,S35+90+E41) -> 90 | U35: =IF(E32,ABS(E27)-R35,ABS(E26)+R35) -> 0
A36: =C34 -> 380 | B36: 10 | C36: =B128 -> 380 | F36: =IF(E8,(ROW()-ROW(F3))*5,((ROW(F75)-ROW())*5)) -> 165 | G36: =IF(F36-E9>=0,F36-E9,360-E9+F36) -> 165 | H36: =IF(G36=360,0,IF(MOD(G36,E2)=0,G36,"")) | I36: =IF(E13,H36,CHAR(160)) | J36: =NA() -> #N/A | K36: 55 | L36: =MATCH(K36,H3:H74,0) -> #N/A | M36: =IF(E8,90-INDEX(F3:F74,L36,1),INDEX(F3:F74,L36,1)+90) -> #N/A | N36: =IF(E12,+(E7),NA()) -> 10 | O36: =COS(RADIANS(M36))*N36 -> #N/A | P36: =SIN(RADIANS(M36))*N36 -> #N/A | Q36: =A35 -> 0 | R36: =B35 -> 0 | S36: =IF(E31,DEGREES(Q36),Q36) -> 0 | T36: =IF($E$8,90-S36-E42,S36+90+E42) -> 90 | U36: =IF(E32,ABS(E27)-R36,ABS(E26)+R36) -> 0 | V36: =COS(RADIANS(T36))*U36 -> 0 | W36: =SIN(RADIANS(T36))*U36 -> 0
C37: =B129 -> 380 | F37: =IF(E8,(ROW()-ROW(F3))*5,((ROW(F75)-ROW())*5)) -> 170 | G37: =IF(F37-E9>=0,F37-E9,360-E9+F37) -> 170 | H37: =IF(G37=360,0,IF(MOD(G37,E2)=0,G37,"")) | I37: =IF(E13,H37,CHAR(160)) | J37: =NA() -> #N/A | K37: 55 | L37: =L36 -> #N/A | M37: =IF(E8,90-INDEX(F3:F74,L37,1),INDEX(F3:F74,L37,1)+90) -> #N/A | N37: =IF(E12,-(E7),NA()) -> -10 | O37: =COS(RADIANS(M37))*N37 -> #N/A | P37: =SIN(RADIANS(M37))*N37 -> #N/A | Q37: =A36 -> 380 | R37: =B36 -> 10 | S37: =IF(E31,DEGREES(Q37),Q37) -> 380 | T37: =IF($E$8,90-S37-E43,S37+90+E43) -> -290 | U37: =IF(E32,ABS(E27)-R37,ABS(E26)+R37) -> 10 | V37: =COS(RADIANS(T37))*U37 -> 3.4202014 | W37: =SIN(RADIANS(T37))*U37 -> 9.3969262
A38: 0 | B38: 0 | C38: =B130 -> 380 | F38: =IF(E8,(ROW()-ROW(F3))*5,((ROW(F75)-ROW())*5)) -> 175 | G38: =IF(F38-E9>=0,F38-E9,360-E9+F38) -> 175 | H38: =IF(G38=360,0,IF(MOD(G38,E2)=0,G38,"")) | I38: =IF(E13,H38,CHAR(160)) | J38: =NA() -> #N/A | Q38: =A37 -> 0 | R38: =B37 -> 0 | S38: =IF(E31,DEGREES(Q38),Q38) -> 0 | T38: =IF($E$8,90-S38-E44,S38+90+E44) -> 90 | U38: =IF(E32,ABS(E27)-R38,ABS(E26)+R38) -> 0
A39: =C35 -> 380 | B39: 10 | C39: =B131 -> 380 | F39: =IF(E8,(ROW()-ROW(F3))*5,((ROW(F75)-ROW())*5)) -> 180 | G39: =IF(F39-E9>=0,F39-E9,360-E9+F39) -> 180 | H39: =IF(G39=360,0,IF(MOD(G39,E2)=0,G39,"")) -> 180 | I39: =IF(E13,H39,CHAR(160)) -> 180 | J39: =NA() -> #N/A | K39: 60 | L39: =MATCH(K39,H3:H74,0) -> 13 | M39: =IF(E8,90-INDEX(F3:F74,L39,1),INDEX(F3:F74,L39,1)+90) -> 30 | N39: =IF(E12,+(E7),NA()) -> 10 | O39: =COS(RADIANS(M39))*N39 -> 8.660254 | P39: =SIN(RADIANS(M39))*N39 -> 5 | Q39: =A38 -> 0 | R39: =B38 -> 0 | S39: =IF(E31,DEGREES(Q39),Q39) -> 0 | T39: =IF($E$8,90-S39-E45,S39+90+E45) -> 90 | U39: =IF(E32,ABS(E27)-R39,ABS(E26)+R39) -> 0 | V39: =COS(RADIANS(T39))*U39 -> 0 | W39: =SIN(RADIANS(T39))*U39 -> 0
B40: 0 | C40: =B132 -> 380 | F40: =IF(E8,(ROW()-ROW(F3))*5,((ROW(F75)-ROW())*5)) -> 185 | G40: =IF(F40-E9>=0,F40-E9,360-E9+F40) -> 185 | H40: =IF(G40=360,0,IF(MOD(G40,E2)=0,G40,"")) | I40: =IF(E13,H40,CHAR(160)) | J40: =NA() -> #N/A | K40: 60 | L40: =L39 -> 13 | M40: =IF(E8,90-INDEX(F3:F74,L40,1),INDEX(F3:F74,L40,1)+90) -> 30 | N40: =IF(E12,-(E7),NA()) -> -10 | O40: =COS(RADIANS(M40))*N40 -> -8.660254 | P40: =SIN(RADIANS(M40))*N40 -> -5 | Q40: =A39 -> 380 | R40: =B39 -> 10 | S40: =IF(E31,DEGREES(Q40),Q40) -> 380 | T40: =IF($E$8,90-S40-E46,S40+90+E46) -> -290 | U40: =IF(E32,ABS(E27)-R40,ABS(E26)+R40) -> 10 | V40: =COS(RADIANS(T40))*U40 -> 3.4202014 | W40: =SIN(RADIANS(T40))*U40 -> 9.3969262
A41: 0 | B41: 0 | C41: =B133 -> 380 | F41: =IF(E8,(ROW()-ROW(F3))*5,((ROW(F75)-ROW())*5)) -> 190 | G41: =IF(F41-E9>=0,F41-E9,360-E9+F41) -> 190 | H41: =IF(G41=360,0,IF(MOD(G41,E2)=0,G41,"")) | I41: =IF(E13,H41,CHAR(160)) | J41: =NA() -> #N/A | Q41: =A40 -> 0 | R41: =B40 -> 0 | S41: =IF(E31,DEGREES(Q41),Q41) -> 0 | T41: =IF($E$8,90-S41-E47,S41+90+E47) -> 90 | U41: =IF(E32,ABS(E27)-R41,ABS(E26)+R41) -> 0
A42: =C36 -> 380 | B42: 10 | C42: =B134 -> 380 | F42: =IF(E8,(ROW()-ROW(F3))*5,((ROW(F75)-ROW())*5)) -> 195 | G42: =IF(F42-E9>=0,F42-E9,360-E9+F42) -> 195 | H42: =IF(G42=360,0,IF(MOD(G42,E2)=0,G42,"")) | I42: =IF(E13,H42,CHAR(160)) | J42: =NA() -> #N/A | K42: 65 | L42: =MATCH(K42,H3:H74,0) -> #N/A | M42: =IF(E8,90-INDEX(F3:F74,L42,1),INDEX(F3:F74,L42,1)+90) -> #N/A | N42: =IF(E12,+(E7),NA()) -> 10 | O42: =COS(RADIANS(M42))*N42 -> #N/A | P42: =SIN(RADIANS(M42))*N42 -> #N/A | Q42: =A41 -> 0 | R42: =B41 -> 0 | S42: =IF(E31,DEGREES(Q42),Q42) -> 0 | T42: =IF($E$8,90-S42-E48,S42+90+E48) -> 90 | U42: =IF(E32,ABS(E27)-R42,ABS(E26)+R42) -> 0 | V42: =COS(RADIANS(T42))*U42 -> 0 | W42: =SIN(RADIANS(T42))*U42 -> 0
C43: =B135 -> 380 | F43: =IF(E8,(ROW()-ROW(F3))*5,((ROW(F75)-ROW())*5)) -> 200 | G43: =IF(F43-E9>=0,F43-E9,360-E9+F43) -> 200 | H43: =IF(G43=360,0,IF(MOD(G43,E2)=0,G43,"")) | I43: =IF(E13,H43,CHAR(160)) | J43: =NA() -> #N/A | K43: 65 | L43: =L42 -> #N/A | M43: =IF(E8,90-INDEX(F3:F74,L43,1),INDEX(F3:F74,L43,1)+90) -> #N/A | N43: =IF(E12,-(E7),NA()) -> -10 | O43: =COS(RADIANS(M43))*N43 -> #N/A | P43: =SIN(RADIANS(M43))*N43 -> #N/A | Q43: =A42 -> 380 | R43: =B42 -> 10 | S43: =IF(E31,DEGREES(Q43),Q43) -> 380 | T43: =IF($E$8,90-S43-E49,S43+90+E49) -> -290 | U43: =IF(E32,ABS(E27)-R43,ABS(E26)+R43) -> 10 | V43: =COS(RADIANS(T43))*U43 -> 3.4202014 | W43: =SIN(RADIANS(T43))*U43 -> 9.3969262
A44: 0 | B44: 0 | C44: =B136 -> 380 | F44: =IF(E8,(ROW()-ROW(F3))*5,((ROW(F75)-ROW())*5)) -> 205 | G44: =IF(F44-E9>=0,F44-E9,360-E9+F44) -> 205 | H44: =IF(G44=360,0,IF(MOD(G44,E2)=0,G44,"")) | I44: =IF(E13,H44,CHAR(160)) | J44: =NA() -> #N/A
A45: =C37 -> 380 | B45: 10 | C45: =B137 -> 380 | F45: =IF(E8,(ROW()-ROW(F3))*5,((ROW(F75)-ROW())*5)) -> 210 | G45: =IF(F45-E9>=0,F45-E9,360-E9+F45) -> 210 | H45: =IF(G45=360,0,IF(MOD(G45,E2)=0,G45,"")) -> 210 | I45: =IF(E13,H45,CHAR(160)) -> 210 | J45: =NA() -> #N/A | K45: 70 | L45: =MATCH(K45,H3:H74,0) -> #N/A | M45: =IF(E8,90-INDEX(F3:F74,L45,1),INDEX(F3:F74,L45,1)+90) -> #N/A | N45: =IF(E12,+(E7),NA()) -> 10 | O45: =COS(RADIANS(M45))*N45 -> #N/A | P45: =SIN(RADIANS(M45))*N45 -> #N/A | Q45: =A44 -> 0 | R45: =B44 -> 0 | S45: =IF(E52,DEGREES(Q45),Q45) -> 0 | T45: =IF($E$8,90-S45-E51,S45+90+E51) -> 90 | U45: =IF(E53,ABS(E48)-R45,ABS(E47)+R45) -> 0 | V45: =COS(RADIANS(T45))*U45 -> 0 | W45: =SIN(RADIANS(T45))*U45 -> 0
C46: =B138 -> 380 | F46: =IF(E8,(ROW()-ROW(F3))*5,((ROW(F75)-ROW())*5)) -> 215 | G46: =IF(F46-E9>=0,F46-E9,360-E9+F46) -> 215 | H46: =IF(G46=360,0,IF(MOD(G46,E2)=0,G46,"")) | I46: =IF(E13,H46,CHAR(160)) | J46: =NA() -> #N/A | K46: 70 | L46: =L45 -> #N/A | M46: =IF(E8,90-INDEX(F3:F74,L46,1),INDEX(F3:F74,L46,1)+90) -> #N/A | N46: =IF(E12,-(E7),NA()) -> -10 | O46: =COS(RADIANS(M46))*N46 -> #N/A | P46: =SIN(RADIANS(M46))*N46 -> #N/A | Q46: =A45 -> 380 | R46: =B45 -> 10 | S46: =IF(E52,DEGREES(Q46),Q46) -> 380 | T46: =IF($E$8,90-S46-E52,S46+90+E52) -> -290 | U46: =IF(E53,ABS(E48)-R46,ABS(E47)+R46) -> 10 | V46: =COS(RADIANS(T46))*U46 -> 3.4202014 | W46: =SIN(RADIANS(T46))*U46 -> 9.3969262
A47: 0 | B47: 0 | C47: =B139 -> 380 | F47: =IF(E8,(ROW()-ROW(F3))*5,((ROW(F75)-ROW())*5)) -> 220 | G47: =IF(F47-E9>=0,F47-E9,360-E9+F47) -> 220 | H47: =IF(G47=360,0,IF(MOD(G47,E2)=0,G47,"")) | I47: =IF(E13,H47,CHAR(160)) | J47: =NA() -> #N/A | Q47: =A46 -> 0 | R47: =B46 -> 0 | S47: =IF(E52,DEGREES(Q47),Q47) -> 0 | T47: =IF($E$8,90-S47-E53,S47+90+E53) -> 90 | U47: =IF(E53,ABS(E48)-R47,ABS(E47)+R47) -> 0
A48: =C38 -> 380 | B48: 10 | C48: =B140 -> 380 | F48: =IF(E8,(ROW()-ROW(F3))*5,((ROW(F75)-ROW())*5)) -> 225 | G48: =IF(F48-E9>=0,F48-E9,360-E9+F48) -> 225 | H48: =IF(G48=360,0,IF(MOD(G48,E2)=0,G48,"")) | I48: =IF(E13,H48,CHAR(160)) | J48: =NA() -> #N/A | K48: 75 | L48: =MATCH(K48,H3:H74,0) -> #N/A | M48: =IF(E8,90-INDEX(F3:F74,L48,1),INDEX(F3:F74,L48,1)+90) -> #N/A | N48: =IF(E12,+(E7),NA()) -> 10 | O48: =COS(RADIANS(M48))*N48 -> #N/A | P48: =SIN(RADIANS(M48))*N48 -> #N/A | Q48: =A47 -> 0 | R48: =B47 -> 0 | S48: =IF(E52,DEGREES(Q48),Q48) -> 0 | T48: =IF($E$8,90-S48-E54,S48+90+E54) -> 90 | U48: =IF(E53,ABS(E48)-R48,ABS(E47)+R48) -> 0 | V48: =COS(RADIANS(T48))*U48 -> 0 | W48: =SIN(RADIANS(T48))*U48 -> 0
C49: =B141 -> 380 | F49: =IF(E8,(ROW()-ROW(F3))*5,((ROW(F75)-ROW())*5)) -> 230 | G49: =IF(F49-E9>=0,F49-E9,360-E9+F49) -> 230 | H49: =IF(G49=360,0,IF(MOD(G49,E2)=0,G49,"")) | I49: =IF(E13,H49,CHAR(160)) | J49: =NA() -> #N/A | K49: 75 | L49: =L48 -> #N/A | M49: =IF(E8,90-INDEX(F3:F74,L49,1),INDEX(F3:F74,L49,1)+90) -> #N/A | N49: =IF(E12,-(E7),NA()) -> -10 | O49: =COS(RADIANS(M49))*N49 -> #N/A | P49: =SIN(RADIANS(M49))*N49 -> #N/A | Q49: =A48 -> 380 | R49: =B48 -> 10 | S49: =IF(E52,DEGREES(Q49),Q49) -> 380 | T49: =IF($E$8,90-S49-E55,S49+90+E55) -> -290 | U49: =IF(E53,ABS(E48)-R49,ABS(E47)+R49) -> 10 | V49: =COS(RADIANS(T49))*U49 -> 3.4202014 | W49: =SIN(RADIANS(T49))*U49 -> 9.3969262
A50: 0 | B50: 0 | C50: =B142 -> 380 | F50: =IF(E8,(ROW()-ROW(F3))*5,((ROW(F75)-ROW())*5)) -> 235 | G50: =IF(F50-E9>=0,F50-E9,360-E9+F50) -> 235 | H50: =IF(G50=360,0,IF(MOD(G50,E2)=0,G50,"")) | I50: =IF(E13,H50,CHAR(160)) | J50: =NA() -> #N/A | Q50: =A49 -> 0 | R50: =B49 -> 0 | S50: =IF(E52,DEGREES(Q50),Q50) -> 0 | T50: =IF($E$8,90-S50-E56,S50+90+E56) -> 90 | U50: =IF(E53,ABS(E48)-R50,ABS(E47)+R50) -> 0
A51: =C39 -> 380 | B51: 10 | C51: =B143 -> 0 | F51: =IF(E8,(ROW()-ROW(F3))*5,((ROW(F75)-ROW())*5)) -> 240 | G51: =IF(F51-E9>=0,F51-E9,360-E9+F51) -> 240 | H51: =IF(G51=360,0,IF(MOD(G51,E2)=0,G51,"")) -> 240 | I51: =IF(E13,H51,CHAR(160)) -> 240 | J51: =NA() -> #N/A | K51: 80 | L51: =MATCH(K51,H3:H74,0) -> #N/A | M51: =IF(E8,90-INDEX(F3:F74,L51,1),INDEX(F3:F74,L51,1)+90) -> #N/A | N51: =IF(E12,+(E7),NA()) -> 10 | O51: =COS(RADIANS(M51))*N51 -> #N/A | P51: =SIN(RADIANS(M51))*N51 -> #N/A | Q51: =A50 -> 0 | R51: =B50 -> 0 | S51: =IF(E52,DEGREES(Q51),Q51) -> 0 | T51: =IF($E$8,90-S51-E57,S51+90+E57) -> 90 | U51: =IF(E53,ABS(E48)-R51,ABS(E47)+R51) -> 0 | V51: =COS(RADIANS(T51))*U51 -> 0 | W51: =SIN(RADIANS(T51))*U51 -> 0
F52: =IF(E8,(ROW()-ROW(F3))*5,((ROW(F75)-ROW())*5)) -> 245 | G52: =IF(F52-E9>=0,F52-E9,360-E9+F52) -> 245 | H52: =IF(G52=360,0,IF(MOD(G52,E2)=0,G52,"")) | I52: =IF(E13,H52,CHAR(160)) | J52: =NA() -> #N/A | K52: 80 | L52: =L51 -> #N/A | M52: =IF(E8,90-INDEX(F3:F74,L52,1),INDEX(F3:F74,L52,1)+90) -> #N/A | N52: =IF(E12,-(E7),NA()) -> -10 | O52: =COS(RADIANS(M52))*N52 -> #N/A | P52: =SIN(RADIANS(M52))*N52 -> #N/A | Q52: =A51 -> 380 | R52: =B51 -> 10 | S52: =IF(E52,DEGREES(Q52),Q52) -> 380 | T52: =IF($E$8,90-S52-E58,S52+90+E58) -> -290 | U52: =IF(E53,ABS(E48)-R52,ABS(E47)+R52) -> 10 | V52: =COS(RADIANS(T52))*U52 -> 3.4202014 | W52: =SIN(RADIANS(T52))*U52 -> 9.3969262
A53: 0 | B53: 0 | F53: =IF(E8,(ROW()-ROW(F3))*5,((ROW(F75)-ROW())*5)) -> 250 | G53: =IF(F53-E9>=0,F53-E9,360-E9+F53) -> 250 | H53: =IF(G53=360,0,IF(MOD(G53,E2)=0,G53,"")) | I53: =IF(E13,H53,CHAR(160)) | J53: =NA() -> #N/A | Q53: =A52 -> 0 | R53: =B52 -> 0 | S53: =IF(E52,DEGREES(Q53),Q53) -> 0 | T53: =IF($E$8,90-S53-E59,S53+90+E59) -> 90 | U53: =IF(E53,ABS(E48)-R53,ABS(E47)+R53) -> 0
A54: =C40 -> 380 | B54: 10 | F54: =IF(E8,(ROW()-ROW(F3))*5,((ROW(F75)-ROW())*5)) -> 255 | G54: =IF(F54-E9>=0,F54-E9,360-E9+F54) -> 255 | H54: =IF(G54=360,0,IF(MOD(G54,E2)=0,G54,"")) | I54: =IF(E13,H54,CHAR(160)) | J54: =NA() -> #N/A | K54: 85 | L54: =MATCH(K54,H3:H74,0) -> #N/A | M54: =IF(E8,90-INDEX(F3:F74,L54,1),INDEX(F3:F74,L54,1)+90) -> #N/A | N54: =IF(E12,+(E7),NA()) -> 10 | O54: =COS(RADIANS(M54))*N54 -> #N/A | P54: =SIN(RADIANS(M54))*N54 -> #N/A | Q54: =A53 -> 0 | R54: =B53 -> 0 | S54: =IF(E52,DEGREES(Q54),Q54) -> 0 | T54: =IF($E$8,90-S54-E60,S54+90+E60) -> 90 | U54: =IF(E53,ABS(E48)-R54,ABS(E47)+R54) -> 0 | V54: =COS(RADIANS(T54))*U54 -> 0 | W54: =SIN(RADIANS(T54))*U54 -> 0
F55: =IF(E8,(ROW()-ROW(F3))*5,((ROW(F75)-ROW())*5)) -> 260 | G55: =IF(F55-E9>=0,F55-E9,360-E9+F55) -> 260 | H55: =IF(G55=360,0,IF(MOD(G55,E2)=0,G55,"")) | I55: =IF(E13,H55,CHAR(160)) | J55: =NA() -> #N/A | K55: 85 | L55: =L54 -> #N/A | M55: =IF(E8,90-INDEX(F3:F74,L55,1),INDEX(F3:F74,L55,1)+90) -> #N/A | N55: =IF(E12,-(E7),NA()) -> -10 | O55: =COS(RADIANS(M55))*N55 -> #N/A | P55: =SIN(RADIANS(M55))*N55 -> #N/A | Q55: =A54 -> 380 | R55: =B54 -> 10 | S55: =IF(E52,DEGREES(Q55),Q55) -> 380 | T55: =IF($E$8,90-S55-E61,S55+90+E61) -> -290 | U55: =IF(E53,ABS(E48)-R55,ABS(E47)+R55) -> 10 | V55: =COS(RADIANS(T55))*U55 -> 3.4202014 | W55: =SIN(RADIANS(T55))*U55 -> 9.3969262
A56: 0 | B56: 0 | F56: =IF(E8,(ROW()-ROW(F3))*5,((ROW(F75)-ROW())*5)) -> 265 | G56: =IF(F56-E9>=0,F56-E9,360-E9+F56) -> 265 | H56: =IF(G56=360,0,IF(MOD(G56,E2)=0,G56,"")) | I56: =IF(E13,H56,CHAR(160)) | J56: =NA() -> #N/A | Q56: =A55 -> 0 | R56: =B55 -> 0 | S56: =IF(E52,DEGREES(Q56),Q56) -> 0 | T56: =IF($E$8,90-S56-E62,S56+90+E62) -> 90 | U56: =IF(E53,ABS(E48)-R56,ABS(E47)+R56) -> 0
A57: =C41 -> 380 | B57: 10 | F57: =IF(E8,(ROW()-ROW(F3))*5,((ROW(F75)-ROW())*5)) -> 270 | G57: =IF(F57-E9>=0,F57-E9,360-E9+F57) -> 270 | H57: =IF(G57=360,0,IF(MOD(G57,E2)=0,G57,"")) -> 270 | I57: =IF(E13,H57,CHAR(160)) -> 270 | J57: =NA() -> #N/A | K57: 90 | L57: =MATCH(K57,H3:H74,0) -> 19 | M57: =IF(E8,90-INDEX(F3:F74,L57,1),INDEX(F3:F74,L57,1)+90) -> 0 | N57: =IF(E12,+(E7),NA()) -> 10 | O57: =COS(RADIANS(M57))*N57 -> 10 | P57: =SIN(RADIANS(M57))*N57 -> 0 | Q57: =A56 -> 0 | R57: =B56 -> 0 | S57: =IF(E52,DEGREES(Q57),Q57) -> 0 | T57: =IF($E$8,90-S57-E63,S57+90+E63) -> 90 | U57: =IF(E53,ABS(E48)-R57,ABS(E47)+R57) -> 0 | V57: =COS(RADIANS(T57))*U57 -> 0 | W57: =SIN(RADIANS(T57))*U57 -> 0
F58: =IF(E8,(ROW()-ROW(F3))*5,((ROW(F75)-ROW())*5)) -> 275 | G58: =IF(F58-E9>=0,F58-E9,360-E9+F58) -> 275 | H58: =IF(G58=360,0,IF(MOD(G58,E2)=0,G58,"")) | I58: =IF(E13,H58,CHAR(160)) | J58: =NA() -> #N/A | K58: 90 | L58: =L57 -> 19 | M58: =IF(E8,90-INDEX(F3:F74,L58,1),INDEX(F3:F74,L58,1)+90) -> 0 | N58: =IF(E12,-(E7),NA()) -> -10 | O58: =COS(RADIANS(M58))*N58 -> -10 | P58: =SIN(RADIANS(M58))*N58 -> 0 | Q58: =A57 -> 380 | R58: =B57 -> 10 | S58: =IF(E52,DEGREES(Q58),Q58) -> 380 | T58: =IF($E$8,90-S58-E64,S58+90+E64) -> -290 | U58: =IF(E53,ABS(E48)-R58,ABS(E47)+R58) -> 10 | V58: =COS(RADIANS(T58))*U58 -> 3.4202014 | W58: =SIN(RADIANS(T58))*U58 -> 9.3969262
A59: 0 | B59: 0 | F59: =IF(E8,(ROW()-ROW(F3))*5,((ROW(F75)-ROW())*5)) -> 280 | G59: =IF(F59-E9>=0,F59-E9,360-E9+F59) -> 280 | H59: =IF(G59=360,0,IF(MOD(G59,E2)=0,G59,"")) | I59: =IF(E13,H59,CHAR(160)) | J59: =NA() -> #N/A | Q59: =A58 -> 0 | R59: =B58 -> 0 | S59: =IF(E52,DEGREES(Q59),Q59) -> 0 | T59: =IF($E$8,90-S59-E65,S59+90+E65) -> 90 | U59: =IF(E53,ABS(E48)-R59,ABS(E47)+R59) -> 0
A60: =C42 -> 380 | B60: 10 | F60: =IF(E8,(ROW()-ROW(F3))*5,((ROW(F75)-ROW())*5)) -> 285 | G60: =IF(F60-E9>=0,F60-E9,360-E9+F60) -> 285 | H60: =IF(G60=360,0,IF(MOD(G60,E2)=0,G60,"")) | I60: =IF(E13,H60,CHAR(160)) | J60: =NA() -> #N/A | K60: 95 | L60: =MATCH(K60,H3:H74,0) -> #N/A | M60: =IF(E8,90-INDEX(F3:F74,L60,1),INDEX(F3:F74,L60,1)+90) -> #N/A | N60: =IF(E12,+(E7),NA()) -> 10 | O60: =COS(RADIANS(M60))*N60 -> #N/A | P60: =SIN(RADIANS(M60))*N60 -> #N/A | Q60: =A59 -> 0 | R60: =B59 -> 0 | S60: =IF(E52,DEGREES(Q60),Q60) -> 0 | T60: =IF($E$8,90-S60-E66,S60+90+E66) -> 90 | U60: =IF(E53,ABS(E48)-R60,ABS(E47)+R60) -> 0 | V60: =COS(RADIANS(T60))*U60 -> 0 | W60: =SIN(RADIANS(T60))*U60 -> 0
B61: 0 | F61: =IF(E8,(ROW()-ROW(F3))*5,((ROW(F75)-ROW())*5)) -> 290 | G61: =IF(F61-E9>=0,F61-E9,360-E9+F61) -> 290 | H61: =IF(G61=360,0,IF(MOD(G61,E2)=0,G61,"")) | I61: =IF(E13,H61,CHAR(160)) | J61: =NA() -> #N/A | K61: 95 | L61: =L60 -> #N/A | M61: =IF(E8,90-INDEX(F3:F74,L61,1),INDEX(F3:F74,L61,1)+90) -> #N/A | N61: =IF(E12,-(E7),NA()) -> -10 | O61: =COS(RADIANS(M61))*N61 -> #N/A | P61: =SIN(RADIANS(M61))*N61 -> #N/A | Q61: =A60 -> 380 | R61: =B60 -> 10 | S61: =IF(E52,DEGREES(Q61),Q61) -> 380 | T61: =IF($E$8,90-S61-E67,S61+90+E67) -> -290 | U61: =IF(E53,ABS(E48)-R61,ABS(E47)+R61) -> 10 | V61: =COS(RADIANS(T61))*U61 -> 3.4202014 | W61: =SIN(RADIANS(T61))*U61 -> 9.3969262
A62: 0 | B62: 0 | F62: =IF(E8,(ROW()-ROW(F3))*5,((ROW(F75)-ROW())*5)) -> 295 | G62: =IF(F62-E9>=0,F62-E9,360-E9+F62) -> 295 | H62: =IF(G62=360,0,IF(MOD(G62,E2)=0,G62,"")) | I62: =IF(E13,H62,CHAR(160)) | J62: =NA() -> #N/A | Q62: =A61 -> 0 | R62: =B61 -> 0 | S62: =IF(E52,DEGREES(Q62),Q62) -> 0 | T62: =IF($E$8,90-S62-E68,S62+90+E68) -> 90 | U62: =IF(E53,ABS(E48)-R62,ABS(E47)+R62) -> 0
A63: =C43 -> 380 | B63: 10 | F63: =IF(E8,(ROW()-ROW(F3))*5,((ROW(F75)-ROW())*5)) -> 300 | G63: =IF(F63-E9>=0,F63-E9,360-E9+F63) -> 300 | H63: =IF(G63=360,0,IF(MOD(G63,E2)=0,G63,"")) -> 300 | I63: =IF(E13,H63,CHAR(160)) -> 300 | J63: =NA() -> #N/A | K63: 100 | L63: =MATCH(K63,H3:H74,0) -> #N/A | M63: =IF(E8,90-INDEX(F3:F74,L63,1),INDEX(F3:F74,L63,1)+90) -> #N/A | N63: =IF(E12,+(E7),NA()) -> 10 | O63: =COS(RADIANS(M63))*N63 -> #N/A | P63: =SIN(RADIANS(M63))*N63 -> #N/A | Q63: =A62 -> 0 | R63: =B62 -> 0 | S63: =IF(E52,DEGREES(Q63),Q63) -> 0 | T63: =IF($E$8,90-S63-E69,S63+90+E69) -> 90 | U63: =IF(E53,ABS(E48)-R63,ABS(E47)+R63) -> 0 | V63: =COS(RADIANS(T63))*U63 -> 0 | W63: =SIN(RADIANS(T63))*U63 -> 0
F64: =IF(E8,(ROW()-ROW(F3))*5,((ROW(F75)-ROW())*5)) -> 305 | G64: =IF(F64-E9>=0,F64-E9,360-E9+F64) -> 305 | H64: =IF(G64=360,0,IF(MOD(G64,E2)=0,G64,"")) | I64: =IF(E13,H64,CHAR(160)) | J64: =NA() -> #N/A | K64: 100 | L64: =L63 -> #N/A | M64: =IF(E8,90-INDEX(F3:F74,L64,1),INDEX(F3:F74,L64,1)+90) -> #N/A | N64: =IF(E12,-(E7),NA()) -> -10 | O64: =COS(RADIANS(M64))*N64 -> #N/A | P64: =SIN(RADIANS(M64))*N64 -> #N/A | Q64: =A63 -> 380 | R64: =B63 -> 10 | S64: =IF(E52,DEGREES(Q64),Q64) -> 380 | T64: =IF($E$8,90-S64-E70,S64+90+E70) -> -290 | U64: =IF(E53,ABS(E48)-R64,ABS(E47)+R64) -> 10 | V64: =COS(RADIANS(T64))*U64 -> 3.4202014 | W64: =SIN(RADIANS(T64))*U64 -> 9.3969262
A65: 0 | B65: 0 | F65: =IF(E8,(ROW()-ROW(F3))*5,((ROW(F75)-ROW())*5)) -> 310 | G65: =IF(F65-E9>=0,F65-E9,360-E9+F65) -> 310 | H65: =IF(G65=360,0,IF(MOD(G65,E2)=0,G65,"")) | I65: =IF(E13,H65,CHAR(160)) | J65: =NA() -> #N/A
A66: =C44 -> 380 | B66: 10 | F66: =IF(E8,(ROW()-ROW(F3))*5,((ROW(F75)-ROW())*5)) -> 315 | G66: =IF(F66-E9>=0,F66-E9,360-E9+F66) -> 315 | H66: =IF(G66=360,0,IF(MOD(G66,E2)=0,G66,"")) | I66: =IF(E13,H66,CHAR(160)) | J66: =NA() -> #N/A | K66: 105 | L66: =MATCH(K66,H3:H74,0) -> #N/A | M66: =IF(E8,90-INDEX(F3:F74,L66,1),INDEX(F3:F74,L66,1)+90) -> #N/A | N66: =IF(E12,+(E7),NA()) -> 10 | O66: =COS(RADIANS(M66))*N66 -> #N/A | P66: =SIN(RADIANS(M66))*N66 -> #N/A | Q66: =A65 -> 0 | R66: =B65 -> 0 | S66: =IF(E73,DEGREES(Q66),Q66) -> 0 | T66: =IF($E$8,90-S66-E72,S66+90+E72) -> 90 | U66: =IF(E74,ABS(E69)-R66,ABS(E68)+R66) -> 0 | V66: =COS(RADIANS(T66))*U66 -> 0 | W66: =SIN(RADIANS(T66))*U66 -> 0
F67: =IF(E8,(ROW()-ROW(F3))*5,((ROW(F75)-ROW())*5)) -> 320 | G67: =IF(F67-E9>=0,F67-E9,360-E9+F67) -> 320 | H67: =IF(G67=360,0,IF(MOD(G67,E2)=0,G67,"")) | I67: =IF(E13,H67,CHAR(160)) | J67: =NA() -> #N/A | K67: 105 | L67: =L66 -> #N/A | M67: =IF(E8,90-INDEX(F3:F74,L67,1),INDEX(F3:F74,L67,1)+90) -> #N/A | N67: =IF(E12,-(E7),NA()) -> -10 | O67: =COS(RADIANS(M67))*N67 -> #N/A | P67: =SIN(RADIANS(M67))*N67 -> #N/A | Q67: =A66 -> 380 | R67: =B66 -> 10 | S67: =IF(E73,DEGREES(Q67),Q67) -> 380 | T67: =IF($E$8,90-S67-E73,S67+90+E73) -> -290 | U67: =IF(E74,ABS(E69)-R67,ABS(E68)+R67) -> 10 | V67: =COS(RADIANS(T67))*U67 -> 3.4202014 | W67: =SIN(RADIANS(T67))*U67 -> 9.3969262
A68: 0 | B68: 0 | F68: =IF(E8,(ROW()-ROW(F3))*5,((ROW(F75)-ROW())*5)) -> 325 | G68: =IF(F68-E9>=0,F68-E9,360-E9+F68) -> 325 | H68: =IF(G68=360,0,IF(MOD(G68,E2)=0,G68,"")) | I68: =IF(E13,H68,CHAR(160)) | J68: =NA() -> #N/A | Q68: =A67 -> 0 | R68: =B67 -> 0 | S68: =IF(E73,DEGREES(Q68),Q68) -> 0 | T68: =IF($E$8,90-S68-E74,S68+90+E74) -> 90 | U68: =IF(E74,ABS(E69)-R68,ABS(E68)+R68) -> 0
A69: =C45 -> 380 | B69: 10 | F69: =IF(E8,(ROW()-ROW(F3))*5,((ROW(F75)-ROW())*5)) -> 330 | G69: =IF(F69-E9>=0,F69-E9,360-E9+F69) -> 330 | H69: =IF(G69=360,0,IF(MOD(G69,E2)=0,G69,"")) -> 330 | I69: =IF(E13,H69,CHAR(160)) -> 330 | J69: =NA() -> #N/A | K69: 110 | L69: =MATCH(K69,H3:H74,0) -> #N/A | M69: =IF(E8,90-INDEX(F3:F74,L69,1),INDEX(F3:F74,L69,1)+90) -> #N/A | N69: =IF(E12,+(E7),NA()) -> 10 | O69: =COS(RADIANS(M69))*N69 -> #N/A | P69: =SIN(RADIANS(M69))*N69 -> #N/A | Q69: =A68 -> 0 | R69: =B68 -> 0 | S69: =IF(E73,DEGREES(Q69),Q69) -> 0 | T69: =IF($E$8,90-S69-E75,S69+90+E75) -> 90 | U69: =IF(E74,ABS(E69)-R69,ABS(E68)+R69) -> 0 | V69: =COS(RADIANS(T69))*U69 -> 0 | W69: =SIN(RADIANS(T69))*U69 -> 0
F70: =IF(E8,(ROW()-ROW(F3))*5,((ROW(F75)-ROW())*5)) -> 335 | G70: =IF(F70-E9>=0,F70-E9,360-E9+F70) -> 335 | H70: =IF(G70=360,0,IF(MOD(G70,E2)=0,G70,"")) | I70: =IF(E13,H70,CHAR(160)) | J70: =NA() -> #N/A | K70: 110 | L70: =L69 -> #N/A | M70: =IF(E8,90-INDEX(F3:F74,L70,1),INDEX(F3:F74,L70,1)+90) -> #N/A | N70: =IF(E12,-(E7),NA()) -> -10 | O70: =COS(RADIANS(M70))*N70 -> #N/A | P70: =SIN(RADIANS(M70))*N70 -> #N/A | Q70: =A69 -> 380 | R70: =B69 -> 10 | S70: =IF(E73,DEGREES(Q70),Q70) -> 380 | T70: =IF($E$8,90-S70-E76,S70+90+E76) -> -290 | U70: =IF(E74,ABS(E69)-R70,ABS(E68)+R70) -> 10 | V70: =COS(RADIANS(T70))*U70 -> 3.4202014 | W70: =SIN(RADIANS(T70))*U70 -> 9.3969262
A71: 0 | B71: 0 | F71: =IF(E8,(ROW()-ROW(F3))*5,((ROW(F75)-ROW())*5)) -> 340 | G71: =IF(F71-E9>=0,F71-E9,360-E9+F71) -> 340 | H71: =IF(G71=360,0,IF(MOD(G71,E2)=0,G71,"")) | I71: =IF(E13,H71,CHAR(160)) | J71: =NA() -> #N/A | Q71: =A70 -> 0 | R71: =B70 -> 0 | S71: =IF(E73,DEGREES(Q71),Q71) -> 0 | T71: =IF($E$8,90-S71-E77,S71+90+E77) -> 90 | U71: =IF(E74,ABS(E69)-R71,ABS(E68)+R71) -> 0
A72: =C46 -> 380 | B72: 10 | F72: =IF(E8,(ROW()-ROW(F3))*5,((ROW(F75)-ROW())*5)) -> 345 | G72: =IF(F72-E9>=0,F72-E9,360-E9+F72) -> 345 | H72: =IF(G72=360,0,IF(MOD(G72,E2)=0,G72,"")) | I72: =IF(E13,H72,CHAR(160)) | J72: =NA() -> #N/A | K72: 115 | L72: =MATCH(K72,H3:H74,0) -> #N/A | M72: =IF(E8,90-INDEX(F3:F74,L72,1),INDEX(F3:F74,L72,1)+90) -> #N/A | N72: =IF(E12,+(E7),NA()) -> 10 | O72: =COS(RADIANS(M72))*N72 -> #N/A | P72: =SIN(RADIANS(M72))*N72 -> #N/A | Q72: =A71 -> 0 | R72: =B71 -> 0 | S72: =IF(E73,DEGREES(Q72),Q72) -> 0 | T72: =IF($E$8,90-S72-E78,S72+90+E78) -> 90 | U72: =IF(E74,ABS(E69)-R72,ABS(E68)+R72) -> 0 | V72: =COS(RADIANS(T72))*U72 -> 0 | W72: =SIN(RADIANS(T72))*U72 -> 0
F73: =IF(E8,(ROW()-ROW(F3))*5,((ROW(F75)-ROW())*5)) -> 350 | G73: =IF(F73-E9>=0,F73-E9,360-E9+F73) -> 350 | H73: =IF(G73=360,0,IF(MOD(G73,E2)=0,G73,"")) | I73: =IF(E13,H73,CHAR(160)) | J73: =NA() -> #N/A | K73: 115 | L73: =L72 -> #N/A | M73: =IF(E8,90-INDEX(F3:F74,L73,1),INDEX(F3:F74,L73,1)+90) -> #N/A | N73: =IF(E12,-(E7),NA()) -> -10 | O73: =COS(RADIANS(M73))*N73 -> #N/A | P73: =SIN(RADIANS(M73))*N73 -> #N/A | Q73: =A72 -> 380 | R73: =B72 -> 10 | S73: =IF(E73,DEGREES(Q73),Q73) -> 380 | T73: =IF($E$8,90-S73-E79,S73+90+E79) -> -290 | U73: =IF(E74,ABS(E69)-R73,ABS(E68)+R73) -> 10 | V73: =COS(RADIANS(T73))*U73 -> 3.4202014 | W73: =SIN(RADIANS(T73))*U73 -> 9.3969262
A74: 0 | B74: 0 | F74: =IF(E8,(ROW()-ROW(F3))*5,((ROW(F75)-ROW())*5)) -> 355 | G74: =IF(F74-E9>=0,F74-E9,360-E9+F74) -> 355 | H74: =IF(G74=360,0,IF(MOD(G74,E2)=0,G74,"")) | I74: =IF(E13,H74,CHAR(160)) | J74: =NA() -> #N/A | Q74: =A73 -> 0 | R74: =B73 -> 0 | S74: =IF(E73,DEGREES(Q74),Q74) -> 0 | T74: =IF($E$8,90-S74-E80,S74+90+E80) -> 90 | U74: =IF(E74,ABS(E69)-R74,ABS(E68)+R74) -> 0
A75: =C47 -> 380 | B75: 10 | K75: 120 | L75: =MATCH(K75,H3:H74,0) -> 25 | M75: =IF(E8,90-INDEX(F3:F74,L75,1),INDEX(F3:F74,L75,1)+90) -> -30 | N75: =IF(E12,+(E7),NA()) -> 10 | O75: =COS(RADIANS(M75))*N75 -> 8.660254 | P75: =SIN(RADIANS(M75))*N75 -> -5 | Q75: =A74 -> 0 | R75: =B74 -> 0 | S75: =IF(E73,DEGREES(Q75),Q75) -> 0 | T75: =IF($E$8,90-S75-E81,S75+90+E81) -> 90 | U75: =IF(E74,ABS(E69)-R75,ABS(E68)+R75) -> 0 | V75: =COS(RADIANS(T75))*U75 -> 0 | W75: =SIN(RADIANS(T75))*U75 -> 0
K76: 120 | L76: =L75 -> 25 | M76: =IF(E8,90-INDEX(F3:F74,L76,1),INDEX(F3:F74,L76,1)+90) -> -30 | N76: =IF(E12,-(E7),NA()) -> -10 | O76: =COS(RADIANS(M76))*N76 -> -8.660254 | P76: =SIN(RADIANS(M76))*N76 -> 5 | Q76: =A75 -> 380 | R76: =B75 -> 10 | S76: =IF(E73,DEGREES(Q76),Q76) -> 380 | T76: =IF($E$8,90-S76-E82,S76+90+E82) -> -290 | U76: =IF(E74,ABS(E69)-R76,ABS(E68)+R76) -> 10 | V76: =COS(RADIANS(T76))*U76 -> 3.4202014 | W76: =SIN(RADIANS(T76))*U76 -> 9.3969262
A77: 0 | B77: 0 | Q77: =A76 -> 0 | R77: =B76 -> 0 | S77: =IF(E73,DEGREES(Q77),Q77) -> 0 | T77: =IF($E$8,90-S77-E83,S77+90+E83) -> 90 | U77: =IF(E74,ABS(E69)-R77,ABS(E68)+R77) -> 0
A78: =C48 -> 380 | B78: 10 | K78: 125 | L78: =MATCH(K78,H3:H74,0) -> #N/A | M78: =IF(E8,90-INDEX(F3:F74,L78,1),INDEX(F3:F74,L78,1)+90) -> #N/A | N78: =IF(E12,+(E7),NA()) -> 10 | O78: =COS(RADIANS(M78))*N78 -> #N/A | P78: =SIN(RADIANS(M78))*N78 -> #N/A | Q78: =A77 -> 0 | R78: =B77 -> 0 | S78: =IF(E73,DEGREES(Q78),Q78) -> 0 | T78: =IF($E$8,90-S78-E84,S78+90+E84) -> 90 | U78: =IF(E74,ABS(E69)-R78,ABS(E68)+R78) -> 0 | V78: =COS(RADIANS(T78))*U78 -> 0 | W78: =SIN(RADIANS(T78))*U78 -> 0
K79: 125 | L79: =L78 -> #N/A | M79: =IF(E8,90-INDEX(F3:F74,L79,1),INDEX(F3:F74,L79,1)+90) -> #N/A | N79: =IF(E12,-(E7),NA()) -> -10 | O79: =COS(RADIANS(M79))*N79 -> #N/A | P79: =SIN(RADIANS(M79))*N79 -> #N/A | Q79: =A78 -> 380 | R79: =B78 -> 10 | S79: =IF(E73,DEGREES(Q79),Q79) -> 380 | T79: =IF($E$8,90-S79-E85,S79+90+E85) -> -290 | U79: =IF(E74,ABS(E69)-R79,ABS(E68)+R79) -> 10 | V79: =COS(RADIANS(T79))*U79 -> 3.4202014 | W79: =SIN(RADIANS(T79))*U79 -> 9.3969262
A80: 0 | B80: 0 | Q80: =A79 -> 0 | R80: =B79 -> 0 | S80: =IF(E73,DEGREES(Q80),Q80) -> 0 | T80: =IF($E$8,90-S80-E86,S80+90+E86) -> 90 | U80: =IF(E74,ABS(E69)-R80,ABS(E68)+R80) -> 0
A81: =C49 -> 380 | B81: 10 | K81: 130 | L81: =MATCH(K81,H3:H74,0) -> #N/A | M81: =IF(E8,90-INDEX(F3:F74,L81,1),INDEX(F3:F74,L81,1)+90) -> #N/A | N81: =IF(E12,+(E7),NA()) -> 10 | O81: =COS(RADIANS(M81))*N81 -> #N/A | P81: =SIN(RADIANS(M81))*N81 -> #N/A | Q81: =A80 -> 0 | R81: =B80 -> 0 | S81: =IF(E73,DEGREES(Q81),Q81) -> 0 | T81: =IF($E$8,90-S81-E87,S81+90+E87) -> 90 | U81: =IF(E74,ABS(E69)-R81,ABS(E68)+R81) -> 0 | V81: =COS(RADIANS(T81))*U81 -> 0 | W81: =SIN(RADIANS(T81))*U81 -> 0
B82: 0 | K82: 130 | L82: =L81 -> #N/A | M82: =IF(E8,90-INDEX(F3:F74,L82,1),INDEX(F3:F74,L82,1)+90) -> #N/A | N82: =IF(E12,-(E7),NA()) -> -10 | O82: =COS(RADIANS(M82))*N82 -> #N/A | P82: =SIN(RADIANS(M82))*N82 -> #N/A | Q82: =A81 -> 380 | R82: =B81 -> 10 | S82: =IF(E73,DEGREES(Q82),Q82) -> 380 | T82: =IF($E$8,90-S82-E88,S82+90+E88) -> -290 | U82: =IF(E74,ABS(E69)-R82,ABS(E68)+R82) -> 10 | V82: =COS(RADIANS(T82))*U82 -> 3.4202014 | W82: =SIN(RADIANS(T82))*U82 -> 9.3969262
A83: 0 | B83: 0 | Q83: =A82 -> 0 | R83: =B82 -> 0 | S83: =IF(E73,DEGREES(Q83),Q83) -> 0 | T83: =IF($E$8,90-S83-E89,S83+90+E89) -> 90 | U83: =IF(E74,ABS(E69)-R83,ABS(E68)+R83) -> 0
A84: =C50 -> 380 | B84: 10 | K84: 135 | L84: =MATCH(K84,H3:H74,0) -> #N/A | M84: =IF(E8,90-INDEX(F3:F74,L84,1),INDEX(F3:F74,L84,1)+90) -> #N/A | N84: =IF(E12,+(E7),NA()) -> 10 | O84: =COS(RADIANS(M84))*N84 -> #N/A | P84: =SIN(RADIANS(M84))*N84 -> #N/A | Q84: =A83 -> 0 | R84: =B83 -> 0 | S84: =IF(E73,DEGREES(Q84),Q84) -> 0 | T84: =IF($E$8,90-S84-E90,S84+90+E90) -> 90 | U84: =IF(E74,ABS(E69)-R84,ABS(E68)+R84) -> 0 | V84: =COS(RADIANS(T84))*U84 -> 0 | W84: =SIN(RADIANS(T84))*U84 -> 0
K85: 135 | L85: =L84 -> #N/A | M85: =IF(E8,90-INDEX(F3:F74,L85,1),INDEX(F3:F74,L85,1)+90) -> #N/A | N85: =IF(E12,-(E7),NA()) -> -10 | O85: =COS(RADIANS(M85))*N85 -> #N/A | P85: =SIN(RADIANS(M85))*N85 -> #N/A | Q85: =A84 -> 380 | R85: =B84 -> 10 | S85: =IF(E73,DEGREES(Q85),Q85) -> 380 | T85: =IF($E$8,90-S85-E91,S85+90+E91) -> -290 | U85: =IF(E74,ABS(E69)-R85,ABS(E68)+R85) -> 10 | V85: =COS(RADIANS(T85))*U85 -> 3.4202014 | W85: =SIN(RADIANS(T85))*U85 -> 9.3969262
K87: 140 | L87: =MATCH(K87,H3:H74,0) -> #N/A | M87: =IF(E8,90-INDEX(F3:F74,L87,1),INDEX(F3:F74,L87,1)+90) -> #N/A | N87: =IF(E12,+(E7),NA()) -> 10 | O87: =COS(RADIANS(M87))*N87 -> #N/A | P87: =SIN(RADIANS(M87))*N87 -> #N/A
K88: 140 | L88: =L87 -> #N/A | M88: =IF(E8,90-INDEX(F3:F74,L88,1),INDEX(F3:F74,L88,1)+90) -> #N/A | N88: =IF(E12,-(E7),NA()) -> -10 | O88: =COS(RADIANS(M88))*N88 -> #N/A | P88: =SIN(RADIANS(M88))*N88 -> #N/A
K90: 145 | L90: =MATCH(K90,H3:H74,0) -> #N/A | M90: =IF(E8,90-INDEX(F3:F74,L90,1),INDEX(F3:F74,L90,1)+90) -> #N/A | N90: =IF(E12,+(E7),NA()) -> 10 | O90: =COS(RADIANS(M90))*N90 -> #N/A | P90: =SIN(RADIANS(M90))*N90 -> #N/A
K91: 145 | L91: =L90 -> #N/A | M91: =IF(E8,90-INDEX(F3:F74,L91,1),INDEX(F3:F74,L91,1)+90) -> #N/A | N91: =IF(E12,-(E7),NA()) -> -10 | O91: =COS(RADIANS(M91))*N91 -> #N/A | P91: =SIN(RADIANS(M91))*N91 -> #N/A
K93: 150 | L93: =MATCH(K93,H3:H74,0) -> 31 | M93: =IF(E8,90-INDEX(F3:F74,L93,1),INDEX(F3:F74,L93,1)+90) -> -60 | N93: =IF(E12,+(E7),NA()) -> 10 | O93: =COS(RADIANS(M93))*N93 -> 5 | P93: =SIN(RADIANS(M93))*N93 -> -8.660254
K94: 150 | L94: =L93 -> 31 | M94: =IF(E8,90-INDEX(F3:F74,L94,1),INDEX(F3:F74,L94,1)+90) -> -60 | N94: =IF(E12,-(E7),NA()) -> -10 | O94: =COS(RADIANS(M94))*N94 -> -5 | P94: =SIN(RADIANS(M94))*N94 -> 8.660254
K96: 155 | L96: =MATCH(K96,H3:H74,0) -> #N/A | M96: =IF(E8,90-INDEX(F3:F74,L96,1),INDEX(F3:F74,L96,1)+90) -> #N/A | N96: =IF(E12,+(E7),NA()) -> 10 | O96: =COS(RADIANS(M96))*N96 -> #N/A | P96: =SIN(RADIANS(M96))*N96 -> #N/A
K97: 155 | L97: =L96 -> #N/A | M97: =IF(E8,90-INDEX(F3:F74,L97,1),INDEX(F3:F74,L97,1)+90) -> #N/A | N97: =IF(E12,-(E7),NA()) -> -10 | O97: =COS(RADIANS(M97))*N97 -> #N/A | P97: =SIN(RADIANS(M97))*N97 -> #N/A
K99: 160 | L99: =MATCH(K99,H3:H74,0) -> #N/A | M99: =IF(E8,90-INDEX(F3:F74,L99,1),INDEX(F3:F74,L99,1)+90) -> #N/A | N99: =IF(E12,+(E7),NA()) -> 10 | O99: =COS(RADIANS(M99))*N99 -> #N/A | P99: =SIN(RADIANS(M99))*N99 -> #N/A
K100: 160 | L100: =L99 -> #N/A | M100: =IF(E8,90-INDEX(F3:F74,L100,1),INDEX(F3:F74,L100,1)+90) -> #N/A | N100: =IF(E12,-(E7),NA()) -> -10 | O100: =COS(RADIANS(M100))*N100 -> #N/A | P100: =SIN(RADIANS(M100))*N100 -> #N/A
K102: 165 | L102: =MATCH(K102,H3:H74,0) -> #N/A | M102: =IF(E8,90-INDEX(F3:F74,L102,1),INDEX(F3:F74,L102,1)+90) -> #N/A | N102: =IF(E12,+(E7),NA()) -> 10 | O102: =COS(RADIANS(M102))*N102 -> #N/A | P102: =SIN(RADIANS(M102))*N102 -> #N/A
K103: 165 | L103: =L102 -> #N/A | M103: =IF(E8,90-INDEX(F3:F74,L103,1),INDEX(F3:F74,L103,1)+90) -> #N/A | N103: =IF(E12,-(E7),NA()) -> -10 | O103: =COS(RADIANS(M103))*N103 -> #N/A | P103: =SIN(RADIANS(M103))*N103 -> #N/A
K105: 170 | L105: =MATCH(K105,H3:H74,0) -> #N/A | M105: =IF(E8,90-INDEX(F3:F74,L105,1),INDEX(F3:F74,L105,1)+90) -> #N/A | N105: =IF(E12,+(E7),NA()) -> 10 | O105: =COS(RADIANS(M105))*N105 -> #N/A | P105: =SIN(RADIANS(M105))*N105 -> #N/A
K106: 170 | L106: =L105 -> #N/A | M106: =IF(E8,90-INDEX(F3:F74,L106,1),INDEX(F3:F74,L106,1)+90) -> #N/A | N106: =IF(E12,-(E7),NA()) -> -10 | O106: =COS(RADIANS(M106))*N106 -> #N/A | P106: =SIN(RADIANS(M106))*N106 -> #N/A
K108: 175 | L108: =MATCH(K108,H3:H74,0) -> #N/A | M108: =IF(E8,90-INDEX(F3:F74,L108,1),INDEX(F3:F74,L108,1)+90) -> #N/A | N108: =IF(E12,+(E7),NA()) -> 10 | O108: =COS(RADIANS(M108))*N108 -> #N/A | P108: =SIN(RADIANS(M108))*N108 -> #N/A
...

Sheet B
B1: Directions
A2: 0 | B2: 0 | D2: Interval | E2: 30 | J2: PLRPLT_BASE | P2: PLRPLT_SPOKES | W2: =B!$B$1 -> Directions
A3: =C23 -> 150 | B3: 10 | D3: NIntervals | E3: =360/E2 -> 12 | F3: =IF(E8,(ROW()-ROW(F3))*5,((ROW(F75)-ROW())*5)) -> 0 | G3: =IF(F3-E9>=0,F3-E9,360-E9+F3) -> 0 | H3: =IF(G3=360,0,IF(MOD(G3,E2)=0,G3,"")) -> 0 | I3: =IF(E13,H3,CHAR(160)) -> 0 | J3: =E19 -> 0 | K3: 0 | L3: =MATCH(K3,H3:H74,0) -> 1 | M3: =IF(E8,90-INDEX(F3:F74,L3,1),INDEX(F3:F74,L3,1)+90) -> 90 | N3: =IF(E12,+(E7),NA()) -> 10 | O3: =COS(RADIANS(M3))*N3 -> 6.1257423e-16 | P3: =SIN(RADIANS(M3))*N3 -> 10 | Q3: =A2 -> 0 | R3: =B2 -> 0 | S3: =IF(E10,DEGREES(Q3),Q3) -> 0 | T3: =IF(E8,90-S3-E9,S3+90+E9) -> 90 | U3: =IF(E11,ABS(E6)-R3,ABS(E5)+R3) -> 0 | V3: =COS(RADIANS(T3))*U3 -> 0 | W3: =SIN(RADIANS(T3))*U3 -> 0
D4: Value | E4: =10/E3 -> 0.83333333 | F4: =IF(E8,(ROW()-ROW(F3))*5,((ROW(F75)-ROW())*5)) -> 5 | G4: =IF(F4-E9>=0,F4-E9,360-E9+F4) -> 5 | H4: =IF(G4=360,0,IF(MOD(G4,E2)=0,G4,"")) | I4: =IF(E13,H4,CHAR(160)) | J4: =E20 -> 10 | K4: 0 | L4: =L3 -> 1 | M4: =IF(E8,90-INDEX(F3:F74,L4,1),INDEX(F3:F74,L4,1)+90) -> 90 | N4: =IF(E12,-(E7),NA()) -> -10 | O4: =COS(RADIANS(M4))*N4 -> -6.1257423e-16 | P4: =SIN(RADIANS(M4))*N4 -> -10 | Q4: =A3 -> 150 | R4: =B3 -> 10 | S4: =IF(E10,DEGREES(Q4),Q4) -> 150 | T4: =IF(E8,90-S4-E9,S4+90+E9) -> -60 | U4: =IF(E11,ABS(E6)-R4,ABS(E5)+R4) -> 10 | V4: =COS(RADIANS(T4))*U4 -> 5 | W4: =SIN(RADIANS(T4))*U4 -> -8.660254
A5: 0 | B5: 0 | D5: MinAxisValue | E5: 0 | F5: =IF(E8,(ROW()-ROW(F3))*5,((ROW(F75)-ROW())*5)) -> 10 | G5: =IF(F5-E9>=0,F5-E9,360-E9+F5) -> 10 | H5: =IF(G5=360,0,IF(MOD(G5,E2)=0,G5,"")) | I5: =IF(E13,H5,CHAR(160)) | J5: =NA() -> #N/A | Q5: =A4 -> 0 | R5: =B4 -> 0 | S5: =IF(E10,DEGREES(Q5),Q5) -> 0 | T5: =IF(E8,90-S5-E9,S5+90+E9) -> 90 | U5: =IF(E11,ABS(E6)-R5,ABS(E5)+R5) -> 0
A6: =C24 -> 150 | B6: 10 | D6: MaxAxisValue | E6: 10 | F6: =IF(E8,(ROW()-ROW(F3))*5,((ROW(F75)-ROW())*5)) -> 15 | G6: =IF(F6-E9>=0,F6-E9,360-E9+F6) -> 15 | H6: =IF(G6=360,0,IF(MOD(G6,E2)=0,G6,"")) | I6: =IF(E13,H6,CHAR(160)) | J6: =NA() -> #N/A | K6: 5 | L6: =MATCH(K6,H3:H74,0) -> #N/A | M6: =IF(E8,90-INDEX(F3:F74,L6,1),INDEX(F3:F74,L6,1)+90) -> #N/A | N6: =IF(E12,+(E7),NA()) -> 10 | O6: =COS(RADIANS(M6))*N6 -> #N/A | P6: =SIN(RADIANS(M6))*N6 -> #N/A | Q6: =A5 -> 0 | R6: =B5 -> 0 | S6: =IF(E10,DEGREES(Q6),Q6) -> 0 | T6: =IF(E8,90-S6-E9,S6+90+E9) -> 90 | U6: =IF(E11,ABS(E6)-R6,ABS(E5)+R6) -> 0 | V6: =COS(RADIANS(T6))*U6 -> 0 | W6: =SIN(RADIANS(T6))*U6 -> 0
D7: Radius | E7: =E6-E5 -> 10 | F7: =IF(E8,(ROW()-ROW(F3))*5,((ROW(F75)-ROW())*5)) -> 20 | G7: =IF(F7-E9>=0,F7-E9,360-E9+F7) -> 20 | H7: =IF(G7=360,0,IF(MOD(G7,E2)=0,G7,"")) | I7: =IF(E13,H7,CHAR(160)) | J7: =NA() -> #N/A | K7: 5 | L7: =L6 -> #N/A | M7: =IF(E8,90-INDEX(F3:F74,L7,1),INDEX(F3:F74,L7,1)+90) -> #N/A | N7: =IF(E12,-(E7),NA()) -> -10 | O7: =COS(RADIANS(M7))*N7 -> #N/A | P7: =SIN(RADIANS(M7))*N7 -> #N/A | Q7: =A6 -> 150 | R7: =B6 -> 10 | S7: =IF(E10,DEGREES(Q7),Q7) -> 150 | T7: =IF(E8,90-S7-E9,S7+90+E9) -> -60 | U7: =IF(E11,ABS(E6)-R7,ABS(E5)+R7) -> 10 | V7: =COS(RADIANS(T7))*U7 -> 5 | W7: =SIN(RADIANS(T7))*U7 -> -8.660254
A8: 0 | B8: 0 | D8: Clockwise | E8: TRUE | F8: =IF(E8,(ROW()-ROW(F3))*5,((ROW(F75)-ROW())*5)) -> 25 | G8: =IF(F8-E9>=0,F8-E9,360-E9+F8) -> 25 | H8: =IF(G8=360,0,IF(MOD(G8,E2)=0,G8,"")) | I8: =IF(E13,H8,CHAR(160)) | J8: =NA() -> #N/A | Q8: =A7 -> 0 | R8: =B7 -> 0 | S8: =IF(E10,DEGREES(Q8),Q8) -> 0 | T8: =IF(E8,90-S8-E9,S8+90+E9) -> 90 | U8: =IF(E11,ABS(E6)-R8,ABS(E5)+R8) -> 0
A9: =C25 -> 180 | B9: 10 | D9: StartAngle | E9: 0 | F9: =IF(E8,(ROW()-ROW(F3))*5,((ROW(F75)-ROW())*5)) -> 30 | G9: =IF(F9-E9>=0,F9-E9,360-E9+F9) -> 30 | H9: =IF(G9=360,0,IF(MOD(G9,E2)=0,G9,"")) -> 30 | I9: =IF(E13,H9,CHAR(160)) -> 30 | J9: =NA() -> #N/A | K9: 10 | L9: =MATCH(K9,H3:H74,0) -> #N/A | M9: =IF(E8,90-INDEX(F3:F74,L9,1),INDEX(F3:F74,L9,1)+90) -> #N/A | N9: =IF(E12,+(E7),NA()) -> 10 | O9: =COS(RADIANS(M9))*N9 -> #N/A | P9: =SIN(RADIANS(M9))*N9 -> #N/A | Q9: =A8 -> 0 | R9: =B8 -> 0 | S9: =IF(E10,DEGREES(Q9),Q9) -> 0 | T9: =IF(E8,90-S9-E9,S9+90+E9) -> 90 | U9: =IF(E11,ABS(E6)-R9,ABS(E5)+R9) -> 0 | V9: =COS(RADIANS(T9))*U9 -> 0 | W9: =SIN(RADIANS(T9))*U9 -> 0
D10: Radians | E10: FALSE | F10: =IF(E8,(ROW()-ROW(F3))*5,((ROW(F75)-ROW())*5)) -> 35 | G10: =IF(F10-E9>=0,F10-E9,360-E9+F10) -> 35 | H10: =IF(G10=360,0,IF(MOD(G10,E2)=0,G10,"")) | I10: =IF(E13,H10,CHAR(160)) | J10: =NA() -> #N/A | K10: 10 | L10: =L9 -> #N/A | M10: =IF(E8,90-INDEX(F3:F74,L10,1),INDEX(F3:F74,L10,1)+90) -> #N/A | N10: =IF(E12,-(E7),NA()) -> -10 | O10: =COS(RADIANS(M10))*N10 -> #N/A | P10: =SIN(RADIANS(M10))*N10 -> #N/A | Q10: =A9 -> 180 | R10: =B9 -> 10 | S10: =IF(E10,DEGREES(Q10),Q10) -> 180 | T10: =IF(E8,90-S10-E9,S10+90+E9) -> -90 | U10: =IF(E11,ABS(E6)-R10,ABS(E5)+R10) -> 10 | V10: =COS(RADIANS(T10))*U10 -> 6.1257423e-16 | W10: =SIN(RADIANS(T10))*U10 -> -10
A11: 0 | B11: 0 | D11: ReverseAxis | E11: FALSE | F11: =IF(E8,(ROW()-ROW(F3))*5,((ROW(F75)-ROW())*5)) -> 40 | G11: =IF(F11-E9>=0,F11-E9,360-E9+F11) -> 40 | H11: =IF(G11=360,0,IF(MOD(G11,E2)=0,G11,"")) | I11: =IF(E13,H11,CHAR(160)) | J11: =NA() -> #N/A | Q11: =A10 -> 0 | R11: =B10 -> 0 | S11: =IF(E10,DEGREES(Q11),Q11) -> 0 | T11: =IF(E8,90-S11-E9,S11+90+E9) -> 90 | U11: =IF(E11,ABS(E6)-R11,ABS(E5)+R11) -> 0
A12: =C26 -> 180 | B12: 10 | D12: Display Spokes | E12: TRUE | F12: =IF(E8,(ROW()-ROW(F3))*5,((ROW(F75)-ROW())*5)) -> 45 | G12: =IF(F12-E9>=0,F12-E9,360-E9+F12) -> 45 | H12: =IF(G12=360,0,IF(MOD(G12,E2)=0,G12,"")) | I12: =IF(E13,H12,CHAR(160)) | J12: =NA() -> #N/A | K12: 15 | L12: =MATCH(K12,H3:H74,0) -> #N/A | M12: =IF(E8,90-INDEX(F3:F74,L12,1),INDEX(F3:F74,L12,1)+90) -> #N/A | N12: =IF(E12,+(E7),NA()) -> 10 | O12: =COS(RADIANS(M12))*N12 -> #N/A | P12: =SIN(RADIANS(M12))*N12 -> #N/A | Q12: =A11 -> 0 | R12: =B11 -> 0 | S12: =IF(E10,DEGREES(Q12),Q12) -> 0 | T12: =IF(E8,90-S12-E9,S12+90+E9) -> 90 | U12: =IF(E11,ABS(E6)-R12,ABS(E5)+R12) -> 0 | V12: =COS(RADIANS(T12))*U12 -> 0 | W12: =SIN(RADIANS(T12))*U12 -> 0
D13: Display Spoke Labels | E13: TRUE | F13: =IF(E8,(ROW()-ROW(F3))*5,((ROW(F75)-ROW())*5)) -> 50 | G13: =IF(F13-E9>=0,F13-E9,360-E9+F13) -> 50 | H13: =IF(G13=360,0,IF(MOD(G13,E2)=0,G13,"")) | I13: =IF(E13,H13,CHAR(160)) | J13: =NA() -> #N/A | K13: 15 | L13: =L12 -> #N/A | M13: =IF(E8,90-INDEX(F3:F74,L13,1),INDEX(F3:F74,L13,1)+90) -> #N/A | N13: =IF(E12,-(E7),NA()) -> -10 | O13: =COS(RADIANS(M13))*N13 -> #N/A | P13: =SIN(RADIANS(M13))*N13 -> #N/A | Q13: =A12 -> 180 | R13: =B12 -> 10 | S13: =IF(E10,DEGREES(Q13),Q13) -> 180 | T13: =IF(E8,90-S13-E9,S13+90+E9) -> -90 | U13: =IF(E11,ABS(E6)-R13,ABS(E5)+R13) -> 10 | V13: =COS(RADIANS(T13))*U13 -> 6.1257423e-16 | W13: =SIN(RADIANS(T13))*U13 -> -10
A14: 0 | B14: 0 | D14: Display Gridlines | E14: TRUE | F14: =IF(E8,(ROW()-ROW(F3))*5,((ROW(F75)-ROW())*5)) -> 55 | G14: =IF(F14-E9>=0,F14-E9,360-E9+F14) -> 55 | H14: =IF(G14=360,0,IF(MOD(G14,E2)=0,G14,"")) | I14: =IF(E13,H14,CHAR(160)) | J14: =NA() -> #N/A | Q14: =A13 -> 0 | R14: =B13 -> 0 | S14: =IF(E10,DEGREES(Q14),Q14) -> 0 | T14: =IF(E8,90-S14-E9,S14+90+E9) -> 90 | U14: =IF(E11,ABS(E6)-R14,ABS(E5)+R14) -> 0
A15: =C27 -> 510 | B15: 10 | D15: Display Data Lines | E15: TRUE | F15: =IF(E8,(ROW()-ROW(F3))*5,((ROW(F75)-ROW())*5)) -> 60 | G15: =IF(F15-E9>=0,F15-E9,360-E9+F15) -> 60 | H15: =IF(G15=360,0,IF(MOD(G15,E2)=0,G15,"")) -> 60 | I15: =IF(E13,H15,CHAR(160)) -> 60 | J15: =NA() -> #N/A | K15: 20 | L15: =MATCH(K15,H3:H74,0) -> #N/A | M15: =IF(E8,90-INDEX(F3:F74,L15,1),INDEX(F3:F74,L15,1)+90) -> #N/A | N15: =IF(E12,+(E7),NA()) -> 10 | O15: =COS(RADIANS(M15))*N15 -> #N/A | P15: =SIN(RADIANS(M15))*N15 -> #N/A | Q15: =A14 -> 0 | R15: =B14 -> 0 | S15: =IF(E10,DEGREES(Q15),Q15) -> 0 | T15: =IF(E8,90-S15-E9,S15+90+E9) -> 90 | U15: =IF(E11,ABS(E6)-R15,ABS(E5)+R15) -> 0 | V15: =COS(RADIANS(T15))*U15 -> 0 | W15: =SIN(RADIANS(T15))*U15 -> 0
D16: Display Data Markers | E16: FALSE | F16: =IF(E8,(ROW()-ROW(F3))*5,((ROW(F75)-ROW())*5)) -> 65 | G16: =IF(F16-E9>=0,F16-E9,360-E9+F16) -> 65 | H16: =IF(G16=360,0,IF(MOD(G16,E2)=0,G16,"")) | I16: =IF(E13,H16,CHAR(160)) | J16: =NA() -> #N/A | K16: 20 | L16: =L15 -> #N/A | M16: =IF(E8,90-INDEX(F3:F74,L16,1),INDEX(F3:F74,L16,1)+90) -> #N/A | N16: =IF(E12,-(E7),NA()) -> -10 | O16: =COS(RADIANS(M16))*N16 -> #N/A | P16: =SIN(RADIANS(M16))*N16 -> #N/A | Q16: =A15 -> 510 | R16: =B15 -> 10 | S16: =IF(E10,DEGREES(Q16),Q16) -> 510 | T16: =IF(E8,90-S16-E9,S16+90+E9) -> -420 | U16: =IF(E11,ABS(E6)-R16,ABS(E5)+R16) -> 10 | V16: =COS(RADIANS(T16))*U16 -> 5 | W16: =SIN(RADIANS(T16))*U16 -> -8.660254
A17: 0 | B17: 0 | D17: Display Legend | E17: TRUE | F17: =IF(E8,(ROW()-ROW(F3))*5,((ROW(F75)-ROW())*5)) -> 70 | G17: =IF(F17-E9>=0,F17-E9,360-E9+F17) -> 70 | H17: =IF(G17=360,0,IF(MOD(G17,E2)=0,G17,"")) | I17: =IF(E13,H17,CHAR(160)) | J17: =NA() -> #N/A | Q17: =A16 -> 0 | R17: =B16 -> 0 | S17: =IF(E10,DEGREES(Q17),Q17) -> 0 | T17: =IF(E8,90-S17-E9,S17+90+E9) -> 90 | U17: =IF(E11,ABS(E6)-R17,ABS(E5)+R17) -> 0
A18: =C28 -> 510 | B18: 10 | D18: Display Axis | E18: TRUE | F18: =IF(E8,(ROW()-ROW(F3))*5,((ROW(F75)-ROW())*5)) -> 75 | G18: =IF(F18-E9>=0,F18-E9,360-E9+F18) -> 75 | H18: =IF(G18=360,0,IF(MOD(G18,E2)=0,G18,"")) | I18: =IF(E13,H18,CHAR(160)) | J18: =NA() -> #N/A | K18: 25 | L18: =MATCH(K18,H3:H74,0) -> #N/A | M18: =IF(E8,90-INDEX(F3:F74,L18,1),INDEX(F3:F74,L18,1)+90) -> #N/A | N18: =IF(E12,+(E7),NA()) -> 10 | O18: =COS(RADIANS(M18))*N18 -> #N/A | P18: =SIN(RADIANS(M18))*N18 -> #N/A | Q18: =A17 -> 0 | R18: =B17 -> 0 | S18: =IF(E10,DEGREES(Q18),Q18) -> 0 | T18: =IF(E8,90-S18-E9,S18+90+E9) -> 90 | U18: =IF(E11,ABS(E6)-R18,ABS(E5)+R18) -> 0 | V18: =COS(RADIANS(T18))*U18 -> 0 | W18: =SIN(RADIANS(T18))*U18 -> 0
B19: 0 | D19: MinDataValue | E19: 0 | F19: =IF(E8,(ROW()-ROW(F3))*5,((ROW(F75)-ROW())*5)) -> 80 | G19: =IF(F19-E9>=0,F19-E9,360-E9+F19) -> 80 | H19: =IF(G19=360,0,IF(MOD(G19,E2)=0,G19,"")) | I19: =IF(E13,H19,CHAR(160)) | J19: =NA() -> #N/A | K19: 25 | L19: =L18 -> #N/A | M19: =IF(E8,90-INDEX(F3:F74,L19,1),INDEX(F3:F74,L19,1)+90) -> #N/A | N19: =IF(E12,-(E7),NA()) -> -10 | O19: =COS(RADIANS(M19))*N19 -> #N/A | P19: =SIN(RADIANS(M19))*N19 -> #N/A | Q19: =A18 -> 510 | R19: =B18 -> 10 | S19: =IF(E10,DEGREES(Q19),Q19) -> 510 | T19: =IF(E8,90-S19-E9,S19+90+E9) -> -420 | U19: =IF(E11,ABS(E6)-R19,ABS(E5)+R19) -> 10 | V19: =COS(RADIANS(T19))*U19 -> 5 | W19: =SIN(RADIANS(T19))*U19 -> -8.660254
A20: 0 | B20: 0 | D20: MaxDataValue | E20: 10 | F20: =IF(E8,(ROW()-ROW(F3))*5,((ROW(F75)-ROW())*5)) -> 85 | G20: =IF(F20-E9>=0,F20-E9,360-E9+F20) -> 85 | H20: =IF(G20=360,0,IF(MOD(G20,E2)=0,G20,"")) | I20: =IF(E13,H20,CHAR(160)) | J20: =NA() -> #N/A | Q20: =A19 -> 0 | R20: =B19 -> 0 | S20: =IF(E10,DEGREES(Q20),Q20) -> 0 | T20: =IF(E8,90-S20-E9,S20+90+E9) -> 90 | U20: =IF(E11,ABS(E6)-R20,ABS(E5)+R20) -> 0
A21: =C29 -> 510 | B21: 10 | D21: DataRange | E21: ='Example10'!$A$1:$B$21 | F21: =IF(E8,(ROW()-ROW(F3))*5,((ROW(F75)-ROW())*5)) -> 90 | G21: =IF(F21-E9>=0,F21-E9,360-E9+F21) -> 90 | H21: =IF(G21=360,0,IF(MOD(G21,E2)=0,G21,"")) -> 90 | I21: =IF(E13,H21,CHAR(160)) -> 90 | J21: =NA() -> #N/A | K21: 30 | L21: =MATCH(K21,H3:H74,0) -> 7 | M21: =IF(E8,90-INDEX(F3:F74,L21,1),INDEX(F3:F74,L21,1)+90) -> 60 | N21: =IF(E12,+(E7),NA()) -> 10 | O21: =COS(RADIANS(M21))*N21 -> 5 | P21: =SIN(RADIANS(M21))*N21 -> 8.660254 | Q21: =A20 -> 0 | R21: =B20 -> 0 | S21: =IF(E10,DEGREES(Q21),Q21) -> 0 | T21: =IF(E8,90-S21-E9,S21+90+E9) -> 90 | U21: =IF(E11,ABS(E6)-R21,ABS(E5)+R21) -> 0 | V21: =COS(RADIANS(T21))*U21 -> 0 | W21: =SIN(RADIANS(T21))*U21 -> 0
D22: DataChanged | E22: FAUX | F22: =IF(E8,(ROW()-ROW(F3))*5,((ROW(F75)-ROW())*5)) -> 95 | G22: =IF(F22-E9>=0,F22-E9,360-E9+F22) -> 95 | H22: =IF(G22=360,0,IF(MOD(G22,E2)=0,G22,"")) | I22: =IF(E13,H22,CHAR(160)) | J22: =NA() -> #N/A | K22: 30 | L22: =L21 -> 7 | M22: =IF(E8,90-INDEX(F3:F74,L22,1),INDEX(F3:F74,L22,1)+90) -> 60 | N22: =IF(E12,-(E7),NA()) -> -10 | O22: =COS(RADIANS(M22))*N22 -> -5 | P22: =SIN(RADIANS(M22))*N22 -> -8.660254 | Q22: =A21 -> 510 | R22: =B21 -> 10 | S22: =IF(E10,DEGREES(Q22),Q22) -> 510 | T22: =IF(E8,90-S22-E9,S22+90+E9) -> -420 | U22: =IF(E11,ABS(E6)-R22,ABS(E5)+R22) -> 10 | V22: =COS(RADIANS(T22))*U22 -> 5 | W22: =SIN(RADIANS(T22))*U22 -> -8.660254
A23: 0 | B23: 0 | C23: =B115 -> 150 | F23: =IF(E8,(ROW()-ROW(F3))*5,((ROW(F75)-ROW())*5)) -> 100 | G23: =IF(F23-E9>=0,F23-E9,360-E9+F23) -> 100 | H23: =IF(G23=360,0,IF(MOD(G23,E2)=0,G23,"")) | I23: =IF(E13,H23,CHAR(160)) | J23: =NA() -> #N/A
A24: =C30 -> 510 | B24: 10 | C24: =B116 -> 150 | F24: =IF(E8,(ROW()-ROW(F3))*5,((ROW(F75)-ROW())*5)) -> 105 | G24: =IF(F24-E9>=0,F24-E9,360-E9+F24) -> 105 | H24: =IF(G24=360,0,IF(MOD(G24,E2)=0,G24,"")) | I24: =IF(E13,H24,CHAR(160)) | J24: =NA() -> #N/A | K24: 35 | L24: =MATCH(K24,H3:H74,0) -> #N/A | M24: =IF(E8,90-INDEX(F3:F74,L24,1),INDEX(F3:F74,L24,1)+90) -> #N/A | N24: =IF(E12,+(E7),NA()) -> 10 | O24: =COS(RADIANS(M24))*N24 -> #N/A | P24: =SIN(RADIANS(M24))*N24 -> #N/A | Q24: =A23 -> 0 | R24: =B23 -> 0 | S24: =IF(E31,DEGREES(Q24),Q24) -> 0 | T24: =IF($E$8,90-S24-E30,S24+90+E30) -> 90 | U24: =IF(E32,ABS(E27)-R24,ABS(E26)+R24) -> 0 | V24: =COS(RADIANS(T24))*U24 -> 0 | W24: =SIN(RADIANS(T24))*U24 -> 0
C25: =B117 -> 180 | F25: =IF(E8,(ROW()-ROW(F3))*5,((ROW(F75)-ROW())*5)) -> 110 | G25: =IF(F25-E9>=0,F25-E9,360-E9+F25) -> 110 | H25: =IF(G25=360,0,IF(MOD(G25,E2)=0,G25,"")) | I25: =IF(E13,H25,CHAR(160)) | J25: =NA() -> #N/A | K25: 35 | L25: =L24 -> #N/A | M25: =IF(E8,90-INDEX(F3:F74,L25,1),INDEX(F3:F74,L25,1)+90) -> #N/A | N25: =IF(E12,-(E7),NA()) -> -10 | O25: =COS(RADIANS(M25))*N25 -> #N/A | P25: =SIN(RADIANS(M25))*N25 -> #N/A | Q25: =A24 -> 510 | R25: =B24 -> 10 | S25: =IF(E31,DEGREES(Q25),Q25) -> 510 | T25: =IF($E$8,90-S25-E31,S25+90+E31) -> -420 | U25: =IF(E32,ABS(E27)-R25,ABS(E26)+R25) -> 10 | V25: =COS(RADIANS(T25))*U25 -> 5 | W25: =SIN(RADIANS(T25))*U25 -> -8.660254
A26: 0 | B26: 0 | C26: =B118 -> 180 | F26: =IF(E8,(ROW()-ROW(F3))*5,((ROW(F75)-ROW())*5)) -> 115 | G26: =IF(F26-E9>=0,F26-E9,360-E9+F26) -> 115 | H26: =IF(G26=360,0,IF(MOD(G26,E2)=0,G26,"")) | I26: =IF(E13,H26,CHAR(160)) | J26: =NA() -> #N/A | Q26: =A25 -> 0 | R26: =B25 -> 0 | S26: =IF(E31,DEGREES(Q26),Q26) -> 0 | T26: =IF($E$8,90-S26-E32,S26+90+E32) -> 90 | U26: =IF(E32,ABS(E27)-R26,ABS(E26)+R26) -> 0
A27: =C31 -> 510 | B27: 10 | C27: =B119 -> 510 | F27: =IF(E8,(ROW()-ROW(F3))*5,((ROW(F75)-ROW())*5)) -> 120 | G27: =IF(F27-E9>=0,F27-E9,360-E9+F27) -> 120 | H27: =IF(G27=360,0,IF(MOD(G27,E2)=0,G27,"")) -> 120 | I27: =IF(E13,H27,CHAR(160)) -> 120 | J27: =NA() -> #N/A | K27: 40 | L27: =MATCH(K27,H3:H74,0) -> #N/A | M27: =IF(E8,90-INDEX(F3:F74,L27,1),INDEX(F3:F74,L27,1)+90) -> #N/A | N27: =IF(E12,+(E7),NA()) -> 10 | O27: =COS(RADIANS(M27))*N27 -> #N/A | P27: =SIN(RADIANS(M27))*N27 -> #N/A | Q27: =A26 -> 0 | R27: =B26 -> 0 | S27: =IF(E31,DEGREES(Q27),Q27) -> 0 | T27: =IF($E$8,90-S27-E33,S27+90+E33) -> 90 | U27: =IF(E32,ABS(E27)-R27,ABS(E26)+R27) -> 0 | V27: =COS(RADIANS(T27))*U27 -> 0 | W27: =SIN(RADIANS(T27))*U27 -> 0
C28: =B120 -> 510 | F28: =IF(E8,(ROW()-ROW(F3))*5,((ROW(F75)-ROW())*5)) -> 125 | G28: =IF(F28-E9>=0,F28-E9,360-E9+F28) -> 125 | H28: =IF(G28=360,0,IF(MOD(G28,E2)=0,G28,"")) | I28: =IF(E13,H28,CHAR(160)) | J28: =NA() -> #N/A | K28: 40 | L28: =L27 -> #N/A | M28: =IF(E8,90-INDEX(F3:F74,L28,1),INDEX(F3:F74,L28,1)+90) -> #N/A | N28: =IF(E12,-(E7),NA()) -> -10 | O28: =COS(RADIANS(M28))*N28 -> #N/A | P28: =SIN(RADIANS(M28))*N28 -> #N/A | Q28: =A27 -> 510 | R28: =B27 -> 10 | S28: =IF(E31,DEGREES(Q28),Q28) -> 510 | T28: =IF($E$8,90-S28-E34,S28+90+E34) -> -420 | U28: =IF(E32,ABS(E27)-R28,ABS(E26)+R28) -> 10 | V28: =COS(RADIANS(T28))*U28 -> 5 | W28: =SIN(RADIANS(T28))*U28 -> -8.660254
A29: 0 | B29: 0 | C29: =B121 -> 510 | F29: =IF(E8,(ROW()-ROW(F3))*5,((ROW(F75)-ROW())*5)) -> 130 | G29: =IF(F29-E9>=0,F29-E9,360-E9+F29) -> 130 | H29: =IF(G29=360,0,IF(MOD(G29,E2)=0,G29,"")) | I29: =IF(E13,H29,CHAR(160)) | J29: =NA() -> #N/A | Q29: =A28 -> 0 | R29: =B28 -> 0 | S29: =IF(E31,DEGREES(Q29),Q29) -> 0 | T29: =IF($E$8,90-S29-E35,S29+90+E35) -> 90 | U29: =IF(E32,ABS(E27)-R29,ABS(E26)+R29) -> 0
A30: =C32 -> 510 | B30: 10 | C30: =B122 -> 510 | F30: =IF(E8,(ROW()-ROW(F3))*5,((ROW(F75)-ROW())*5)) -> 135 | G30: =IF(F30-E9>=0,F30-E9,360-E9+F30) -> 135 | H30: =IF(G30=360,0,IF(MOD(G30,E2)=0,G30,"")) | I30: =IF(E13,H30,CHAR(160)) | J30: =NA() -> #N/A | K30: 45 | L30: =MATCH(K30,H3:H74,0) -> #N/A | M30: =IF(E8,90-INDEX(F3:F74,L30,1),INDEX(F3:F74,L30,1)+90) -> #N/A | N30: =IF(E12,+(E7),NA()) -> 10 | O30: =COS(RADIANS(M30))*N30 -> #N/A | P30: =SIN(RADIANS(M30))*N30 -> #N/A | Q30: =A29 -> 0 | R30: =B29 -> 0 | S30: =IF(E31,DEGREES(Q30),Q30) -> 0 | T30: =IF($E$8,90-S30-E36,S30+90+E36) -> 90 | U30: =IF(E32,ABS(E27)-R30,ABS(E26)+R30) -> 0 | V30: =COS(RADIANS(T30))*U30 -> 0 | W30: =SIN(RADIANS(T30))*U30 -> 0
C31: =B123 -> 510 | F31: =IF(E8,(ROW()-ROW(F3))*5,((ROW(F75)-ROW())*5)) -> 140 | G31: =IF(F31-E9>=0,F31-E9,360-E9+F31) -> 140 | H31: =IF(G31=360,0,IF(MOD(G31,E2)=0,G31,"")) | I31: =IF(E13,H31,CHAR(160)) | J31: =NA() -> #N/A | K31: 45 | L31: =L30 -> #N/A | M31: =IF(E8,90-INDEX(F3:F74,L31,1),INDEX(F3:F74,L31,1)+90) -> #N/A | N31: =IF(E12,-(E7),NA()) -> -10 | O31: =COS(RADIANS(M31))*N31 -> #N/A | P31: =SIN(RADIANS(M31))*N31 -> #N/A | Q31: =A30 -> 510 | R31: =B30 -> 10 | S31: =IF(E31,DEGREES(Q31),Q31) -> 510 | T31: =IF($E$8,90-S31-E37,S31+90+E37) -> -420 | U31: =IF(E32,ABS(E27)-R31,ABS(E26)+R31) -> 10 | V31: =COS(RADIANS(T31))*U31 -> 5 | W31: =SIN(RADIANS(T31))*U31 -> -8.660254
A32: 0 | B32: 0 | C32: =B124 -> 510 | F32: =IF(E8,(ROW()-ROW(F3))*5,((ROW(F75)-ROW())*5)) -> 145 | G32: =IF(F32-E9>=0,F32-E9,360-E9+F32) -> 145 | H32: =IF(G32=360,0,IF(MOD(G32,E2)=0,G32,"")) | I32: =IF(E13,H32,CHAR(160)) | J32: =NA() -> #N/A | Q32: =A31 -> 0 | R32: =B31 -> 0 | S32: =IF(E31,DEGREES(Q32),Q32) -> 0 | T32: =IF($E$8,90-S32-E38,S32+90+E38) -> 90 | U32: =IF(E32,ABS(E27)-R32,ABS(E26)+R32) -> 0
A33: =C33 -> 510 | B33: 10 | C33: =B125 -> 510 | F33: =IF(E8,(ROW()-ROW(F3))*5,((ROW(F75)-ROW())*5)) -> 150 | G33: =IF(F33-E9>=0,F33-E9,360-E9+F33) -> 150 | H33: =IF(G33=360,0,IF(MOD(G33,E2)=0,G33,"")) -> 150 | I33: =IF(E13,H33,CHAR(160)) -> 150 | J33: =NA() -> #N/A | K33: 50 | L33: =MATCH(K33,H3:H74,0) -> #N/A | M33: =IF(E8,90-INDEX(F3:F74,L33,1),INDEX(F3:F74,L33,1)+90) -> #N/A | N33: =IF(E12,+(E7),NA()) -> 10 | O33: =COS(RADIANS(M33))*N33 -> #N/A | P33: =SIN(RADIANS(M33))*N33 -> #N/A | Q33: =A32 -> 0 | R33: =B32 -> 0 | S33: =IF(E31,DEGREES(Q33),Q33) -> 0 | T33: =IF($E$8,90-S33-E39,S33+90+E39) -> 90 | U33: =IF(E32,ABS(E27)-R33,ABS(E26)+R33) -> 0 | V33: =COS(RADIANS(T33))*U33 -> 0 | W33: =SIN(RADIANS(T33))*U33 -> 0
C34: =B126 -> 510 | F34: =IF(E8,(ROW()-ROW(F3))*5,((ROW(F75)-ROW())*5)) -> 155 | G34: =IF(F34-E9>=0,F34-E9,360-E9+F34) -> 155 | H34: =IF(G34=360,0,IF(MOD(G34,E2)=0,G34,"")) | I34: =IF(E13,H34,CHAR(160)) | J34: =NA() -> #N/A | K34: 50 | L34: =L33 -> #N/A | M34: =IF(E8,90-INDEX(F3:F74,L34,1),INDEX(F3:F74,L34,1)+90) -> #N/A | N34: =IF(E12,-(E7),NA()) -> -10 | O34: =COS(RADIANS(M34))*N34 -> #N/A | P34: =SIN(RADIANS(M34))*N34 -> #N/A | Q34: =A33 -> 510 | R34: =B33 -> 10 | S34: =IF(E31,DEGREES(Q34),Q34) -> 510 | T34: =IF($E$8,90-S34-E40,S34+90+E40) -> -420 | U34: =IF(E32,ABS(E27)-R34,ABS(E26)+R34) -> 10 | V34: =COS(RADIANS(T34))*U34 -> 5 | W34: =SIN(RADIANS(T34))*U34 -> -8.660254
A35: 0 | B35: 0 | C35: =B127 -> 510 | F35: =IF(E8,(ROW()-ROW(F3))*5,((ROW(F75)-ROW())*5)) -> 160 | G35: =IF(F35-E9>=0,F35-E9,360-E9+F35) -> 160 | H35: =IF(G35=360,0,IF(MOD(G35,E2)=0,G35,"")) | I35: =IF(E13,H35,CHAR(160)) | J35: =NA() -> #N/A | Q35: =A34 -> 0 | R35: =B34 -> 0 | S35: =IF(E31,DEGREES(Q35),Q35) -> 0 | T35: =IF($E$8,90-S35-E41,S35+90+E41) -> 90 | U35: =IF(E32,ABS(E27)-R35,ABS(E26)+R35) -> 0
A36: =C34 -> 510 | B36: 10 | C36: =B128 -> 510 | F36: =IF(E8,(ROW()-ROW(F3))*5,((ROW(F75)-ROW())*5)) -> 165 | G36: =IF(F36-E9>=0,F36-E9,360-E9+F36) -> 165 | H36: =IF(G36=360,0,IF(MOD(G36,E2)=0,G36,"")) | I36: =IF(E13,H36,CHAR(160)) | J36: =NA() -> #N/A | K36: 55 | L36: =MATCH(K36,H3:H74,0) -> #N/A | M36: =IF(E8,90-INDEX(F3:F74,L36,1),INDEX(F3:F74,L36,1)+90) -> #N/A | N36: =IF(E12,+(E7),NA()) -> 10 | O36: =COS(RADIANS(M36))*N36 -> #N/A | P36: =SIN(RADIANS(M36))*N36 -> #N/A | Q36: =A35 -> 0 | R36: =B35 -> 0 | S36: =IF(E31,DEGREES(Q36),Q36) -> 0 | T36: =IF($E$8,90-S36-E42,S36+90+E42) -> 90 | U36: =IF(E32,ABS(E27)-R36,ABS(E26)+R36) -> 0 | V36: =COS(RADIANS(T36))*U36 -> 0 | W36: =SIN(RADIANS(T36))*U36 -> 0
C37: =B129 -> 510 | F37: =IF(E8,(ROW()-ROW(F3))*5,((ROW(F75)-ROW())*5)) -> 170 | G37: =IF(F37-E9>=0,F37-E9,360-E9+F37) -> 170 | H37: =IF(G37=360,0,IF(MOD(G37,E2)=0,G37,"")) | I37: =IF(E13,H37,CHAR(160)) | J37: =NA() -> #N/A | K37: 55 | L37: =L36 -> #N/A | M37: =IF(E8,90-INDEX(F3:F74,L37,1),INDEX(F3:F74,L37,1)+90) -> #N/A | N37: =IF(E12,-(E7),NA()) -> -10 | O37: =COS(RADIANS(M37))*N37 -> #N/A | P37: =SIN(RADIANS(M37))*N37 -> #N/A | Q37: =A36 -> 510 | R37: =B36 -> 10 | S37: =IF(E31,DEGREES(Q37),Q37) -> 510 | T37: =IF($E$8,90-S37-E43,S37+90+E43) -> -420 | U37: =IF(E32,ABS(E27)-R37,ABS(E26)+R37) -> 10 | V37: =COS(RADIANS(T37))*U37 -> 5 | W37: =SIN(RADIANS(T37))*U37 -> -8.660254
A38: 0 | B38: 0 | C38: =B130 -> 510 | F38: =IF(E8,(ROW()-ROW(F3))*5,((ROW(F75)-ROW())*5)) -> 175 | G38: =IF(F38-E9>=0,F38-E9,360-E9+F38) -> 175 | H38: =IF(G38=360,0,IF(MOD(G38,E2)=0,G38,"")) | I38: =IF(E13,H38,CHAR(160)) | J38: =NA() -> #N/A | Q38: =A37 -> 0 | R38: =B37 -> 0 | S38: =IF(E31,DEGREES(Q38),Q38) -> 0 | T38: =IF($E$8,90-S38-E44,S38+90+E44) -> 90 | U38: =IF(E32,ABS(E27)-R38,ABS(E26)+R38) -> 0
A39: =C35 -> 510 | B39: 10 | C39: =B131 -> 510 | F39: =IF(E8,(ROW()-ROW(F3))*5,((ROW(F75)-ROW())*5)) -> 180 | G39: =IF(F39-E9>=0,F39-E9,360-E9+F39) -> 180 | H39: =IF(G39=360,0,IF(MOD(G39,E2)=0,G39,"")) -> 180 | I39: =IF(E13,H39,CHAR(160)) -> 180 | J39: =NA() -> #N/A | K39: 60 | L39: =MATCH(K39,H3:H74,0) -> 13 | M39: =IF(E8,90-INDEX(F3:F74,L39,1),INDEX(F3:F74,L39,1)+90) -> 30 | N39: =IF(E12,+(E7),NA()) -> 10 | O39: =COS(RADIANS(M39))*N39 -> 8.660254 | P39: =SIN(RADIANS(M39))*N39 -> 5 | Q39: =A38 -> 0 | R39: =B38 -> 0 | S39: =IF(E31,DEGREES(Q39),Q39) -> 0 | T39: =IF($E$8,90-S39-E45,S39+90+E45) -> 90 | U39: =IF(E32,ABS(E27)-R39,ABS(E26)+R39) -> 0 | V39: =COS(RADIANS(T39))*U39 -> 0 | W39: =SIN(RADIANS(T39))*U39 -> 0
B40: 0 | C40: =B132 -> 510 | F40: =IF(E8,(ROW()-ROW(F3))*5,((ROW(F75)-ROW())*5)) -> 185 | G40: =IF(F40-E9>=0,F40-E9,360-E9+F40) -> 185 | H40: =IF(G40=360,0,IF(MOD(G40,E2)=0,G40,"")) | I40: =IF(E13,H40,CHAR(160)) | J40: =NA() -> #N/A | K40: 60 | L40: =L39 -> 13 | M40: =IF(E8,90-INDEX(F3:F74,L40,1),INDEX(F3:F74,L40,1)+90) -> 30 | N40: =IF(E12,-(E7),NA()) -> -10 | O40: =COS(RADIANS(M40))*N40 -> -8.660254 | P40: =SIN(RADIANS(M40))*N40 -> -5 | Q40: =A39 -> 510 | R40: =B39 -> 10 | S40: =IF(E31,DEGREES(Q40),Q40) -> 510 | T40: =IF($E$8,90-S40-E46,S40+90+E46) -> -420 | U40: =IF(E32,ABS(E27)-R40,ABS(E26)+R40) -> 10 | V40: =COS(RADIANS(T40))*U40 -> 5 | W40: =SIN(RADIANS(T40))*U40 -> -8.660254
A41: 0 | B41: 0 | C41: =B133 -> 510 | F41: =IF(E8,(ROW()-ROW(F3))*5,((ROW(F75)-ROW())*5)) -> 190 | G41: =IF(F41-E9>=0,F41-E9,360-E9+F41) -> 190 | H41: =IF(G41=360,0,IF(MOD(G41,E2)=0,G41,"")) | I41: =IF(E13,H41,CHAR(160)) | J41: =NA() -> #N/A | Q41: =A40 -> 0 | R41: =B40 -> 0 | S41: =IF(E31,DEGREES(Q41),Q41) -> 0 | T41: =IF($E$8,90-S41-E47,S41+90+E47) -> 90 | U41: =IF(E32,ABS(E27)-R41,ABS(E26)+R41) -> 0
A42: =C36 -> 510 | B42: 10 | C42: =B134 -> 510 | F42: =IF(E8,(ROW()-ROW(F3))*5,((ROW(F75)-ROW())*5)) -> 195 | G42: =IF(F42-E9>=0,F42-E9,360-E9+F42) -> 195 | H42: =IF(G42=360,0,IF(MOD(G42,E2)=0,G42,"")) | I42: =IF(E13,H42,CHAR(160)) | J42: =NA() -> #N/A | K42: 65 | L42: =MATCH(K42,H3:H74,0) -> #N/A | M42: =IF(E8,90-INDEX(F3:F74,L42,1),INDEX(F3:F74,L42,1)+90) -> #N/A | N42: =IF(E12,+(E7),NA()) -> 10 | O42: =COS(RADIANS(M42))*N42 -> #N/A | P42: =SIN(RADIANS(M42))*N42 -> #N/A | Q42: =A41 -> 0 | R42: =B41 -> 0 | S42: =IF(E31,DEGREES(Q42),Q42) -> 0 | T42: =IF($E$8,90-S42-E48,S42+90+E48) -> 90 | U42: =IF(E32,ABS(E27)-R42,ABS(E26)+R42) -> 0 | V42: =COS(RADIANS(T42))*U42 -> 0 | W42: =SIN(RADIANS(T42))*U42 -> 0
C43: =B135 -> 510 | F43: =IF(E8,(ROW()-ROW(F3))*5,((ROW(F75)-ROW())*5)) -> 200 | G43: =IF(F43-E9>=0,F43-E9,360-E9+F43) -> 200 | H43: =IF(G43=360,0,IF(MOD(G43,E2)=0,G43,"")) | I43: =IF(E13,H43,CHAR(160)) | J43: =NA() -> #N/A | K43: 65 | L43: =L42 -> #N/A | M43: =IF(E8,90-INDEX(F3:F74,L43,1),INDEX(F3:F74,L43,1)+90) -> #N/A | N43: =IF(E12,-(E7),NA()) -> -10 | O43: =COS(RADIANS(M43))*N43 -> #N/A | P43: =SIN(RADIANS(M43))*N43 -> #N/A | Q43: =A42 -> 510 | R43: =B42 -> 10 | S43: =IF(E31,DEGREES(Q43),Q43) -> 510 | T43: =IF($E$8,90-S43-E49,S43+90+E49) -> -420 | U43: =IF(E32,ABS(E27)-R43,ABS(E26)+R43) -> 10 | V43: =COS(RADIANS(T43))*U43 -> 5 | W43: =SIN(RADIANS(T43))*U43 -> -8.660254
A44: 0 | B44: 0 | C44: =B136 -> 510 | F44: =IF(E8,(ROW()-ROW(F3))*5,((ROW(F75)-ROW())*5)) -> 205 | G44: =IF(F44-E9>=0,F44-E9,360-E9+F44) -> 205 | H44: =IF(G44=360,0,IF(MOD(G44,E2)=0,G44,"")) | I44: =IF(E13,H44,CHAR(160)) | J44: =NA() -> #N/A
A45: =C37 -> 510 | B45: 10 | C45: =B137 -> 510 | F45: =IF(E8,(ROW()-ROW(F3))*5,((ROW(F75)-ROW())*5)) -> 210 | G45: =IF(F45-E9>=0,F45-E9,360-E9+F45) -> 210 | H45: =IF(G45=360,0,IF(MOD(G45,E2)=0,G45,"")) -> 210 | I45: =IF(E13,H45,CHAR(160)) -> 210 | J45: =NA() -> #N/A | K45: 70 | L45: =MATCH(K45,H3:H74,0) -> #N/A | M45: =IF(E8,90-INDEX(F3:F74,L45,1),INDEX(F3:F74,L45,1)+90) -> #N/A | N45: =IF(E12,+(E7),NA()) -> 10 | O45: =COS(RADIANS(M45))*N45 -> #N/A | P45: =SIN(RADIANS(M45))*N45 -> #N/A | Q45: =A44 -> 0 | R45: =B44 -> 0 | S45: =IF(E52,DEGREES(Q45),Q45) -> 0 | T45: =IF($E$8,90-S45-E51,S45+90+E51) -> 90 | U45: =IF(E53,ABS(E48)-R45,ABS(E47)+R45) -> 0 | V45: =COS(RADIANS(T45))*U45 -> 0 | W45: =SIN(RADIANS(T45))*U45 -> 0
C46: =B138 -> 510 | F46: =IF(E8,(ROW()-ROW(F3))*5,((ROW(F75)-ROW())*5)) -> 215 | G46: =IF(F46-E9>=0,F46-E9,360-E9+F46) -> 215 | H46: =IF(G46=360,0,IF(MOD(G46,E2)=0,G46,"")) | I46: =IF(E13,H46,CHAR(160)) | J46: =NA() -> #N/A | K46: 70 | L46: =L45 -> #N/A | M46: =IF(E8,90-INDEX(F3:F74,L46,1),INDEX(F3:F74,L46,1)+90) -> #N/A | N46: =IF(E12,-(E7),NA()) -> -10 | O46: =COS(RADIANS(M46))*N46 -> #N/A | P46: =SIN(RADIANS(M46))*N46 -> #N/A | Q46: =A45 -> 510 | R46: =B45 -> 10 | S46: =IF(E52,DEGREES(Q46),Q46) -> 510 | T46: =IF($E$8,90-S46-E52,S46+90+E52) -> -420 | U46: =IF(E53,ABS(E48)-R46,ABS(E47)+R46) -> 10 | V46: =COS(RADIANS(T46))*U46 -> 5 | W46: =SIN(RADIANS(T46))*U46 -> -8.660254
A47: 0 | B47: 0 | C47: =B139 -> 510 | F47: =IF(E8,(ROW()-ROW(F3))*5,((ROW(F75)-ROW())*5)) -> 220 | G47: =IF(F47-E9>=0,F47-E9,360-E9+F47) -> 220 | H47: =IF(G47=360,0,IF(MOD(G47,E2)=0,G47,"")) | I47: =IF(E13,H47,CHAR(160)) | J47: =NA() -> #N/A | Q47: =A46 -> 0 | R47: =B46 -> 0 | S47: =IF(E52,DEGREES(Q47),Q47) -> 0 | T47: =IF($E$8,90-S47-E53,S47+90+E53) -> 90 | U47: =IF(E53,ABS(E48)-R47,ABS(E47)+R47) -> 0
A48: =C38 -> 510 | B48: 10 | C48: =B140 -> 510 | F48: =IF(E8,(ROW()-ROW(F3))*5,((ROW(F75)-ROW())*5)) -> 225 | G48: =IF(F48-E9>=0,F48-E9,360-E9+F48) -> 225 | H48: =IF(G48=360,0,IF(MOD(G48,E2)=0,G48,"")) | I48: =IF(E13,H48,CHAR(160)) | J48: =NA() -> #N/A | K48: 75 | L48: =MATCH(K48,H3:H74,0) -> #N/A | M48: =IF(E8,90-INDEX(F3:F74,L48,1),INDEX(F3:F74,L48,1)+90) -> #N/A | N48: =IF(E12,+(E7),NA()) -> 10 | O48: =COS(RADIANS(M48))*N48 -> #N/A | P48: =SIN(RADIANS(M48))*N48 -> #N/A | Q48: =A47 -> 0 | R48: =B47 -> 0 | S48: =IF(E52,DEGREES(Q48),Q48) -> 0 | T48: =IF($E$8,90-S48-E54,S48+90+E54) -> 90 | U48: =IF(E53,ABS(E48)-R48,ABS(E47)+R48) -> 0 | V48: =COS(RADIANS(T48))*U48 -> 0 | W48: =SIN(RADIANS(T48))*U48 -> 0
C49: =B141 -> 510 | F49: =IF(E8,(ROW()-ROW(F3))*5,((ROW(F75)-ROW())*5)) -> 230 | G49: =IF(F49-E9>=0,F49-E9,360-E9+F49) -> 230 | H49: =IF(G49=360,0,IF(MOD(G49,E2)=0,G49,"")) | I49: =IF(E13,H49,CHAR(160)) | J49: =NA() -> #N/A | K49: 75 | L49: =L48 -> #N/A | M49: =IF(E8,90-INDEX(F3:F74,L49,1),INDEX(F3:F74,L49,1)+90) -> #N/A | N49: =IF(E12,-(E7),NA()) -> -10 | O49: =COS(RADIANS(M49))*N49 -> #N/A | P49: =SIN(RADIANS(M49))*N49 -> #N/A | Q49: =A48 -> 510 | R49: =B48 -> 10 | S49: =IF(E52,DEGREES(Q49),Q49) -> 510 | T49: =IF($E$8,90-S49-E55,S49+90+E55) -> -420 | U49: =IF(E53,ABS(E48)-R49,ABS(E47)+R49) -> 10 | V49: =COS(RADIANS(T49))*U49 -> 5 | W49: =SIN(RADIANS(T49))*U49 -> -8.660254
A50: 0 | B50: 0 | C50: =B142 -> 510 | F50: =IF(E8,(ROW()-ROW(F3))*5,((ROW(F75)-ROW())*5)) -> 235 | G50: =IF(F50-E9>=0,F50-E9,360-E9+F50) -> 235 | H50: =IF(G50=360,0,IF(MOD(G50,E2)=0,G50,"")) | I50: =IF(E13,H50,CHAR(160)) | J50: =NA() -> #N/A | Q50: =A49 -> 0 | R50: =B49 -> 0 | S50: =IF(E52,DEGREES(Q50),Q50) -> 0 | T50: =IF($E$8,90-S50-E56,S50+90+E56) -> 90 | U50: =IF(E53,ABS(E48)-R50,ABS(E47)+R50) -> 0
A51: =C39 -> 510 | B51: 10 | C51: =B143 -> 0 | F51: =IF(E8,(ROW()-ROW(F3))*5,((ROW(F75)-ROW())*5)) -> 240 | G51: =IF(F51-E9>=0,F51-E9,360-E9+F51) -> 240 | H51: =IF(G51=360,0,IF(MOD(G51,E2)=0,G51,"")) -> 240 | I51: =IF(E13,H51,CHAR(160)) -> 240 | J51: =NA() -> #N/A | K51: 80 | L51: =MATCH(K51,H3:H74,0) -> #N/A | M51: =IF(E8,90-INDEX(F3:F74,L51,1),INDEX(F3:F74,L51,1)+90) -> #N/A | N51: =IF(E12,+(E7),NA()) -> 10 | O51: =COS(RADIANS(M51))*N51 -> #N/A | P51: =SIN(RADIANS(M51))*N51 -> #N/A | Q51: =A50 -> 0 | R51: =B50 -> 0 | S51: =IF(E52,DEGREES(Q51),Q51) -> 0 | T51: =IF($E$8,90-S51-E57,S51+90+E57) -> 90 | U51: =IF(E53,ABS(E48)-R51,ABS(E47)+R51) -> 0 | V51: =COS(RADIANS(T51))*U51 -> 0 | W51: =SIN(RADIANS(T51))*U51 -> 0
F52: =IF(E8,(ROW()-ROW(F3))*5,((ROW(F75)-ROW())*5)) -> 245 | G52: =IF(F52-E9>=0,F52-E9,360-E9+F52) -> 245 | H52: =IF(G52=360,0,IF(MOD(G52,E2)=0,G52,"")) | I52: =IF(E13,H52,CHAR(160)) | J52: =NA() -> #N/A | K52: 80 | L52: =L51 -> #N/A | M52: =IF(E8,90-INDEX(F3:F74,L52,1),INDEX(F3:F74,L52,1)+90) -> #N/A | N52: =IF(E12,-(E7),NA()) -> -10 | O52: =COS(RADIANS(M52))*N52 -> #N/A | P52: =SIN(RADIANS(M52))*N52 -> #N/A | Q52: =A51 -> 510 | R52: =B51 -> 10 | S52: =IF(E52,DEGREES(Q52),Q52) -> 510 | T52: =IF($E$8,90-S52-E58,S52+90+E58) -> -420 | U52: =IF(E53,ABS(E48)-R52,ABS(E47)+R52) -> 10 | V52: =COS(RADIANS(T52))*U52 -> 5 | W52: =SIN(RADIANS(T52))*U52 -> -8.660254
A53: 0 | B53: 0 | F53: =IF(E8,(ROW()-ROW(F3))*5,((ROW(F75)-ROW())*5)) -> 250 | G53: =IF(F53-E9>=0,F53-E9,360-E9+F53) -> 250 | H53: =IF(G53=360,0,IF(MOD(G53,E2)=0,G53,"")) | I53: =IF(E13,H53,CHAR(160)) | J53: =NA() -> #N/A | Q53: =A52 -> 0 | R53: =B52 -> 0 | S53: =IF(E52,DEGREES(Q53),Q53) -> 0 | T53: =IF($E$8,90-S53-E59,S53+90+E59) -> 90 | U53: =IF(E53,ABS(E48)-R53,ABS(E47)+R53) -> 0
A54: =C40 -> 510 | B54: 10 | F54: =IF(E8,(ROW()-ROW(F3))*5,((ROW(F75)-ROW())*5)) -> 255 | G54: =IF(F54-E9>=0,F54-E9,360-E9+F54) -> 255 | H54: =IF(G54=360,0,IF(MOD(G54,E2)=0,G54,"")) | I54: =IF(E13,H54,CHAR(160)) | J54: =NA() -> #N/A | K54: 85 | L54: =MATCH(K54,H3:H74,0) -> #N/A | M54: =IF(E8,90-INDEX(F3:F74,L54,1),INDEX(F3:F74,L54,1)+90) -> #N/A | N54: =IF(E12,+(E7),NA()) -> 10 | O54: =COS(RADIANS(M54))*N54 -> #N/A | P54: =SIN(RADIANS(M54))*N54 -> #N/A | Q54: =A53 -> 0 | R54: =B53 -> 0 | S54: =IF(E52,DEGREES(Q54),Q54) -> 0 | T54: =IF($E$8,90-S54-E60,S54+90+E60) -> 90 | U54: =IF(E53,ABS(E48)-R54,ABS(E47)+R54) -> 0 | V54: =COS(RADIANS(T54))*U54 -> 0 | W54: =SIN(RADIANS(T54))*U54 -> 0
F55: =IF(E8,(ROW()-ROW(F3))*5,((ROW(F75)-ROW())*5)) -> 260 | G55: =IF(F55-E9>=0,F55-E9,360-E9+F55) -> 260 | H55: =IF(G55=360,0,IF(MOD(G55,E2)=0,G55,"")) | I55: =IF(E13,H55,CHAR(160)) | J55: =NA() -> #N/A | K55: 85 | L55: =L54 -> #N/A | M55: =IF(E8,90-INDEX(F3:F74,L55,1),INDEX(F3:F74,L55,1)+90) -> #N/A | N55: =IF(E12,-(E7),NA()) -> -10 | O55: =COS(RADIANS(M55))*N55 -> #N/A | P55: =SIN(RADIANS(M55))*N55 -> #N/A | Q55: =A54 -> 510 | R55: =B54 -> 10 | S55: =IF(E52,DEGREES(Q55),Q55) -> 510 | T55: =IF($E$8,90-S55-E61,S55+90+E61) -> -420 | U55: =IF(E53,ABS(E48)-R55,ABS(E47)+R55) -> 10 | V55: =COS(RADIANS(T55))*U55 -> 5 | W55: =SIN(RADIANS(T55))*U55 -> -8.660254
A56: 0 | B56: 0 | F56: =IF(E8,(ROW()-ROW(F3))*5,((ROW(F75)-ROW())*5)) -> 265 | G56: =IF(F56-E9>=0,F56-E9,360-E9+F56) -> 265 | H56: =IF(G56=360,0,IF(MOD(G56,E2)=0,G56,"")) | I56: =IF(E13,H56,CHAR(160)) | J56: =NA() -> #N/A | Q56: =A55 -> 0 | R56: =B55 -> 0 | S56: =IF(E52,DEGREES(Q56),Q56) -> 0 | T56: =IF($E$8,90-S56-E62,S56+90+E62) -> 90 | U56: =IF(E53,ABS(E48)-R56,ABS(E47)+R56) -> 0
A57: =C41 -> 510 | B57: 10 | F57: =IF(E8,(ROW()-ROW(F3))*5,((ROW(F75)-ROW())*5)) -> 270 | G57: =IF(F57-E9>=0,F57-E9,360-E9+F57) -> 270 | H57: =IF(G57=360,0,IF(MOD(G57,E2)=0,G57,"")) -> 270 | I57: =IF(E13,H57,CHAR(160)) -> 270 | J57: =NA() -> #N/A | K57: 90 | L57: =MATCH(K57,H3:H74,0) -> 19 | M57: =IF(E8,90-INDEX(F3:F74,L57,1),INDEX(F3:F74,L57,1)+90) -> 0 | N57: =IF(E12,+(E7),NA()) -> 10 | O57: =COS(RADIANS(M57))*N57 -> 10 | P57: =SIN(RADIANS(M57))*N57 -> 0 | Q57: =A56 -> 0 | R57: =B56 -> 0 | S57: =IF(E52,DEGREES(Q57),Q57) -> 0 | T57: =IF($E$8,90-S57-E63,S57+90+E63) -> 90 | U57: =IF(E53,ABS(E48)-R57,ABS(E47)+R57) -> 0 | V57: =COS(RADIANS(T57))*U57 -> 0 | W57: =SIN(RADIANS(T57))*U57 -> 0
F58: =IF(E8,(ROW()-ROW(F3))*5,((ROW(F75)-ROW())*5)) -> 275 | G58: =IF(F58-E9>=0,F58-E9,360-E9+F58) -> 275 | H58: =IF(G58=360,0,IF(MOD(G58,E2)=0,G58,"")) | I58: =IF(E13,H58,CHAR(160)) | J58: =NA() -> #N/A | K58: 90 | L58: =L57 -> 19 | M58: =IF(E8,90-INDEX(F3:F74,L58,1),INDEX(F3:F74,L58,1)+90) -> 0 | N58: =IF(E12,-(E7),NA()) -> -10 | O58: =COS(RADIANS(M58))*N58 -> -10 | P58: =SIN(RADIANS(M58))*N58 -> 0 | Q58: =A57 -> 510 | R58: =B57 -> 10 | S58: =IF(E52,DEGREES(Q58),Q58) -> 510 | T58: =IF($E$8,90-S58-E64,S58+90+E64) -> -420 | U58: =IF(E53,ABS(E48)-R58,ABS(E47)+R58) -> 10 | V58: =COS(RADIANS(T58))*U58 -> 5 | W58: =SIN(RADIANS(T58))*U58 -> -8.660254
A59: 0 | B59: 0 | F59: =IF(E8,(ROW()-ROW(F3))*5,((ROW(F75)-ROW())*5)) -> 280 | G59: =IF(F59-E9>=0,F59-E9,360-E9+F59) -> 280 | H59: =IF(G59=360,0,IF(MOD(G59,E2)=0,G59,"")) | I59: =IF(E13,H59,CHAR(160)) | J59: =NA() -> #N/A | Q59: =A58 -> 0 | R59: =B58 -> 0 | S59: =IF(E52,DEGREES(Q59),Q59) -> 0 | T59: =IF($E$8,90-S59-E65,S59+90+E65) -> 90 | U59: =IF(E53,ABS(E48)-R59,ABS(E47)+R59) -> 0
A60: =C42 -> 510 | B60: 10 | F60: =IF(E8,(ROW()-ROW(F3))*5,((ROW(F75)-ROW())*5)) -> 285 | G60: =IF(F60-E9>=0,F60-E9,360-E9+F60) -> 285 | H60: =IF(G60=360,0,IF(MOD(G60,E2)=0,G60,"")) | I60: =IF(E13,H60,CHAR(160)) | J60: =NA() -> #N/A | K60: 95 | L60: =MATCH(K60,H3:H74,0) -> #N/A | M60: =IF(E8,90-INDEX(F3:F74,L60,1),INDEX(F3:F74,L60,1)+90) -> #N/A | N60: =IF(E12,+(E7),NA()) -> 10 | O60: =COS(RADIANS(M60))*N60 -> #N/A | P60: =SIN(RADIANS(M60))*N60 -> #N/A | Q60: =A59 -> 0 | R60: =B59 -> 0 | S60: =IF(E52,DEGREES(Q60),Q60) -> 0 | T60: =IF($E$8,90-S60-E66,S60+90+E66) -> 90 | U60: =IF(E53,ABS(E48)-R60,ABS(E47)+R60) -> 0 | V60: =COS(RADIANS(T60))*U60 -> 0 | W60: =SIN(RADIANS(T60))*U60 -> 0
B61: 0 | F61: =IF(E8,(ROW()-ROW(F3))*5,((ROW(F75)-ROW())*5)) -> 290 | G61: =IF(F61-E9>=0,F61-E9,360-E9+F61) -> 290 | H61: =IF(G61=360,0,IF(MOD(G61,E2)=0,G61,"")) | I61: =IF(E13,H61,CHAR(160)) | J61: =NA() -> #N/A | K61: 95 | L61: =L60 -> #N/A | M61: =IF(E8,90-INDEX(F3:F74,L61,1),INDEX(F3:F74,L61,1)+90) -> #N/A | N61: =IF(E12,-(E7),NA()) -> -10 | O61: =COS(RADIANS(M61))*N61 -> #N/A | P61: =SIN(RADIANS(M61))*N61 -> #N/A | Q61: =A60 -> 510 | R61: =B60 -> 10 | S61: =IF(E52,DEGREES(Q61),Q61) -> 510 | T61: =IF($E$8,90-S61-E67,S61+90+E67) -> -420 | U61: =IF(E53,ABS(E48)-R61,ABS(E47)+R61) -> 10 | V61: =COS(RADIANS(T61))*U61 -> 5 | W61: =SIN(RADIANS(T61))*U61 -> -8.660254
A62: 0 | B62: 0 | F62: =IF(E8,(ROW()-ROW(F3))*5,((ROW(F75)-ROW())*5)) -> 295 | G62: =IF(F62-E9>=0,F62-E9,360-E9+F62) -> 295 | H62: =IF(G62=360,0,IF(MOD(G62,E2)=0,G62,"")) | I62: =IF(E13,H62,CHAR(160)) | J62: =NA() -> #N/A | Q62: =A61 -> 0 | R62: =B61 -> 0 | S62: =IF(E52,DEGREES(Q62),Q62) -> 0 | T62: =IF($E$8,90-S62-E68,S62+90+E68) -> 90 | U62: =IF(E53,ABS(E48)-R62,ABS(E47)+R62) -> 0
A63: =C43 -> 510 | B63: 10 | F63: =IF(E8,(ROW()-ROW(F3))*5,((ROW(F75)-ROW())*5)) -> 300 | G63: =IF(F63-E9>=0,F63-E9,360-E9+F63) -> 300 | H63: =IF(G63=360,0,IF(MOD(G63,E2)=0,G63,"")) -> 300 | I63: =IF(E13,H63,CHAR(160)) -> 300 | J63: =NA() -> #N/A | K63: 100 | L63: =MATCH(K63,H3:H74,0) -> #N/A | M63: =IF(E8,90-INDEX(F3:F74,L63,1),INDEX(F3:F74,L63,1)+90) -> #N/A | N63: =IF(E12,+(E7),NA()) -> 10 | O63: =COS(RADIANS(M63))*N63 -> #N/A | P63: =SIN(RADIANS(M63))*N63 -> #N/A | Q63: =A62 -> 0 | R63: =B62 -> 0 | S63: =IF(E52,DEGREES(Q63),Q63) -> 0 | T63: =IF($E$8,90-S63-E69,S63+90+E69) -> 90 | U63: =IF(E53,ABS(E48)-R63,ABS(E47)+R63) -> 0 | V63: =COS(RADIANS(T63))*U63 -> 0 | W63: =SIN(RADIANS(T63))*U63 -> 0
F64: =IF(E8,(ROW()-ROW(F3))*5,((ROW(F75)-ROW())*5)) -> 305 | G64: =IF(F64-E9>=0,F64-E9,360-E9+F64) -> 305 | H64: =IF(G64=360,0,IF(MOD(G64,E2)=0,G64,"")) | I64: =IF(E13,H64,CHAR(160)) | J64: =NA() -> #N/A | K64: 100 | L64: =L63 -> #N/A | M64: =IF(E8,90-INDEX(F3:F74,L64,1),INDEX(F3:F74,L64,1)+90) -> #N/A | N64: =IF(E12,-(E7),NA()) -> -10 | O64: =COS(RADIANS(M64))*N64 -> #N/A | P64: =SIN(RADIANS(M64))*N64 -> #N/A | Q64: =A63 -> 510 | R64: =B63 -> 10 | S64: =IF(E52,DEGREES(Q64),Q64) -> 510 | T64: =IF($E$8,90-S64-E70,S64+90+E70) -> -420 | U64: =IF(E53,ABS(E48)-R64,ABS(E47)+R64) -> 10 | V64: =COS(RADIANS(T64))*U64 -> 5 | W64: =SIN(RADIANS(T64))*U64 -> -8.660254
A65: 0 | B65: 0 | F65: =IF(E8,(ROW()-ROW(F3))*5,((ROW(F75)-ROW())*5)) -> 310 | G65: =IF(F65-E9>=0,F65-E9,360-E9+F65) -> 310 | H65: =IF(G65=360,0,IF(MOD(G65,E2)=0,G65,"")) | I65: =IF(E13,H65,CHAR(160)) | J65: =NA() -> #N/A
A66: =C44 -> 510 | B66: 10 | F66: =IF(E8,(ROW()-ROW(F3))*5,((ROW(F75)-ROW())*5)) -> 315 | G66: =IF(F66-E9>=0,F66-E9,360-E9+F66) -> 315 | H66: =IF(G66=360,0,IF(MOD(G66,E2)=0,G66,"")) | I66: =IF(E13,H66,CHAR(160)) | J66: =NA() -> #N/A | K66: 105 | L66: =MATCH(K66,H3:H74,0) -> #N/A | M66: =IF(E8,90-INDEX(F3:F74,L66,1),INDEX(F3:F74,L66,1)+90) -> #N/A | N66: =IF(E12,+(E7),NA()) -> 10 | O66: =COS(RADIANS(M66))*N66 -> #N/A | P66: =SIN(RADIANS(M66))*N66 -> #N/A | Q66: =A65 -> 0 | R66: =B65 -> 0 | S66: =IF(E73,DEGREES(Q66),Q66) -> 0 | T66: =IF($E$8,90-S66-E72,S66+90+E72) -> 90 | U66: =IF(E74,ABS(E69)-R66,ABS(E68)+R66) -> 0 | V66: =COS(RADIANS(T66))*U66 -> 0 | W66: =SIN(RADIANS(T66))*U66 -> 0
F67: =IF(E8,(ROW()-ROW(F3))*5,((ROW(F75)-ROW())*5)) -> 320 | G67: =IF(F67-E9>=0,F67-E9,360-E9+F67) -> 320 | H67: =IF(G67=360,0,IF(MOD(G67,E2)=0,G67,"")) | I67: =IF(E13,H67,CHAR(160)) | J67: =NA() -> #N/A | K67: 105 | L67: =L66 -> #N/A | M67: =IF(E8,90-INDEX(F3:F74,L67,1),INDEX(F3:F74,L67,1)+90) -> #N/A | N67: =IF(E12,-(E7),NA()) -> -10 | O67: =COS(RADIANS(M67))*N67 -> #N/A | P67: =SIN(RADIANS(M67))*N67 -> #N/A | Q67: =A66 -> 510 | R67: =B66 -> 10 | S67: =IF(E73,DEGREES(Q67),Q67) -> 510 | T67: =IF($E$8,90-S67-E73,S67+90+E73) -> -420 | U67: =IF(E74,ABS(E69)-R67,ABS(E68)+R67) -> 10 | V67: =COS(RADIANS(T67))*U67 -> 5 | W67: =SIN(RADIANS(T67))*U67 -> -8.660254
A68: 0 | B68: 0 | F68: =IF(E8,(ROW()-ROW(F3))*5,((ROW(F75)-ROW())*5)) -> 325 | G68: =IF(F68-E9>=0,F68-E9,360-E9+F68) -> 325 | H68: =IF(G68=360,0,IF(MOD(G68,E2)=0,G68,"")) | I68: =IF(E13,H68,CHAR(160)) | J68: =NA() -> #N/A | Q68: =A67 -> 0 | R68: =B67 -> 0 | S68: =IF(E73,DEGREES(Q68),Q68) -> 0 | T68: =IF($E$8,90-S68-E74,S68+90+E74) -> 90 | U68: =IF(E74,ABS(E69)-R68,ABS(E68)+R68) -> 0
A69: =C45 -> 510 | B69: 10 | F69: =IF(E8,(ROW()-ROW(F3))*5,((ROW(F75)-ROW())*5)) -> 330 | G69: =IF(F69-E9>=0,F69-E9,360-E9+F69) -> 330 | H69: =IF(G69=360,0,IF(MOD(G69,E2)=0,G69,"")) -> 330 | I69: =IF(E13,H69,CHAR(160)) -> 330 | J69: =NA() -> #N/A | K69: 110 | L69: =MATCH(K69,H3:H74,0) -> #N/A | M69: =IF(E8,90-INDEX(F3:F74,L69,1),INDEX(F3:F74,L69,1)+90) -> #N/A | N69: =IF(E12,+(E7),NA()) -> 10 | O69: =COS(RADIANS(M69))*N69 -> #N/A | P69: =SIN(RADIANS(M69))*N69 -> #N/A | Q69: =A68 -> 0 | R69: =B68 -> 0 | S69: =IF(E73,DEGREES(Q69),Q69) -> 0 | T69: =IF($E$8,90-S69-E75,S69+90+E75) -> 90 | U69: =IF(E74,ABS(E69)-R69,ABS(E68)+R69) -> 0 | V69: =COS(RADIANS(T69))*U69 -> 0 | W69: =SIN(RADIANS(T69))*U69 -> 0
F70: =IF(E8,(ROW()-ROW(F3))*5,((ROW(F75)-ROW())*5)) -> 335 | G70: =IF(F70-E9>=0,F70-E9,360-E9+F70) -> 335 | H70: =IF(G70=360,0,IF(MOD(G70,E2)=0,G70,"")) | I70: =IF(E13,H70,CHAR(160)) | J70: =NA() -> #N/A | K70: 110 | L70: =L69 -> #N/A | M70: =IF(E8,90-INDEX(F3:F74,L70,1),INDEX(F3:F74,L70,1)+90) -> #N/A | N70: =IF(E12,-(E7),NA()) -> -10 | O70: =COS(RADIANS(M70))*N70 -> #N/A | P70: =SIN(RADIANS(M70))*N70 -> #N/A | Q70: =A69 -> 510 | R70: =B69 -> 10 | S70: =IF(E73,DEGREES(Q70),Q70) -> 510 | T70: =IF($E$8,90-S70-E76,S70+90+E76) -> -420 | U70: =IF(E74,ABS(E69)-R70,ABS(E68)+R70) -> 10 | V70: =COS(RADIANS(T70))*U70 -> 5 | W70: =SIN(RADIANS(T70))*U70 -> -8.660254
A71: 0 | B71: 0 | F71: =IF(E8,(ROW()-ROW(F3))*5,((ROW(F75)-ROW())*5)) -> 340 | G71: =IF(F71-E9>=0,F71-E9,360-E9+F71) -> 340 | H71: =IF(G71=360,0,IF(MOD(G71,E2)=0,G71,"")) | I71: =IF(E13,H71,CHAR(160)) | J71: =NA() -> #N/A | Q71: =A70 -> 0 | R71: =B70 -> 0 | S71: =IF(E73,DEGREES(Q71),Q71) -> 0 | T71: =IF($E$8,90-S71-E77,S71+90+E77) -> 90 | U71: =IF(E74,ABS(E69)-R71,ABS(E68)+R71) -> 0
A72: =C46 -> 510 | B72: 10 | F72: =IF(E8,(ROW()-ROW(F3))*5,((ROW(F75)-ROW())*5)) -> 345 | G72: =IF(F72-E9>=0,F72-E9,360-E9+F72) -> 345 | H72: =IF(G72=360,0,IF(MOD(G72,E2)=0,G72,"")) | I72: =IF(E13,H72,CHAR(160)) | J72: =NA() -> #N/A | K72: 115 | L72: =MATCH(K72,H3:H74,0) -> #N/A | M72: =IF(E8,90-INDEX(F3:F74,L72,1),INDEX(F3:F74,L72,1)+90) -> #N/A | N72: =IF(E12,+(E7),NA()) -> 10 | O72: =COS(RADIANS(M72))*N72 -> #N/A | P72: =SIN(RADIANS(M72))*N72 -> #N/A | Q72: =A71 -> 0 | R72: =B71 -> 0 | S72: =IF(E73,DEGREES(Q72),Q72) -> 0 | T72: =IF($E$8,90-S72-E78,S72+90+E78) -> 90 | U72: =IF(E74,ABS(E69)-R72,ABS(E68)+R72) -> 0 | V72: =COS(RADIANS(T72))*U72 -> 0 | W72: =SIN(RADIANS(T72))*U72 -> 0
F73: =IF(E8,(ROW()-ROW(F3))*5,((ROW(F75)-ROW())*5)) -> 350 | G73: =IF(F73-E9>=0,F73-E9,360-E9+F73) -> 350 | H73: =IF(G73=360,0,IF(MOD(G73,E2)=0,G73,"")) | I73: =IF(E13,H73,CHAR(160)) | J73: =NA() -> #N/A | K73: 115 | L73: =L72 -> #N/A | M73: =IF(E8,90-INDEX(F3:F74,L73,1),INDEX(F3:F74,L73,1)+90) -> #N/A | N73: =IF(E12,-(E7),NA()) -> -10 | O73: =COS(RADIANS(M73))*N73 -> #N/A | P73: =SIN(RADIANS(M73))*N73 -> #N/A | Q73: =A72 -> 510 | R73: =B72 -> 10 | S73: =IF(E73,DEGREES(Q73),Q73) -> 510 | T73: =IF($E$8,90-S73-E79,S73+90+E79) -> -420 | U73: =IF(E74,ABS(E69)-R73,ABS(E68)+R73) -> 10 | V73: =COS(RADIANS(T73))*U73 -> 5 | W73: =SIN(RADIANS(T73))*U73 -> -8.660254
A74: 0 | B74: 0 | F74: =IF(E8,(ROW()-ROW(F3))*5,((ROW(F75)-ROW())*5)) -> 355 | G74: =IF(F74-E9>=0,F74-E9,360-E9+F74) -> 355 | H74: =IF(G74=360,0,IF(MOD(G74,E2)=0,G74,"")) | I74: =IF(E13,H74,CHAR(160)) | J74: =NA() -> #N/A | Q74: =A73 -> 0 | R74: =B73 -> 0 | S74: =IF(E73,DEGREES(Q74),Q74) -> 0 | T74: =IF($E$8,90-S74-E80,S74+90+E80) -> 90 | U74: =IF(E74,ABS(E69)-R74,ABS(E68)+R74) -> 0
A75: =C47 -> 510 | B75: 10 | K75: 120 | L75: =MATCH(K75,H3:H74,0) -> 25 | M75: =IF(E8,90-INDEX(F3:F74,L75,1),INDEX(F3:F74,L75,1)+90) -> -30 | N75: =IF(E12,+(E7),NA()) -> 10 | O75: =COS(RADIANS(M75))*N75 -> 8.660254 | P75: =SIN(RADIANS(M75))*N75 -> -5 | Q75: =A74 -> 0 | R75: =B74 -> 0 | S75: =IF(E73,DEGREES(Q75),Q75) -> 0 | T75: =IF($E$8,90-S75-E81,S75+90+E81) -> 90 | U75: =IF(E74,ABS(E69)-R75,ABS(E68)+R75) -> 0 | V75: =COS(RADIANS(T75))*U75 -> 0 | W75: =SIN(RADIANS(T75))*U75 -> 0
K76: 120 | L76: =L75 -> 25 | M76: =IF(E8,90-INDEX(F3:F74,L76,1),INDEX(F3:F74,L76,1)+90) -> -30 | N76: =IF(E12,-(E7),NA()) -> -10 | O76: =COS(RADIANS(M76))*N76 -> -8.660254 | P76: =SIN(RADIANS(M76))*N76 -> 5 | Q76: =A75 -> 510 | R76: =B75 -> 10 | S76: =IF(E73,DEGREES(Q76),Q76) -> 510 | T76: =IF($E$8,90-S76-E82,S76+90+E82) -> -420 | U76: =IF(E74,ABS(E69)-R76,ABS(E68)+R76) -> 10 | V76: =COS(RADIANS(T76))*U76 -> 5 | W76: =SIN(RADIANS(T76))*U76 -> -8.660254
A77: 0 | B77: 0 | Q77: =A76 -> 0 | R77: =B76 -> 0 | S77: =IF(E73,DEGREES(Q77),Q77) -> 0 | T77: =IF($E$8,90-S77-E83,S77+90+E83) -> 90 | U77: =IF(E74,ABS(E69)-R77,ABS(E68)+R77) -> 0
A78: =C48 -> 510 | B78: 10 | K78: 125 | L78: =MATCH(K78,H3:H74,0) -> #N/A | M78: =IF(E8,90-INDEX(F3:F74,L78,1),INDEX(F3:F74,L78,1)+90) -> #N/A | N78: =IF(E12,+(E7),NA()) -> 10 | O78: =COS(RADIANS(M78))*N78 -> #N/A | P78: =SIN(RADIANS(M78))*N78 -> #N/A | Q78: =A77 -> 0 | R78: =B77 -> 0 | S78: =IF(E73,DEGREES(Q78),Q78) -> 0 | T78: =IF($E$8,90-S78-E84,S78+90+E84) -> 90 | U78: =IF(E74,ABS(E69)-R78,ABS(E68)+R78) -> 0 | V78: =COS(RADIANS(T78))*U78 -> 0 | W78: =SIN(RADIANS(T78))*U78 -> 0
K79: 125 | L79: =L78 -> #N/A | M79: =IF(E8,90-INDEX(F3:F74,L79,1),INDEX(F3:F74,L79,1)+90) -> #N/A | N79: =IF(E12,-(E7),NA()) -> -10 | O79: =COS(RADIANS(M79))*N79 -> #N/A | P79: =SIN(RADIANS(M79))*N79 -> #N/A | Q79: =A78 -> 510 | R79: =B78 -> 10 | S79: =IF(E73,DEGREES(Q79),Q79) -> 510 | T79: =IF($E$8,90-S79-E85,S79+90+E85) -> -420 | U79: =IF(E74,ABS(E69)-R79,ABS(E68)+R79) -> 10 | V79: =COS(RADIANS(T79))*U79 -> 5 | W79: =SIN(RADIANS(T79))*U79 -> -8.660254
A80: 0 | B80: 0 | Q80: =A79 -> 0 | R80: =B79 -> 0 | S80: =IF(E73,DEGREES(Q80),Q80) -> 0 | T80: =IF($E$8,90-S80-E86,S80+90+E86) -> 90 | U80: =IF(E74,ABS(E69)-R80,ABS(E68)+R80) -> 0
A81: =C49 -> 510 | B81: 10 | K81: 130 | L81: =MATCH(K81,H3:H74,0) -> #N/A | M81: =IF(E8,90-INDEX(F3:F74,L81,1),INDEX(F3:F74,L81,1)+90) -> #N/A | N81: =IF(E12,+(E7),NA()) -> 10 | O81: =COS(RADIANS(M81))*N81 -> #N/A | P81: =SIN(RADIANS(M81))*N81 -> #N/A | Q81: =A80 -> 0 | R81: =B80 -> 0 | S81: =IF(E73,DEGREES(Q81),Q81) -> 0 | T81: =IF($E$8,90-S81-E87,S81+90+E87) -> 90 | U81: =IF(E74,ABS(E69)-R81,ABS(E68)+R81) -> 0 | V81: =COS(RADIANS(T81))*U81 -> 0 | W81: =SIN(RADIANS(T81))*U81 -> 0
B82: 0 | K82: 130 | L82: =L81 -> #N/A | M82: =IF(E8,90-INDEX(F3:F74,L82,1),INDEX(F3:F74,L82,1)+90) -> #N/A | N82: =IF(E12,-(E7),NA()) -> -10 | O82: =COS(RADIANS(M82))*N82 -> #N/A | P82: =SIN(RADIANS(M82))*N82 -> #N/A | Q82: =A81 -> 510 | R82: =B81 -> 10 | S82: =IF(E73,DEGREES(Q82),Q82) -> 510 | T82: =IF($E$8,90-S82-E88,S82+90+E88) -> -420 | U82: =IF(E74,ABS(E69)-R82,ABS(E68)+R82) -> 10 | V82: =COS(RADIANS(T82))*U82 -> 5 | W82: =SIN(RADIANS(T82))*U82 -> -8.660254
A83: 0 | B83: 0 | Q83: =A82 -> 0 | R83: =B82 -> 0 | S83: =IF(E73,DEGREES(Q83),Q83) -> 0 | T83: =IF($E$8,90-S83-E89,S83+90+E89) -> 90 | U83: =IF(E74,ABS(E69)-R83,ABS(E68)+R83) -> 0
A84: =C50 -> 510 | B84: 10 | K84: 135 | L84: =MATCH(K84,H3:H74,0) -> #N/A | M84: =IF(E8,90-INDEX(F3:F74,L84,1),INDEX(F3:F74,L84,1)+90) -> #N/A | N84: =IF(E12,+(E7),NA()) -> 10 | O84: =COS(RADIANS(M84))*N84 -> #N/A | P84: =SIN(RADIANS(M84))*N84 -> #N/A | Q84: =A83 -> 0 | R84: =B83 -> 0 | S84: =IF(E73,DEGREES(Q84),Q84) -> 0 | T84: =IF($E$8,90-S84-E90,S84+90+E90) -> 90 | U84: =IF(E74,ABS(E69)-R84,ABS(E68)+R84) -> 0 | V84: =COS(RADIANS(T84))*U84 -> 0 | W84: =SIN(RADIANS(T84))*U84 -> 0
K85: 135 | L85: =L84 -> #N/A | M85: =IF(E8,90-INDEX(F3:F74,L85,1),INDEX(F3:F74,L85,1)+90) -> #N/A | N85: =IF(E12,-(E7),NA()) -> -10 | O85: =COS(RADIANS(M85))*N85 -> #N/A | P85: =SIN(RADIANS(M85))*N85 -> #N/A | Q85: =A84 -> 510 | R85: =B84 -> 10 | S85: =IF(E73,DEGREES(Q85),Q85) -> 510 | T85: =IF($E$8,90-S85-E91,S85+90+E91) -> -420 | U85: =IF(E74,ABS(E69)-R85,ABS(E68)+R85) -> 10 | V85: =COS(RADIANS(T85))*U85 -> 5 | W85: =SIN(RADIANS(T85))*U85 -> -8.660254
K87: 140 | L87: =MATCH(K87,H3:H74,0) -> #N/A | M87: =IF(E8,90-INDEX(F3:F74,L87,1),INDEX(F3:F74,L87,1)+90) -> #N/A | N87: =IF(E12,+(E7),NA()) -> 10 | O87: =COS(RADIANS(M87))*N87 -> #N/A | P87: =SIN(RADIANS(M87))*N87 -> #N/A
K88: 140 | L88: =L87 -> #N/A | M88: =IF(E8,90-INDEX(F3:F74,L88,1),INDEX(F3:F74,L88,1)+90) -> #N/A | N88: =IF(E12,-(E7),NA()) -> -10 | O88: =COS(RADIANS(M88))*N88 -> #N/A | P88: =SIN(RADIANS(M88))*N88 -> #N/A
K90: 145 | L90: =MATCH(K90,H3:H74,0) -> #N/A | M90: =IF(E8,90-INDEX(F3:F74,L90,1),INDEX(F3:F74,L90,1)+90) -> #N/A | N90: =IF(E12,+(E7),NA()) -> 10 | O90: =COS(RADIANS(M90))*N90 -> #N/A | P90: =SIN(RADIANS(M90))*N90 -> #N/A
K91: 145 | L91: =L90 -> #N/A | M91: =IF(E8,90-INDEX(F3:F74,L91,1),INDEX(F3:F74,L91,1)+90) -> #N/A | N91: =IF(E12,-(E7),NA()) -> -10 | O91: =COS(RADIANS(M91))*N91 -> #N/A | P91: =SIN(RADIANS(M91))*N91 -> #N/A
K93: 150 | L93: =MATCH(K93,H3:H74,0) -> 31 | M93: =IF(E8,90-INDEX(F3:F74,L93,1),INDEX(F3:F74,L93,1)+90) -> -60 | N93: =IF(E12,+(E7),NA()) -> 10 | O93: =COS(RADIANS(M93))*N93 -> 5 | P93: =SIN(RADIANS(M93))*N93 -> -8.660254
K94: 150 | L94: =L93 -> 31 | M94: =IF(E8,90-INDEX(F3:F74,L94,1),INDEX(F3:F74,L94,1)+90) -> -60 | N94: =IF(E12,-(E7),NA()) -> -10 | O94: =COS(RADIANS(M94))*N94 -> -5 | P94: =SIN(RADIANS(M94))*N94 -> 8.660254
K96: 155 | L96: =MATCH(K96,H3:H74,0) -> #N/A | M96: =IF(E8,90-INDEX(F3:F74,L96,1),INDEX(F3:F74,L96,1)+90) -> #N/A | N96: =IF(E12,+(E7),NA()) -> 10 | O96: =COS(RADIANS(M96))*N96 -> #N/A | P96: =SIN(RADIANS(M96))*N96 -> #N/A
K97: 155 | L97: =L96 -> #N/A | M97: =IF(E8,90-INDEX(F3:F74,L97,1),INDEX(F3:F74,L97,1)+90) -> #N/A | N97: =IF(E12,-(E7),NA()) -> -10 | O97: =COS(RADIANS(M97))*N97 -> #N/A | P97: =SIN(RADIANS(M97))*N97 -> #N/A
K99: 160 | L99: =MATCH(K99,H3:H74,0) -> #N/A | M99: =IF(E8,90-INDEX(F3:F74,L99,1),INDEX(F3:F74,L99,1)+90) -> #N/A | N99: =IF(E12,+(E7),NA()) -> 10 | O99: =COS(RADIANS(M99))*N99 -> #N/A | P99: =SIN(RADIANS(M99))*N99 -> #N/A
K100: 160 | L100: =L99 -> #N/A | M100: =IF(E8,90-INDEX(F3:F74,L100,1),INDEX(F3:F74,L100,1)+90) -> #N/A | N100: =IF(E12,-(E7),NA()) -> -10 | O100: =COS(RADIANS(M100))*N100 -> #N/A | P100: =SIN(RADIANS(M100))*N100 -> #N/A
K102: 165 | L102: =MATCH(K102,H3:H74,0) -> #N/A | M102: =IF(E8,90-INDEX(F3:F74,L102,1),INDEX(F3:F74,L102,1)+90) -> #N/A | N102: =IF(E12,+(E7),NA()) -> 10 | O102: =COS(RADIANS(M102))*N102 -> #N/A | P102: =SIN(RADIANS(M102))*N102 -> #N/A
K103: 165 | L103: =L102 -> #N/A | M103: =IF(E8,90-INDEX(F3:F74,L103,1),INDEX(F3:F74,L103,1)+90) -> #N/A | N103: =IF(E12,-(E7),NA()) -> -10 | O103: =COS(RADIANS(M103))*N103 -> #N/A | P103: =SIN(RADIANS(M103))*N103 -> #N/A
K105: 170 | L105: =MATCH(K105,H3:H74,0) -> #N/A | M105: =IF(E8,90-INDEX(F3:F74,L105,1),INDEX(F3:F74,L105,1)+90) -> #N/A | N105: =IF(E12,+(E7),NA()) -> 10 | O105: =COS(RADIANS(M105))*N105 -> #N/A | P105: =SIN(RADIANS(M105))*N105 -> #N/A
K106: 170 | L106: =L105 -> #N/A | M106: =IF(E8,90-INDEX(F3:F74,L106,1),INDEX(F3:F74,L106,1)+90) -> #N/A | N106: =IF(E12,-(E7),NA()) -> -10 | O106: =COS(RADIANS(M106))*N106 -> #N/A | P106: =SIN(RADIANS(M106))*N106 -> #N/A
K108: 175 | L108: =MATCH(K108,H3:H74,0) -> #N/A | M108: =IF(E8,90-INDEX(F3:F74,L108,1),INDEX(F3:F74,L108,1)+90) -> #N/A | N108: =IF(E12,+(E7),NA()) -> 10 | O108: =COS(RADIANS(M108))*N108 -> #N/A | P108: =SIN(RADIANS(M108))*N108 -> #N/A
...

Sheet C
B1: Directions
A2: 0 | B2: 0 | D2: Interval | E2: 30 | J2: PLRPLT_BASE | P2: PLRPLT_SPOKES | W2: ='C'!$B$1 -> Directions
A3: =C23 -> 290 | B3: 10 | D3: NIntervals | E3: =360/E2 -> 12 | F3: =IF(E8,(ROW()-ROW(F3))*5,((ROW(F75)-ROW())*5)) -> 0 | G3: =IF(F3-E9>=0,F3-E9,360-E9+F3) -> 0 | H3: =IF(G3=360,0,IF(MOD(G3,E2)=0,G3,"")) -> 0 | I3: =IF(E13,H3,CHAR(160)) -> 0 | J3: =E19 -> 0 | K3: 0 | L3: =MATCH(K3,H3:H74,0) -> 1 | M3: =IF(E8,90-INDEX(F3:F74,L3,1),INDEX(F3:F74,L3,1)+90) -> 90 | N3: =IF(E12,+(E7),NA()) -> 10 | O3: =COS(RADIANS(M3))*N3 -> 6.1257423e-16 | P3: =SIN(RADIANS(M3))*N3 -> 10 | Q3: =A2 -> 0 | R3: =B2 -> 0 | S3: =IF(E10,DEGREES(Q3),Q3) -> 0 | T3: =IF(E8,90-S3-E9,S3+90+E9) -> 90 | U3: =IF(E11,ABS(E6)-R3,ABS(E5)+R3) -> 0 | V3: =COS(RADIANS(T3))*U3 -> 0 | W3: =SIN(RADIANS(T3))*U3 -> 0
D4: Value | E4: =10/E3 -> 0.83333333 | F4: =IF(E8,(ROW()-ROW(F3))*5,((ROW(F75)-ROW())*5)) -> 5 | G4: =IF(F4-E9>=0,F4-E9,360-E9+F4) -> 5 | H4: =IF(G4=360,0,IF(MOD(G4,E2)=0,G4,"")) | I4: =IF(E13,H4,CHAR(160)) | J4: =E20 -> 10 | K4: 0 | L4: =L3 -> 1 | M4: =IF(E8,90-INDEX(F3:F74,L4,1),INDEX(F3:F74,L4,1)+90) -> 90 | N4: =IF(E12,-(E7),NA()) -> -10 | O4: =COS(RADIANS(M4))*N4 -> -6.1257423e-16 | P4: =SIN(RADIANS(M4))*N4 -> -10 | Q4: =A3 -> 290 | R4: =B3 -> 10 | S4: =IF(E10,DEGREES(Q4),Q4) -> 290 | T4: =IF(E8,90-S4-E9,S4+90+E9) -> -200 | U4: =IF(E11,ABS(E6)-R4,ABS(E5)+R4) -> 10 | V4: =COS(RADIANS(T4))*U4 -> -9.3969262 | W4: =SIN(RADIANS(T4))*U4 -> 3.4202014
A5: 0 | B5: 0 | D5: MinAxisValue | E5: 0 | F5: =IF(E8,(ROW()-ROW(F3))*5,((ROW(F75)-ROW())*5)) -> 10 | G5: =IF(F5-E9>=0,F5-E9,360-E9+F5) -> 10 | H5: =IF(G5=360,0,IF(MOD(G5,E2)=0,G5,"")) | I5: =IF(E13,H5,CHAR(160)) | J5: =NA() -> #N/A | Q5: =A4 -> 0 | R5: =B4 -> 0 | S5: =IF(E10,DEGREES(Q5),Q5) -> 0 | T5: =IF(E8,90-S5-E9,S5+90+E9) -> 90 | U5: =IF(E11,ABS(E6)-R5,ABS(E5)+R5) -> 0
A6: =C24 -> 300 | B6: 10 | D6: MaxAxisValue | E6: 10 | F6: =IF(E8,(ROW()-ROW(F3))*5,((ROW(F75)-ROW())*5)) -> 15 | G6: =IF(F6-E9>=0,F6-E9,360-E9+F6) -> 15 | H6: =IF(G6=360,0,IF(MOD(G6,E2)=0,G6,"")) | I6: =IF(E13,H6,CHAR(160)) | J6: =NA() -> #N/A | K6: 5 | L6: =MATCH(K6,H3:H74,0) -> #N/A | M6: =IF(E8,90-INDEX(F3:F74,L6,1),INDEX(F3:F74,L6,1)+90) -> #N/A | N6: =IF(E12,+(E7),NA()) -> 10 | O6: =COS(RADIANS(M6))*N6 -> #N/A | P6: =SIN(RADIANS(M6))*N6 -> #N/A | Q6: =A5 -> 0 | R6: =B5 -> 0 | S6: =IF(E10,DEGREES(Q6),Q6) -> 0 | T6: =IF(E8,90-S6-E9,S6+90+E9) -> 90 | U6: =IF(E11,ABS(E6)-R6,ABS(E5)+R6) -> 0 | V6: =COS(RADIANS(T6))*U6 -> 0 | W6: =SIN(RADIANS(T6))*U6 -> 0
D7: Radius | E7: =E6-E5 -> 10 | F7: =IF(E8,(ROW()-ROW(F3))*5,((ROW(F75)-ROW())*5)) -> 20 | G7: =IF(F7-E9>=0,F7-E9,360-E9+F7) -> 20 | H7: =IF(G7=360,0,IF(MOD(G7,E2)=0,G7,"")) | I7: =IF(E13,H7,CHAR(160)) | J7: =NA() -> #N/A | K7: 5 | L7: =L6 -> #N/A | M7: =IF(E8,90-INDEX(F3:F74,L7,1),INDEX(F3:F74,L7,1)+90) -> #N/A | N7: =IF(E12,-(E7),NA()) -> -10 | O7: =COS(RADIANS(M7))*N7 -> #N/A | P7: =SIN(RADIANS(M7))*N7 -> #N/A | Q7: =A6 -> 300 | R7: =B6 -> 10 | S7: =IF(E10,DEGREES(Q7),Q7) -> 300 | T7: =IF(E8,90-S7-E9,S7+90+E9) -> -210 | U7: =IF(E11,ABS(E6)-R7,ABS(E5)+R7) -> 10 | V7: =COS(RADIANS(T7))*U7 -> -8.660254 | W7: =SIN(RADIANS(T7))*U7 -> 5
A8: 0 | B8: 0 | D8: Clockwise | E8: TRUE | F8: =IF(E8,(ROW()-ROW(F3))*5,((ROW(F75)-ROW())*5)) -> 25 | G8: =IF(F8-E9>=0,F8-E9,360-E9+F8) -> 25 | H8: =IF(G8=360,0,IF(MOD(G8,E2)=0,G8,"")) | I8: =IF(E13,H8,CHAR(160)) | J8: =NA() -> #N/A | Q8: =A7 -> 0 | R8: =B7 -> 0 | S8: =IF(E10,DEGREES(Q8),Q8) -> 0 | T8: =IF(E8,90-S8-E9,S8+90+E9) -> 90 | U8: =IF(E11,ABS(E6)-R8,ABS(E5)+R8) -> 0
A9: =C25 -> 310 | B9: 10 | D9: StartAngle | E9: 0 | F9: =IF(E8,(ROW()-ROW(F3))*5,((ROW(F75)-ROW())*5)) -> 30 | G9: =IF(F9-E9>=0,F9-E9,360-E9+F9) -> 30 | H9: =IF(G9=360,0,IF(MOD(G9,E2)=0,G9,"")) -> 30 | I9: =IF(E13,H9,CHAR(160)) -> 30 | J9: =NA() -> #N/A | K9: 10 | L9: =MATCH(K9,H3:H74,0) -> #N/A | M9: =IF(E8,90-INDEX(F3:F74,L9,1),INDEX(F3:F74,L9,1)+90) -> #N/A | N9: =IF(E12,+(E7),NA()) -> 10 | O9: =COS(RADIANS(M9))*N9 -> #N/A | P9: =SIN(RADIANS(M9))*N9 -> #N/A | Q9: =A8 -> 0 | R9: =B8 -> 0 | S9: =IF(E10,DEGREES(Q9),Q9) -> 0 | T9: =IF(E8,90-S9-E9,S9+90+E9) -> 90 | U9: =IF(E11,ABS(E6)-R9,ABS(E5)+R9) -> 0 | V9: =COS(RADIANS(T9))*U9 -> 0 | W9: =SIN(RADIANS(T9))*U9 -> 0
D10: Radians | E10: FALSE | F10: =IF(E8,(ROW()-ROW(F3))*5,((ROW(F75)-ROW())*5)) -> 35 | G10: =IF(F10-E9>=0,F10-E9,360-E9+F10) -> 35 | H10: =IF(G10=360,0,IF(MOD(G10,E2)=0,G10,"")) | I10: =IF(E13,H10,CHAR(160)) | J10: =NA() -> #N/A | K10: 10 | L10: =L9 -> #N/A | M10: =IF(E8,90-INDEX(F3:F74,L10,1),INDEX(F3:F74,L10,1)+90) -> #N/A | N10: =IF(E12,-(E7),NA()) -> -10 | O10: =COS(RADIANS(M10))*N10 -> #N/A | P10: =SIN(RADIANS(M10))*N10 -> #N/A | Q10: =A9 -> 310 | R10: =B9 -> 10 | S10: =IF(E10,DEGREES(Q10),Q10) -> 310 | T10: =IF(E8,90-S10-E9,S10+90+E9) -> -220 | U10: =IF(E11,ABS(E6)-R10,ABS(E5)+R10) -> 10 | V10: =COS(RADIANS(T10))*U10 -> -7.6604444 | W10: =SIN(RADIANS(T10))*U10 -> 6.4278761
A11: 0 | B11: 0 | D11: ReverseAxis | E11: FALSE | F11: =IF(E8,(ROW()-ROW(F3))*5,((ROW(F75)-ROW())*5)) -> 40 | G11: =IF(F11-E9>=0,F11-E9,360-E9+F11) -> 40 | H11: =IF(G11=360,0,IF(MOD(G11,E2)=0,G11,"")) | I11: =IF(E13,H11,CHAR(160)) | J11: =NA() -> #N/A | Q11: =A10 -> 0 | R11: =B10 -> 0 | S11: =IF(E10,DEGREES(Q11),Q11) -> 0 | T11: =IF(E8,90-S11-E9,S11+90+E9) -> 90 | U11: =IF(E11,ABS(E6)-R11,ABS(E5)+R11) -> 0
A12: =C26 -> 650 | B12: 10 | D12: Display Spokes | E12: TRUE | F12: =IF(E8,(ROW()-ROW(F3))*5,((ROW(F75)-ROW())*5)) -> 45 | G12: =IF(F12-E9>=0,F12-E9,360-E9+F12) -> 45 | H12: =IF(G12=360,0,IF(MOD(G12,E2)=0,G12,"")) | I12: =IF(E13,H12,CHAR(160)) | J12: =NA() -> #N/A | K12: 15 | L12: =MATCH(K12,H3:H74,0) -> #N/A | M12: =IF(E8,90-INDEX(F3:F74,L12,1),INDEX(F3:F74,L12,1)+90) -> #N/A | N12: =IF(E12,+(E7),NA()) -> 10 | O12: =COS(RADIANS(M12))*N12 -> #N/A | P12: =SIN(RADIANS(M12))*N12 -> #N/A | Q12: =A11 -> 0 | R12: =B11 -> 0 | S12: =IF(E10,DEGREES(Q12),Q12) -> 0 | T12: =IF(E8,90-S12-E9,S12+90+E9) -> 90 | U12: =IF(E11,ABS(E6)-R12,ABS(E5)+R12) -> 0 | V12: =COS(RADIANS(T12))*U12 -> 0 | W12: =SIN(RADIANS(T12))*U12 -> 0
D13: Display Spoke Labels | E13: TRUE | F13: =IF(E8,(ROW()-ROW(F3))*5,((ROW(F75)-ROW())*5)) -> 50 | G13: =IF(F13-E9>=0,F13-E9,360-E9+F13) -> 50 | H13: =IF(G13=360,0,IF(MOD(G13,E2)=0,G13,"")) | I13: =IF(E13,H13,CHAR(160)) | J13: =NA() -> #N/A | K13: 15 | L13: =L12 -> #N/A | M13: =IF(E8,90-INDEX(F3:F74,L13,1),INDEX(F3:F74,L13,1)+90) -> #N/A | N13: =IF(E12,-(E7),NA()) -> -10 | O13: =COS(RADIANS(M13))*N13 -> #N/A | P13: =SIN(RADIANS(M13))*N13 -> #N/A | Q13: =A12 -> 650 | R13: =B12 -> 10 | S13: =IF(E10,DEGREES(Q13),Q13) -> 650 | T13: =IF(E8,90-S13-E9,S13+90+E9) -> -560 | U13: =IF(E11,ABS(E6)-R13,ABS(E5)+R13) -> 10 | V13: =COS(RADIANS(T13))*U13 -> -9.3969262 | W13: =SIN(RADIANS(T13))*U13 -> 3.4202014
A14: 0 | B14: 0 | D14: Display Gridlines | E14: TRUE | F14: =IF(E8,(ROW()-ROW(F3))*5,((ROW(F75)-ROW())*5)) -> 55 | G14: =IF(F14-E9>=0,F14-E9,360-E9+F14) -> 55 | H14: =IF(G14=360,0,IF(MOD(G14,E2)=0,G14,"")) | I14: =IF(E13,H14,CHAR(160)) | J14: =NA() -> #N/A | Q14: =A13 -> 0 | R14: =B13 -> 0 | S14: =IF(E10,DEGREES(Q14),Q14) -> 0 | T14: =IF(E8,90-S14-E9,S14+90+E9) -> 90 | U14: =IF(E11,ABS(E6)-R14,ABS(E5)+R14) -> 0
A15: =C27 -> 650 | B15: 10 | D15: Display Data Lines | E15: TRUE | F15: =IF(E8,(ROW()-ROW(F3))*5,((ROW(F75)-ROW())*5)) -> 60 | G15: =IF(F15-E9>=0,F15-E9,360-E9+F15) -> 60 | H15: =IF(G15=360,0,IF(MOD(G15,E2)=0,G15,"")) -> 60 | I15: =IF(E13,H15,CHAR(160)) -> 60 | J15: =NA() -> #N/A | K15: 20 | L15: =MATCH(K15,H3:H74,0) -> #N/A | M15: =IF(E8,90-INDEX(F3:F74,L15,1),INDEX(F3:F74,L15,1)+90) -> #N/A | N15: =IF(E12,+(E7),NA()) -> 10 | O15: =COS(RADIANS(M15))*N15 -> #N/A | P15: =SIN(RADIANS(M15))*N15 -> #N/A | Q15: =A14 -> 0 | R15: =B14 -> 0 | S15: =IF(E10,DEGREES(Q15),Q15) -> 0 | T15: =IF(E8,90-S15-E9,S15+90+E9) -> 90 | U15: =IF(E11,ABS(E6)-R15,ABS(E5)+R15) -> 0 | V15: =COS(RADIANS(T15))*U15 -> 0 | W15: =SIN(RADIANS(T15))*U15 -> 0
D16: Display Data Markers | E16: FALSE | F16: =IF(E8,(ROW()-ROW(F3))*5,((ROW(F75)-ROW())*5)) -> 65 | G16: =IF(F16-E9>=0,F16-E9,360-E9+F16) -> 65 | H16: =IF(G16=360,0,IF(MOD(G16,E2)=0,G16,"")) | I16: =IF(E13,H16,CHAR(160)) | J16: =NA() -> #N/A | K16: 20 | L16: =L15 -> #N/A | M16: =IF(E8,90-INDEX(F3:F74,L16,1),INDEX(F3:F74,L16,1)+90) -> #N/A | N16: =IF(E12,-(E7),NA()) -> -10 | O16: =COS(RADIANS(M16))*N16 -> #N/A | P16: =SIN(RADIANS(M16))*N16 -> #N/A | Q16: =A15 -> 650 | R16: =B15 -> 10 | S16: =IF(E10,DEGREES(Q16),Q16) -> 650 | T16: =IF(E8,90-S16-E9,S16+90+E9) -> -560 | U16: =IF(E11,ABS(E6)-R16,ABS(E5)+R16) -> 10 | V16: =COS(RADIANS(T16))*U16 -> -9.3969262 | W16: =SIN(RADIANS(T16))*U16 -> 3.4202014
A17: 0 | B17: 0 | D17: Display Legend | E17: TRUE | F17: =IF(E8,(ROW()-ROW(F3))*5,((ROW(F75)-ROW())*5)) -> 70 | G17: =IF(F17-E9>=0,F17-E9,360-E9+F17) -> 70 | H17: =IF(G17=360,0,IF(MOD(G17,E2)=0,G17,"")) | I17: =IF(E13,H17,CHAR(160)) | J17: =NA() -> #N/A | Q17: =A16 -> 0 | R17: =B16 -> 0 | S17: =IF(E10,DEGREES(Q17),Q17) -> 0 | T17: =IF(E8,90-S17-E9,S17+90+E9) -> 90 | U17: =IF(E11,ABS(E6)-R17,ABS(E5)+R17) -> 0
A18: =C28 -> 650 | B18: 10 | D18: Display Axis | E18: TRUE | F18: =IF(E8,(ROW()-ROW(F3))*5,((ROW(F75)-ROW())*5)) -> 75 | G18: =IF(F18-E9>=0,F18-E9,360-E9+F18) -> 75 | H18: =IF(G18=360,0,IF(MOD(G18,E2)=0,G18,"")) | I18: =IF(E13,H18,CHAR(160)) | J18: =NA() -> #N/A | K18: 25 | L18: =MATCH(K18,H3:H74,0) -> #N/A | M18: =IF(E8,90-INDEX(F3:F74,L18,1),INDEX(F3:F74,L18,1)+90) -> #N/A | N18: =IF(E12,+(E7),NA()) -> 10 | O18: =COS(RADIANS(M18))*N18 -> #N/A | P18: =SIN(RADIANS(M18))*N18 -> #N/A | Q18: =A17 -> 0 | R18: =B17 -> 0 | S18: =IF(E10,DEGREES(Q18),Q18) -> 0 | T18: =IF(E8,90-S18-E9,S18+90+E9) -> 90 | U18: =IF(E11,ABS(E6)-R18,ABS(E5)+R18) -> 0 | V18: =COS(RADIANS(T18))*U18 -> 0 | W18: =SIN(RADIANS(T18))*U18 -> 0
B19: 0 | D19: MinDataValue | E19: 0 | F19: =IF(E8,(ROW()-ROW(F3))*5,((ROW(F75)-ROW())*5)) -> 80 | G19: =IF(F19-E9>=0,F19-E9,360-E9+F19) -> 80 | H19: =IF(G19=360,0,IF(MOD(G19,E2)=0,G19,"")) | I19: =IF(E13,H19,CHAR(160)) | J19: =NA() -> #N/A | K19: 25 | L19: =L18 -> #N/A | M19: =IF(E8,90-INDEX(F3:F74,L19,1),INDEX(F3:F74,L19,1)+90) -> #N/A | N19: =IF(E12,-(E7),NA()) -> -10 | O19: =COS(RADIANS(M19))*N19 -> #N/A | P19: =SIN(RADIANS(M19))*N19 -> #N/A | Q19: =A18 -> 650 | R19: =B18 -> 10 | S19: =IF(E10,DEGREES(Q19),Q19) -> 650 | T19: =IF(E8,90-S19-E9,S19+90+E9) -> -560 | U19: =IF(E11,ABS(E6)-R19,ABS(E5)+R19) -> 10 | V19: =COS(RADIANS(T19))*U19 -> -9.3969262 | W19: =SIN(RADIANS(T19))*U19 -> 3.4202014
A20: 0 | B20: 0 | D20: MaxDataValue | E20: 10 | F20: =IF(E8,(ROW()-ROW(F3))*5,((ROW(F75)-ROW())*5)) -> 85 | G20: =IF(F20-E9>=0,F20-E9,360-E9+F20) -> 85 | H20: =IF(G20=360,0,IF(MOD(G20,E2)=0,G20,"")) | I20: =IF(E13,H20,CHAR(160)) | J20: =NA() -> #N/A | Q20: =A19 -> 0 | R20: =B19 -> 0 | S20: =IF(E10,DEGREES(Q20),Q20) -> 0 | T20: =IF(E8,90-S20-E9,S20+90+E9) -> 90 | U20: =IF(E11,ABS(E6)-R20,ABS(E5)+R20) -> 0
A21: =C29 -> 650 | B21: 10 | D21: DataRange | E21: ='Example10'!$A$1:$B$21 | F21: =IF(E8,(ROW()-ROW(F3))*5,((ROW(F75)-ROW())*5)) -> 90 | G21: =IF(F21-E9>=0,F21-E9,360-E9+F21) -> 90 | H21: =IF(G21=360,0,IF(MOD(G21,E2)=0,G21,"")) -> 90 | I21: =IF(E13,H21,CHAR(160)) -> 90 | J21: =NA() -> #N/A | K21: 30 | L21: =MATCH(K21,H3:H74,0) -> 7 | M21: =IF(E8,90-INDEX(F3:F74,L21,1),INDEX(F3:F74,L21,1)+90) -> 60 | N21: =IF(E12,+(E7),NA()) -> 10 | O21: =COS(RADIANS(M21))*N21 -> 5 | P21: =SIN(RADIANS(M21))*N21 -> 8.660254 | Q21: =A20 -> 0 | R21: =B20 -> 0 | S21: =IF(E10,DEGREES(Q21),Q21) -> 0 | T21: =IF(E8,90-S21-E9,S21+90+E9) -> 90 | U21: =IF(E11,ABS(E6)-R21,ABS(E5)+R21) -> 0 | V21: =COS(RADIANS(T21))*U21 -> 0 | W21: =SIN(RADIANS(T21))*U21 -> 0
D22: DataChanged | E22: FAUX | F22: =IF(E8,(ROW()-ROW(F3))*5,((ROW(F75)-ROW())*5)) -> 95 | G22: =IF(F22-E9>=0,F22-E9,360-E9+F22) -> 95 | H22: =IF(G22=360,0,IF(MOD(G22,E2)=0,G22,"")) | I22: =IF(E13,H22,CHAR(160)) | J22: =NA() -> #N/A | K22: 30 | L22: =L21 -> 7 | M22: =IF(E8,90-INDEX(F3:F74,L22,1),INDEX(F3:F74,L22,1)+90) -> 60 | N22: =IF(E12,-(E7),NA()) -> -10 | O22: =COS(RADIANS(M22))*N22 -> -5 | P22: =SIN(RADIANS(M22))*N22 -> -8.660254 | Q22: =A21 -> 650 | R22: =B21 -> 10 | S22: =IF(E10,DEGREES(Q22),Q22) -> 650 | T22: =IF(E8,90-S22-E9,S22+90+E9) -> -560 | U22: =IF(E11,ABS(E6)-R22,ABS(E5)+R22) -> 10 | V22: =COS(RADIANS(T22))*U22 -> -9.3969262 | W22: =SIN(RADIANS(T22))*U22 -> 3.4202014
A23: 0 | B23: 0 | C23: =B115 -> 290 | F23: =IF(E8,(ROW()-ROW(F3))*5,((ROW(F75)-ROW())*5)) -> 100 | G23: =IF(F23-E9>=0,F23-E9,360-E9+F23) -> 100 | H23: =IF(G23=360,0,IF(MOD(G23,E2)=0,G23,"")) | I23: =IF(E13,H23,CHAR(160)) | J23: =NA() -> #N/A
A24: =C30 -> 650 | B24: 10 | C24: =B116 -> 300 | F24: =IF(E8,(ROW()-ROW(F3))*5,((ROW(F75)-ROW())*5)) -> 105 | G24: =IF(F24-E9>=0,F24-E9,360-E9+F24) -> 105 | H24: =IF(G24=360,0,IF(MOD(G24,E2)=0,G24,"")) | I24: =IF(E13,H24,CHAR(160)) | J24: =NA() -> #N/A | K24: 35 | L24: =MATCH(K24,H3:H74,0) -> #N/A | M24: =IF(E8,90-INDEX(F3:F74,L24,1),INDEX(F3:F74,L24,1)+90) -> #N/A | N24: =IF(E12,+(E7),NA()) -> 10 | O24: =COS(RADIANS(M24))*N24 -> #N/A | P24: =SIN(RADIANS(M24))*N24 -> #N/A | Q24: =A23 -> 0 | R24: =B23 -> 0 | S24: =IF(E31,DEGREES(Q24),Q24) -> 0 | T24: =IF($E$8,90-S24-E30,S24+90+E30) -> 90 | U24: =IF(E32,ABS(E27)-R24,ABS(E26)+R24) -> 0 | V24: =COS(RADIANS(T24))*U24 -> 0 | W24: =SIN(RADIANS(T24))*U24 -> 0
C25: =B117 -> 310 | F25: =IF(E8,(ROW()-ROW(F3))*5,((ROW(F75)-ROW())*5)) -> 110 | G25: =IF(F25-E9>=0,F25-E9,360-E9+F25) -> 110 | H25: =IF(G25=360,0,IF(MOD(G25,E2)=0,G25,"")) | I25: =IF(E13,H25,CHAR(160)) | J25: =NA() -> #N/A | K25: 35 | L25: =L24 -> #N/A | M25: =IF(E8,90-INDEX(F3:F74,L25,1),INDEX(F3:F74,L25,1)+90) -> #N/A | N25: =IF(E12,-(E7),NA()) -> -10 | O25: =COS(RADIANS(M25))*N25 -> #N/A | P25: =SIN(RADIANS(M25))*N25 -> #N/A | Q25: =A24 -> 650 | R25: =B24 -> 10 | S25: =IF(E31,DEGREES(Q25),Q25) -> 650 | T25: =IF($E$8,90-S25-E31,S25+90+E31) -> -560 | U25: =IF(E32,ABS(E27)-R25,ABS(E26)+R25) -> 10 | V25: =COS(RADIANS(T25))*U25 -> -9.3969262 | W25: =SIN(RADIANS(T25))*U25 -> 3.4202014
A26: 0 | B26: 0 | C26: =B118 -> 650 | F26: =IF(E8,(ROW()-ROW(F3))*5,((ROW(F75)-ROW())*5)) -> 115 | G26: =IF(F26-E9>=0,F26-E9,360-E9+F26) -> 115 | H26: =IF(G26=360,0,IF(MOD(G26,E2)=0,G26,"")) | I26: =IF(E13,H26,CHAR(160)) | J26: =NA() -> #N/A | Q26: =A25 -> 0 | R26: =B25 -> 0 | S26: =IF(E31,DEGREES(Q26),Q26) -> 0 | T26: =IF($E$8,90-S26-E32,S26+90+E32) -> 90 | U26: =IF(E32,ABS(E27)-R26,ABS(E26)+R26) -> 0
A27: =C31 -> 650 | B27: 10 | C27: =B119 -> 650 | F27: =IF(E8,(ROW()-ROW(F3))*5,((ROW(F75)-ROW())*5)) -> 120 | G27: =IF(F27-E9>=0,F27-E9,360-E9+F27) -> 120 | H27: =IF(G27=360,0,IF(MOD(G27,E2)=0,G27,"")) -> 120 | I27: =IF(E13,H27,CHAR(160)) -> 120 | J27: =NA() -> #N/A | K27: 40 | L27: =MATCH(K27,H3:H74,0) -> #N/A | M27: =IF(E8,90-INDEX(F3:F74,L27,1),INDEX(F3:F74,L27,1)+90) -> #N/A | N27: =IF(E12,+(E7),NA()) -> 10 | O27: =COS(RADIANS(M27))*N27 -> #N/A | P27: =SIN(RADIANS(M27))*N27 -> #N/A | Q27: =A26 -> 0 | R27: =B26 -> 0 | S27: =IF(E31,DEGREES(Q27),Q27) -> 0 | T27: =IF($E$8,90-S27-E33,S27+90+E33) -> 90 | U27: =IF(E32,ABS(E27)-R27,ABS(E26)+R27) -> 0 | V27: =COS(RADIANS(T27))*U27 -> 0 | W27: =SIN(RADIANS(T27))*U27 -> 0
C28: =B120 -> 650 | F28: =IF(E8,(ROW()-ROW(F3))*5,((ROW(F75)-ROW())*5)) -> 125 | G28: =IF(F28-E9>=0,F28-E9,360-E9+F28) -> 125 | H28: =IF(G28=360,0,IF(MOD(G28,E2)=0,G28,"")) | I28: =IF(E13,H28,CHAR(160)) | J28: =NA() -> #N/A | K28: 40 | L28: =L27 -> #N/A | M28: =IF(E8,90-INDEX(F3:F74,L28,1),INDEX(F3:F74,L28,1)+90) -> #N/A | N28: =IF(E12,-(E7),NA()) -> -10 | O28: =COS(RADIANS(M28))*N28 -> #N/A | P28: =SIN(RADIANS(M28))*N28 -> #N/A | Q28: =A27 -> 650 | R28: =B27 -> 10 | S28: =IF(E31,DEGREES(Q28),Q28) -> 650 | T28: =IF($E$8,90-S28-E34,S28+90+E34) -> -560 | U28: =IF(E32,ABS(E27)-R28,ABS(E26)+R28) -> 10 | V28: =COS(RADIANS(T28))*U28 -> -9.3969262 | W28: =SIN(RADIANS(T28))*U28 -> 3.4202014
A29: 0 | B29: 0 | C29: =B121 -> 650 | F29: =IF(E8,(ROW()-ROW(F3))*5,((ROW(F75)-ROW())*5)) -> 130 | G29: =IF(F29-E9>=0,F29-E9,360-E9+F29) -> 130 | H29: =IF(G29=360,0,IF(MOD(G29,E2)=0,G29,"")) | I29: =IF(E13,H29,CHAR(160)) | J29: =NA() -> #N/A | Q29: =A28 -> 0 | R29: =B28 -> 0 | S29: =IF(E31,DEGREES(Q29),Q29) -> 0 | T29: =IF($E$8,90-S29-E35,S29+90+E35) -> 90 | U29: =IF(E32,ABS(E27)-R29,ABS(E26)+R29) -> 0
A30: =C32 -> 650 | B30: 10 | C30: =B122 -> 650 | F30: =IF(E8,(ROW()-ROW(F3))*5,((ROW(F75)-ROW())*5)) -> 135 | G30: =IF(F30-E9>=0,F30-E9,360-E9+F30) -> 135 | H30: =IF(G30=360,0,IF(MOD(G30,E2)=0,G30,"")) | I30: =IF(E13,H30,CHAR(160)) | J30: =NA() -> #N/A | K30: 45 | L30: =MATCH(K30,H3:H74,0) -> #N/A | M30: =IF(E8,90-INDEX(F3:F74,L30,1),INDEX(F3:F74,L30,1)+90) -> #N/A | N30: =IF(E12,+(E7),NA()) -> 10 | O30: =COS(RADIANS(M30))*N30 -> #N/A | P30: =SIN(RADIANS(M30))*N30 -> #N/A | Q30: =A29 -> 0 | R30: =B29 -> 0 | S30: =IF(E31,DEGREES(Q30),Q30) -> 0 | T30: =IF($E$8,90-S30-E36,S30+90+E36) -> 90 | U30: =IF(E32,ABS(E27)-R30,ABS(E26)+R30) -> 0 | V30: =COS(RADIANS(T30))*U30 -> 0 | W30: =SIN(RADIANS(T30))*U30 -> 0
C31: =B123 -> 650 | F31: =IF(E8,(ROW()-ROW(F3))*5,((ROW(F75)-ROW())*5)) -> 140 | G31: =IF(F31-E9>=0,F31-E9,360-E9+F31) -> 140 | H31: =IF(G31=360,0,IF(MOD(G31,E2)=0,G31,"")) | I31: =IF(E13,H31,CHAR(160)) | J31: =NA() -> #N/A | K31: 45 | L31: =L30 -> #N/A | M31: =IF(E8,90-INDEX(F3:F74,L31,1),INDEX(F3:F74,L31,1)+90) -> #N/A | N31: =IF(E12,-(E7),NA()) -> -10 | O31: =COS(RADIANS(M31))*N31 -> #N/A | P31: =SIN(RADIANS(M31))*N31 -> #N/A | Q31: =A30 -> 650 | R31: =B30 -> 10 | S31: =IF(E31,DEGREES(Q31),Q31) -> 650 | T31: =IF($E$8,90-S31-E37,S31+90+E37) -> -560 | U31: =IF(E32,ABS(E27)-R31,ABS(E26)+R31) -> 10 | V31: =COS(RADIANS(T31))*U31 -> -9.3969262 | W31: =SIN(RADIANS(T31))*U31 -> 3.4202014
A32: 0 | B32: 0 | C32: =B124 -> 650 | F32: =IF(E8,(ROW()-ROW(F3))*5,((ROW(F75)-ROW())*5)) -> 145 | G32: =IF(F32-E9>=0,F32-E9,360-E9+F32) -> 145 | H32: =IF(G32=360,0,IF(MOD(G32,E2)=0,G32,"")) | I32: =IF(E13,H32,CHAR(160)) | J32: =NA() -> #N/A | Q32: =A31 -> 0 | R32: =B31 -> 0 | S32: =IF(E31,DEGREES(Q32),Q32) -> 0 | T32: =IF($E$8,90-S32-E38,S32+90+E38) -> 90 | U32: =IF(E32,ABS(E27)-R32,ABS(E26)+R32) -> 0
A33: =C33 -> 650 | B33: 10 | C33: =B125 -> 650 | F33: =IF(E8,(ROW()-ROW(F3))*5,((ROW(F75)-ROW())*5)) -> 150 | G33: =IF(F33-E9>=0,F33-E9,360-E9+F33) -> 150 | H33: =IF(G33=360,0,IF(MOD(G33,E2)=0,G33,"")) -> 150 | I33: =IF(E13,H33,CHAR(160)) -> 150 | J33: =NA() -> #N/A | K33: 50 | L33: =MATCH(K33,H3:H74,0) -> #N/A | M33: =IF(E8,90-INDEX(F3:F74,L33,1),INDEX(F3:F74,L33,1)+90) -> #N/A | N33: =IF(E12,+(E7),NA()) -> 10 | O33: =COS(RADIANS(M33))*N33 -> #N/A | P33: =SIN(RADIANS(M33))*N33 -> #N/A | Q33: =A32 -> 0 | R33: =B32 -> 0 | S33: =IF(E31,DEGREES(Q33),Q33) -> 0 | T33: =IF($E$8,90-S33-E39,S33+90+E39) -> 90 | U33: =IF(E32,ABS(E27)-R33,ABS(E26)+R33) -> 0 | V33: =COS(RADIANS(T33))*U33 -> 0 | W33: =SIN(RADIANS(T33))*U33 -> 0
C34: =B126 -> 650 | F34: =IF(E8,(ROW()-ROW(F3))*5,((ROW(F75)-ROW())*5)) -> 155 | G34: =IF(F34-E9>=0,F34-E9,360-E9+F34) -> 155 | H34: =IF(G34=360,0,IF(MOD(G34,E2)=0,G34,"")) | I34: =IF(E13,H34,CHAR(160)) | J34: =NA() -> #N/A | K34: 50 | L34: =L33 -> #N/A | M34: =IF(E8,90-INDEX(F3:F74,L34,1),INDEX(F3:F74,L34,1)+90) -> #N/A | N34: =IF(E12,-(E7),NA()) -> -10 | O34: =COS(RADIANS(M34))*N34 -> #N/A | P34: =SIN(RADIANS(M34))*N34 -> #N/A | Q34: =A33 -> 650 | R34: =B33 -> 10 | S34: =IF(E31,DEGREES(Q34),Q34) -> 650 | T34: =IF($E$8,90-S34-E40,S34+90+E40) -> -560 | U34: =IF(E32,ABS(E27)-R34,ABS(E26)+R34) -> 10 | V34: =COS(RADIANS(T34))*U34 -> -9.3969262 | W34: =SIN(RADIANS(T34))*U34 -> 3.4202014
A35: 0 | B35: 0 | C35: =B127 -> 650 | F35: =IF(E8,(ROW()-ROW(F3))*5,((ROW(F75)-ROW())*5)) -> 160 | G35: =IF(F35-E9>=0,F35-E9,360-E9+F35) -> 160 | H35: =IF(G35=360,0,IF(MOD(G35,E2)=0,G35,"")) | I35: =IF(E13,H35,CHAR(160)) | J35: =NA() -> #N/A | Q35: =A34 -> 0 | R35: =B34 -> 0 | S35: =IF(E31,DEGREES(Q35),Q35) -> 0 | T35: =IF($E$8,90-S35-E41,S35+90+E41) -> 90 | U35: =IF(E32,ABS(E27)-R35,ABS(E26)+R35) -> 0
A36: =C34 -> 650 | B36: 10 | C36: =B128 -> 650 | F36: =IF(E8,(ROW()-ROW(F3))*5,((ROW(F75)-ROW())*5)) -> 165 | G36: =IF(F36-E9>=0,F36-E9,360-E9+F36) -> 165 | H36: =IF(G36=360,0,IF(MOD(G36,E2)=0,G36,"")) | I36: =IF(E13,H36,CHAR(160)) | J36: =NA() -> #N/A | K36: 55 | L36: =MATCH(K36,H3:H74,0) -> #N/A | M36: =IF(E8,90-INDEX(F3:F74,L36,1),INDEX(F3:F74,L36,1)+90) -> #N/A | N36: =IF(E12,+(E7),NA()) -> 10 | O36: =COS(RADIANS(M36))*N36 -> #N/A | P36: =SIN(RADIANS(M36))*N36 -> #N/A | Q36: =A35 -> 0 | R36: =B35 -> 0 | S36: =IF(E31,DEGREES(Q36),Q36) -> 0 | T36: =IF($E$8,90-S36-E42,S36+90+E42) -> 90 | U36: =IF(E32,ABS(E27)-R36,ABS(E26)+R36) -> 0 | V36: =COS(RADIANS(T36))*U36 -> 0 | W36: =SIN(RADIANS(T36))*U36 -> 0
C37: =B129 -> 650 | F37: =IF(E8,(ROW()-ROW(F3))*5,((ROW(F75)-ROW())*5)) -> 170 | G37: =IF(F37-E9>=0,F37-E9,360-E9+F37) -> 170 | H37: =IF(G37=360,0,IF(MOD(G37,E2)=0,G37,"")) | I37: =IF(E13,H37,CHAR(160)) | J37: =NA() -> #N/A | K37: 55 | L37: =L36 -> #N/A | M37: =IF(E8,90-INDEX(F3:F74,L37,1),INDEX(F3:F74,L37,1)+90) -> #N/A | N37: =IF(E12,-(E7),NA()) -> -10 | O37: =COS(RADIANS(M37))*N37 -> #N/A | P37: =SIN(RADIANS(M37))*N37 -> #N/A | Q37: =A36 -> 650 | R37: =B36 -> 10 | S37: =IF(E31,DEGREES(Q37),Q37) -> 650 | T37: =IF($E$8,90-S37-E43,S37+90+E43) -> -560 | U37: =IF(E32,ABS(E27)-R37,ABS(E26)+R37) -> 10 | V37: =COS(RADIANS(T37))*U37 -> -9.3969262 | W37: =SIN(RADIANS(T37))*U37 -> 3.4202014
A38: 0 | B38: 0 | C38: =B130 -> 650 | F38: =IF(E8,(ROW()-ROW(F3))*5,((ROW(F75)-ROW())*5)) -> 175 | G38: =IF(F38-E9>=0,F38-E9,360-E9+F38) -> 175 | H38: =IF(G38=360,0,IF(MOD(G38,E2)=0,G38,"")) | I38: =IF(E13,H38,CHAR(160)) | J38: =NA() -> #N/A | Q38: =A37 -> 0 | R38: =B37 -> 0 | S38: =IF(E31,DEGREES(Q38),Q38) -> 0 | T38: =IF($E$8,90-S38-E44,S38+90+E44) -> 90 | U38: =IF(E32,ABS(E27)-R38,ABS(E26)+R38) -> 0
A39: =C35 -> 650 | B39: 10 | C39: =B131 -> 650 | F39: =IF(E8,(ROW()-ROW(F3))*5,((ROW(F75)-ROW())*5)) -> 180 | G39: =IF(F39-E9>=0,F39-E9,360-E9+F39) -> 180 | H39: =IF(G39=360,0,IF(MOD(G39,E2)=0,G39,"")) -> 180 | I39: =IF(E13,H39,CHAR(160)) -> 180 | J39: =NA() -> #N/A | K39: 60 | L39: =MATCH(K39,H3:H74,0) -> 13 | M39: =IF(E8,90-INDEX(F3:F74,L39,1),INDEX(F3:F74,L39,1)+90) -> 30 | N39: =IF(E12,+(E7),NA()) -> 10 | O39: =COS(RADIANS(M39))*N39 -> 8.660254 | P39: =SIN(RADIANS(M39))*N39 -> 5 | Q39: =A38 -> 0 | R39: =B38 -> 0 | S39: =IF(E31,DEGREES(Q39),Q39) -> 0 | T39: =IF($E$8,90-S39-E45,S39+90+E45) -> 90 | U39: =IF(E32,ABS(E27)-R39,ABS(E26)+R39) -> 0 | V39: =COS(RADIANS(T39))*U39 -> 0 | W39: =SIN(RADIANS(T39))*U39 -> 0
B40: 0 | C40: =B132 -> 650 | F40: =IF(E8,(ROW()-ROW(F3))*5,((ROW(F75)-ROW())*5)) -> 185 | G40: =IF(F40-E9>=0,F40-E9,360-E9+F40) -> 185 | H40: =IF(G40=360,0,IF(MOD(G40,E2)=0,G40,"")) | I40: =IF(E13,H40,CHAR(160)) | J40: =NA() -> #N/A | K40: 60 | L40: =L39 -> 13 | M40: =IF(E8,90-INDEX(F3:F74,L40,1),INDEX(F3:F74,L40,1)+90) -> 30 | N40: =IF(E12,-(E7),NA()) -> -10 | O40: =COS(RADIANS(M40))*N40 -> -8.660254 | P40: =SIN(RADIANS(M40))*N40 -> -5 | Q40: =A39 -> 650 | R40: =B39 -> 10 | S40: =IF(E31,DEGREES(Q40),Q40) -> 650 | T40: =IF($E$8,90-S40-E46,S40+90+E46) -> -560 | U40: =IF(E32,ABS(E27)-R40,ABS(E26)+R40) -> 10 | V40: =COS(RADIANS(T40))*U40 -> -9.3969262 | W40: =SIN(RADIANS(T40))*U40 -> 3.4202014
A41: 0 | B41: 0 | C41: =B133 -> 650 | F41: =IF(E8,(ROW()-ROW(F3))*5,((ROW(F75)-ROW())*5)) -> 190 | G41: =IF(F41-E9>=0,F41-E9,360-E9+F41) -> 190 | H41: =IF(G41=360,0,IF(MOD(G41,E2)=0,G41,"")) | I41: =IF(E13,H41,CHAR(160)) | J41: =NA() -> #N/A | Q41: =A40 -> 0 | R41: =B40 -> 0 | S41: =IF(E31,DEGREES(Q41),Q41) -> 0 | T41: =IF($E$8,90-S41-E47,S41+90+E47) -> 90 | U41: =IF(E32,ABS(E27)-R41,ABS(E26)+R41) -> 0
A42: =C36 -> 650 | B42: 10 | C42: =B134 -> 650 | F42: =IF(E8,(ROW()-ROW(F3))*5,((ROW(F75)-ROW())*5)) -> 195 | G42: =IF(F42-E9>=0,F42-E9,360-E9+F42) -> 195 | H42: =IF(G42=360,0,IF(MOD(G42,E2)=0,G42,"")) | I42: =IF(E13,H42,CHAR(160)) | J42: =NA() -> #N/A | K42: 65 | L42: =MATCH(K42,H3:H74,0) -> #N/A | M42: =IF(E8,90-INDEX(F3:F74,L42,1),INDEX(F3:F74,L42,1)+90) -> #N/A | N42: =IF(E12,+(E7),NA()) -> 10 | O42: =COS(RADIANS(M42))*N42 -> #N/A | P42: =SIN(RADIANS(M42))*N42 -> #N/A | Q42: =A41 -> 0 | R42: =B41 -> 0 | S42: =IF(E31,DEGREES(Q42),Q42) -> 0 | T42: =IF($E$8,90-S42-E48,S42+90+E48) -> 90 | U42: =IF(E32,ABS(E27)-R42,ABS(E26)+R42) -> 0 | V42: =COS(RADIANS(T42))*U42 -> 0 | W42: =SIN(RADIANS(T42))*U42 -> 0
C43: =B135 -> 650 | F43: =IF(E8,(ROW()-ROW(F3))*5,((ROW(F75)-ROW())*5)) -> 200 | G43: =IF(F43-E9>=0,F43-E9,360-E9+F43) -> 200 | H43: =IF(G43=360,0,IF(MOD(G43,E2)=0,G43,"")) | I43: =IF(E13,H43,CHAR(160)) | J43: =NA() -> #N/A | K43: 65 | L43: =L42 -> #N/A | M43: =IF(E8,90-INDEX(F3:F74,L43,1),INDEX(F3:F74,L43,1)+90) -> #N/A | N43: =IF(E12,-(E7),NA()) -> -10 | O43: =COS(RADIANS(M43))*N43 -> #N/A | P43: =SIN(RADIANS(M43))*N43 -> #N/A | Q43: =A42 -> 650 | R43: =B42 -> 10 | S43: =IF(E31,DEGREES(Q43),Q43) -> 650 | T43: =IF($E$8,90-S43-E49,S43+90+E49) -> -560 | U43: =IF(E32,ABS(E27)-R43,ABS(E26)+R43) -> 10 | V43: =COS(RADIANS(T43))*U43 -> -9.3969262 | W43: =SIN(RADIANS(T43))*U43 -> 3.4202014
A44: 0 | B44: 0 | C44: =B136 -> 650 | F44: =IF(E8,(ROW()-ROW(F3))*5,((ROW(F75)-ROW())*5)) -> 205 | G44: =IF(F44-E9>=0,F44-E9,360-E9+F44) -> 205 | H44: =IF(G44=360,0,IF(MOD(G44,E2)=0,G44,"")) | I44: =IF(E13,H44,CHAR(160)) | J44: =NA() -> #N/A
A45: =C37 -> 650 | B45: 10 | C45: =B137 -> 650 | F45: =IF(E8,(ROW()-ROW(F3))*5,((ROW(F75)-ROW())*5)) -> 210 | G45: =IF(F45-E9>=0,F45-E9,360-E9+F45) -> 210 | H45: =IF(G45=360,0,IF(MOD(G45,E2)=0,G45,"")) -> 210 | I45: =IF(E13,H45,CHAR(160)) -> 210 | J45: =NA() -> #N/A | K45: 70 | L45: =MATCH(K45,H3:H74,0) -> #N/A | M45: =IF(E8,90-INDEX(F3:F74,L45,1),INDEX(F3:F74,L45,1)+90) -> #N/A | N45: =IF(E12,+(E7),NA()) -> 10 | O45: =COS(RADIANS(M45))*N45 -> #N/A | P45: =SIN(RADIANS(M45))*N45 -> #N/A | Q45: =A44 -> 0 | R45: =B44 -> 0 | S45: =IF(E52,DEGREES(Q45),Q45) -> 0 | T45: =IF($E$8,90-S45-E51,S45+90+E51) -> 90 | U45: =IF(E53,ABS(E48)-R45,ABS(E47)+R45) -> 0 | V45: =COS(RADIANS(T45))*U45 -> 0 | W45: =SIN(RADIANS(T45))*U45 -> 0
C46: =B138 -> 650 | F46: =IF(E8,(ROW()-ROW(F3))*5,((ROW(F75)-ROW())*5)) -> 215 | G46: =IF(F46-E9>=0,F46-E9,360-E9+F46) -> 215 | H46: =IF(G46=360,0,IF(MOD(G46,E2)=0,G46,"")) | I46: =IF(E13,H46,CHAR(160)) | J46: =NA() -> #N/A | K46: 70 | L46: =L45 -> #N/A | M46: =IF(E8,90-INDEX(F3:F74,L46,1),INDEX(F3:F74,L46,1)+90) -> #N/A | N46: =IF(E12,-(E7),NA()) -> -10 | O46: =COS(RADIANS(M46))*N46 -> #N/A | P46: =SIN(RADIANS(M46))*N46 -> #N/A | Q46: =A45 -> 650 | R46: =B45 -> 10 | S46: =IF(E52,DEGREES(Q46),Q46) -> 650 | T46: =IF($E$8,90-S46-E52,S46+90+E52) -> -560 | U46: =IF(E53,ABS(E48)-R46,ABS(E47)+R46) -> 10 | V46: =COS(RADIANS(T46))*U46 -> -9.3969262 | W46: =SIN(RADIANS(T46))*U46 -> 3.4202014
A47: 0 | B47: 0 | C47: =B139 -> 650 | F47: =IF(E8,(ROW()-ROW(F3))*5,((ROW(F75)-ROW())*5)) -> 220 | G47: =IF(F47-E9>=0,F47-E9,360-E9+F47) -> 220 | H47: =IF(G47=360,0,IF(MOD(G47,E2)=0,G47,"")) | I47: =IF(E13,H47,CHAR(160)) | J47: =NA() -> #N/A | Q47: =A46 -> 0 | R47: =B46 -> 0 | S47: =IF(E52,DEGREES(Q47),Q47) -> 0 | T47: =IF($E$8,90-S47-E53,S47+90+E53) -> 90 | U47: =IF(E53,ABS(E48)-R47,ABS(E47)+R47) -> 0
A48: =C38 -> 650 | B48: 10 | C48: =B140 -> 650 | F48: =IF(E8,(ROW()-ROW(F3))*5,((ROW(F75)-ROW())*5)) -> 225 | G48: =IF(F48-E9>=0,F48-E9,360-E9+F48) -> 225 | H48: =IF(G48=360,0,IF(MOD(G48,E2)=0,G48,"")) | I48: =IF(E13,H48,CHAR(160)) | J48: =NA() -> #N/A | K48: 75 | L48: =MATCH(K48,H3:H74,0) -> #N/A | M48: =IF(E8,90-INDEX(F3:F74,L48,1),INDEX(F3:F74,L48,1)+90) -> #N/A | N48: =IF(E12,+(E7),NA()) -> 10 | O48: =COS(RADIANS(M48))*N48 -> #N/A | P48: =SIN(RADIANS(M48))*N48 -> #N/A | Q48: =A47 -> 0 | R48: =B47 -> 0 | S48: =IF(E52,DEGREES(Q48),Q48) -> 0 | T48: =IF($E$8,90-S48-E54,S48+90+E54) -> 90 | U48: =IF(E53,ABS(E48)-R48,ABS(E47)+R48) -> 0 | V48: =COS(RADIANS(T48))*U48 -> 0 | W48: =SIN(RADIANS(T48))*U48 -> 0
C49: =B141 -> 650 | F49: =IF(E8,(ROW()-ROW(F3))*5,((ROW(F75)-ROW())*5)) -> 230 | G49: =IF(F49-E9>=0,F49-E9,360-E9+F49) -> 230 | H49: =IF(G49=360,0,IF(MOD(G49,E2)=0,G49,"")) | I49: =IF(E13,H49,CHAR(160)) | J49: =NA() -> #N/A | K49: 75 | L49: =L48 -> #N/A | M49: =IF(E8,90-INDEX(F3:F74,L49,1),INDEX(F3:F74,L49,1)+90) -> #N/A | N49: =IF(E12,-(E7),NA()) -> -10 | O49: =COS(RADIANS(M49))*N49 -> #N/A | P49: =SIN(RADIANS(M49))*N49 -> #N/A | Q49: =A48 -> 650 | R49: =B48 -> 10 | S49: =IF(E52,DEGREES(Q49),Q49) -> 650 | T49: =IF($E$8,90-S49-E55,S49+90+E55) -> -560 | U49: =IF(E53,ABS(E48)-R49,ABS(E47)+R49) -> 10 | V49: =COS(RADIANS(T49))*U49 -> -9.3969262 | W49: =SIN(RADIANS(T49))*U49 -> 3.4202014
A50: 0 | B50: 0 | C50: =B142 -> 650 | F50: =IF(E8,(ROW()-ROW(F3))*5,((ROW(F75)-ROW())*5)) -> 235 | G50: =IF(F50-E9>=0,F50-E9,360-E9+F50) -> 235 | H50: =IF(G50=360,0,IF(MOD(G50,E2)=0,G50,"")) | I50: =IF(E13,H50,CHAR(160)) | J50: =NA() -> #N/A | Q50: =A49 -> 0 | R50: =B49 -> 0 | S50: =IF(E52,DEGREES(Q50),Q50) -> 0 | T50: =IF($E$8,90-S50-E56,S50+90+E56) -> 90 | U50: =IF(E53,ABS(E48)-R50,ABS(E47)+R50) -> 0
A51: =C39 -> 650 | B51: 10 | C51: =B143 -> 0 | F51: =IF(E8,(ROW()-ROW(F3))*5,((ROW(F75)-ROW())*5)) -> 240 | G51: =IF(F51-E9>=0,F51-E9,360-E9+F51) -> 240 | H51: =IF(G51=360,0,IF(MOD(G51,E2)=0,G51,"")) -> 240 | I51: =IF(E13,H51,CHAR(160)) -> 240 | J51: =NA() -> #N/A | K51: 80 | L51: =MATCH(K51,H3:H74,0) -> #N/A | M51: =IF(E8,90-INDEX(F3:F74,L51,1),INDEX(F3:F74,L51,1)+90) -> #N/A | N51: =IF(E12,+(E7),NA()) -> 10 | O51: =COS(RADIANS(M51))*N51 -> #N/A | P51: =SIN(RADIANS(M51))*N51 -> #N/A | Q51: =A50 -> 0 | R51: =B50 -> 0 | S51: =IF(E52,DEGREES(Q51),Q51) -> 0 | T51: =IF($E$8,90-S51-E57,S51+90+E57) -> 90 | U51: =IF(E53,ABS(E48)-R51,ABS(E47)+R51) -> 0 | V51: =COS(RADIANS(T51))*U51 -> 0 | W51: =SIN(RADIANS(T51))*U51 -> 0
F52: =IF(E8,(ROW()-ROW(F3))*5,((ROW(F75)-ROW())*5)) -> 245 | G52: =IF(F52-E9>=0,F52-E9,360-E9+F52) -> 245 | H52: =IF(G52=360,0,IF(MOD(G52,E2)=0,G52,"")) | I52: =IF(E13,H52,CHAR(160)) | J52: =NA() -> #N/A | K52: 80 | L52: =L51 -> #N/A | M52: =IF(E8,90-INDEX(F3:F74,L52,1),INDEX(F3:F74,L52,1)+90) -> #N/A | N52: =IF(E12,-(E7),NA()) -> -10 | O52: =COS(RADIANS(M52))*N52 -> #N/A | P52: =SIN(RADIANS(M52))*N52 -> #N/A | Q52: =A51 -> 650 | R52: =B51 -> 10 | S52: =IF(E52,DEGREES(Q52),Q52) -> 650 | T52: =IF($E$8,90-S52-E58,S52+90+E58) -> -560 | U52: =IF(E53,ABS(E48)-R52,ABS(E47)+R52) -> 10 | V52: =COS(RADIANS(T52))*U52 -> -9.3969262 | W52: =SIN(RADIANS(T52))*U52 -> 3.4202014
A53: 0 | B53: 0 | F53: =IF(E8,(ROW()-ROW(F3))*5,((ROW(F75)-ROW())*5)) -> 250 | G53: =IF(F53-E9>=0,F53-E9,360-E9+F53) -> 250 | H53: =IF(G53=360,0,IF(MOD(G53,E2)=0,G53,"")) | I53: =IF(E13,H53,CHAR(160)) | J53: =NA() -> #N/A | Q53: =A52 -> 0 | R53: =B52 -> 0 | S53: =IF(E52,DEGREES(Q53),Q53) -> 0 | T53: =IF($E$8,90-S53-E59,S53+90+E59) -> 90 | U53: =IF(E53,ABS(E48)-R53,ABS(E47)+R53) -> 0
A54: =C40 -> 650 | B54: 10 | F54: =IF(E8,(ROW()-ROW(F3))*5,((ROW(F75)-ROW())*5)) -> 255 | G54: =IF(F54-E9>=0,F54-E9,360-E9+F54) -> 255 | H54: =IF(G54=360,0,IF(MOD(G54,E2)=0,G54,"")) | I54: =IF(E13,H54,CHAR(160)) | J54: =NA() -> #N/A | K54: 85 | L54: =MATCH(K54,H3:H74,0) -> #N/A | M54: =IF(E8,90-INDEX(F3:F74,L54,1),INDEX(F3:F74,L54,1)+90) -> #N/A | N54: =IF(E12,+(E7),NA()) -> 10 | O54: =COS(RADIANS(M54))*N54 -> #N/A | P54: =SIN(RADIANS(M54))*N54 -> #N/A | Q54: =A53 -> 0 | R54: =B53 -> 0 | S54: =IF(E52,DEGREES(Q54),Q54) -> 0 | T54: =IF($E$8,90-S54-E60,S54+90+E60) -> 90 | U54: =IF(E53,ABS(E48)-R54,ABS(E47)+R54) -> 0 | V54: =COS(RADIANS(T54))*U54 -> 0 | W54: =SIN(RADIANS(T54))*U54 -> 0
F55: =IF(E8,(ROW()-ROW(F3))*5,((ROW(F75)-ROW())*5)) -> 260 | G55: =IF(F55-E9>=0,F55-E9,360-E9+F55) -> 260 | H55: =IF(G55=360,0,IF(MOD(G55,E2)=0,G55,"")) | I55: =IF(E13,H55,CHAR(160)) | J55: =NA() -> #N/A | K55: 85 | L55: =L54 -> #N/A | M55: =IF(E8,90-INDEX(F3:F74,L55,1),INDEX(F3:F74,L55,1)+90) -> #N/A | N55: =IF(E12,-(E7),NA()) -> -10 | O55: =COS(RADIANS(M55))*N55 -> #N/A | P55: =SIN(RADIANS(M55))*N55 -> #N/A | Q55: =A54 -> 650 | R55: =B54 -> 10 | S55: =IF(E52,DEGREES(Q55),Q55) -> 650 | T55: =IF($E$8,90-S55-E61,S55+90+E61) -> -560 | U55: =IF(E53,ABS(E48)-R55,ABS(E47)+R55) -> 10 | V55: =COS(RADIANS(T55))*U55 -> -9.3969262 | W55: =SIN(RADIANS(T55))*U55 -> 3.4202014
A56: 0 | B56: 0 | F56: =IF(E8,(ROW()-ROW(F3))*5,((ROW(F75)-ROW())*5)) -> 265 | G56: =IF(F56-E9>=0,F56-E9,360-E9+F56) -> 265 | H56: =IF(G56=360,0,IF(MOD(G56,E2)=0,G56,"")) | I56: =IF(E13,H56,CHAR(160)) | J56: =NA() -> #N/A | Q56: =A55 -> 0 | R56: =B55 -> 0 | S56: =IF(E52,DEGREES(Q56),Q56) -> 0 | T56: =IF($E$8,90-S56-E62,S56+90+E62) -> 90 | U56: =IF(E53,ABS(E48)-R56,ABS(E47)+R56) -> 0
A57: =C41 -> 650 | B57: 10 | F57: =IF(E8,(ROW()-ROW(F3))*5,((ROW(F75)-ROW())*5)) -> 270 | G57: =IF(F57-E9>=0,F57-E9,360-E9+F57) -> 270 | H57: =IF(G57=360,0,IF(MOD(G57,E2)=0,G57,"")) -> 270 | I57: =IF(E13,H57,CHAR(160)) -> 270 | J57: =NA() -> #N/A | K57: 90 | L57: =MATCH(K57,H3:H74,0) -> 19 | M57: =IF(E8,90-INDEX(F3:F74,L57,1),INDEX(F3:F74,L57,1)+90) -> 0 | N57: =IF(E12,+(E7),NA()) -> 10 | O57: =COS(RADIANS(M57))*N57 -> 10 | P57: =SIN(RADIANS(M57))*N57 -> 0 | Q57: =A56 -> 0 | R57: =B56 -> 0 | S57: =IF(E52,DEGREES(Q57),Q57) -> 0 | T57: =IF($E$8,90-S57-E63,S57+90+E63) -> 90 | U57: =IF(E53,ABS(E48)-R57,ABS(E47)+R57) -> 0 | V57: =COS(RADIANS(T57))*U57 -> 0 | W57: =SIN(RADIANS(T57))*U57 -> 0
F58: =IF(E8,(ROW()-ROW(F3))*5,((ROW(F75)-ROW())*5)) -> 275 | G58: =IF(F58-E9>=0,F58-E9,360-E9+F58) -> 275 | H58: =IF(G58=360,0,IF(MOD(G58,E2)=0,G58,"")) | I58: =IF(E13,H58,CHAR(160)) | J58: =NA() -> #N/A | K58: 90 | L58: =L57 -> 19 | M58: =IF(E8,90-INDEX(F3:F74,L58,1),INDEX(F3:F74,L58,1)+90) -> 0 | N58: =IF(E12,-(E7),NA()) -> -10 | O58: =COS(RADIANS(M58))*N58 -> -10 | P58: =SIN(RADIANS(M58))*N58 -> 0 | Q58: =A57 -> 650 | R58: =B57 -> 10 | S58: =IF(E52,DEGREES(Q58),Q58) -> 650 | T58: =IF($E$8,90-S58-E64,S58+90+E64) -> -560 | U58: =IF(E53,ABS(E48)-R58,ABS(E47)+R58) -> 10 | V58: =COS(RADIANS(T58))*U58 -> -9.3969262 | W58: =SIN(RADIANS(T58))*U58 -> 3.4202014
A59: 0 | B59: 0 | F59: =IF(E8,(ROW()-ROW(F3))*5,((ROW(F75)-ROW())*5)) -> 280 | G59: =IF(F59-E9>=0,F59-E9,360-E9+F59) -> 280 | H59: =IF(G59=360,0,IF(MOD(G59,E2)=0,G59,"")) | I59: =IF(E13,H59,CHAR(160)) | J59: =NA() -> #N/A | Q59: =A58 -> 0 | R59: =B58 -> 0 | S59: =IF(E52,DEGREES(Q59),Q59) -> 0 | T59: =IF($E$8,90-S59-E65,S59+90+E65) -> 90 | U59: =IF(E53,ABS(E48)-R59,ABS(E47)+R59) -> 0
A60: =C42 -> 650 | B60: 10 | F60: =IF(E8,(ROW()-ROW(F3))*5,((ROW(F75)-ROW())*5)) -> 285 | G60: =IF(F60-E9>=0,F60-E9,360-E9+F60) -> 285 | H60: =IF(G60=360,0,IF(MOD(G60,E2)=0,G60,"")) | I60: =IF(E13,H60,CHAR(160)) | J60: =NA() -> #N/A | K60: 95 | L60: =MATCH(K60,H3:H74,0) -> #N/A | M60: =IF(E8,90-INDEX(F3:F74,L60,1),INDEX(F3:F74,L60,1)+90) -> #N/A | N60: =IF(E12,+(E7),NA()) -> 10 | O60: =COS(RADIANS(M60))*N60 -> #N/A | P60: =SIN(RADIANS(M60))*N60 -> #N/A | Q60: =A59 -> 0 | R60: =B59 -> 0 | S60: =IF(E52,DEGREES(Q60),Q60) -> 0 | T60: =IF($E$8,90-S60-E66,S60+90+E66) -> 90 | U60: =IF(E53,ABS(E48)-R60,ABS(E47)+R60) -> 0 | V60: =COS(RADIANS(T60))*U60 -> 0 | W60: =SIN(RADIANS(T60))*U60 -> 0
B61: 0 | F61: =IF(E8,(ROW()-ROW(F3))*5,((ROW(F75)-ROW())*5)) -> 290 | G61: =IF(F61-E9>=0,F61-E9,360-E9+F61) -> 290 | H61: =IF(G61=360,0,IF(MOD(G61,E2)=0,G61,"")) | I61: =IF(E13,H61,CHAR(160)) | J61: =NA() -> #N/A | K61: 95 | L61: =L60 -> #N/A | M61: =IF(E8,90-INDEX(F3:F74,L61,1),INDEX(F3:F74,L61,1)+90) -> #N/A | N61: =IF(E12,-(E7),NA()) -> -10 | O61: =COS(RADIANS(M61))*N61 -> #N/A | P61: =SIN(RADIANS(M61))*N61 -> #N/A | Q61: =A60 -> 650 | R61: =B60 -> 10 | S61: =IF(E52,DEGREES(Q61),Q61) -> 650 | T61: =IF($E$8,90-S61-E67,S61+90+E67) -> -560 | U61: =IF(E53,ABS(E48)-R61,ABS(E47)+R61) -> 10 | V61: =COS(RADIANS(T61))*U61 -> -9.3969262 | W61: =SIN(RADIANS(T61))*U61 -> 3.4202014
A62: 0 | B62: 0 | F62: =IF(E8,(ROW()-ROW(F3))*5,((ROW(F75)-ROW())*5)) -> 295 | G62: =IF(F62-E9>=0,F62-E9,360-E9+F62) -> 295 | H62: =IF(G62=360,0,IF(MOD(G62,E2)=0,G62,"")) | I62: =IF(E13,H62,CHAR(160)) | J62: =NA() -> #N/A | Q62: =A61 -> 0 | R62: =B61 -> 0 | S62: =IF(E52,DEGREES(Q62),Q62) -> 0 | T62: =IF($E$8,90-S62-E68,S62+90+E68) -> 90 | U62: =IF(E53,ABS(E48)-R62,ABS(E47)+R62) -> 0
A63: =C43 -> 650 | B63: 10 | F63: =IF(E8,(ROW()-ROW(F3))*5,((ROW(F75)-ROW())*5)) -> 300 | G63: =IF(F63-E9>=0,F63-E9,360-E9+F63) -> 300 | H63: =IF(G63=360,0,IF(MOD(G63,E2)=0,G63,"")) -> 300 | I63: =IF(E13,H63,CHAR(160)) -> 300 | J63: =NA() -> #N/A | K63: 100 | L63: =MATCH(K63,H3:H74,0) -> #N/A | M63: =IF(E8,90-INDEX(F3:F74,L63,1),INDEX(F3:F74,L63,1)+90) -> #N/A | N63: =IF(E12,+(E7),NA()) -> 10 | O63: =COS(RADIANS(M63))*N63 -> #N/A | P63: =SIN(RADIANS(M63))*N63 -> #N/A | Q63: =A62 -> 0 | R63: =B62 -> 0 | S63: =IF(E52,DEGREES(Q63),Q63) -> 0 | T63: =IF($E$8,90-S63-E69,S63+90+E69) -> 90 | U63: =IF(E53,ABS(E48)-R63,ABS(E47)+R63) -> 0 | V63: =COS(RADIANS(T63))*U63 -> 0 | W63: =SIN(RADIANS(T63))*U63 -> 0
F64: =IF(E8,(ROW()-ROW(F3))*5,((ROW(F75)-ROW())*5)) -> 305 | G64: =IF(F64-E9>=0,F64-E9,360-E9+F64) -> 305 | H64: =IF(G64=360,0,IF(MOD(G64,E2)=0,G64,"")) | I64: =IF(E13,H64,CHAR(160)) | J64: =NA() -> #N/A | K64: 100 | L64: =L63 -> #N/A | M64: =IF(E8,90-INDEX(F3:F74,L64,1),INDEX(F3:F74,L64,1)+90) -> #N/A | N64: =IF(E12,-(E7),NA()) -> -10 | O64: =COS(RADIANS(M64))*N64 -> #N/A | P64: =SIN(RADIANS(M64))*N64 -> #N/A | Q64: =A63 -> 650 | R64: =B63 -> 10 | S64: =IF(E52,DEGREES(Q64),Q64) -> 650 | T64: =IF($E$8,90-S64-E70,S64+90+E70) -> -560 | U64: =IF(E53,ABS(E48)-R64,ABS(E47)+R64) -> 10 | V64: =COS(RADIANS(T64))*U64 -> -9.3969262 | W64: =SIN(RADIANS(T64))*U64 -> 3.4202014
A65: 0 | B65: 0 | F65: =IF(E8,(ROW()-ROW(F3))*5,((ROW(F75)-ROW())*5)) -> 310 | G65: =IF(F65-E9>=0,F65-E9,360-E9+F65) -> 310 | H65: =IF(G65=360,0,IF(MOD(G65,E2)=0,G65,"")) | I65: =IF(E13,H65,CHAR(160)) | J65: =NA() -> #N/A
A66: =C44 -> 650 | B66: 10 | F66: =IF(E8,(ROW()-ROW(F3))*5,((ROW(F75)-ROW())*5)) -> 315 | G66: =IF(F66-E9>=0,F66-E9,360-E9+F66) -> 315 | H66: =IF(G66=360,0,IF(MOD(G66,E2)=0,G66,"")) | I66: =IF(E13,H66,CHAR(160)) | J66: =NA() -> #N/A | K66: 105 | L66: =MATCH(K66,H3:H74,0) -> #N/A | M66: =IF(E8,90-INDEX(F3:F74,L66,1),INDEX(F3:F74,L66,1)+90) -> #N/A | N66: =IF(E12,+(E7),NA()) -> 10 | O66: =COS(RADIANS(M66))*N66 -> #N/A | P66: =SIN(RADIANS(M66))*N66 -> #N/A | Q66: =A65 -> 0 | R66: =B65 -> 0 | S66: =IF(E73,DEGREES(Q66),Q66) -> 0 | T66: =IF($E$8,90-S66-E72,S66+90+E72) -> 90 | U66: =IF(E74,ABS(E69)-R66,ABS(E68)+R66) -> 0 | V66: =COS(RADIANS(T66))*U66 -> 0 | W66: =SIN(RADIANS(T66))*U66 -> 0
F67: =IF(E8,(ROW()-ROW(F3))*5,((ROW(F75)-ROW())*5)) -> 320 | G67: =IF(F67-E9>=0,F67-E9,360-E9+F67) -> 320 | H67: =IF(G67=360,0,IF(MOD(G67,E2)=0,G67,"")) | I67: =IF(E13,H67,CHAR(160)) | J67: =NA() -> #N/A | K67: 105 | L67: =L66 -> #N/A | M67: =IF(E8,90-INDEX(F3:F74,L67,1),INDEX(F3:F74,L67,1)+90) -> #N/A | N67: =IF(E12,-(E7),NA()) -> -10 | O67: =COS(RADIANS(M67))*N67 -> #N/A | P67: =SIN(RADIANS(M67))*N67 -> #N/A | Q67: =A66 -> 650 | R67: =B66 -> 10 | S67: =IF(E73,DEGREES(Q67),Q67) -> 650 | T67: =IF($E$8,90-S67-E73,S67+90+E73) -> -560 | U67: =IF(E74,ABS(E69)-R67,ABS(E68)+R67) -> 10 | V67: =COS(RADIANS(T67))*U67 -> -9.3969262 | W67: =SIN(RADIANS(T67))*U67 -> 3.4202014
A68: 0 | B68: 0 | F68: =IF(E8,(ROW()-ROW(F3))*5,((ROW(F75)-ROW())*5)) -> 325 | G68: =IF(F68-E9>=0,F68-E9,360-E9+F68) -> 325 | H68: =IF(G68=360,0,IF(MOD(G68,E2)=0,G68,"")) | I68: =IF(E13,H68,CHAR(160)) | J68: =NA() -> #N/A | Q68: =A67 -> 0 | R68: =B67 -> 0 | S68: =IF(E73,DEGREES(Q68),Q68) -> 0 | T68: =IF($E$8,90-S68-E74,S68+90+E74) -> 90 | U68: =IF(E74,ABS(E69)-R68,ABS(E68)+R68) -> 0
A69: =C45 -> 650 | B69: 10 | F69: =IF(E8,(ROW()-ROW(F3))*5,((ROW(F75)-ROW())*5)) -> 330 | G69: =IF(F69-E9>=0,F69-E9,360-E9+F69) -> 330 | H69: =IF(G69=360,0,IF(MOD(G69,E2)=0,G69,"")) -> 330 | I69: =IF(E13,H69,CHAR(160)) -> 330 | J69: =NA() -> #N/A | K69: 110 | L69: =MATCH(K69,H3:H74,0) -> #N/A | M69: =IF(E8,90-INDEX(F3:F74,L69,1),INDEX(F3:F74,L69,1)+90) -> #N/A | N69: =IF(E12,+(E7),NA()) -> 10 | O69: =COS(RADIANS(M69))*N69 -> #N/A | P69: =SIN(RADIANS(M69))*N69 -> #N/A | Q69: =A68 -> 0 | R69: =B68 -> 0 | S69: =IF(E73,DEGREES(Q69),Q69) -> 0 | T69: =IF($E$8,90-S69-E75,S69+90+E75) -> 90 | U69: =IF(E74,ABS(E69)-R69,ABS(E68)+R69) -> 0 | V69: =COS(RADIANS(T69))*U69 -> 0 | W69: =SIN(RADIANS(T69))*U69 -> 0
F70: =IF(E8,(ROW()-ROW(F3))*5,((ROW(F75)-ROW())*5)) -> 335 | G70: =IF(F70-E9>=0,F70-E9,360-E9+F70) -> 335 | H70: =IF(G70=360,0,IF(MOD(G70,E2)=0,G70,"")) | I70: =IF(E13,H70,CHAR(160)) | J70: =NA() -> #N/A | K70: 110 | L70: =L69 -> #N/A | M70: =IF(E8,90-INDEX(F3:F74,L70,1),INDEX(F3:F74,L70,1)+90) -> #N/A | N70: =IF(E12,-(E7),NA()) -> -10 | O70: =COS(RADIANS(M70))*N70 -> #N/A | P70: =SIN(RADIANS(M70))*N70 -> #N/A | Q70: =A69 -> 650 | R70: =B69 -> 10 | S70: =IF(E73,DEGREES(Q70),Q70) -> 650 | T70: =IF($E$8,90-S70-E76,S70+90+E76) -> -560 | U70: =IF(E74,ABS(E69)-R70,ABS(E68)+R70) -> 10 | V70: =COS(RADIANS(T70))*U70 -> -9.3969262 | W70: =SIN(RADIANS(T70))*U70 -> 3.4202014
A71: 0 | B71: 0 | F71: =IF(E8,(ROW()-ROW(F3))*5,((ROW(F75)-ROW())*5)) -> 340 | G71: =IF(F71-E9>=0,F71-E9,360-E9+F71) -> 340 | H71: =IF(G71=360,0,IF(MOD(G71,E2)=0,G71,"")) | I71: =IF(E13,H71,CHAR(160)) | J71: =NA() -> #N/A | Q71: =A70 -> 0 | R71: =B70 -> 0 | S71: =IF(E73,DEGREES(Q71),Q71) -> 0 | T71: =IF($E$8,90-S71-E77,S71+90+E77) -> 90 | U71: =IF(E74,ABS(E69)-R71,ABS(E68)+R71) -> 0
A72: =C46 -> 650 | B72: 10 | F72: =IF(E8,(ROW()-ROW(F3))*5,((ROW(F75)-ROW())*5)) -> 345 | G72: =IF(F72-E9>=0,F72-E9,360-E9+F72) -> 345 | H72: =IF(G72=360,0,IF(MOD(G72,E2)=0,G72,"")) | I72: =IF(E13,H72,CHAR(160)) | J72: =NA() -> #N/A | K72: 115 | L72: =MATCH(K72,H3:H74,0) -> #N/A | M72: =IF(E8,90-INDEX(F3:F74,L72,1),INDEX(F3:F74,L72,1)+90) -> #N/A | N72: =IF(E12,+(E7),NA()) -> 10 | O72: =COS(RADIANS(M72))*N72 -> #N/A | P72: =SIN(RADIANS(M72))*N72 -> #N/A | Q72: =A71 -> 0 | R72: =B71 -> 0 | S72: =IF(E73,DEGREES(Q72),Q72) -> 0 | T72: =IF($E$8,90-S72-E78,S72+90+E78) -> 90 | U72: =IF(E74,ABS(E69)-R72,ABS(E68)+R72) -> 0 | V72: =COS(RADIANS(T72))*U72 -> 0 | W72: =SIN(RADIANS(T72))*U72 -> 0
F73: =IF(E8,(ROW()-ROW(F3))*5,((ROW(F75)-ROW())*5)) -> 350 | G73: =IF(F73-E9>=0,F73-E9,360-E9+F73) -> 350 | H73: =IF(G73=360,0,IF(MOD(G73,E2)=0,G73,"")) | I73: =IF(E13,H73,CHAR(160)) | J73: =NA() -> #N/A | K73: 115 | L73: =L72 -> #N/A | M73: =IF(E8,90-INDEX(F3:F74,L73,1),INDEX(F3:F74,L73,1)+90) -> #N/A | N73: =IF(E12,-(E7),NA()) -> -10 | O73: =COS(RADIANS(M73))*N73 -> #N/A | P73: =SIN(RADIANS(M73))*N73 -> #N/A | Q73: =A72 -> 650 | R73: =B72 -> 10 | S73: =IF(E73,DEGREES(Q73),Q73) -> 650 | T73: =IF($E$8,90-S73-E79,S73+90+E79) -> -560 | U73: =IF(E74,ABS(E69)-R73,ABS(E68)+R73) -> 10 | V73: =COS(RADIANS(T73))*U73 -> -9.3969262 | W73: =SIN(RADIANS(T73))*U73 -> 3.4202014
A74: 0 | B74: 0 | F74: =IF(E8,(ROW()-ROW(F3))*5,((ROW(F75)-ROW())*5)) -> 355 | G74: =IF(F74-E9>=0,F74-E9,360-E9+F74) -> 355 | H74: =IF(G74=360,0,IF(MOD(G74,E2)=0,G74,"")) | I74: =IF(E13,H74,CHAR(160)) | J74: =NA() -> #N/A | Q74: =A73 -> 0 | R74: =B73 -> 0 | S74: =IF(E73,DEGREES(Q74),Q74) -> 0 | T74: =IF($E$8,90-S74-E80,S74+90+E80) -> 90 | U74: =IF(E74,ABS(E69)-R74,ABS(E68)+R74) -> 0
A75: =C47 -> 650 | B75: 10 | K75: 120 | L75: =MATCH(K75,H3:H74,0) -> 25 | M75: =IF(E8,90-INDEX(F3:F74,L75,1),INDEX(F3:F74,L75,1)+90) -> -30 | N75: =IF(E12,+(E7),NA()) -> 10 | O75: =COS(RADIANS(M75))*N75 -> 8.660254 | P75: =SIN(RADIANS(M75))*N75 -> -5 | Q75: =A74 -> 0 | R75: =B74 -> 0 | S75: =IF(E73,DEGREES(Q75),Q75) -> 0 | T75: =IF($E$8,90-S75-E81,S75+90+E81) -> 90 | U75: =IF(E74,ABS(E69)-R75,ABS(E68)+R75) -> 0 | V75: =COS(RADIANS(T75))*U75 -> 0 | W75: =SIN(RADIANS(T75))*U75 -> 0
K76: 120 | L76: =L75 -> 25 | M76: =IF(E8,90-INDEX(F3:F74,L76,1),INDEX(F3:F74,L76,1)+90) -> -30 | N76: =IF(E12,-(E7),NA()) -> -10 | O76: =COS(RADIANS(M76))*N76 -> -8.660254 | P76: =SIN(RADIANS(M76))*N76 -> 5 | Q76: =A75 -> 650 | R76: =B75 -> 10 | S76: =IF(E73,DEGREES(Q76),Q76) -> 650 | T76: =IF($E$8,90-S76-E82,S76+90+E82) -> -560 | U76: =IF(E74,ABS(E69)-R76,ABS(E68)+R76) -> 10 | V76: =COS(RADIANS(T76))*U76 -> -9.3969262 | W76: =SIN(RADIANS(T76))*U76 -> 3.4202014
A77: 0 | B77: 0 | Q77: =A76 -> 0 | R77: =B76 -> 0 | S77: =IF(E73,DEGREES(Q77),Q77) -> 0 | T77: =IF($E$8,90-S77-E83,S77+90+E83) -> 90 | U77: =IF(E74,ABS(E69)-R77,ABS(E68)+R77) -> 0
A78: =C48 -> 650 | B78: 10 | K78: 125 | L78: =MATCH(K78,H3:H74,0) -> #N/A | M78: =IF(E8,90-INDEX(F3:F74,L78,1),INDEX(F3:F74,L78,1)+90) -> #N/A | N78: =IF(E12,+(E7),NA()) -> 10 | O78: =COS(RADIANS(M78))*N78 -> #N/A | P78: =SIN(RADIANS(M78))*N78 -> #N/A | Q78: =A77 -> 0 | R78: =B77 -> 0 | S78: =IF(E73,DEGREES(Q78),Q78) -> 0 | T78: =IF($E$8,90-S78-E84,S78+90+E84) -> 90 | U78: =IF(E74,ABS(E69)-R78,ABS(E68)+R78) -> 0 | V78: =COS(RADIANS(T78))*U78 -> 0 | W78: =SIN(RADIANS(T78))*U78 -> 0
K79: 125 | L79: =L78 -> #N/A | M79: =IF(E8,90-INDEX(F3:F74,L79,1),INDEX(F3:F74,L79,1)+90) -> #N/A | N79: =IF(E12,-(E7),NA()) -> -10 | O79: =COS(RADIANS(M79))*N79 -> #N/A | P79: =SIN(RADIANS(M79))*N79 -> #N/A | Q79: =A78 -> 650 | R79: =B78 -> 10 | S79: =IF(E73,DEGREES(Q79),Q79) -> 650 | T79: =IF($E$8,90-S79-E85,S79+90+E85) -> -560 | U79: =IF(E74,ABS(E69)-R79,ABS(E68)+R79) -> 10 | V79: =COS(RADIANS(T79))*U79 -> -9.3969262 | W79: =SIN(RADIANS(T79))*U79 -> 3.4202014
A80: 0 | B80: 0 | Q80: =A79 -> 0 | R80: =B79 -> 0 | S80: =IF(E73,DEGREES(Q80),Q80) -> 0 | T80: =IF($E$8,90-S80-E86,S80+90+E86) -> 90 | U80: =IF(E74,ABS(E69)-R80,ABS(E68)+R80) -> 0
A81: =C49 -> 650 | B81: 10 | K81: 130 | L81: =MATCH(K81,H3:H74,0) -> #N/A | M81: =IF(E8,90-INDEX(F3:F74,L81,1),INDEX(F3:F74,L81,1)+90) -> #N/A | N81: =IF(E12,+(E7),NA()) -> 10 | O81: =COS(RADIANS(M81))*N81 -> #N/A | P81: =SIN(RADIANS(M81))*N81 -> #N/A | Q81: =A80 -> 0 | R81: =B80 -> 0 | S81: =IF(E73,DEGREES(Q81),Q81) -> 0 | T81: =IF($E$8,90-S81-E87,S81+90+E87) -> 90 | U81: =IF(E74,ABS(E69)-R81,ABS(E68)+R81) -> 0 | V81: =COS(RADIANS(T81))*U81 -> 0 | W81: =SIN(RADIANS(T81))*U81 -> 0
B82: 0 | K82: 130 | L82: =L81 -> #N/A | M82: =IF(E8,90-INDEX(F3:F74,L82,1),INDEX(F3:F74,L82,1)+90) -> #N/A | N82: =IF(E12,-(E7),NA()) -> -10 | O82: =COS(RADIANS(M82))*N82 -> #N/A | P82: =SIN(RADIANS(M82))*N82 -> #N/A | Q82: =A81 -> 650 | R82: =B81 -> 10 | S82: =IF(E73,DEGREES(Q82),Q82) -> 650 | T82: =IF($E$8,90-S82-E88,S82+90+E88) -> -560 | U82: =IF(E74,ABS(E69)-R82,ABS(E68)+R82) -> 10 | V82: =COS(RADIANS(T82))*U82 -> -9.3969262 | W82: =SIN(RADIANS(T82))*U82 -> 3.4202014
A83: 0 | B83: 0 | Q83: =A82 -> 0 | R83: =B82 -> 0 | S83: =IF(E73,DEGREES(Q83),Q83) -> 0 | T83: =IF($E$8,90-S83-E89,S83+90+E89) -> 90 | U83: =IF(E74,ABS(E69)-R83,ABS(E68)+R83) -> 0
A84: =C50 -> 650 | B84: 10 | K84: 135 | L84: =MATCH(K84,H3:H74,0) -> #N/A | M84: =IF(E8,90-INDEX(F3:F74,L84,1),INDEX(F3:F74,L84,1)+90) -> #N/A | N84: =IF(E12,+(E7),NA()) -> 10 | O84: =COS(RADIANS(M84))*N84 -> #N/A | P84: =SIN(RADIANS(M84))*N84 -> #N/A | Q84: =A83 -> 0 | R84: =B83 -> 0 | S84: =IF(E73,DEGREES(Q84),Q84) -> 0 | T84: =IF($E$8,90-S84-E90,S84+90+E90) -> 90 | U84: =IF(E74,ABS(E69)-R84,ABS(E68)+R84) -> 0 | V84: =COS(RADIANS(T84))*U84 -> 0 | W84: =SIN(RADIANS(T84))*U84 -> 0
K85: 135 | L85: =L84 -> #N/A | M85: =IF(E8,90-INDEX(F3:F74,L85,1),INDEX(F3:F74,L85,1)+90) -> #N/A | N85: =IF(E12,-(E7),NA()) -> -10 | O85: =COS(RADIANS(M85))*N85 -> #N/A | P85: =SIN(RADIANS(M85))*N85 -> #N/A | Q85: =A84 -> 650 | R85: =B84 -> 10 | S85: =IF(E73,DEGREES(Q85),Q85) -> 650 | T85: =IF($E$8,90-S85-E91,S85+90+E91) -> -560 | U85: =IF(E74,ABS(E69)-R85,ABS(E68)+R85) -> 10 | V85: =COS(RADIANS(T85))*U85 -> -9.3969262 | W85: =SIN(RADIANS(T85))*U85 -> 3.4202014
K87: 140 | L87: =MATCH(K87,H3:H74,0) -> #N/A | M87: =IF(E8,90-INDEX(F3:F74,L87,1),INDEX(F3:F74,L87,1)+90) -> #N/A | N87: =IF(E12,+(E7),NA()) -> 10 | O87: =COS(RADIANS(M87))*N87 -> #N/A | P87: =SIN(RADIANS(M87))*N87 -> #N/A
K88: 140 | L88: =L87 -> #N/A | M88: =IF(E8,90-INDEX(F3:F74,L88,1),INDEX(F3:F74,L88,1)+90) -> #N/A | N88: =IF(E12,-(E7),NA()) -> -10 | O88: =COS(RADIANS(M88))*N88 -> #N/A | P88: =SIN(RADIANS(M88))*N88 -> #N/A
K90: 145 | L90: =MATCH(K90,H3:H74,0) -> #N/A | M90: =IF(E8,90-INDEX(F3:F74,L90,1),INDEX(F3:F74,L90,1)+90) -> #N/A | N90: =IF(E12,+(E7),NA()) -> 10 | O90: =COS(RADIANS(M90))*N90 -> #N/A | P90: =SIN(RADIANS(M90))*N90 -> #N/A
K91: 145 | L91: =L90 -> #N/A | M91: =IF(E8,90-INDEX(F3:F74,L91,1),INDEX(F3:F74,L91,1)+90) -> #N/A | N91: =IF(E12,-(E7),NA()) -> -10 | O91: =COS(RADIANS(M91))*N91 -> #N/A | P91: =SIN(RADIANS(M91))*N91 -> #N/A
K93: 150 | L93: =MATCH(K93,H3:H74,0) -> 31 | M93: =IF(E8,90-INDEX(F3:F74,L93,1),INDEX(F3:F74,L93,1)+90) -> -60 | N93: =IF(E12,+(E7),NA()) -> 10 | O93: =COS(RADIANS(M93))*N93 -> 5 | P93: =SIN(RADIANS(M93))*N93 -> -8.660254
K94: 150 | L94: =L93 -> 31 | M94: =IF(E8,90-INDEX(F3:F74,L94,1),INDEX(F3:F74,L94,1)+90) -> -60 | N94: =IF(E12,-(E7),NA()) -> -10 | O94: =COS(RADIANS(M94))*N94 -> -5 | P94: =SIN(RADIANS(M94))*N94 -> 8.660254
K96: 155 | L96: =MATCH(K96,H3:H74,0) -> #N/A | M96: =IF(E8,90-INDEX(F3:F74,L96,1),INDEX(F3:F74,L96,1)+90) -> #N/A | N96: =IF(E12,+(E7),NA()) -> 10 | O96: =COS(RADIANS(M96))*N96 -> #N/A | P96: =SIN(RADIANS(M96))*N96 -> #N/A
K97: 155 | L97: =L96 -> #N/A | M97: =IF(E8,90-INDEX(F3:F74,L97,1),INDEX(F3:F74,L97,1)+90) -> #N/A | N97: =IF(E12,-(E7),NA()) -> -10 | O97: =COS(RADIANS(M97))*N97 -> #N/A | P97: =SIN(RADIANS(M97))*N97 -> #N/A
K99: 160 | L99: =MATCH(K99,H3:H74,0) -> #N/A | M99: =IF(E8,90-INDEX(F3:F74,L99,1),INDEX(F3:F74,L99,1)+90) -> #N/A | N99: =IF(E12,+(E7),NA()) -> 10 | O99: =COS(RADIANS(M99))*N99 -> #N/A | P99: =SIN(RADIANS(M99))*N99 -> #N/A
K100: 160 | L100: =L99 -> #N/A | M100: =IF(E8,90-INDEX(F3:F74,L100,1),INDEX(F3:F74,L100,1)+90) -> #N/A | N100: =IF(E12,-(E7),NA()) -> -10 | O100: =COS(RADIANS(M100))*N100 -> #N/A | P100: =SIN(RADIANS(M100))*N100 -> #N/A
K102: 165 | L102: =MATCH(K102,H3:H74,0) -> #N/A | M102: =IF(E8,90-INDEX(F3:F74,L102,1),INDEX(F3:F74,L102,1)+90) -> #N/A | N102: =IF(E12,+(E7),NA()) -> 10 | O102: =COS(RADIANS(M102))*N102 -> #N/A | P102: =SIN(RADIANS(M102))*N102 -> #N/A
K103: 165 | L103: =L102 -> #N/A | M103: =IF(E8,90-INDEX(F3:F74,L103,1),INDEX(F3:F74,L103,1)+90) -> #N/A | N103: =IF(E12,-(E7),NA()) -> -10 | O103: =COS(RADIANS(M103))*N103 -> #N/A | P103: =SIN(RADIANS(M103))*N103 -> #N/A
K105: 170 | L105: =MATCH(K105,H3:H74,0) -> #N/A | M105: =IF(E8,90-INDEX(F3:F74,L105,1),INDEX(F3:F74,L105,1)+90) -> #N/A | N105: =IF(E12,+(E7),NA()) -> 10 | O105: =COS(RADIANS(M105))*N105 -> #N/A | P105: =SIN(RADIANS(M105))*N105 -> #N/A
K106: 170 | L106: =L105 -> #N/A | M106: =IF(E8,90-INDEX(F3:F74,L106,1),INDEX(F3:F74,L106,1)+90) -> #N/A | N106: =IF(E12,-(E7),NA()) -> -10 | O106: =COS(RADIANS(M106))*N106 -> #N/A | P106: =SIN(RADIANS(M106))*N106 -> #N/A
K108: 175 | L108: =MATCH(K108,H3:H74,0) -> #N/A | M108: =IF(E8,90-INDEX(F3:F74,L108,1),INDEX(F3:F74,L108,1)+90) -> #N/A | N108: =IF(E12,+(E7),NA()) -> 10 | O108: =COS(RADIANS(M108))*N108 -> #N/A | P108: =SIN(RADIANS(M108))*N108 -> #N/A
...

Sheet D
B1: Directions
A2: 0 | B2: 0 | D2: Interval | E2: 30 | J2: PLRPLT_BASE | P2: PLRPLT_SPOKES | W2: =D!$B$1 -> Directions
A3: =C23 -> 0 | B3: 10 | D3: NIntervals | E3: =360/E2 -> 12 | F3: =IF(E8,(ROW()-ROW(F3))*5,((ROW(F75)-ROW())*5)) -> 0 | G3: =IF(F3-E9>=0,F3-E9,360-E9+F3) -> 0 | H3: =IF(G3=360,0,IF(MOD(G3,E2)=0,G3,"")) -> 0 | I3: =IF(E13,H3,CHAR(160)) -> 0 | J3: =E19 -> 0 | K3: 0 | L3: =MATCH(K3,H3:H74,0) -> 1 | M3: =IF(E8,90-INDEX(F3:F74,L3,1),INDEX(F3:F74,L3,1)+90) -> 90 | N3: =IF(E12,+(E7),NA()) -> 10 | O3: =COS(RADIANS(M3))*N3 -> 6.1257423e-16 | P3: =SIN(RADIANS(M3))*N3 -> 10 | Q3: =A2 -> 0 | R3: =B2 -> 0 | S3: =IF(E10,DEGREES(Q3),Q3) -> 0 | T3: =IF(E8,90-S3-E9,S3+90+E9) -> 90 | U3: =IF(E11,ABS(E6)-R3,ABS(E5)+R3) -> 0 | V3: =COS(RADIANS(T3))*U3 -> 0 | W3: =SIN(RADIANS(T3))*U3 -> 0
D4: Value | E4: =10/E3 -> 0.83333333 | F4: =IF(E8,(ROW()-ROW(F3))*5,((ROW(F75)-ROW())*5)) -> 5 | G4: =IF(F4-E9>=0,F4-E9,360-E9+F4) -> 5 | H4: =IF(G4=360,0,IF(MOD(G4,E2)=0,G4,"")) | I4: =IF(E13,H4,CHAR(160)) | J4: =E20 -> 10 | K4: 0 | L4: =L3 -> 1 | M4: =IF(E8,90-INDEX(F3:F74,L4,1),INDEX(F3:F74,L4,1)+90) -> 90 | N4: =IF(E12,-(E7),NA()) -> -10 | O4: =COS(RADIANS(M4))*N4 -> -6.1257423e-16 | P4: =SIN(RADIANS(M4))*N4 -> -10 | Q4: =A3 -> 0 | R4: =B3 -> 10 | S4: =IF(E10,DEGREES(Q4),Q4) -> 0 | T4: =IF(E8,90-S4-E9,S4+90+E9) -> 90 | U4: =IF(E11,ABS(E6)-R4,ABS(E5)+R4) -> 10 | V4: =COS(RADIANS(T4))*U4 -> 6.1257423e-16 | W4: =SIN(RADIANS(T4))*U4 -> 10
A5: 0 | B5: 0 | D5: MinAxisValue | E5: 0 | F5: =IF(E8,(ROW()-ROW(F3))*5,((ROW(F75)-ROW())*5)) -> 10 | G5: =IF(F5-E9>=0,F5-E9,360-E9+F5) -> 10 | H5: =IF(G5=360,0,IF(MOD(G5,E2)=0,G5,"")) | I5: =IF(E13,H5,CHAR(160)) | J5: =NA() -> #N/A | Q5: =A4 -> 0 | R5: =B4 -> 0 | S5: =IF(E10,DEGREES(Q5),Q5) -> 0 | T5: =IF(E8,90-S5-E9,S5+90+E9) -> 90 | U5: =IF(E11,ABS(E6)-R5,ABS(E5)+R5) -> 0
A6: =C24 -> 360 | B6: 10 | D6: MaxAxisValue | E6: 10 | F6: =IF(E8,(ROW()-ROW(F3))*5,((ROW(F75)-ROW())*5)) -> 15 | G6: =IF(F6-E9>=0,F6-E9,360-E9+F6) -> 15 | H6: =IF(G6=360,0,IF(MOD(G6,E2)=0,G6,"")) | I6: =IF(E13,H6,CHAR(160)) | J6: =NA() -> #N/A | K6: 5 | L6: =MATCH(K6,H3:H74,0) -> #N/A | M6: =IF(E8,90-INDEX(F3:F74,L6,1),INDEX(F3:F74,L6,1)+90) -> #N/A | N6: =IF(E12,+(E7),NA()) -> 10 | O6: =COS(RADIANS(M6))*N6 -> #N/A | P6: =SIN(RADIANS(M6))*N6 -> #N/A | Q6: =A5 -> 0 | R6: =B5 -> 0 | S6: =IF(E10,DEGREES(Q6),Q6) -> 0 | T6: =IF(E8,90-S6-E9,S6+90+E9) -> 90 | U6: =IF(E11,ABS(E6)-R6,ABS(E5)+R6) -> 0 | V6: =COS(RADIANS(T6))*U6 -> 0 | W6: =SIN(RADIANS(T6))*U6 -> 0
D7: Radius | E7: =E6-E5 -> 10 | F7: =IF(E8,(ROW()-ROW(F3))*5,((ROW(F75)-ROW())*5)) -> 20 | G7: =IF(F7-E9>=0,F7-E9,360-E9+F7) -> 20 | H7: =IF(G7=360,0,IF(MOD(G7,E2)=0,G7,"")) | I7: =IF(E13,H7,CHAR(160)) | J7: =NA() -> #N/A | K7: 5 | L7: =L6 -> #N/A | M7: =IF(E8,90-INDEX(F3:F74,L7,1),INDEX(F3:F74,L7,1)+90) -> #N/A | N7: =IF(E12,-(E7),NA()) -> -10 | O7: =COS(RADIANS(M7))*N7 -> #N/A | P7: =SIN(RADIANS(M7))*N7 -> #N/A | Q7: =A6 -> 360 | R7: =B6 -> 10 | S7: =IF(E10,DEGREES(Q7),Q7) -> 360 | T7: =IF(E8,90-S7-E9,S7+90+E9) -> -270 | U7: =IF(E11,ABS(E6)-R7,ABS(E5)+R7) -> 10 | V7: =COS(RADIANS(T7))*U7 -> -1.8377227e-15 | W7: =SIN(RADIANS(T7))*U7 -> 10
A8: 0 | B8: 0 | D8: Clockwise | E8: TRUE | F8: =IF(E8,(ROW()-ROW(F3))*5,((ROW(F75)-ROW())*5)) -> 25 | G8: =IF(F8-E9>=0,F8-E9,360-E9+F8) -> 25 | H8: =IF(G8=360,0,IF(MOD(G8,E2)=0,G8,"")) | I8: =IF(E13,H8,CHAR(160)) | J8: =NA() -> #N/A | Q8: =A7 -> 0 | R8: =B7 -> 0 | S8: =IF(E10,DEGREES(Q8),Q8) -> 0 | T8: =IF(E8,90-S8-E9,S8+90+E9) -> 90 | U8: =IF(E11,ABS(E6)-R8,ABS(E5)+R8) -> 0
A9: =C25 -> 360 | B9: 10 | D9: StartAngle | E9: 0 | F9: =IF(E8,(ROW()-ROW(F3))*5,((ROW(F75)-ROW())*5)) -> 30 | G9: =IF(F9-E9>=0,F9-E9,360-E9+F9) -> 30 | H9: =IF(G9=360,0,IF(MOD(G9,E2)=0,G9,"")) -> 30 | I9: =IF(E13,H9,CHAR(160)) -> 30 | J9: =NA() -> #N/A | K9: 10 | L9: =MATCH(K9,H3:H74,0) -> #N/A | M9: =IF(E8,90-INDEX(F3:F74,L9,1),INDEX(F3:F74,L9,1)+90) -> #N/A | N9: =IF(E12,+(E7),NA()) -> 10 | O9: =COS(RADIANS(M9))*N9 -> #N/A | P9: =SIN(RADIANS(M9))*N9 -> #N/A | Q9: =A8 -> 0 | R9: =B8 -> 0 | S9: =IF(E10,DEGREES(Q9),Q9) -> 0 | T9: =IF(E8,90-S9-E9,S9+90+E9) -> 90 | U9: =IF(E11,ABS(E6)-R9,ABS(E5)+R9) -> 0 | V9: =COS(RADIANS(T9))*U9 -> 0 | W9: =SIN(RADIANS(T9))*U9 -> 0
D10: Radians | E10: FALSE | F10: =IF(E8,(ROW()-ROW(F3))*5,((ROW(F75)-ROW())*5)) -> 35 | G10: =IF(F10-E9>=0,F10-E9,360-E9+F10) -> 35 | H10: =IF(G10=360,0,IF(MOD(G10,E2)=0,G10,"")) | I10: =IF(E13,H10,CHAR(160)) | J10: =NA() -> #N/A | K10: 10 | L10: =L9 -> #N/A | M10: =IF(E8,90-INDEX(F3:F74,L10,1),INDEX(F3:F74,L10,1)+90) -> #N/A | N10: =IF(E12,-(E7),NA()) -> -10 | O10: =COS(RADIANS(M10))*N10 -> #N/A | P10: =SIN(RADIANS(M10))*N10 -> #N/A | Q10: =A9 -> 360 | R10: =B9 -> 10 | S10: =IF(E10,DEGREES(Q10),Q10) -> 360 | T10: =IF(E8,90-S10-E9,S10+90+E9) -> -270 | U10: =IF(E11,ABS(E6)-R10,ABS(E5)+R10) -> 10 | V10: =COS(RADIANS(T10))*U10 -> -1.8377227e-15 | W10: =SIN(RADIANS(T10))*U10 -> 10
A11: 0 | B11: 0 | D11: ReverseAxis | E11: FALSE | F11: =IF(E8,(ROW()-ROW(F3))*5,((ROW(F75)-ROW())*5)) -> 40 | G11: =IF(F11-E9>=0,F11-E9,360-E9+F11) -> 40 | H11: =IF(G11=360,0,IF(MOD(G11,E2)=0,G11,"")) | I11: =IF(E13,H11,CHAR(160)) | J11: =NA() -> #N/A | Q11: =A10 -> 0 | R11: =B10 -> 0 | S11: =IF(E10,DEGREES(Q11),Q11) -> 0 | T11: =IF(E8,90-S11-E9,S11+90+E9) -> 90 | U11: =IF(E11,ABS(E6)-R11,ABS(E5)+R11) -> 0
A12: =C26 -> 360 | B12: 10 | D12: Display Spokes | E12: TRUE | F12: =IF(E8,(ROW()-ROW(F3))*5,((ROW(F75)-ROW())*5)) -> 45 | G12: =IF(F12-E9>=0,F12-E9,360-E9+F12) -> 45 | H12: =IF(G12=360,0,IF(MOD(G12,E2)=0,G12,"")) | I12: =IF(E13,H12,CHAR(160)) | J12: =NA() -> #N/A | K12: 15 | L12: =MATCH(K12,H3:H74,0) -> #N/A | M12: =IF(E8,90-INDEX(F3:F74,L12,1),INDEX(F3:F74,L12,1)+90) -> #N/A | N12: =IF(E12,+(E7),NA()) -> 10 | O12: =COS(RADIANS(M12))*N12 -> #N/A | P12: =SIN(RADIANS(M12))*N12 -> #N/A | Q12: =A11 -> 0 | R12: =B11 -> 0 | S12: =IF(E10,DEGREES(Q12),Q12) -> 0 | T12: =IF(E8,90-S12-E9,S12+90+E9) -> 90 | U12: =IF(E11,ABS(E6)-R12,ABS(E5)+R12) -> 0 | V12: =COS(RADIANS(T12))*U12 -> 0 | W12: =SIN(RADIANS(T12))*U12 -> 0
D13: Display Spoke Labels | E13: TRUE | F13: =IF(E8,(ROW()-ROW(F3))*5,((ROW(F75)-ROW())*5)) -> 50 | G13: =IF(F13-E9>=0,F13-E9,360-E9+F13) -> 50 | H13: =IF(G13=360,0,IF(MOD(G13,E2)=0,G13,"")) | I13: =IF(E13,H13,CHAR(160)) | J13: =NA() -> #N/A | K13: 15 | L13: =L12 -> #N/A | M13: =IF(E8,90-INDEX(F3:F74,L13,1),INDEX(F3:F74,L13,1)+90) -> #N/A | N13: =IF(E12,-(E7),NA()) -> -10 | O13: =COS(RADIANS(M13))*N13 -> #N/A | P13: =SIN(RADIANS(M13))*N13 -> #N/A | Q13: =A12 -> 360 | R13: =B12 -> 10 | S13: =IF(E10,DEGREES(Q13),Q13) -> 360 | T13: =IF(E8,90-S13-E9,S13+90+E9) -> -270 | U13: =IF(E11,ABS(E6)-R13,ABS(E5)+R13) -> 10 | V13: =COS(RADIANS(T13))*U13 -> -1.8377227e-15 | W13: =SIN(RADIANS(T13))*U13 -> 10
A14: 0 | B14: 0 | D14: Display Gridlines | E14: TRUE | F14: =IF(E8,(ROW()-ROW(F3))*5,((ROW(F75)-ROW())*5)) -> 55 | G14: =IF(F14-E9>=0,F14-E9,360-E9+F14) -> 55 | H14: =IF(G14=360,0,IF(MOD(G14,E2)=0,G14,"")) | I14: =IF(E13,H14,CHAR(160)) | J14: =NA() -> #N/A | Q14: =A13 -> 0 | R14: =B13 -> 0 | S14: =IF(E10,DEGREES(Q14),Q14) -> 0 | T14: =IF(E8,90-S14-E9,S14+90+E9) -> 90 | U14: =IF(E11,ABS(E6)-R14,ABS(E5)+R14) -> 0
A15: =C27 -> 360 | B15: 10 | D15: Display Data Lines | E15: TRUE | F15: =IF(E8,(ROW()-ROW(F3))*5,((ROW(F75)-ROW())*5)) -> 60 | G15: =IF(F15-E9>=0,F15-E9,360-E9+F15) -> 60 | H15: =IF(G15=360,0,IF(MOD(G15,E2)=0,G15,"")) -> 60 | I15: =IF(E13,H15,CHAR(160)) -> 60 | J15: =NA() -> #N/A | K15: 20 | L15: =MATCH(K15,H3:H74,0) -> #N/A | M15: =IF(E8,90-INDEX(F3:F74,L15,1),INDEX(F3:F74,L15,1)+90) -> #N/A | N15: =IF(E12,+(E7),NA()) -> 10 | O15: =COS(RADIANS(M15))*N15 -> #N/A | P15: =SIN(RADIANS(M15))*N15 -> #N/A | Q15: =A14 -> 0 | R15: =B14 -> 0 | S15: =IF(E10,DEGREES(Q15),Q15) -> 0 | T15: =IF(E8,90-S15-E9,S15+90+E9) -> 90 | U15: =IF(E11,ABS(E6)-R15,ABS(E5)+R15) -> 0 | V15: =COS(RADIANS(T15))*U15 -> 0 | W15: =SIN(RADIANS(T15))*U15 -> 0
D16: Display Data Markers | E16: FALSE | F16: =IF(E8,(ROW()-ROW(F3))*5,((ROW(F75)-ROW())*5)) -> 65 | G16: =IF(F16-E9>=0,F16-E9,360-E9+F16) -> 65 | H16: =IF(G16=360,0,IF(MOD(G16,E2)=0,G16,"")) | I16: =IF(E13,H16,CHAR(160)) | J16: =NA() -> #N/A | K16: 20 | L16: =L15 -> #N/A | M16: =IF(E8,90-INDEX(F3:F74,L16,1),INDEX(F3:F74,L16,1)+90) -> #N/A | N16: =IF(E12,-(E7),NA()) -> -10 | O16: =COS(RADIANS(M16))*N16 -> #N/A | P16: =SIN(RADIANS(M16))*N16 -> #N/A | Q16: =A15 -> 360 | R16: =B15 -> 10 | S16: =IF(E10,DEGREES(Q16),Q16) -> 360 | T16: =IF(E8,90-S16-E9,S16+90+E9) -> -270 | U16: =IF(E11,ABS(E6)-R16,ABS(E5)+R16) -> 10 | V16: =COS(RADIANS(T16))*U16 -> -1.8377227e-15 | W16: =SIN(RADIANS(T16))*U16 -> 10
A17: 0 | B17: 0 | D17: Display Legend | E17: TRUE | F17: =IF(E8,(ROW()-ROW(F3))*5,((ROW(F75)-ROW())*5)) -> 70 | G17: =IF(F17-E9>=0,F17-E9,360-E9+F17) -> 70 | H17: =IF(G17=360,0,IF(MOD(G17,E2)=0,G17,"")) | I17: =IF(E13,H17,CHAR(160)) | J17: =NA() -> #N/A | Q17: =A16 -> 0 | R17: =B16 -> 0 | S17: =IF(E10,DEGREES(Q17),Q17) -> 0 | T17: =IF(E8,90-S17-E9,S17+90+E9) -> 90 | U17: =IF(E11,ABS(E6)-R17,ABS(E5)+R17) -> 0
A18: =C28 -> 360 | B18: 10 | D18: Display Axis | E18: TRUE | F18: =IF(E8,(ROW()-ROW(F3))*5,((ROW(F75)-ROW())*5)) -> 75 | G18: =IF(F18-E9>=0,F18-E9,360-E9+F18) -> 75 | H18: =IF(G18=360,0,IF(MOD(G18,E2)=0,G18,"")) | I18: =IF(E13,H18,CHAR(160)) | J18: =NA() -> #N/A | K18: 25 | L18: =MATCH(K18,H3:H74,0) -> #N/A | M18: =IF(E8,90-INDEX(F3:F74,L18,1),INDEX(F3:F74,L18,1)+90) -> #N/A | N18: =IF(E12,+(E7),NA()) -> 10 | O18: =COS(RADIANS(M18))*N18 -> #N/A | P18: =SIN(RADIANS(M18))*N18 -> #N/A | Q18: =A17 -> 0 | R18: =B17 -> 0 | S18: =IF(E10,DEGREES(Q18),Q18) -> 0 | T18: =IF(E8,90-S18-E9,S18+90+E9) -> 90 | U18: =IF(E11,ABS(E6)-R18,ABS(E5)+R18) -> 0 | V18: =COS(RADIANS(T18))*U18 -> 0 | W18: =SIN(RADIANS(T18))*U18 -> 0
B19: 0 | D19: MinDataValue | E19: 0 | F19: =IF(E8,(ROW()-ROW(F3))*5,((ROW(F75)-ROW())*5)) -> 80 | G19: =IF(F19-E9>=0,F19-E9,360-E9+F19) -> 80 | H19: =IF(G19=360,0,IF(MOD(G19,E2)=0,G19,"")) | I19: =IF(E13,H19,CHAR(160)) | J19: =NA() -> #N/A | K19: 25 | L19: =L18 -> #N/A | M19: =IF(E8,90-INDEX(F3:F74,L19,1),INDEX(F3:F74,L19,1)+90) -> #N/A | N19: =IF(E12,-(E7),NA()) -> -10 | O19: =COS(RADIANS(M19))*N19 -> #N/A | P19: =SIN(RADIANS(M19))*N19 -> #N/A | Q19: =A18 -> 360 | R19: =B18 -> 10 | S19: =IF(E10,DEGREES(Q19),Q19) -> 360 | T19: =IF(E8,90-S19-E9,S19+90+E9) -> -270 | U19: =IF(E11,ABS(E6)-R19,ABS(E5)+R19) -> 10 | V19: =COS(RADIANS(T19))*U19 -> -1.8377227e-15 | W19: =SIN(RADIANS(T19))*U19 -> 10
A20: 0 | B20: 0 | D20: MaxDataValue | E20: 10 | F20: =IF(E8,(ROW()-ROW(F3))*5,((ROW(F75)-ROW())*5)) -> 85 | G20: =IF(F20-E9>=0,F20-E9,360-E9+F20) -> 85 | H20: =IF(G20=360,0,IF(MOD(G20,E2)=0,G20,"")) | I20: =IF(E13,H20,CHAR(160)) | J20: =NA() -> #N/A | Q20: =A19 -> 0 | R20: =B19 -> 0 | S20: =IF(E10,DEGREES(Q20),Q20) -> 0 | T20: =IF(E8,90-S20-E9,S20+90+E9) -> 90 | U20: =IF(E11,ABS(E6)-R20,ABS(E5)+R20) -> 0
A21: =C29 -> 360 | B21: 10 | D21: DataRange | E21: ='Example10'!$A$1:$B$21 | F21: =IF(E8,(ROW()-ROW(F3))*5,((ROW(F75)-ROW())*5)) -> 90 | G21: =IF(F21-E9>=0,F21-E9,360-E9+F21) -> 90 | H21: =IF(G21=360,0,IF(MOD(G21,E2)=0,G21,"")) -> 90 | I21: =IF(E13,H21,CHAR(160)) -> 90 | J21: =NA() -> #N/A | K21: 30 | L21: =MATCH(K21,H3:H74,0) -> 7 | M21: =IF(E8,90-INDEX(F3:F74,L21,1),INDEX(F3:F74,L21,1)+90) -> 60 | N21: =IF(E12,+(E7),NA()) -> 10 | O21: =COS(RADIANS(M21))*N21 -> 5 | P21: =SIN(RADIANS(M21))*N21 -> 8.660254 | Q21: =A20 -> 0 | R21: =B20 -> 0 | S21: =IF(E10,DEGREES(Q21),Q21) -> 0 | T21: =IF(E8,90-S21-E9,S21+90+E9) -> 90 | U21: =IF(E11,ABS(E6)-R21,ABS(E5)+R21) -> 0 | V21: =COS(RADIANS(T21))*U21 -> 0 | W21: =SIN(RADIANS(T21))*U21 -> 0
D22: DataChanged | E22: FAUX | F22: =IF(E8,(ROW()-ROW(F3))*5,((ROW(F75)-ROW())*5)) -> 95 | G22: =IF(F22-E9>=0,F22-E9,360-E9+F22) -> 95 | H22: =IF(G22=360,0,IF(MOD(G22,E2)=0,G22,"")) | I22: =IF(E13,H22,CHAR(160)) | J22: =NA() -> #N/A | K22: 30 | L22: =L21 -> 7 | M22: =IF(E8,90-INDEX(F3:F74,L22,1),INDEX(F3:F74,L22,1)+90) -> 60 | N22: =IF(E12,-(E7),NA()) -> -10 | O22: =COS(RADIANS(M22))*N22 -> -5 | P22: =SIN(RADIANS(M22))*N22 -> -8.660254 | Q22: =A21 -> 360 | R22: =B21 -> 10 | S22: =IF(E10,DEGREES(Q22),Q22) -> 360 | T22: =IF(E8,90-S22-E9,S22+90+E9) -> -270 | U22: =IF(E11,ABS(E6)-R22,ABS(E5)+R22) -> 10 | V22: =COS(RADIANS(T22))*U22 -> -1.8377227e-15 | W22: =SIN(RADIANS(T22))*U22 -> 10
A23: 0 | B23: 0 | C23: =B115 -> 0 | F23: =IF(E8,(ROW()-ROW(F3))*5,((ROW(F75)-ROW())*5)) -> 100 | G23: =IF(F23-E9>=0,F23-E9,360-E9+F23) -> 100 | H23: =IF(G23=360,0,IF(MOD(G23,E2)=0,G23,"")) | I23: =IF(E13,H23,CHAR(160)) | J23: =NA() -> #N/A
A24: =C30 -> 360 | B24: 10 | C24: =B116 -> 360 | F24: =IF(E8,(ROW()-ROW(F3))*5,((ROW(F75)-ROW())*5)) -> 105 | G24: =IF(F24-E9>=0,F24-E9,360-E9+F24) -> 105 | H24: =IF(G24=360,0,IF(MOD(G24,E2)=0,G24,"")) | I24: =IF(E13,H24,CHAR(160)) | J24: =NA() -> #N/A | K24: 35 | L24: =MATCH(K24,H3:H74,0) -> #N/A | M24: =IF(E8,90-INDEX(F3:F74,L24,1),INDEX(F3:F74,L24,1)+90) -> #N/A | N24: =IF(E12,+(E7),NA()) -> 10 | O24: =COS(RADIANS(M24))*N24 -> #N/A | P24: =SIN(RADIANS(M24))*N24 -> #N/A | Q24: =A23 -> 0 | R24: =B23 -> 0 | S24: =IF(E31,DEGREES(Q24),Q24) -> 0 | T24: =IF($E$8,90-S24-E30,S24+90+E30) -> 90 | U24: =IF(E32,ABS(E27)-R24,ABS(E26)+R24) -> 0 | V24: =COS(RADIANS(T24))*U24 -> 0 | W24: =SIN(RADIANS(T24))*U24 -> 0
C25: =B117 -> 360 | F25: =IF(E8,(ROW()-ROW(F3))*5,((ROW(F75)-ROW())*5)) -> 110 | G25: =IF(F25-E9>=0,F25-E9,360-E9+F25) -> 110 | H25: =IF(G25=360,0,IF(MOD(G25,E2)=0,G25,"")) | I25: =IF(E13,H25,CHAR(160)) | J25: =NA() -> #N/A | K25: 35 | L25: =L24 -> #N/A | M25: =IF(E8,90-INDEX(F3:F74,L25,1),INDEX(F3:F74,L25,1)+90) -> #N/A | N25: =IF(E12,-(E7),NA()) -> -10 | O25: =COS(RADIANS(M25))*N25 -> #N/A | P25: =SIN(RADIANS(M25))*N25 -> #N/A | Q25: =A24 -> 360 | R25: =B24 -> 10 | S25: =IF(E31,DEGREES(Q25),Q25) -> 360 | T25: =IF($E$8,90-S25-E31,S25+90+E31) -> -270 | U25: =IF(E32,ABS(E27)-R25,ABS(E26)+R25) -> 10 | V25: =COS(RADIANS(T25))*U25 -> -1.8377227e-15 | W25: =SIN(RADIANS(T25))*U25 -> 10
A26: 0 | B26: 0 | C26: =B118 -> 360 | F26: =IF(E8,(ROW()-ROW(F3))*5,((ROW(F75)-ROW())*5)) -> 115 | G26: =IF(F26-E9>=0,F26-E9,360-E9+F26) -> 115 | H26: =IF(G26=360,0,IF(MOD(G26,E2)=0,G26,"")) | I26: =IF(E13,H26,CHAR(160)) | J26: =NA() -> #N/A | Q26: =A25 -> 0 | R26: =B25 -> 0 | S26: =IF(E31,DEGREES(Q26),Q26) -> 0 | T26: =IF($E$8,90-S26-E32,S26+90+E32) -> 90 | U26: =IF(E32,ABS(E27)-R26,ABS(E26)+R26) -> 0
A27: =C31 -> 360 | B27: 10 | C27: =B119 -> 360 | F27: =IF(E8,(ROW()-ROW(F3))*5,((ROW(F75)-ROW())*5)) -> 120 | G27: =IF(F27-E9>=0,F27-E9,360-E9+F27) -> 120 | H27: =IF(G27=360,0,IF(MOD(G27,E2)=0,G27,"")) -> 120 | I27: =IF(E13,H27,CHAR(160)) -> 120 | J27: =NA() -> #N/A | K27: 40 | L27: =MATCH(K27,H3:H74,0) -> #N/A | M27: =IF(E8,90-INDEX(F3:F74,L27,1),INDEX(F3:F74,L27,1)+90) -> #N/A | N27: =IF(E12,+(E7),NA()) -> 10 | O27: =COS(RADIANS(M27))*N27 -> #N/A | P27: =SIN(RADIANS(M27))*N27 -> #N/A | Q27: =A26 -> 0 | R27: =B26 -> 0 | S27: =IF(E31,DEGREES(Q27),Q27) -> 0 | T27: =IF($E$8,90-S27-E33,S27+90+E33) -> 90 | U27: =IF(E32,ABS(E27)-R27,ABS(E26)+R27) -> 0 | V27: =COS(RADIANS(T27))*U27 -> 0 | W27: =SIN(RADIANS(T27))*U27 -> 0
C28: =B120 -> 360 | F28: =IF(E8,(ROW()-ROW(F3))*5,((ROW(F75)-ROW())*5)) -> 125 | G28: =IF(F28-E9>=0,F28-E9,360-E9+F28) -> 125 | H28: =IF(G28=360,0,IF(MOD(G28,E2)=0,G28,"")) | I28: =IF(E13,H28,CHAR(160)) | J28: =NA() -> #N/A | K28: 40 | L28: =L27 -> #N/A | M28: =IF(E8,90-INDEX(F3:F74,L28,1),INDEX(F3:F74,L28,1)+90) -> #N/A | N28: =IF(E12,-(E7),NA()) -> -10 | O28: =COS(RADIANS(M28))*N28 -> #N/A | P28: =SIN(RADIANS(M28))*N28 -> #N/A | Q28: =A27 -> 360 | R28: =B27 -> 10 | S28: =IF(E31,DEGREES(Q28),Q28) -> 360 | T28: =IF($E$8,90-S28-E34,S28+90+E34) -> -270 | U28: =IF(E32,ABS(E27)-R28,ABS(E26)+R28) -> 10 | V28: =COS(RADIANS(T28))*U28 -> -1.8377227e-15 | W28: =SIN(RADIANS(T28))*U28 -> 10
A29: 0 | B29: 0 | C29: =B121 -> 360 | F29: =IF(E8,(ROW()-ROW(F3))*5,((ROW(F75)-ROW())*5)) -> 130 | G29: =IF(F29-E9>=0,F29-E9,360-E9+F29) -> 130 | H29: =IF(G29=360,0,IF(MOD(G29,E2)=0,G29,"")) | I29: =IF(E13,H29,CHAR(160)) | J29: =NA() -> #N/A | Q29: =A28 -> 0 | R29: =B28 -> 0 | S29: =IF(E31,DEGREES(Q29),Q29) -> 0 | T29: =IF($E$8,90-S29-E35,S29+90+E35) -> 90 | U29: =IF(E32,ABS(E27)-R29,ABS(E26)+R29) -> 0
A30: =C32 -> 360 | B30: 10 | C30: =B122 -> 360 | F30: =IF(E8,(ROW()-ROW(F3))*5,((ROW(F75)-ROW())*5)) -> 135 | G30: =IF(F30-E9>=0,F30-E9,360-E9+F30) -> 135 | H30: =IF(G30=360,0,IF(MOD(G30,E2)=0,G30,"")) | I30: =IF(E13,H30,CHAR(160)) | J30: =NA() -> #N/A | K30: 45 | L30: =MATCH(K30,H3:H74,0) -> #N/A | M30: =IF(E8,90-INDEX(F3:F74,L30,1),INDEX(F3:F74,L30,1)+90) -> #N/A | N30: =IF(E12,+(E7),NA()) -> 10 | O30: =COS(RADIANS(M30))*N30 -> #N/A | P30: =SIN(RADIANS(M30))*N30 -> #N/A | Q30: =A29 -> 0 | R30: =B29 -> 0 | S30: =IF(E31,DEGREES(Q30),Q30) -> 0 | T30: =IF($E$8,90-S30-E36,S30+90+E36) -> 90 | U30: =IF(E32,ABS(E27)-R30,ABS(E26)+R30) -> 0 | V30: =COS(RADIANS(T30))*U30 -> 0 | W30: =SIN(RADIANS(T30))*U30 -> 0
C31: =B123 -> 360 | F31: =IF(E8,(ROW()-ROW(F3))*5,((ROW(F75)-ROW())*5)) -> 140 | G31: =IF(F31-E9>=0,F31-E9,360-E9+F31) -> 140 | H31: =IF(G31=360,0,IF(MOD(G31,E2)=0,G31,"")) | I31: =IF(E13,H31,CHAR(160)) | J31: =NA() -> #N/A | K31: 45 | L31: =L30 -> #N/A | M31: =IF(E8,90-INDEX(F3:F74,L31,1),INDEX(F3:F74,L31,1)+90) -> #N/A | N31: =IF(E12,-(E7),NA()) -> -10 | O31: =COS(RADIANS(M31))*N31 -> #N/A | P31: =SIN(RADIANS(M31))*N31 -> #N/A | Q31: =A30 -> 360 | R31: =B30 -> 10 | S31: =IF(E31,DEGREES(Q31),Q31) -> 360 | T31: =IF($E$8,90-S31-E37,S31+90+E37) -> -270 | U31: =IF(E32,ABS(E27)-R31,ABS(E26)+R31) -> 10 | V31: =COS(RADIANS(T31))*U31 -> -1.8377227e-15 | W31: =SIN(RADIANS(T31))*U31 -> 10
A32: 0 | B32: 0 | C32: =B124 -> 360 | F32: =IF(E8,(ROW()-ROW(F3))*5,((ROW(F75)-ROW())*5)) -> 145 | G32: =IF(F32-E9>=0,F32-E9,360-E9+F32) -> 145 | H32: =IF(G32=360,0,IF(MOD(G32,E2)=0,G32,"")) | I32: =IF(E13,H32,CHAR(160)) | J32: =NA() -> #N/A | Q32: =A31 -> 0 | R32: =B31 -> 0 | S32: =IF(E31,DEGREES(Q32),Q32) -> 0 | T32: =IF($E$8,90-S32-E38,S32+90+E38) -> 90 | U32: =IF(E32,ABS(E27)-R32,ABS(E26)+R32) -> 0
A33: =C33 -> 360 | B33: 10 | C33: =B125 -> 360 | F33: =IF(E8,(ROW()-ROW(F3))*5,((ROW(F75)-ROW())*5)) -> 150 | G33: =IF(F33-E9>=0,F33-E9,360-E9+F33) -> 150 | H33: =IF(G33=360,0,IF(MOD(G33,E2)=0,G33,"")) -> 150 | I33: =IF(E13,H33,CHAR(160)) -> 150 | J33: =NA() -> #N/A | K33: 50 | L33: =MATCH(K33,H3:H74,0) -> #N/A | M33: =IF(E8,90-INDEX(F3:F74,L33,1),INDEX(F3:F74,L33,1)+90) -> #N/A | N33: =IF(E12,+(E7),NA()) -> 10 | O33: =COS(RADIANS(M33))*N33 -> #N/A | P33: =SIN(RADIANS(M33))*N33 -> #N/A | Q33: =A32 -> 0 | R33: =B32 -> 0 | S33: =IF(E31,DEGREES(Q33),Q33) -> 0 | T33: =IF($E$8,90-S33-E39,S33+90+E39) -> 90 | U33: =IF(E32,ABS(E27)-R33,ABS(E26)+R33) -> 0 | V33: =COS(RADIANS(T33))*U33 -> 0 | W33: =SIN(RADIANS(T33))*U33 -> 0
C34: =B126 -> 360 | F34: =IF(E8,(ROW()-ROW(F3))*5,((ROW(F75)-ROW())*5)) -> 155 | G34: =IF(F34-E9>=0,F34-E9,360-E9+F34) -> 155 | H34: =IF(G34=360,0,IF(MOD(G34,E2)=0,G34,"")) | I34: =IF(E13,H34,CHAR(160)) | J34: =NA() -> #N/A | K34: 50 | L34: =L33 -> #N/A | M34: =IF(E8,90-INDEX(F3:F74,L34,1),INDEX(F3:F74,L34,1)+90) -> #N/A | N34: =IF(E12,-(E7),NA()) -> -10 | O34: =COS(RADIANS(M34))*N34 -> #N/A | P34: =SIN(RADIANS(M34))*N34 -> #N/A | Q34: =A33 -> 360 | R34: =B33 -> 10 | S34: =IF(E31,DEGREES(Q34),Q34) -> 360 | T34: =IF($E$8,90-S34-E40,S34+90+E40) -> -270 | U34: =IF(E32,ABS(E27)-R34,ABS(E26)+R34) -> 10 | V34: =COS(RADIANS(T34))*U34 -> -1.8377227e-15 | W34: =SIN(RADIANS(T34))*U34 -> 10
A35: 0 | B35: 0 | C35: =B127 -> 360 | F35: =IF(E8,(ROW()-ROW(F3))*5,((ROW(F75)-ROW())*5)) -> 160 | G35: =IF(F35-E9>=0,F35-E9,360-E9+F35) -> 160 | H35: =IF(G35=360,0,IF(MOD(G35,E2)=0,G35,"")) | I35: =IF(E13,H35,CHAR(160)) | J35: =NA() -> #N/A | Q35: =A34 -> 0 | R35: =B34 -> 0 | S35: =IF(E31,DEGREES(Q35),Q35) -> 0 | T35: =IF($E$8,90-S35-E41,S35+90+E41) -> 90 | U35: =IF(E32,ABS(E27)-R35,ABS(E26)+R35) -> 0
A36: =C34 -> 360 | B36: 10 | C36: =B128 -> 360 | F36: =IF(E8,(ROW()-ROW(F3))*5,((ROW(F75)-ROW())*5)) -> 165 | G36: =IF(F36-E9>=0,F36-E9,360-E9+F36) -> 165 | H36: =IF(G36=360,0,IF(MOD(G36,E2)=0,G36,"")) | I36: =IF(E13,H36,CHAR(160)) | J36: =NA() -> #N/A | K36: 55 | L36: =MATCH(K36,H3:H74,0) -> #N/A | M36: =IF(E8,90-INDEX(F3:F74,L36,1),INDEX(F3:F74,L36,1)+90) -> #N/A | N36: =IF(E12,+(E7),NA()) -> 10 | O36: =COS(RADIANS(M36))*N36 -> #N/A | P36: =SIN(RADIANS(M36))*N36 -> #N/A | Q36: =A35 -> 0 | R36: =B35 -> 0 | S36: =IF(E31,DEGREES(Q36),Q36) -> 0 | T36: =IF($E$8,90-S36-E42,S36+90+E42) -> 90 | U36: =IF(E32,ABS(E27)-R36,ABS(E26)+R36) -> 0 | V36: =COS(RADIANS(T36))*U36 -> 0 | W36: =SIN(RADIANS(T36))*U36 -> 0
C37: =B129 -> 360 | F37: =IF(E8,(ROW()-ROW(F3))*5,((ROW(F75)-ROW())*5)) -> 170 | G37: =IF(F37-E9>=0,F37-E9,360-E9+F37) -> 170 | H37: =IF(G37=360,0,IF(MOD(G37,E2)=0,G37,"")) | I37: =IF(E13,H37,CHAR(160)) | J37: =NA() -> #N/A | K37: 55 | L37: =L36 -> #N/A | M37: =IF(E8,90-INDEX(F3:F74,L37,1),INDEX(F3:F74,L37,1)+90) -> #N/A | N37: =IF(E12,-(E7),NA()) -> -10 | O37: =COS(RADIANS(M37))*N37 -> #N/A | P37: =SIN(RADIANS(M37))*N37 -> #N/A | Q37: =A36 -> 360 | R37: =B36 -> 10 | S37: =IF(E31,DEGREES(Q37),Q37) -> 360 | T37: =IF($E$8,90-S37-E43,S37+90+E43) -> -270 | U37: =IF(E32,ABS(E27)-R37,ABS(E26)+R37) -> 10 | V37: =COS(RADIANS(T37))*U37 -> -1.8377227e-15 | W37: =SIN(RADIANS(T37))*U37 -> 10
A38: 0 | B38: 0 | C38: =B130 -> 360 | F38: =IF(E8,(ROW()-ROW(F3))*5,((ROW(F75)-ROW())*5)) -> 175 | G38: =IF(F38-E9>=0,F38-E9,360-E9+F38) -> 175 | H38: =IF(G38=360,0,IF(MOD(G38,E2)=0,G38,"")) | I38: =IF(E13,H38,CHAR(160)) | J38: =NA() -> #N/A | Q38: =A37 -> 0 | R38: =B37 -> 0 | S38: =IF(E31,DEGREES(Q38),Q38) -> 0 | T38: =IF($E$8,90-S38-E44,S38+90+E44) -> 90 | U38: =IF(E32,ABS(E27)-R38,ABS(E26)+R38) -> 0
A39: =C35 -> 360 | B39: 10 | C39: =B131 -> 360 | F39: =IF(E8,(ROW()-ROW(F3))*5,((ROW(F75)-ROW())*5)) -> 180 | G39: =IF(F39-E9>=0,F39-E9,360-E9+F39) -> 180 | H39: =IF(G39=360,0,IF(MOD(G39,E2)=0,G39,"")) -> 180 | I39: =IF(E13,H39,CHAR(160)) -> 180 | J39: =NA() -> #N/A | K39: 60 | L39: =MATCH(K39,H3:H74,0) -> 13 | M39: =IF(E8,90-INDEX(F3:F74,L39,1),INDEX(F3:F74,L39,1)+90) -> 30 | N39: =IF(E12,+(E7),NA()) -> 10 | O39: =COS(RADIANS(M39))*N39 -> 8.660254 | P39: =SIN(RADIANS(M39))*N39 -> 5 | Q39: =A38 -> 0 | R39: =B38 -> 0 | S39: =IF(E31,DEGREES(Q39),Q39) -> 0 | T39: =IF($E$8,90-S39-E45,S39+90+E45) -> 90 | U39: =IF(E32,ABS(E27)-R39,ABS(E26)+R39) -> 0 | V39: =COS(RADIANS(T39))*U39 -> 0 | W39: =SIN(RADIANS(T39))*U39 -> 0
B40: 0 | C40: =B132 -> 360 | F40: =IF(E8,(ROW()-ROW(F3))*5,((ROW(F75)-ROW())*5)) -> 185 | G40: =IF(F40-E9>=0,F40-E9,360-E9+F40) -> 185 | H40: =IF(G40=360,0,IF(MOD(G40,E2)=0,G40,"")) | I40: =IF(E13,H40,CHAR(160)) | J40: =NA() -> #N/A | K40: 60 | L40: =L39 -> 13 | M40: =IF(E8,90-INDEX(F3:F74,L40,1),INDEX(F3:F74,L40,1)+90) -> 30 | N40: =IF(E12,-(E7),NA()) -> -10 | O40: =COS(RADIANS(M40))*N40 -> -8.660254 | P40: =SIN(RADIANS(M40))*N40 -> -5 | Q40: =A39 -> 360 | R40: =B39 -> 10 | S40: =IF(E31,DEGREES(Q40),Q40) -> 360 | T40: =IF($E$8,90-S40-E46,S40+90+E46) -> -270 | U40: =IF(E32,ABS(E27)-R40,ABS(E26)+R40) -> 10 | V40: =COS(RADIANS(T40))*U40 -> -1.8377227e-15 | W40: =SIN(RADIANS(T40))*U40 -> 10
A41: 0 | B41: 0 | C41: =B133 -> 360 | F41: =IF(E8,(ROW()-ROW(F3))*5,((ROW(F75)-ROW())*5)) -> 190 | G41: =IF(F41-E9>=0,F41-E9,360-E9+F41) -> 190 | H41: =IF(G41=360,0,IF(MOD(G41,E2)=0,G41,"")) | I41: =IF(E13,H41,CHAR(160)) | J41: =NA() -> #N/A | Q41: =A40 -> 0 | R41: =B40 -> 0 | S41: =IF(E31,DEGREES(Q41),Q41) -> 0 | T41: =IF($E$8,90-S41-E47,S41+90+E47) -> 90 | U41: =IF(E32,ABS(E27)-R41,ABS(E26)+R41) -> 0
A42: =C36 -> 360 | B42: 10 | C42: =B134 -> 360 | F42: =IF(E8,(ROW()-ROW(F3))*5,((ROW(F75)-ROW())*5)) -> 195 | G42: =IF(F42-E9>=0,F42-E9,360-E9+F42) -> 195 | H42: =IF(G42=360,0,IF(MOD(G42,E2)=0,G42,"")) | I42: =IF(E13,H42,CHAR(160)) | J42: =NA() -> #N/A | K42: 65 | L42: =MATCH(K42,H3:H74,0) -> #N/A | M42: =IF(E8,90-INDEX(F3:F74,L42,1),INDEX(F3:F74,L42,1)+90) -> #N/A | N42: =IF(E12,+(E7),NA()) -> 10 | O42: =COS(RADIANS(M42))*N42 -> #N/A | P42: =SIN(RADIANS(M42))*N42 -> #N/A | Q42: =A41 -> 0 | R42: =B41 -> 0 | S42: =IF(E31,DEGREES(Q42),Q42) -> 0 | T42: =IF($E$8,90-S42-E48,S42+90+E48) -> 90 | U42: =IF(E32,ABS(E27)-R42,ABS(E26)+R42) -> 0 | V42: =COS(RADIANS(T42))*U42 -> 0 | W42: =SIN(RADIANS(T42))*U42 -> 0
C43: =B135 -> 360 | F43: =IF(E8,(ROW()-ROW(F3))*5,((ROW(F75)-ROW())*5)) -> 200 | G43: =IF(F43-E9>=0,F43-E9,360-E9+F43) -> 200 | H43: =IF(G43=360,0,IF(MOD(G43,E2)=0,G43,"")) | I43: =IF(E13,H43,CHAR(160)) | J43: =NA() -> #N/A | K43: 65 | L43: =L42 -> #N/A | M43: =IF(E8,90-INDEX(F3:F74,L43,1),INDEX(F3:F74,L43,1)+90) -> #N/A | N43: =IF(E12,-(E7),NA()) -> -10 | O43: =COS(RADIANS(M43))*N43 -> #N/A | P43: =SIN(RADIANS(M43))*N43 -> #N/A | Q43: =A42 -> 360 | R43: =B42 -> 10 | S43: =IF(E31,DEGREES(Q43),Q43) -> 360 | T43: =IF($E$8,90-S43-E49,S43+90+E49) -> -270 | U43: =IF(E32,ABS(E27)-R43,ABS(E26)+R43) -> 10 | V43: =COS(RADIANS(T43))*U43 -> -1.8377227e-15 | W43: =SIN(RADIANS(T43))*U43 -> 10
A44: 0 | B44: 0 | C44: =B136 -> 360 | F44: =IF(E8,(ROW()-ROW(F3))*5,((ROW(F75)-ROW())*5)) -> 205 | G44: =IF(F44-E9>=0,F44-E9,360-E9+F44) -> 205 | H44: =IF(G44=360,0,IF(MOD(G44,E2)=0,G44,"")) | I44: =IF(E13,H44,CHAR(160)) | J44: =NA() -> #N/A
A45: =C37 -> 360 | B45: 10 | C45: =B137 -> 360 | F45: =IF(E8,(ROW()-ROW(F3))*5,((ROW(F75)-ROW())*5)) -> 210 | G45: =IF(F45-E9>=0,F45-E9,360-E9+F45) -> 210 | H45: =IF(G45=360,0,IF(MOD(G45,E2)=0,G45,"")) -> 210 | I45: =IF(E13,H45,CHAR(160)) -> 210 | J45: =NA() -> #N/A | K45: 70 | L45: =MATCH(K45,H3:H74,0) -> #N/A | M45: =IF(E8,90-INDEX(F3:F74,L45,1),INDEX(F3:F74,L45,1)+90) -> #N/A | N45: =IF(E12,+(E7),NA()) -> 10 | O45: =COS(RADIANS(M45))*N45 -> #N/A | P45: =SIN(RADIANS(M45))*N45 -> #N/A | Q45: =A44 -> 0 | R45: =B44 -> 0 | S45: =IF(E52,DEGREES(Q45),Q45) -> 0 | T45: =IF($E$8,90-S45-E51,S45+90+E51) -> 90 | U45: =IF(E53,ABS(E48)-R45,ABS(E47)+R45) -> 0 | V45: =COS(RADIANS(T45))*U45 -> 0 | W45: =SIN(RADIANS(T45))*U45 -> 0
C46: =B138 -> 360 | F46: =IF(E8,(ROW()-ROW(F3))*5,((ROW(F75)-ROW())*5)) -> 215 | G46: =IF(F46-E9>=0,F46-E9,360-E9+F46) -> 215 | H46: =IF(G46=360,0,IF(MOD(G46,E2)=0,G46,"")) | I46: =IF(E13,H46,CHAR(160)) | J46: =NA() -> #N/A | K46: 70 | L46: =L45 -> #N/A | M46: =IF(E8,90-INDEX(F3:F74,L46,1),INDEX(F3:F74,L46,1)+90) -> #N/A | N46: =IF(E12,-(E7),NA()) -> -10 | O46: =COS(RADIANS(M46))*N46 -> #N/A | P46: =SIN(RADIANS(M46))*N46 -> #N/A | Q46: =A45 -> 360 | R46: =B45 -> 10 | S46: =IF(E52,DEGREES(Q46),Q46) -> 360 | T46: =IF($E$8,90-S46-E52,S46+90+E52) -> -270 | U46: =IF(E53,ABS(E48)-R46,ABS(E47)+R46) -> 10 | V46: =COS(RADIANS(T46))*U46 -> -1.8377227e-15 | W46: =SIN(RADIANS(T46))*U46 -> 10
A47: 0 | B47: 0 | C47: =B139 -> 360 | F47: =IF(E8,(ROW()-ROW(F3))*5,((ROW(F75)-ROW())*5)) -> 220 | G47: =IF(F47-E9>=0,F47-E9,360-E9+F47) -> 220 | H47: =IF(G47=360,0,IF(MOD(G47,E2)=0,G47,"")) | I47: =IF(E13,H47,CHAR(160)) | J47: =NA() -> #N/A | Q47: =A46 -> 0 | R47: =B46 -> 0 | S47: =IF(E52,DEGREES(Q47),Q47) -> 0 | T47: =IF($E$8,90-S47-E53,S47+90+E53) -> 90 | U47: =IF(E53,ABS(E48)-R47,ABS(E47)+R47) -> 0
A48: =C38 -> 360 | B48: 10 | C48: =B140 -> 360 | F48: =IF(E8,(ROW()-ROW(F3))*5,((ROW(F75)-ROW())*5)) -> 225 | G48: =IF(F48-E9>=0,F48-E9,360-E9+F48) -> 225 | H48: =IF(G48=360,0,IF(MOD(G48,E2)=0,G48,"")) | I48: =IF(E13,H48,CHAR(160)) | J48: =NA() -> #N/A | K48: 75 | L48: =MATCH(K48,H3:H74,0) -> #N/A | M48: =IF(E8,90-INDEX(F3:F74,L48,1),INDEX(F3:F74,L48,1)+90) -> #N/A | N48: =IF(E12,+(E7),NA()) -> 10 | O48: =COS(RADIANS(M48))*N48 -> #N/A | P48: =SIN(RADIANS(M48))*N48 -> #N/A | Q48: =A47 -> 0 | R48: =B47 -> 0 | S48: =IF(E52,DEGREES(Q48),Q48) -> 0 | T48: =IF($E$8,90-S48-E54,S48+90+E54) -> 90 | U48: =IF(E53,ABS(E48)-R48,ABS(E47)+R48) -> 0 | V48: =COS(RADIANS(T48))*U48 -> 0 | W48: =SIN(RADIANS(T48))*U48 -> 0
C49: =B141 -> 360 | F49: =IF(E8,(ROW()-ROW(F3))*5,((ROW(F75)-ROW())*5)) -> 230 | G49: =IF(F49-E9>=0,F49-E9,360-E9+F49) -> 230 | H49: =IF(G49=360,0,IF(MOD(G49,E2)=0,G49,"")) | I49: =IF(E13,H49,CHAR(160)) | J49: =NA() -> #N/A | K49: 75 | L49: =L48 -> #N/A | M49: =IF(E8,90-INDEX(F3:F74,L49,1),INDEX(F3:F74,L49,1)+90) -> #N/A | N49: =IF(E12,-(E7),NA()) -> -10 | O49: =COS(RADIANS(M49))*N49 -> #N/A | P49: =SIN(RADIANS(M49))*N49 -> #N/A | Q49: =A48 -> 360 | R49: =B48 -> 10 | S49: =IF(E52,DEGREES(Q49),Q49) -> 360 | T49: =IF($E$8,90-S49-E55,S49+90+E55) -> -270 | U49: =IF(E53,ABS(E48)-R49,ABS(E47)+R49) -> 10 | V49: =COS(RADIANS(T49))*U49 -> -1.8377227e-15 | W49: =SIN(RADIANS(T49))*U49 -> 10
A50: 0 | B50: 0 | C50: =B142 -> 360 | F50: =IF(E8,(ROW()-ROW(F3))*5,((ROW(F75)-ROW())*5)) -> 235 | G50: =IF(F50-E9>=0,F50-E9,360-E9+F50) -> 235 | H50: =IF(G50=360,0,IF(MOD(G50,E2)=0,G50,"")) | I50: =IF(E13,H50,CHAR(160)) | J50: =NA() -> #N/A | Q50: =A49 -> 0 | R50: =B49 -> 0 | S50: =IF(E52,DEGREES(Q50),Q50) -> 0 | T50: =IF($E$8,90-S50-E56,S50+90+E56) -> 90 | U50: =IF(E53,ABS(E48)-R50,ABS(E47)+R50) -> 0
A51: =C39 -> 360 | B51: 10 | C51: =B143 -> 0 | F51: =IF(E8,(ROW()-ROW(F3))*5,((ROW(F75)-ROW())*5)) -> 240 | G51: =IF(F51-E9>=0,F51-E9,360-E9+F51) -> 240 | H51: =IF(G51=360,0,IF(MOD(G51,E2)=0,G51,"")) -> 240 | I51: =IF(E13,H51,CHAR(160)) -> 240 | J51: =NA() -> #N/A | K51: 80 | L51: =MATCH(K51,H3:H74,0) -> #N/A | M51: =IF(E8,90-INDEX(F3:F74,L51,1),INDEX(F3:F74,L51,1)+90) -> #N/A | N51: =IF(E12,+(E7),NA()) -> 10 | O51: =COS(RADIANS(M51))*N51 -> #N/A | P51: =SIN(RADIANS(M51))*N51 -> #N/A | Q51: =A50 -> 0 | R51: =B50 -> 0 | S51: =IF(E52,DEGREES(Q51),Q51) -> 0 | T51: =IF($E$8,90-S51-E57,S51+90+E57) -> 90 | U51: =IF(E53,ABS(E48)-R51,ABS(E47)+R51) -> 0 | V51: =COS(RADIANS(T51))*U51 -> 0 | W51: =SIN(RADIANS(T51))*U51 -> 0
F52: =IF(E8,(ROW()-ROW(F3))*5,((ROW(F75)-ROW())*5)) -> 245 | G52: =IF(F52-E9>=0,F52-E9,360-E9+F52) -> 245 | H52: =IF(G52=360,0,IF(MOD(G52,E2)=0,G52,"")) | I52: =IF(E13,H52,CHAR(160)) | J52: =NA() -> #N/A | K52: 80 | L52: =L51 -> #N/A | M52: =IF(E8,90-INDEX(F3:F74,L52,1),INDEX(F3:F74,L52,1)+90) -> #N/A | N52: =IF(E12,-(E7),NA()) -> -10 | O52: =COS(RADIANS(M52))*N52 -> #N/A | P52: =SIN(RADIANS(M52))*N52 -> #N/A | Q52: =A51 -> 360 | R52: =B51 -> 10 | S52: =IF(E52,DEGREES(Q52),Q52) -> 360 | T52: =IF($E$8,90-S52-E58,S52+90+E58) -> -270 | U52: =IF(E53,ABS(E48)-R52,ABS(E47)+R52) -> 10 | V52: =COS(RADIANS(T52))*U52 -> -1.8377227e-15 | W52: =SIN(RADIANS(T52))*U52 -> 10
A53: 0 | B53: 0 | F53: =IF(E8,(ROW()-ROW(F3))*5,((ROW(F75)-ROW())*5)) -> 250 | G53: =IF(F53-E9>=0,F53-E9,360-E9+F53) -> 250 | H53: =IF(G53=360,0,IF(MOD(G53,E2)=0,G53,"")) | I53: =IF(E13,H53,CHAR(160)) | J53: =NA() -> #N/A | Q53: =A52 -> 0 | R53: =B52 -> 0 | S53: =IF(E52,DEGREES(Q53),Q53) -> 0 | T53: =IF($E$8,90-S53-E59,S53+90+E59) -> 90 | U53: =IF(E53,ABS(E48)-R53,ABS(E47)+R53) -> 0
A54: =C40 -> 360 | B54: 10 | F54: =IF(E8,(ROW()-ROW(F3))*5,((ROW(F75)-ROW())*5)) -> 255 | G54: =IF(F54-E9>=0,F54-E9,360-E9+F54) -> 255 | H54: =IF(G54=360,0,IF(MOD(G54,E2)=0,G54,"")) | I54: =IF(E13,H54,CHAR(160)) | J54: =NA() -> #N/A | K54: 85 | L54: =MATCH(K54,H3:H74,0) -> #N/A | M54: =IF(E8,90-INDEX(F3:F74,L54,1),INDEX(F3:F74,L54,1)+90) -> #N/A | N54: =IF(E12,+(E7),NA()) -> 10 | O54: =COS(RADIANS(M54))*N54 -> #N/A | P54: =SIN(RADIANS(M54))*N54 -> #N/A | Q54: =A53 -> 0 | R54: =B53 -> 0 | S54: =IF(E52,DEGREES(Q54),Q54) -> 0 | T54: =IF($E$8,90-S54-E60,S54+90+E60) -> 90 | U54: =IF(E53,ABS(E48)-R54,ABS(E47)+R54) -> 0 | V54: =COS(RADIANS(T54))*U54 -> 0 | W54: =SIN(RADIANS(T54))*U54 -> 0
F55: =IF(E8,(ROW()-ROW(F3))*5,((ROW(F75)-ROW())*5)) -> 260 | G55: =IF(F55-E9>=0,F55-E9,360-E9+F55) -> 260 | H55: =IF(G55=360,0,IF(MOD(G55,E2)=0,G55,"")) | I55: =IF(E13,H55,CHAR(160)) | J55: =NA() -> #N/A | K55: 85 | L55: =L54 -> #N/A | M55: =IF(E8,90-INDEX(F3:F74,L55,1),INDEX(F3:F74,L55,1)+90) -> #N/A | N55: =IF(E12,-(E7),NA()) -> -10 | O55: =COS(RADIANS(M55))*N55 -> #N/A | P55: =SIN(RADIANS(M55))*N55 -> #N/A | Q55: =A54 -> 360 | R55: =B54 -> 10 | S55: =IF(E52,DEGREES(Q55),Q55) -> 360 | T55: =IF($E$8,90-S55-E61,S55+90+E61) -> -270 | U55: =IF(E53,ABS(E48)-R55,ABS(E47)+R55) -> 10 | V55: =COS(RADIANS(T55))*U55 -> -1.8377227e-15 | W55: =SIN(RADIANS(T55))*U55 -> 10
A56: 0 | B56: 0 | F56: =IF(E8,(ROW()-ROW(F3))*5,((ROW(F75)-ROW())*5)) -> 265 | G56: =IF(F56-E9>=0,F56-E9,360-E9+F56) -> 265 | H56: =IF(G56=360,0,IF(MOD(G56,E2)=0,G56,"")) | I56: =IF(E13,H56,CHAR(160)) | J56: =NA() -> #N/A | Q56: =A55 -> 0 | R56: =B55 -> 0 | S56: =IF(E52,DEGREES(Q56),Q56) -> 0 | T56: =IF($E$8,90-S56-E62,S56+90+E62) -> 90 | U56: =IF(E53,ABS(E48)-R56,ABS(E47)+R56) -> 0
A57: =C41 -> 360 | B57: 10 | F57: =IF(E8,(ROW()-ROW(F3))*5,((ROW(F75)-ROW())*5)) -> 270 | G57: =IF(F57-E9>=0,F57-E9,360-E9+F57) -> 270 | H57: =IF(G57=360,0,IF(MOD(G57,E2)=0,G57,"")) -> 270 | I57: =IF(E13,H57,CHAR(160)) -> 270 | J57: =NA() -> #N/A | K57: 90 | L57: =MATCH(K57,H3:H74,0) -> 19 | M57: =IF(E8,90-INDEX(F3:F74,L57,1),INDEX(F3:F74,L57,1)+90) -> 0 | N57: =IF(E12,+(E7),NA()) -> 10 | O57: =COS(RADIANS(M57))*N57 -> 10 | P57: =SIN(RADIANS(M57))*N57 -> 0 | Q57: =A56 -> 0 | R57: =B56 -> 0 | S57: =IF(E52,DEGREES(Q57),Q57) -> 0 | T57: =IF($E$8,90-S57-E63,S57+90+E63) -> 90 | U57: =IF(E53,ABS(E48)-R57,ABS(E47)+R57) -> 0 | V57: =COS(RADIANS(T57))*U57 -> 0 | W57: =SIN(RADIANS(T57))*U57 -> 0
F58: =IF(E8,(ROW()-ROW(F3))*5,((ROW(F75)-ROW())*5)) -> 275 | G58: =IF(F58-E9>=0,F58-E9,360-E9+F58) -> 275 | H58: =IF(G58=360,0,IF(MOD(G58,E2)=0,G58,"")) | I58: =IF(E13,H58,CHAR(160)) | J58: =NA() -> #N/A | K58: 90 | L58: =L57 -> 19 | M58: =IF(E8,90-INDEX(F3:F74,L58,1),INDEX(F3:F74,L58,1)+90) -> 0 | N58: =IF(E12,-(E7),NA()) -> -10 | O58: =COS(RADIANS(M58))*N58 -> -10 | P58: =SIN(RADIANS(M58))*N58 -> 0 | Q58: =A57 -> 360 | R58: =B57 -> 10 | S58: =IF(E52,DEGREES(Q58),Q58) -> 360 | T58: =IF($E$8,90-S58-E64,S58+90+E64) -> -270 | U58: =IF(E53,ABS(E48)-R58,ABS(E47)+R58) -> 10 | V58: =COS(RADIANS(T58))*U58 -> -1.8377227e-15 | W58: =SIN(RADIANS(T58))*U58 -> 10
A59: 0 | B59: 0 | F59: =IF(E8,(ROW()-ROW(F3))*5,((ROW(F75)-ROW())*5)) -> 280 | G59: =IF(F59-E9>=0,F59-E9,360-E9+F59) -> 280 | H59: =IF(G59=360,0,IF(MOD(G59,E2)=0,G59,"")) | I59: =IF(E13,H59,CHAR(160)) | J59: =NA() -> #N/A | Q59: =A58 -> 0 | R59: =B58 -> 0 | S59: =IF(E52,DEGREES(Q59),Q59) -> 0 | T59: =IF($E$8,90-S59-E65,S59+90+E65) -> 90 | U59: =IF(E53,ABS(E48)-R59,ABS(E47)+R59) -> 0
A60: =C42 -> 360 | B60: 10 | F60: =IF(E8,(ROW()-ROW(F3))*5,((ROW(F75)-ROW())*5)) -> 285 | G60: =IF(F60-E9>=0,F60-E9,360-E9+F60) -> 285 | H60: =IF(G60=360,0,IF(MOD(G60,E2)=0,G60,"")) | I60: =IF(E13,H60,CHAR(160)) | J60: =NA() -> #N/A | K60: 95 | L60: =MATCH(K60,H3:H74,0) -> #N/A | M60: =IF(E8,90-INDEX(F3:F74,L60,1),INDEX(F3:F74,L60,1)+90) -> #N/A | N60: =IF(E12,+(E7),NA()) -> 10 | O60: =COS(RADIANS(M60))*N60 -> #N/A | P60: =SIN(RADIANS(M60))*N60 -> #N/A | Q60: =A59 -> 0 | R60: =B59 -> 0 | S60: =IF(E52,DEGREES(Q60),Q60) -> 0 | T60: =IF($E$8,90-S60-E66,S60+90+E66) -> 90 | U60: =IF(E53,ABS(E48)-R60,ABS(E47)+R60) -> 0 | V60: =COS(RADIANS(T60))*U60 -> 0 | W60: =SIN(RADIANS(T60))*U60 -> 0
B61: 0 | F61: =IF(E8,(ROW()-ROW(F3))*5,((ROW(F75)-ROW())*5)) -> 290 | G61: =IF(F61-E9>=0,F61-E9,360-E9+F61) -> 290 | H61: =IF(G61=360,0,IF(MOD(G61,E2)=0,G61,"")) | I61: =IF(E13,H61,CHAR(160)) | J61: =NA() -> #N/A | K61: 95 | L61: =L60 -> #N/A | M61: =IF(E8,90-INDEX(F3:F74,L61,1),INDEX(F3:F74,L61,1)+90) -> #N/A | N61: =IF(E12,-(E7),NA()) -> -10 | O61: =COS(RADIANS(M61))*N61 -> #N/A | P61: =SIN(RADIANS(M61))*N61 -> #N/A | Q61: =A60 -> 360 | R61: =B60 -> 10 | S61: =IF(E52,DEGREES(Q61),Q61) -> 360 | T61: =IF($E$8,90-S61-E67,S61+90+E67) -> -270 | U61: =IF(E53,ABS(E48)-R61,ABS(E47)+R61) -> 10 | V61: =COS(RADIANS(T61))*U61 -> -1.8377227e-15 | W61: =SIN(RADIANS(T61))*U61 -> 10
A62: 0 | B62: 0 | F62: =IF(E8,(ROW()-ROW(F3))*5,((ROW(F75)-ROW())*5)) -> 295 | G62: =IF(F62-E9>=0,F62-E9,360-E9+F62) -> 295 | H62: =IF(G62=360,0,IF(MOD(G62,E2)=0,G62,"")) | I62: =IF(E13,H62,CHAR(160)) | J62: =NA() -> #N/A | Q62: =A61 -> 0 | R62: =B61 -> 0 | S62: =IF(E52,DEGREES(Q62),Q62) -> 0 | T62: =IF($E$8,90-S62-E68,S62+90+E68) -> 90 | U62: =IF(E53,ABS(E48)-R62,ABS(E47)+R62) -> 0
A63: =C43 -> 360 | B63: 10 | F63: =IF(E8,(ROW()-ROW(F3))*5,((ROW(F75)-ROW())*5)) -> 300 | G63: =IF(F63-E9>=0,F63-E9,360-E9+F63) -> 300 | H63: =IF(G63=360,0,IF(MOD(G63,E2)=0,G63,"")) -> 300 | I63: =IF(E13,H63,CHAR(160)) -> 300 | J63: =NA() -> #N/A | K63: 100 | L63: =MATCH(K63,H3:H74,0) -> #N/A | M63: =IF(E8,90-INDEX(F3:F74,L63,1),INDEX(F3:F74,L63,1)+90) -> #N/A | N63: =IF(E12,+(E7),NA()) -> 10 | O63: =COS(RADIANS(M63))*N63 -> #N/A | P63: =SIN(RADIANS(M63))*N63 -> #N/A | Q63: =A62 -> 0 | R63: =B62 -> 0 | S63: =IF(E52,DEGREES(Q63),Q63) -> 0 | T63: =IF($E$8,90-S63-E69,S63+90+E69) -> 90 | U63: =IF(E53,ABS(E48)-R63,ABS(E47)+R63) -> 0 | V63: =COS(RADIANS(T63))*U63 -> 0 | W63: =SIN(RADIANS(T63))*U63 -> 0
F64: =IF(E8,(ROW()-ROW(F3))*5,((ROW(F75)-ROW())*5)) -> 305 | G64: =IF(F64-E9>=0,F64-E9,360-E9+F64) -> 305 | H64: =IF(G64=360,0,IF(MOD(G64,E2)=0,G64,"")) | I64: =IF(E13,H64,CHAR(160)) | J64: =NA() -> #N/A | K64: 100 | L64: =L63 -> #N/A | M64: =IF(E8,90-INDEX(F3:F74,L64,1),INDEX(F3:F74,L64,1)+90) -> #N/A | N64: =IF(E12,-(E7),NA()) -> -10 | O64: =COS(RADIANS(M64))*N64 -> #N/A | P64: =SIN(RADIANS(M64))*N64 -> #N/A | Q64: =A63 -> 360 | R64: =B63 -> 10 | S64: =IF(E52,DEGREES(Q64),Q64) -> 360 | T64: =IF($E$8,90-S64-E70,S64+90+E70) -> -270 | U64: =IF(E53,ABS(E48)-R64,ABS(E47)+R64) -> 10 | V64: =COS(RADIANS(T64))*U64 -> -1.8377227e-15 | W64: =SIN(RADIANS(T64))*U64 -> 10
A65: 0 | B65: 0 | F65: =IF(E8,(ROW()-ROW(F3))*5,((ROW(F75)-ROW())*5)) -> 310 | G65: =IF(F65-E9>=0,F65-E9,360-E9+F65) -> 310 | H65: =IF(G65=360,0,IF(MOD(G65,E2)=0,G65,"")) | I65: =IF(E13,H65,CHAR(160)) | J65: =NA() -> #N/A
A66: =C44 -> 360 | B66: 10 | F66: =IF(E8,(ROW()-ROW(F3))*5,((ROW(F75)-ROW())*5)) -> 315 | G66: =IF(F66-E9>=0,F66-E9,360-E9+F66) -> 315 | H66: =IF(G66=360,0,IF(MOD(G66,E2)=0,G66,"")) | I66: =IF(E13,H66,CHAR(160)) | J66: =NA() -> #N/A | K66: 105 | L66: =MATCH(K66,H3:H74,0) -> #N/A | M66: =IF(E8,90-INDEX(F3:F74,L66,1),INDEX(F3:F74,L66,1)+90) -> #N/A | N66: =IF(E12,+(E7),NA()) -> 10 | O66: =COS(RADIANS(M66))*N66 -> #N/A | P66: =SIN(RADIANS(M66))*N66 -> #N/A | Q66: =A65 -> 0 | R66: =B65 -> 0 | S66: =IF(E73,DEGREES(Q66),Q66) -> 0 | T66: =IF($E$8,90-S66-E72,S66+90+E72) -> 90 | U66: =IF(E74,ABS(E69)-R66,ABS(E68)+R66) -> 0 | V66: =COS(RADIANS(T66))*U66 -> 0 | W66: =SIN(RADIANS(T66))*U66 -> 0
F67: =IF(E8,(ROW()-ROW(F3))*5,((ROW(F75)-ROW())*5)) -> 320 | G67: =IF(F67-E9>=0,F67-E9,360-E9+F67) -> 320 | H67: =IF(G67=360,0,IF(MOD(G67,E2)=0,G67,"")) | I67: =IF(E13,H67,CHAR(160)) | J67: =NA() -> #N/A | K67: 105 | L67: =L66 -> #N/A | M67: =IF(E8,90-INDEX(F3:F74,L67,1),INDEX(F3:F74,L67,1)+90) -> #N/A | N67: =IF(E12,-(E7),NA()) -> -10 | O67: =COS(RADIANS(M67))*N67 -> #N/A | P67: =SIN(RADIANS(M67))*N67 -> #N/A | Q67: =A66 -> 360 | R67: =B66 -> 10 | S67: =IF(E73,DEGREES(Q67),Q67) -> 360 | T67: =IF($E$8,90-S67-E73,S67+90+E73) -> -270 | U67: =IF(E74,ABS(E69)-R67,ABS(E68)+R67) -> 10 | V67: =COS(RADIANS(T67))*U67 -> -1.8377227e-15 | W67: =SIN(RADIANS(T67))*U67 -> 10
A68: 0 | B68: 0 | F68: =IF(E8,(ROW()-ROW(F3))*5,((ROW(F75)-ROW())*5)) -> 325 | G68: =IF(F68-E9>=0,F68-E9,360-E9+F68) -> 325 | H68: =IF(G68=360,0,IF(MOD(G68,E2)=0,G68,"")) | I68: =IF(E13,H68,CHAR(160)) | J68: =NA() -> #N/A | Q68: =A67 -> 0 | R68: =B67 -> 0 | S68: =IF(E73,DEGREES(Q68),Q68) -> 0 | T68: =IF($E$8,90-S68-E74,S68+90+E74) -> 90 | U68: =IF(E74,ABS(E69)-R68,ABS(E68)+R68) -> 0
A69: =C45 -> 360 | B69: 10 | F69: =IF(E8,(ROW()-ROW(F3))*5,((ROW(F75)-ROW())*5)) -> 330 | G69: =IF(F69-E9>=0,F69-E9,360-E9+F69) -> 330 | H69: =IF(G69=360,0,IF(MOD(G69,E2)=0,G69,"")) -> 330 | I69: =IF(E13,H69,CHAR(160)) -> 330 | J69: =NA() -> #N/A | K69: 110 | L69: =MATCH(K69,H3:H74,0) -> #N/A | M69: =IF(E8,90-INDEX(F3:F74,L69,1),INDEX(F3:F74,L69,1)+90) -> #N/A | N69: =IF(E12,+(E7),NA()) -> 10 | O69: =COS(RADIANS(M69))*N69 -> #N/A | P69: =SIN(RADIANS(M69))*N69 -> #N/A | Q69: =A68 -> 0 | R69: =B68 -> 0 | S69: =IF(E73,DEGREES(Q69),Q69) -> 0 | T69: =IF($E$8,90-S69-E75,S69+90+E75) -> 90 | U69: =IF(E74,ABS(E69)-R69,ABS(E68)+R69) -> 0 | V69: =COS(RADIANS(T69))*U69 -> 0 | W69: =SIN(RADIANS(T69))*U69 -> 0
F70: =IF(E8,(ROW()-ROW(F3))*5,((ROW(F75)-ROW())*5)) -> 335 | G70: =IF(F70-E9>=0,F70-E9,360-E9+F70) -> 335 | H70: =IF(G70=360,0,IF(MOD(G70,E2)=0,G70,"")) | I70: =IF(E13,H70,CHAR(160)) | J70: =NA() -> #N/A | K70: 110 | L70: =L69 -> #N/A | M70: =IF(E8,90-INDEX(F3:F74,L70,1),INDEX(F3:F74,L70,1)+90) -> #N/A | N70: =IF(E12,-(E7),NA()) -> -10 | O70: =COS(RADIANS(M70))*N70 -> #N/A | P70: =SIN(RADIANS(M70))*N70 -> #N/A | Q70: =A69 -> 360 | R70: =B69 -> 10 | S70: =IF(E73,DEGREES(Q70),Q70) -> 360 | T70: =IF($E$8,90-S70-E76,S70+90+E76) -> -270 | U70: =IF(E74,ABS(E69)-R70,ABS(E68)+R70) -> 10 | V70: =COS(RADIANS(T70))*U70 -> -1.8377227e-15 | W70: =SIN(RADIANS(T70))*U70 -> 10
A71: 0 | B71: 0 | F71: =IF(E8,(ROW()-ROW(F3))*5,((ROW(F75)-ROW())*5)) -> 340 | G71: =IF(F71-E9>=0,F71-E9,360-E9+F71) -> 340 | H71: =IF(G71=360,0,IF(MOD(G71,E2)=0,G71,"")) | I71: =IF(E13,H71,CHAR(160)) | J71: =NA() -> #N/A | Q71: =A70 -> 0 | R71: =B70 -> 0 | S71: =IF(E73,DEGREES(Q71),Q71) -> 0 | T71: =IF($E$8,90-S71-E77,S71+90+E77) -> 90 | U71: =IF(E74,ABS(E69)-R71,ABS(E68)+R71) -> 0
A72: =C46 -> 360 | B72: 10 | F72: =IF(E8,(ROW()-ROW(F3))*5,((ROW(F75)-ROW())*5)) -> 345 | G72: =IF(F72-E9>=0,F72-E9,360-E9+F72) -> 345 | H72: =IF(G72=360,0,IF(MOD(G72,E2)=0,G72,"")) | I72: =IF(E13,H72,CHAR(160)) | J72: =NA() -> #N/A | K72: 115 | L72: =MATCH(K72,H3:H74,0) -> #N/A | M72: =IF(E8,90-INDEX(F3:F74,L72,1),INDEX(F3:F74,L72,1)+90) -> #N/A | N72: =IF(E12,+(E7),NA()) -> 10 | O72: =COS(RADIANS(M72))*N72 -> #N/A | P72: =SIN(RADIANS(M72))*N72 -> #N/A | Q72: =A71 -> 0 | R72: =B71 -> 0 | S72: =IF(E73,DEGREES(Q72),Q72) -> 0 | T72: =IF($E$8,90-S72-E78,S72+90+E78) -> 90 | U72: =IF(E74,ABS(E69)-R72,ABS(E68)+R72) -> 0 | V72: =COS(RADIANS(T72))*U72 -> 0 | W72: =SIN(RADIANS(T72))*U72 -> 0
F73: =IF(E8,(ROW()-ROW(F3))*5,((ROW(F75)-ROW())*5)) -> 350 | G73: =IF(F73-E9>=0,F73-E9,360-E9+F73) -> 350 | H73: =IF(G73=360,0,IF(MOD(G73,E2)=0,G73,"")) | I73: =IF(E13,H73,CHAR(160)) | J73: =NA() -> #N/A | K73: 115 | L73: =L72 -> #N/A | M73: =IF(E8,90-INDEX(F3:F74,L73,1),INDEX(F3:F74,L73,1)+90) -> #N/A | N73: =IF(E12,-(E7),NA()) -> -10 | O73: =COS(RADIANS(M73))*N73 -> #N/A | P73: =SIN(RADIANS(M73))*N73 -> #N/A | Q73: =A72 -> 360 | R73: =B72 -> 10 | S73: =IF(E73,DEGREES(Q73),Q73) -> 360 | T73: =IF($E$8,90-S73-E79,S73+90+E79) -> -270 | U73: =IF(E74,ABS(E69)-R73,ABS(E68)+R73) -> 10 | V73: =COS(RADIANS(T73))*U73 -> -1.8377227e-15 | W73: =SIN(RADIANS(T73))*U73 -> 10
A74: 0 | B74: 0 | F74: =IF(E8,(ROW()-ROW(F3))*5,((ROW(F75)-ROW())*5)) -> 355 | G74: =IF(F74-E9>=0,F74-E9,360-E9+F74) -> 355 | H74: =IF(G74=360,0,IF(MOD(G74,E2)=0,G74,"")) | I74: =IF(E13,H74,CHAR(160)) | J74: =NA() -> #N/A | Q74: =A73 -> 0 | R74: =B73 -> 0 | S74: =IF(E73,DEGREES(Q74),Q74) -> 0 | T74: =IF($E$8,90-S74-E80,S74+90+E80) -> 90 | U74: =IF(E74,ABS(E69)-R74,ABS(E68)+R74) -> 0
A75: =C47 -> 360 | B75: 10 | K75: 120 | L75: =MATCH(K75,H3:H74,0) -> 25 | M75: =IF(E8,90-INDEX(F3:F74,L75,1),INDEX(F3:F74,L75,1)+90) -> -30 | N75: =IF(E12,+(E7),NA()) -> 10 | O75: =COS(RADIANS(M75))*N75 -> 8.660254 | P75: =SIN(RADIANS(M75))*N75 -> -5 | Q75: =A74 -> 0 | R75: =B74 -> 0 | S75: =IF(E73,DEGREES(Q75),Q75) -> 0 | T75: =IF($E$8,90-S75-E81,S75+90+E81) -> 90 | U75: =IF(E74,ABS(E69)-R75,ABS(E68)+R75) -> 0 | V75: =COS(RADIANS(T75))*U75 -> 0 | W75: =SIN(RADIANS(T75))*U75 -> 0
K76: 120 | L76: =L75 -> 25 | M76: =IF(E8,90-INDEX(F3:F74,L76,1),INDEX(F3:F74,L76,1)+90) -> -30 | N76: =IF(E12,-(E7),NA()) -> -10 | O76: =COS(RADIANS(M76))*N76 -> -8.660254 | P76: =SIN(RADIANS(M76))*N76 -> 5 | Q76: =A75 -> 360 | R76: =B75 -> 10 | S76: =IF(E73,DEGREES(Q76),Q76) -> 360 | T76: =IF($E$8,90-S76-E82,S76+90+E82) -> -270 | U76: =IF(E74,ABS(E69)-R76,ABS(E68)+R76) -> 10 | V76: =COS(RADIANS(T76))*U76 -> -1.8377227e-15 | W76: =SIN(RADIANS(T76))*U76 -> 10
A77: 0 | B77: 0 | Q77: =A76 -> 0 | R77: =B76 -> 0 | S77: =IF(E73,DEGREES(Q77),Q77) -> 0 | T77: =IF($E$8,90-S77-E83,S77+90+E83) -> 90 | U77: =IF(E74,ABS(E69)-R77,ABS(E68)+R77) -> 0
A78: =C48 -> 360 | B78: 10 | K78: 125 | L78: =MATCH(K78,H3:H74,0) -> #N/A | M78: =IF(E8,90-INDEX(F3:F74,L78,1),INDEX(F3:F74,L78,1)+90) -> #N/A | N78: =IF(E12,+(E7),NA()) -> 10 | O78: =COS(RADIANS(M78))*N78 -> #N/A | P78: =SIN(RADIANS(M78))*N78 -> #N/A | Q78: =A77 -> 0 | R78: =B77 -> 0 | S78: =IF(E73,DEGREES(Q78),Q78) -> 0 | T78: =IF($E$8,90-S78-E84,S78+90+E84) -> 90 | U78: =IF(E74,ABS(E69)-R78,ABS(E68)+R78) -> 0 | V78: =COS(RADIANS(T78))*U78 -> 0 | W78: =SIN(RADIANS(T78))*U78 -> 0
K79: 125 | L79: =L78 -> #N/A | M79: =IF(E8,90-INDEX(F3:F74,L79,1),INDEX(F3:F74,L79,1)+90) -> #N/A | N79: =IF(E12,-(E7),NA()) -> -10 | O79: =COS(RADIANS(M79))*N79 -> #N/A | P79: =SIN(RADIANS(M79))*N79 -> #N/A | Q79: =A78 -> 360 | R79: =B78 -> 10 | S79: =IF(E73,DEGREES(Q79),Q79) -> 360 | T79: =IF($E$8,90-S79-E85,S79+90+E85) -> -270 | U79: =IF(E74,ABS(E69)-R79,ABS(E68)+R79) -> 10 | V79: =COS(RADIANS(T79))*U79 -> -1.8377227e-15 | W79: =SIN(RADIANS(T79))*U79 -> 10
A80: 0 | B80: 0 | Q80: =A79 -> 0 | R80: =B79 -> 0 | S80: =IF(E73,DEGREES(Q80),Q80) -> 0 | T80: =IF($E$8,90-S80-E86,S80+90+E86) -> 90 | U80: =IF(E74,ABS(E69)-R80,ABS(E68)+R80) -> 0
A81: =C49 -> 360 | B81: 10 | K81: 130 | L81: =MATCH(K81,H3:H74,0) -> #N/A | M81: =IF(E8,90-INDEX(F3:F74,L81,1),INDEX(F3:F74,L81,1)+90) -> #N/A | N81: =IF(E12,+(E7),NA()) -> 10 | O81: =COS(RADIANS(M81))*N81 -> #N/A | P81: =SIN(RADIANS(M81))*N81 -> #N/A | Q81: =A80 -> 0 | R81: =B80 -> 0 | S81: =IF(E73,DEGREES(Q81),Q81) -> 0 | T81: =IF($E$8,90-S81-E87,S81+90+E87) -> 90 | U81: =IF(E74,ABS(E69)-R81,ABS(E68)+R81) -> 0 | V81: =COS(RADIANS(T81))*U81 -> 0 | W81: =SIN(RADIANS(T81))*U81 -> 0
B82: 0 | K82: 130 | L82: =L81 -> #N/A | M82: =IF(E8,90-INDEX(F3:F74,L82,1),INDEX(F3:F74,L82,1)+90) -> #N/A | N82: =IF(E12,-(E7),NA()) -> -10 | O82: =COS(RADIANS(M82))*N82 -> #N/A | P82: =SIN(RADIANS(M82))*N82 -> #N/A | Q82: =A81 -> 360 | R82: =B81 -> 10 | S82: =IF(E73,DEGREES(Q82),Q82) -> 360 | T82: =IF($E$8,90-S82-E88,S82+90+E88) -> -270 | U82: =IF(E74,ABS(E69)-R82,ABS(E68)+R82) -> 10 | V82: =COS(RADIANS(T82))*U82 -> -1.8377227e-15 | W82: =SIN(RADIANS(T82))*U82 -> 10
A83: 0 | B83: 0 | Q83: =A82 -> 0 | R83: =B82 -> 0 | S83: =IF(E73,DEGREES(Q83),Q83) -> 0 | T83: =IF($E$8,90-S83-E89,S83+90+E89) -> 90 | U83: =IF(E74,ABS(E69)-R83,ABS(E68)+R83) -> 0
A84: =C50 -> 360 | B84: 10 | K84: 135 | L84: =MATCH(K84,H3:H74,0) -> #N/A | M84: =IF(E8,90-INDEX(F3:F74,L84,1),INDEX(F3:F74,L84,1)+90) -> #N/A | N84: =IF(E12,+(E7),NA()) -> 10 | O84: =COS(RADIANS(M84))*N84 -> #N/A | P84: =SIN(RADIANS(M84))*N84 -> #N/A | Q84: =A83 -> 0 | R84: =B83 -> 0 | S84: =IF(E73,DEGREES(Q84),Q84) -> 0 | T84: =IF($E$8,90-S84-E90,S84+90+E90) -> 90 | U84: =IF(E74,ABS(E69)-R84,ABS(E68)+R84) -> 0 | V84: =COS(RADIANS(T84))*U84 -> 0 | W84: =SIN(RADIANS(T84))*U84 -> 0
K85: 135 | L85: =L84 -> #N/A | M85: =IF(E8,90-INDEX(F3:F74,L85,1),INDEX(F3:F74,L85,1)+90) -> #N/A | N85: =IF(E12,-(E7),NA()) -> -10 | O85: =COS(RADIANS(M85))*N85 -> #N/A | P85: =SIN(RADIANS(M85))*N85 -> #N/A | Q85: =A84 -> 360 | R85: =B84 -> 10 | S85: =IF(E73,DEGREES(Q85),Q85) -> 360 | T85: =IF($E$8,90-S85-E91,S85+90+E91) -> -270 | U85: =IF(E74,ABS(E69)-R85,ABS(E68)+R85) -> 10 | V85: =COS(RADIANS(T85))*U85 -> -1.8377227e-15 | W85: =SIN(RADIANS(T85))*U85 -> 10
K87: 140 | L87: =MATCH(K87,H3:H74,0) -> #N/A | M87: =IF(E8,90-INDEX(F3:F74,L87,1),INDEX(F3:F74,L87,1)+90) -> #N/A | N87: =IF(E12,+(E7),NA()) -> 10 | O87: =COS(RADIANS(M87))*N87 -> #N/A | P87: =SIN(RADIANS(M87))*N87 -> #N/A
K88: 140 | L88: =L87 -> #N/A | M88: =IF(E8,90-INDEX(F3:F74,L88,1),INDEX(F3:F74,L88,1)+90) -> #N/A | N88: =IF(E12,-(E7),NA()) -> -10 | O88: =COS(RADIANS(M88))*N88 -> #N/A | P88: =SIN(RADIANS(M88))*N88 -> #N/A
K90: 145 | L90: =MATCH(K90,H3:H74,0) -> #N/A | M90: =IF(E8,90-INDEX(F3:F74,L90,1),INDEX(F3:F74,L90,1)+90) -> #N/A | N90: =IF(E12,+(E7),NA()) -> 10 | O90: =COS(RADIANS(M90))*N90 -> #N/A | P90: =SIN(RADIANS(M90))*N90 -> #N/A
K91: 145 | L91: =L90 -> #N/A | M91: =IF(E8,90-INDEX(F3:F74,L91,1),INDEX(F3:F74,L91,1)+90) -> #N/A | N91: =IF(E12,-(E7),NA()) -> -10 | O91: =COS(RADIANS(M91))*N91 -> #N/A | P91: =SIN(RADIANS(M91))*N91 -> #N/A
K93: 150 | L93: =MATCH(K93,H3:H74,0) -> 31 | M93: =IF(E8,90-INDEX(F3:F74,L93,1),INDEX(F3:F74,L93,1)+90) -> -60 | N93: =IF(E12,+(E7),NA()) -> 10 | O93: =COS(RADIANS(M93))*N93 -> 5 | P93: =SIN(RADIANS(M93))*N93 -> -8.660254
K94: 150 | L94: =L93 -> 31 | M94: =IF(E8,90-INDEX(F3:F74,L94,1),INDEX(F3:F74,L94,1)+90) -> -60 | N94: =IF(E12,-(E7),NA()) -> -10 | O94: =COS(RADIANS(M94))*N94 -> -5 | P94: =SIN(RADIANS(M94))*N94 -> 8.660254
K96: 155 | L96: =MATCH(K96,H3:H74,0) -> #N/A | M96: =IF(E8,90-INDEX(F3:F74,L96,1),INDEX(F3:F74,L96,1)+90) -> #N/A | N96: =IF(E12,+(E7),NA()) -> 10 | O96: =COS(RADIANS(M96))*N96 -> #N/A | P96: =SIN(RADIANS(M96))*N96 -> #N/A
K97: 155 | L97: =L96 -> #N/A | M97: =IF(E8,90-INDEX(F3:F74,L97,1),INDEX(F3:F74,L97,1)+90) -> #N/A | N97: =IF(E12,-(E7),NA()) -> -10 | O97: =COS(RADIANS(M97))*N97 -> #N/A | P97: =SIN(RADIANS(M97))*N97 -> #N/A
K99: 160 | L99: =MATCH(K99,H3:H74,0) -> #N/A | M99: =IF(E8,90-INDEX(F3:F74,L99,1),INDEX(F3:F74,L99,1)+90) -> #N/A | N99: =IF(E12,+(E7),NA()) -> 10 | O99: =COS(RADIANS(M99))*N99 -> #N/A | P99: =SIN(RADIANS(M99))*N99 -> #N/A
K100: 160 | L100: =L99 -> #N/A | M100: =IF(E8,90-INDEX(F3:F74,L100,1),INDEX(F3:F74,L100,1)+90) -> #N/A | N100: =IF(E12,-(E7),NA()) -> -10 | O100: =COS(RADIANS(M100))*N100 -> #N/A | P100: =SIN(RADIANS(M100))*N100 -> #N/A
K102: 165 | L102: =MATCH(K102,H3:H74,0) -> #N/A | M102: =IF(E8,90-INDEX(F3:F74,L102,1),INDEX(F3:F74,L102,1)+90) -> #N/A | N102: =IF(E12,+(E7),NA()) -> 10 | O102: =COS(RADIANS(M102))*N102 -> #N/A | P102: =SIN(RADIANS(M102))*N102 -> #N/A
K103: 165 | L103: =L102 -> #N/A | M103: =IF(E8,90-INDEX(F3:F74,L103,1),INDEX(F3:F74,L103,1)+90) -> #N/A | N103: =IF(E12,-(E7),NA()) -> -10 | O103: =COS(RADIANS(M103))*N103 -> #N/A | P103: =SIN(RADIANS(M103))*N103 -> #N/A
