Workbook

Sheet A
B1: Directions
A2: 0 | B2: 0 | D2: Interval | E2: 30 | J2: PLRPLT_BASE | P2: PLRPLT_SPOKES | W2: =A!$B$1 -> Directions
A3: =C23 -> 20 | B3: 10 | D3: NIntervals | E3: =360/E2 -> 12 | F3: =IF(E8,(ROW()-ROW(F3))*5,((ROW(F75)-ROW())*5)) -> 0 | G3: =IF(F3-E9>=0,F3-E9,360-E9+F3) -> 0 | H3: =IF(G3=360,0,IF(MOD(G3,E2)=0,G3,"")) -> 0 | I3: =IF(E13,H3,CHAR(160)) -> 0 | J3: =E19 -> 0 | K3: 0 | L3: =MATCH(K3,H3:H74,0) -> 1 | M3: =IF(E8,90-INDEX(F3:F74,L3,1),INDEX(F3:F74,L3,1)+90) -> 90 | N3: =IF(E12,+(E7),NA()) -> 10 | O3: =COS(RADIANS(M3))*N3 -> 6.1257423e-16 | P3: =SIN(RADIANS(M3))*N3 -> 10 | Q3: =A2 -> 0 | R3: =B2 -> 0 | S3: =IF(E10,DEGREES(Q3),Q3) -> 0 | T3: =IF(E8,90-S3-E9,S3+90+E9) -> 90 | U3: =IF(E11,ABS(E6)-R3,ABS(E5)+R3) -> 0 | V3: =COS(RADIANS(T3))*U3 -> 0 | W3: =SIN(RADIANS(T3))*U3 -> 0
D4: Value | E4: =10/E3 -> 0.83333333 | F4: =IF(E8,(ROW()-ROW(F3))*5,((ROW(F75)-ROW())*5)) -> 5 | G4: =IF(F4-E9>=0,F4-E9,360-E9+F4) -> 5 | H4: =IF(G4=360,0,IF(MOD(G4,E2)=0,G4,"")) | I4: =IF(E13,H4,CHAR(160)) | J4: =E20 -> 10 | K4: 0 | L4: =L3 -> 1 | M4: =IF(E8,90-INDEX(F3:F74,L4,1),INDEX(F3:F74,L4,1)+90) -> 90 | N4: =IF(E12,-(E7),NA()) -> -10 | O4: =COS(RADIANS(M4))*N4 -> -6.1257423e-16 | P4: =SIN(RADIANS(M4))*N4 -> -10 | Q4: =A3 -> 20 | R4: =B3 -> 10 | S4: =IF(E10,DEGREES(Q4),Q4) -> 20 | T4: =IF(E8,90-S4-E9,S4+90+E9) -> 70 | U4: =IF(E11,ABS(E6)-R4,ABS(E5)+R4) -> 10 | V4: =COS(RADIANS(T4))*U4 -> 3.4202014 | W4: =SIN(RADIANS(T4))*U4 -> 9.3969262
A5: 0 | B5: 0 | D5: MinAxisValue | E5: 0 | F5: =IF(E8,(ROW()-ROW(F3))*5,((ROW(F75)-ROW())*5)) -> 10 | G5: =IF(F5-E9>=0,F5-E9,360-E9+F5) -> 10 | H5: =IF(G5=360,0,IF(MOD(G5,E2)=0,G5,"")) | I5: =IF(E13,H5,CHAR(160)) | J5: =NA() -> #N/A | Q5: =A4 -> 0 | R5: =B4 -> 0 | S5: =IF(E10,DEGREES(Q5),Q5) -> 0 | T5: =IF(E8,90-S5-E9,S5+90+E9) -> 90 | U5: =IF(E11,ABS(E6)-R5,ABS(E5)+R5) -> 0
A6: =C24 -> 20 | B6: 10 | D6: MaxAxisValue | E6: 10 | F6: =IF(E8,(ROW()-ROW(F3))*5,((ROW(F75)-ROW())*5)) -> 15 | G6: =IF(F6-E9>=0,F6-E9,360-E9+F6) -> 15 | H6: =IF(G6=360,0,IF(MOD(G6,E2)=0,G6,"")) | I6: =IF(E13,H6,CHAR(160)) | J6: =NA() -> #N/A | K6: 5 | L6: =MATCH(K6,H3:H74,0) -> #N/A | M6: =IF(E8,90-INDEX(F3:F74,L6,1),INDEX(F3:F74,L6,1)+90) -> #N/A | N6: =IF(E12,+(E7),NA()) -> 10 | O6: =COS(RADIANS(M6))*N6 -> #N/A | P6: =SIN(RADIANS(M6))*N6 -> #N/A | Q6: =A5 -> 0 | R6: =B5 -> 0 | S6: =IF(E10,DEGREES(Q6),Q6) -> 0 | T6: =IF(E8,90-S6-E9,S6+90+E9) -> 90 | U6: =IF(E11,ABS(E6)-R6,ABS(E5)+R6) -> 0 | V6: =COS(RADIANS(T6))*U6 -> 0 | W6: =SIN(RADIANS(T6))*U6 -> 0
D7: Radius | E7: =E6-E5 -> 10 | F7: =IF(E8,(ROW()-ROW(F3))*5,((ROW(F75)-ROW())*5)) -> 20 | G7: =IF(F7-E9>=0,F7-E9,360-E9+F7) -> 20 | H7: =IF(G7=360,0,IF(MOD(G7,E2)=0,G7,"")) | I7: =IF(E13,H7,CHAR(160)) | J7: =NA() -> #N/A | K7: 5 | L7: =L6 -> #N/A | M7: =IF(E8,90-INDEX(F3:F74,L7,1),INDEX(F3:F74,L7,1)+90) -> #N/A | N7: =IF(E12,-(E7),NA()) -> -10 | O7: =COS(RADIANS(M7))*N7 -> #N/A | P7: =SIN(RADIANS(M7))*N7 -> #N/A | Q7: =A6 -> 20 | R7: =B6 -> 10 | S7: =IF(E10,DEGREES(Q7),Q7) -> 20 | T7: =IF(E8,90-S7-E9,S7+90+E9) -> 70 | U7: =IF(E11,ABS(E6)-R7,ABS(E5)+R7) -> 10 | V7: =COS(RADIANS(T7))*U7 -> 3.4202014 | W7: =SIN(RADIANS(T7))*U7 -> 9.3969262
A8: 0 | B8: 0 | D8: Clockwise | E8: TRUE | F8: =IF(E8,(ROW()-ROW(F3))*5,((ROW(F75)-ROW())*5)) -> 25 | G8: =IF(F8-E9>=0,F8-E9,360-E9+F8) -> 25 | H8: =IF(G8=360,0,IF(MOD(G8,E2)=0,G8,"")) | I8: =IF(E13,H8,CHAR(160)) | J8: =NA() -> #N/A | Q8: =A7 -> 0 | R8: =B7 -> 0 | S8: =IF(E10,DEGREES(Q8),Q8) -> 0 | T8: =IF(E8,90-S8-E9,S8+90+E9) -> 90 | U8: =IF(E11,ABS(E6)-R8,ABS(E5)+R8) -> 0
A9: =C25 -> 20 | B9: 10 | D9: StartAngle | E9: 0 | F9: =IF(E8,(ROW()-ROW(F3))*5,((ROW(F75)-ROW())*5)) -> 30 | G9: =IF(F9-E9>=0,F9-E9,360-E9+F9) -> 30 | H9: =IF(G9=360,0,IF(MOD(G9,E2)=0,G9,"")) -> 30 | I9: =IF(E13,H9,CHAR(160)) -> 30 | J9: =NA() -> #N/A | K9: 10 | L9: =MATCH(K9,H3:H74,0) -> #N/A | M9: =IF(E8,90-INDEX(F3:F74,L9,1),INDEX(F3:F74,L9,1)+90) -> #N/A | N9: =IF(E12,+(E7),NA()) -> 10 | O9: =COS(RADIANS(M9))*N9 -> #N/A | P9: =SIN(RADIANS(M9))*N9 -> #N/A | Q9: =A8 -> 0 | R9: =B8 -> 0 | S9: =IF(E10,DEGREES(Q9),Q9) -> 0 | T9: =IF(E8,90-S9-E9,S9+90+E9) -> 90 | U9: =IF(E11,ABS(E6)-R9,ABS(E5)+R9) -> 0 | V9: =COS(RADIANS(T9))*U9 -> 0 | W9: =SIN(RADIANS(T9))*U9 -> 0
D10: Radians | E10: FALSE | F10: =IF(E8,(ROW()-ROW(F3))*5,((ROW(F75)-ROW())*5)) -> 35 | G10: =IF(F10-E9>=0,F10-E9,360-E9+F10) -> 35 | H10: =IF(G10=360,0,IF(MOD(G10,E2)=0,G10,"")) | I10: =IF(E13,H10,CHAR(160)) | J10: =NA() -> #N/A | K10: 10 | L10: =L9 -> #N/A | M10: =IF(E8,90-INDEX(F3:F74,L10,1),INDEX(F3:F74,L10,1)+90) -> #N/A | N10: =IF(E12,-(E7),NA()) -> -10 | O10: =COS(RADIANS(M10))*N10 -> #N/A | P10: =SIN(RADIANS(M10))*N10 -> #N/A | Q10: =A9 -> 20 | R10: =B9 -> 10 | S10: =IF(E10,DEGREES(Q10),Q10) -> 20 | T10: =IF(E8,90-S10-E9,S10+90+E9) -> 70 | U10: =IF(E11,ABS(E6)-R10,ABS(E5)+R10) -> 10 | V10: =COS(RADIANS(T10))*U10 -> 3.4202014 | W10: =SIN(RADIANS(T10))*U10 -> 9.3969262
A11: 0 | B11: 0 | D11: ReverseAxis | E11: FALSE | F11: =IF(E8,(ROW()-ROW(F3))*5,((ROW(F75)-ROW())*5)) -> 40 | G11: =IF(F11-E9>=0,F11-E9,360-E9+F11) -> 40 | H11: =IF(G11=360,0,IF(MOD(G11,E2)=0,G11,"")) | I11: =IF(E13,H11,CHAR(160)) | J11: =NA() -> #N/A | Q11: =A10 -> 0 | R11: =B10 -> 0 | S11: =IF(E10,DEGREES(Q11),Q11) -> 0 | T11: =IF(E8,90-S11-E9,S11+90+E9) -> 90 | U11: =IF(E11,ABS(E6)-R11,ABS(E5)+R11) -> 0
A12: =C26 -> 45 | B12: 10 | D12: Display Spokes | E12: TRUE | F12: =IF(E8,(ROW()-ROW(F3))*5,((ROW(F75)-ROW())*5)) -> 45 | G12: =IF(F12-E9>=0,F12-E9,360-E9+F12) -> 45 | H12: =IF(G12=360,0,IF(MOD(G12,E2)=0,G12,"")) | I12: =IF(E13,H12,CHAR(160)) | J12: =NA() -> #N/A | K12: 15 | L12: =MATCH(K12,H3:H74,0) -> #N/A | M12: =IF(E8,90-INDEX(F3:F74,L12,1),INDEX(F3:F74,L12,1)+90) -> #N/A | N12: =IF(E12,+(E7),NA()) -> 10 | O12: =COS(RADIANS(M12))*N12 -> #N/A | P12: =SIN(RADIANS(M12))*N12 -> #N/A | Q12: =A11 -> 0 | R12: =B11 -> 0 | S12: =IF(E10,DEGREES(Q12),Q12) -> 0 | T12: =IF(E8,90-S12-E9,S12+90+E9) -> 90 | U12: =IF(E11,ABS(E6)-R12,ABS(E5)+R12) -> 0 | V12: =COS(RADIANS(T12))*U12 -> 0 | W12: =SIN(RADIANS(T12))*U12 -> 0
D13: Display Spoke Labels | E13: TRUE | F13: =IF(E8,(ROW()-ROW(F3))*5,((ROW(F75)-ROW())*5)) -> 50 | G13: =IF(F13-E9>=0,F13-E9,360-E9+F13) -> 50 | H13: =IF(G13=360,0,IF(MOD(G13,E2)=0,G13,"")) | I13: =IF(E13,H13,CHAR(160)) | J13: =NA() -> #N/A | K13: 15 | L13: =L12 -> #N/A | M13: =IF(E8,90-INDEX(F3:F74,L13,1),INDEX(F3:F74,L13,1)+90) -> #N/A | N13: =IF(E12,-(E7),NA()) -> -10 | O13: =COS(RADIANS(M13))*N13 -> #N/A | P13: =SIN(RADIANS(M13))*N13 -> #N/A | Q13: =A12 -> 45 | R13: =B12 -> 10 | S13: =IF(E10,DEGREES(Q13),Q13) -> 45 | T13: =IF(E8,90-S13-E9,S13+90+E9) -> 45 | U13: =IF(E11,ABS(E6)-R13,ABS(E5)+R13) -> 10 | V13: =COS(RADIANS(T13))*U13 -> 7.0710678 | W13: =SIN(RADIANS(T13))*U13 -> 7.0710678
A14: 0 | B14: 0 | D14: Display Gridlines | E14: TRUE | F14: =IF(E8,(ROW()-ROW(F3))*5,((ROW(F75)-ROW())*5)) -> 55 | G14: =IF(F14-E9>=0,F14-E9,360-E9+F14) -> 55 | H14: =IF(G14=360,0,IF(MOD(G14,E2)=0,G14,"")) | I14: =IF(E13,H14,CHAR(160)) | J14: =NA() -> #N/A | Q14: =A13 -> 0 | R14: =B13 -> 0 | S14: =IF(E10,DEGREES(Q14),Q14) -> 0 | T14: =IF(E8,90-S14-E9,S14+90+E9) -> 90 | U14: =IF(E11,ABS(E6)-R14,ABS(E5)+R14) -> 0
A15: =C27 -> 60 | B15: 10 | D15: Display Data Lines | E15: TRUE | F15: =IF(E8,(ROW()-ROW(F3))*5,((ROW(F75)-ROW())*5)) -> 60 | G15: =IF(F15-E9>=0,F15-E9,360-E9+F15) -> 60 | H15: =IF(G15=360,0,IF(MOD(G15,E2)=0,G15,"")) -> 60 | I15: =IF(E13,H15,CHAR(160)) -> 60 | J15: =NA() -> #N/A | K15: 20 | L15: =MATCH(K15,H3:H74,0) -> #N/A | M15: =IF(E8,90-INDEX(F3:F74,L15,1),INDEX(F3:F74,L15,1)+90) -> #N/A | N15: =IF(E12,+(E7),NA()) -> 10 | O15: =COS(RADIANS(M15))*N15 -> #N/A | P15: =SIN(RADIANS(M15))*N15 -> #N/A | Q15: =A14 -> 0 | R15: =B14 -> 0 | S15: =IF(E10,DEGREES(Q15),Q15) -> 0 | T15: =IF(E8,90-S15-E9,S15+90+E9) -> 90 | U15: =IF(E11,ABS(E6)-R15,ABS(E5)+R15) -> 0 | V15: =COS(RADIANS(T15))*U15 -> 0 | W15: =SIN(RADIANS(T15))*U15 -> 0
D16: Display Data Markers | E16: FALSE | F16: =IF(E8,(ROW()-ROW(F3))*5,((ROW(F75)-ROW())*5)) -> 65 | G16: =IF(F16-E9>=0,F16-E9,360-E9+F16) -> 65 | H16: =IF(G16=360,0,IF(MOD(G16,E2)=0,G16,"")) | I16: =IF(E13,H16,CHAR(160)) | J16: =NA() -> #N/A | K16: 20 | L16: =L15 -> #N/A | M16: =IF(E8,90-INDEX(F3:F74,L16,1),INDEX(F3:F74,L16,1)+90) -> #N/A | N16: =IF(E12,-(E7),NA()) -> -10 | O16: =COS(RADIANS(M16))*N16 -> #N/A | P16: =SIN(RADIANS(M16))*N16 -> #N/A | Q16: =A15 -> 60 | R16: =B15 -> 10 | S16: =IF(E10,DEGREES(Q16),Q16) -> 60 | T16: =IF(E8,90-S16-E9,S16+90+E9) -> 30 | U16: =IF(E11,ABS(E6)-R16,ABS(E5)+R16) -> 10 | V16: =COS(RADIANS(T16))*U16 -> 8.660254 | W16: =SIN(RADIANS(T16))*U16 -> 5
A17: 0 | B17: 0 | D17: Display Legend | E17: TRUE | F17: =IF(E8,(ROW()-ROW(F3))*5,((ROW(F75)-ROW())*5)) -> 70 | G17: =IF(F17-E9>=0,F17-E9,360-E9+F17) -> 70 | H17: =IF(G17=360,0,IF(MOD(G17,E2)=0,G17,"")) | I17: =IF(E13,H17,CHAR(160)) | J17: =NA() -> #N/A | Q17: =A16 -> 0 | R17: =B16 -> 0 | S17: =IF(E10,DEGREES(Q17),Q17) -> 0 | T17: =IF(E8,90-S17-E9,S17+90+E9) -> 90 | U17: =IF(E11,ABS(E6)-R17,ABS(E5)+R17) -> 0
A18: =C28 -> 90 | B18: 10 | D18: Display Axis | E18: TRUE | F18: =IF(E8,(ROW()-ROW(F3))*5,((ROW(F75)-ROW())*5)) -> 75 | G18: =IF(F18-E9>=0,F18-E9,360-E9+F18) -> 75 | H18: =IF(G18=360,0,IF(MOD(G18,E2)=0,G18,"")) | I18: =IF(E13,H18,CHAR(160)) | J18: =NA() -> #N/A | K18: 25 | L18: =MATCH(K18,H3:H74,0) -> #N/A | M18: =IF(E8,90-INDEX(F3:F74,L18,1),INDEX(F3:F74,L18,1)+90) -> #N/A | N18: =IF(E12,+(E7),NA()) -> 10 | O18: =COS(RADIANS(M18))*N18 -> #N/A | P18: =SIN(RADIANS(M18))*N18 -> #N/A | Q18: =A17 -> 0 | R18: =B17 -> 0 | S18: =IF(E10,DEGREES(Q18),Q18) -> 0 | T18: =IF(E8,90-S18-E9,S18+90+E9) -> 90 | U18: =IF(E11,ABS(E6)-R18,ABS(E5)+R18) -> 0 | V18: =COS(RADIANS(T18))*U18 -> 0 | W18: =SIN(RADIANS(T18))*U18 -> 0
B19: 0 | D19: MinDataValue | E19: 0 | F19: =IF(E8,(ROW()-ROW(F3))*5,((ROW(F75)-ROW())*5)) -> 80 | G19: =IF(F19-E9>=0,F19-E9,360-E9+F19) -> 80 | H19: =IF(G19=360,0,IF(MOD(G19,E2)=0,G19,"")) | I19: =IF(E13,H19,CHAR(160)) | J19: =NA() -> #N/A | K19: 25 | L19: =L18 -> #N/A | M19: =IF(E8,90-INDEX(F3:F74,L19,1),INDEX(F3:F74,L19,1)+90) -> #N/A | N19: =IF(E12,-(E7),NA()) -> -10 | O19: =COS(RADIANS(M19))*N19 -> #N/A | P19: =SIN(RADIANS(M19))*N19 -> #N/A | Q19: =A18 -> 90 | R19: =B18 -> 10 | S19: =IF(E10,DEGREES(Q19),Q19) -> 90 | T19: =IF(E8,90-S19-E9,S19+90+E9) -> 0 | U19: =IF(E11,ABS(E6)-R19,ABS(E5)+R19) -> 10 | V19: =COS(RADIANS(T19))*U19 -> 10 | W19: =SIN(RADIANS(T19))*U19 -> 0
A20: 0 | B20: 0 | D20: MaxDataValue | E20: 10 | F20: =IF(E8,(ROW()-ROW(F3))*5,((ROW(F75)-ROW())*5)) -> 85 | G20: =IF(F20-E9>=0,F20-E9,360-E9+F20) -> 85 | H20: =IF(G20=360,0,IF(MOD(G20,E2)=0,G20,"")) | I20: =IF(E13,H20,CHAR(160)) | J20: =NA() -> #N/A | Q20: =A19 -> 0 | R20: =B19 -> 0 | S20: =IF(E10,DEGREES(Q20),Q20) -> 0 | T20: =IF(E8,90-S20-E9,S20+90+E9) -> 90 | U20: =IF(E11,ABS(E6)-R20,ABS(E5)+R20) -> 0
A21: =C29 -> 380 | B21: 10 | D21: DataRange | E21: ='Example10'!$A$1:$B$21 | F21: =IF(E8,(ROW()-ROW(F3))*5,((ROW(F75)-ROW())*5)) -> 90 | G21: =IF(F21-E9>=0,F21-E9,360-E9+F21) -> 90 | H21: =IF(G21=360,0,IF(MOD(G21,E2)=0,G21,"")) -> 90 | I21: =IF(E13,H21,CHAR(160)) -> 90 | J21: =NA() -> #N/A | K21: 30 | L21: =MATCH(K21,H3:H74,0) -> 7 | M21: =IF(E8,90-INDEX(F3:F74,L21,1),INDEX(F3:F74,L21,1)+90) -> 60 | N21: =IF(E12,+(E7),NA()) -> 10 | O21: =COS(RADIANS(M21))*N21 -> 5 | P21: =SIN(RADIANS(M21))*N21 -> 8.660254 | Q21: =A20 -> 0 | R21: =B20 -> 0 | S21: =IF(E10,DEGREES(Q21),Q21) -> 0 | T21: =IF(E8,90-S21-E9,S21+90+E9) -> 90 | U21: =IF(E11,ABS(E6)-R21,ABS(E5)+R21) -> 0 | V21: =COS(RADIANS(T21))*U21 -> 0 | W21: =SIN(RADIANS(T21))*U21 -> 0
D22: DataChanged | E22: FAUX | F22: =IF(E8,(ROW()-ROW(F3))*5,((ROW(F75)-ROW())*5)) -> 95 | G22: =IF(F22-E9>=0,F22-E9,360-E9+F22) -> 95 | H22: =IF(G22=360,0,IF(MOD(G22,E2)=0,G22,"")) | I22: =IF(E13,H22,CHAR(160)) | J22: =NA() -> #N/A | K22: 30 | L22: =L21 -> 7 | M22: =IF(E8,90-INDEX(F3:F74,L22,1),INDEX(F3:F74,L22,1)+90) -> 60 | N22: =IF(E12,-(E7),NA()) -> -10 | O22: =COS(RADIANS(M22))*N22 -> -5 | P22: =SIN(RADIANS(M22))*N22 -> -8.660254 | Q22: =A21 -> 380 | R22: =B21 -> 10 | S22: =IF(E10,DEGREES(Q22),Q22) -> 380 | T22: =IF(E8,90-S22-E9,S22+90+E9) -> -290 | U22: =IF(E11,ABS(E6)-R22,ABS(E5)+R22) -> 10 | V22: =COS(RADIANS(T22))*U22 -> 3.4202014 | W22: =SIN(RADIANS(T22))*U22 -> 9.3969262
A23: 0 | B23: 0 | C23: =B115 -> 20 | F23: =IF(E8,(ROW()-ROW(F3))*5,((ROW(F75)-ROW())*5)) -> 100 | G23: =IF(F23-E9>=0,F23-E9,360-E9+F23) -> 100 | H23: =IF(G23=360,0,IF(MOD(G23,E2)=0,G23,"")) | I23: =IF(E13,H23,CHAR(160)) | J23: =NA() -> #N/A
A24: =C30 -> 380 | B24: 10 | C24: =B116 -> 20 | F24: =IF(E8,(ROW()-ROW(F3))*5,((ROW(F75)-ROW())*5)) -> 105 | G24: =IF(F24-E9>=0,F24-E9,360-E9+F24) -> 105 | H24: =IF(G24=360,0,IF(MOD(G24,E2)=0,G24,"")) | I24: =IF(E13,H24,CHAR(160)) | J24: =NA() -> #N/A | K24: 35 | L24: =MATCH(K24,H3:H74,0) -> #N/A | M24: =IF(E8,90-INDEX(F3:F74,L24,1),INDEX(F3:F74,L24,1)+90) -> #N/A | N24: =IF(E12,+(E7),NA()) -> 10 | O24: =COS(RADIANS(M24))*N24 -> #N/A | P24: =SIN(RADIANS(M24))*N24 -> #N/A | Q24: =A23 -> 0 | R24: =B23 -> 0 | S24: =IF(E31,DEGREES(Q24),Q24) -> 0 | T24: =IF($E$8,90-S24-E30,S24+90+E30) -> 90 | U24: =IF(E32,ABS(E27)-R24,ABS(E26)+R24) -> 0 | V24: =COS(RADIANS(T24))*U24 -> 0 | W24: =SIN(RADIANS(T24))*U24 -> 0
C25: =B117 -> 20 | F25: =IF(E8,(ROW()-ROW(F3))*5,((ROW(F75)-ROW())*5)) -> 110 | G25: =IF(F25-E9>=0,F25-E9,360-E9+F25) -> 110 | H25: =IF(G25=360,0,IF(MOD(G25,E2)=0,G25,"")) | I25: =IF(E13,H25,CHAR(160)) | J25: =NA() -> #N/A | K25: 35 | L25: =L24 -> #N/A | M25: =IF(E8,90-INDEX(F3:F74,L25,1),INDEX(F3:F74,L25,1)+90) -> #N/A | N25: =IF(E12,-(E7),NA()) -> -10 | O25: =COS(RADIANS(M25))*N25 -> #N/A | P25: =SIN(RADIANS(M25))*N25 -> #N/A | Q25: =A24 -> 380 | R25: =B24 -> 10 | S25: =IF(E31,DEGREES(Q25),Q25) -> 380 | T25: =IF($E$8,90-S25-E31,S25+90+E31) -> -290 | U25: =IF(E32,ABS(E27)-R25,ABS(E26)+R25) -> 10 | V25: =COS(RADIANS(T25))*U25 -> 3.4202014 | W25: =SIN(RADIANS(T25))*U25 -> 9.3969262
A26: 0 | B26: 0 | C26: =B118 -> 45 | F26: =IF(E8,(ROW()-ROW(F3))*5,((ROW(F75)-ROW())*5)) -> 115 | G26: =IF(F26-E9>=0,F26-E9,360-E9+F26) -> 115 | H26: =IF(G26=360,0,IF(MOD(G26,E2)=0,G26,"")) | I26: =IF(E13,H26,CHAR(160)) | J26: =NA() -> #N/A | Q26: =A25 -> 0 | R26: =B25 -> 0 | S26: =IF(E31,DEGREES(Q26),Q26) -> 0 | T26: =IF($E$8,90-S26-E32,S26+90+E32) -> 90 | U26: =IF(E32,ABS(E27)-R26,ABS(E26)+R26) -> 0
A27: =C31 -> 380 | B27: 10 | C27: =B119 -> 60 | F27: =IF(E8,(ROW()-ROW(F3))*5,((ROW(F75)-ROW())*5)) -> 120 | G27: =IF(F27-E9>=0,F27-E9,360-E9+F27) -> 120 | H27: =IF(G27=360,0,IF(MOD(G27,E2)=0,G27,"")) -> 120 | I27: =IF(E13,H27,CHAR(160)) -> 120 | J27: =NA() -> #N/A | K27: 40 | L27: =MATCH(K27,H3:H74,0) -> #N/A | M27: =IF(E8,90-INDEX(F3:F74,L27,1),INDEX(F3:F74,L27,1)+90) -> #N/A | N27: =IF(E12,+(E7),NA()) -> 10 | O27: =COS(RADIANS(M27))*N27 -> #N/A | P27: =SIN(RADIANS(M27))*N27 -> #N/A | Q27: =A26 -> 0 | R27: =B26 -> 0 | S27: =IF(E31,DEGREES(Q27),Q27) -> 0 | T27: =IF($E$8,90-S27-E33,S27+90+E33) -> 90 | U27: =IF(E32,ABS(E27)-R27,ABS(E26)+R27) -> 0 | V27: =COS(RADIANS(T27))*U27 -> 0 | W27: =SIN(RADIANS(T27))*U27 -> 0
C28: =B120 -> 90 | F28: =IF(E8,(ROW()-ROW(F3))*5,((ROW(F75)-ROW())*5)) -> 125 | G28: =IF(F28-E9>=0,F28-E9,360-E9+F28) -> 125 | H28: =IF(G28=360,0,IF(MOD(G28,E2)=0,G28,"")) | I28: =IF(E13,H28,CHAR(160)) | J28: =NA() -> #N/A | K28: 40 | L28: =L27 -> #N/A | M28: =IF(E8,90-INDEX(F3:F74,L28,1),INDEX(F3:F74,L28,1)+90) -> #N/A | N28: =IF(E12,-(E7),NA()) -> -10 | O28: =COS(RADIANS(M28))*N28 -> #N/A | P28: =SIN(RADIANS(M28))*N28 -> #N/A | Q28: =A27 -> 380 | R28: =B27 -> 10 | S28: =IF(E31,DEGREES(Q28),Q28) -> 380 | T28: =IF($E$8,90-S28-E34,S28+90+E34) -> -290 | U28: =IF(E32,ABS(E27)-R28,ABS(E26)+R28) -> 10 | V28: =COS(RADIANS(T28))*U28 -> 3.4202014 | W28: =SIN(RADIANS(T28))*U28 -> 9.3969262
A29: 0 | B29: 0 | C29: =B121 -> 380 | F29: =IF(E8,(ROW()-ROW(F3))*5,((ROW(F75)-ROW())*5)) -> 130 | G29: =IF(F29-E9>=0,F29-E9,360-E9+F29) -> 130 | H29: =IF(G29=360,0,IF(MOD(G29,E2)=0,G29,"")) | I29: =IF(E13,H29,CHAR(160)) | J29: =NA() -> #N/A | Q29: =A28 -> 0 | R29: =B28 -> 0 | S29: =IF(E31,DEGREES(Q29),Q29) -> 0 | T29: =IF($E$8,90-S29-E35,S29+90+E35) -> 90 | U29: =IF(E32,ABS(E27)-R29,ABS(E26)+R29) -> 0
A30: =C32 -> 380 | B30: 10 | C30: =B122 -> 380 | F30: =IF(E8,(ROW()-ROW(F3))*5,((ROW(F75)-ROW())*5)) -> 135 | G30: =IF(F30-E9>=0,F30-E9,360-E9+F30) -> 135 | H30: =IF(G30=360,0,IF(MOD(G30,E2)=0,G30,"")) | I30: =IF(E13,H30,CHAR(160)) | J30: =NA() -> #N/A | K30: 45 | L30: =MATCH(K30,H3:H74,0) -> #N/A | M30: =IF(E8,90-INDEX(F3:F74,L30,1),INDEX(F3:F74,L30,1)+90) -> #N/A | N30: =IF(E12,+(E7),NA()) -> 10 | O30: =COS(RADIANS(M30))*N30 -> #N/A | P30: =SIN(RADIANS(M30))*N30 -> #N/A | Q30: =A29 -> 0 | R30: =B29 -> 0 | S30: =IF(E31,DEGREES(Q30),Q30) -> 0 | T30: =IF($E$8,90-S30-E36,S30+90+E36) -> 90 | U30: =IF(E32,ABS(E27)-R30,ABS(E26)+R30) -> 0 | V30: =COS(RADIANS(T30))*U30 -> 0 | W30: =SIN(RADIANS(T30))*U30 -> 0
C31: =B123 -> 380 | F31: =IF(E8,(ROW()-ROW(F3))*5,((ROW(F75)-ROW())*5)) -> 140 | G31: =IF(F31-E9>=0,F31-E9,360-E9+F31) -> 140 | H31: =IF(G31=360,0,IF(MOD(G31,E2)=0,G31,"")) | I31: =IF(E13,H31,CHAR(160)) | J31: =NA() -> #N/A | K31: 45 | L31: =L30 -> #N/A | M31: =IF(E8,90-INDEX(F3:F74,L31,1),INDEX(F3:F74,L31,1)+90) -> #N/A | N31: =IF(E12,-(E7),NA()) -> -10 | O31: =COS(RADIANS(M31))*N31 -> #N/A | P31: =SIN(RADIANS(M31))*N31 -> #N/A | Q31: =A30 -> 380 | R31: =B30 -> 10 | S31: =IF(E31,DEGREES(Q31),Q31) -> 380 | T31: =IF($E$8,90-S31-E37,S31+90+E37) -> -290 | U31: =IF(E32,ABS(E27)-R31,ABS(E26)+R31) -> 10 | V31: =COS(RADIANS(T31))*U31 -> 3.4202014 | W31: =SIN(RADIANS(T31))*U31 -> 9.3969262
A32: 0 | B32: 0 | C32: =B124 -> 380 | F32: =IF(E8,(ROW()-ROW(F3))*5,((ROW(F75)-ROW())*5)) -> 145 | G32: =IF(F32-E9>=0,F32-E9,360-E9+F32) -> 145 | H32: =IF(G32=360,0,IF(MOD(G32,E2)=0,G32,"")) | I32: =IF(E13,H32,CHAR(160)) | J32: =NA() -> #N/A | Q32: =A31 -> 0 | R32: =B31 -> 0 | S32: =IF(E31,DEGREES(Q32),Q32) -> 0 | T32: =IF($E$8,90-S32-E38,S32+90+E38) -> 90 | U32: =IF(E32,ABS(E27)-R32,ABS(E26)+R32) -> 0
A33: =C33 -> 380 | B33: 10 | C33: =B125 -> 380 | F33: =IF(E8,(ROW()-ROW(F3))*5,((ROW(F75)-ROW())*5)) -> 150 | G33: =IF(F33-E9>=0,F33-E9,360-E9+F33) -> 150 | H33: =IF(G33=360,0,IF(MOD(G33,E2)=0,G33,"")) -> 150 | I33: =IF(E13,H33,CHAR(160)) -> 150 | J33: =NA() -> #N/A | K33: 50 | L33: =MATCH(K33,H3:H74,0) -> #N/A | M33: =IF(E8,90-INDEX(F3:F74,L33,1),INDEX(F3:F74,L33,1)+90) -> #N/A | N33: =IF(E12,+(E7),NA()) -> 10 | O33: =COS(RADIANS(M33))*N33 -> #N/A | P33: =SIN(RADIANS(M33))*N33 -> #N/A | Q33: =A32 -> 0 | R33: =B32 -> 0 | S33: =IF(E31,DEGREES(Q33),Q33) -> 0 | T33: =IF($E$8,90-S33-E39,S33+90+E39) -> 90 | U33: =IF(E32,ABS(E27)-R33,ABS(E26)+R33) -> 0 | V33: =COS(RADIANS(T33))*U33 -> 0 | W33: =SIN(RADIANS(T33))*U33 -> 0
C34: =B126 -> 380 | F34: =IF(E8,(ROW()-ROW(F3))*5,((ROW(F75)-ROW())*5)) -> 155 | G34: =IF(F34-E9>=0,F34-E9,360-E9+F34) -> 155 | H34: =IF(G34=360,0,IF(MOD(G34,E2)=0,G34,"")) | I34: =IF(E13,H34,CHAR(160)) | J34: =NA() -> #N/A | K34: 50 | L34: =L33 -> #N/A | M34: =IF(E8,90-INDEX(F3:F74,L34,1),INDEX(F3:F74,L34,1)+90) -> #N/A | N34: =IF(E12,-(E7),NA()) -> -10 | O34: =COS(RADIANS(M34))*N34 -> #N/A | P34: =SIN(RADIANS(M34))*N34 -> #N/A | Q34: =A33 -> 380 | R34: =B33 -> 10 | S34: =IF(E31,DEGREES(Q34),Q34) -> 380 | T34: =IF($E$8,90-S34-E40,S34+90+E40) -> -290 | U34: =IF(E32,ABS(E27)-R34,ABS(E26)+R34) -> 10 | V34: =COS(RADIANS(T34))*U34 -> 3.4202014 | W34: =SIN(RADIANS(T34))*U34 -> 9.3969262
A35: 0 | B35: 0 | C35: =B127 -> 380 | F35: =IF(E8,(ROW()-ROW(F3))*5,((ROW(F75)-ROW())*5)) -> 160 | G35: =IF(F35-E9>=0,F35-E9,360-E9+F35) -> 160 | H35: =IF(G35=360,0,IF(MOD(G35,E2)=0,G35,"")) | I35: =IF(E13,H35,CHAR(160)) | J35: =NA() -> #N/A | Q35: =A34 -> 0 | R35: =B34 -> 0 | S35: =IF(E31,DEGREES(Q35),Q35) -> 0 | T35: =IF($E$8,90-S35-E41,S35+90+E41) -> 90 | U35: =IF(E32,ABS(E27)-R35,ABS(E26)+R35) -> 0
A36: =C34 -> 380 | B36: 10 | C36: =B128 -> 380 | F36: =IF(E8,(ROW()-ROW(F3))*5,((ROW(F75)-ROW())*5)) -> 165 | G36: =IF(F36-E9>=0,F36-E9,360-E9+F36) -> 165 | H36: =IF(G36=360,0,IF(MOD(G36,E2)=0,G36,"")) | I36: =IF(E13,H36,CHAR(160)) | J36: =NA() -> #N/A | K36: 55 | L36: =MATCH(K36,H3:H74,0) -> #N/A | M36: =IF(E8,90-INDEX(F3:F74,L36,1),INDEX(F3:F74,L36,1)+90) -> #N/A | N36: =IF(E12,+(E7),NA()) -> 10 | O36: =COS(RADIANS(M36))*N36 -> #N/A | P36: =SIN(RADIANS(M36))*N36 -> #N/A | Q36: =A35 -> 0 | R36: =B35 -> 0 | S36: =IF(E31,DEGREES(Q36),Q36) -> 0 | T36: =IF($E$8,90-S36-E42,S36+90+E42) -> 90 | U36: =IF(E32,ABS(E27)-R36,ABS(E26)+R36) -> 0 | V36: =COS(RADIANS(T36))*U36 -> 0 | W36: =SIN(RADIANS(T36))*U36 -> 0
C37: =B129 -> 380 | F37: =IF(E8,(ROW()-ROW(F3))*5,((ROW(F75)-ROW())*5)) -> 170 | G37: =IF(F37-E9>=0,F37-E9,360-E9+F37) -> 170 | H37: =IF(G37=360,0,IF(MOD(G37,E2)=0,G37,"")) | I37: =IF(E13,H37,CHAR(160)) | J37: =NA() -> #N/A | K37: 55 | L37: =L36 -> #N/A | M37: =IF(E8,90-INDEX(F3:F74,L37,1),INDEX(F3:F74,L37,1)+90) -> #N/A | N37: =IF(E12,-(E7),NA()) -> -10 | O37: =COS(RADIANS(M37))*N37 -> #N/A | P37: =SIN(RADIANS(M37))*N37 -> #N/A | Q37: =A36 -> 380 | R37: =B36 -> 10 | S37: =IF(E31,DEGREES(Q37),Q37) -> 380 | T37: =IF($E$8,90-S37-E43,S37+90+E43) -> -290 | U37: =IF(E32,ABS(E27)-R37,ABS(E26)+R37) -> 10 | V37: =COS(RADIANS(T37))*U37 -> 3.4202014 | W37: =SIN(RADIANS(T37))*U37 -> 9.3969262
A38: 0 | B38: 0 | C38: =B130 -> 380 | F38: =IF(E8,(ROW()-ROW(F3))*5,((ROW(F75)-ROW())*5)) -> 175 | G38: =IF(F38-E9>=0,F38-E9,360-E9+F38) -> 175 | H38: =IF(G38=360,0,IF(MOD(G38,E2)=0,G38,"")) | I38: =IF(E13,H38,CHAR(160)) | J38: =NA() -> #N/A | Q38: =A37 -> 0 | R38: =B37 -> 0 | S38: =IF(E31,DEGREES(Q38),Q38) -> 0 | T38: =IF($E$8,90-S38-E44,S38+90+E44) -> 90 | U38: =IF(E32,ABS(E27)-R38,ABS(E26)+R38) -> 0
A39: =C35 -> 380 | B39: 10 | C39: =B131 -> 380 | F39: =IF(E8,(ROW()-ROW(F3))*5,((ROW(F75)-ROW())*5)) -> 180 | G39: =IF(F39-E9>=0,F39-E9,360-E9+F39) -> 180 | H39: =IF(G39=360,0,IF(MOD(G39,E2)=0,G39,"")) -> 180 | I39: =IF(E13,H39,CHAR(160)) -> 180 | J39: =NA() -> #N/A | K39: 60 | L39: =MATCH(K39,H3:H74,0) -> 13 | M39: =IF(E8,90-INDEX(F3:F74,L39,1),INDEX(F3:F74,L39,1)+90) -> 30 | N39: =IF(E12,+(E7),NA()) -> 10 | O39: =COS(RADIANS(M39))*N39 -> 8.660254 | P39: =SIN(RADIANS(M39))*N39 -> 5 | Q39: =A38 -> 0 | R39: =B38 -> 0 | S39: =IF(E31,DEGREES(Q39),Q39) -> 0 | T39: =IF($E$8,90-S39-E45,S39+90+E45) -> 90 | U39: =IF(E32,ABS(E27)-R39,ABS(E26)+R39) -> 0 | V39: =COS(RADIANS(T39))*U39 -> 0 | W39: =SIN(RADIANS(T39))*U39 -> 0
B40: 0 | C40: =B132 -> 380 | F40: =IF(E8,(ROW()-ROW(F3))*5,((ROW(F75)-ROW())*5)) -> 185 | G40: =IF(F40-E9>=0,F40-E9,360-E9+F40) -> 185 | H40: =IF(G40=360,0,IF(MOD(G40,E2)=0,G40,"")) | I40: =IF(E13,H40,CHAR(160)) | J40: =NA() -> #N/A | K40: 60 | L40: =L39 -> 13 | M40: =IF(E8,90-INDEX(F3:F74,L40,1),INDEX(F3:F74,L40,1)+90) -> 30 | N40: =IF(E12,-(E7),NA()) -> -10 | O40: =COS(RADIANS(M40))*N40 -> -8.660254 | P40: =SIN(RADIANS(M40))*N40 -> -5 | Q40: =A39 -> 380 | R40: =B39 -> 10 | S40: =IF(E31,DEGREES(Q40),Q40) -> 380 | T40: =IF($E$8,90-S40-E46,S40+90+E46) -> -290 | U40: =IF(E32,ABS(E27)-R40,ABS(E26)+R40) -> 10 | V40: =COS(RADIANS(T40))*U40 -> 3.4202014 | W40: =SIN(RADIANS(T40))*U40 -> 9.3969262
...

Sheet B
B1: Directions
A2: 0 | B2: 0 | D2: Interval | E2: 30 | J2: PLRPLT_BASE | P2: PLRPLT_SPOKES | W2: =B!$B$1 -> Directions
A3: =C23 -> 150 | B3: 10 | D3: NIntervals | E3: =360/E2 -> 12 | F3: =IF(E8,(ROW()-ROW(F3))*5,((ROW(F75)-ROW())*5)) -> 0 | G3: =IF(F3-E9>=0,F3-E9,360-E9+F3) -> 0 | H3: =IF(G3=360,0,IF(MOD(G3,E2)=0,G3,"")) -> 0 | I3: =IF(E13,H3,CHAR(160)) -> 0 | J3: =E19 -> 0 | K3: 0 | L3: =MATCH(K3,H3:H74,0) -> 1 | M3: =IF(E8,90-INDEX(F3:F74,L3,1),INDEX(F3:F74,L3,1)+90) -> 90 | N3: =IF(E12,+(E7),NA()) -> 10 | O3: =COS(RADIANS(M3))*N3 -> 6.1257423e-16 | P3: =SIN(RADIANS(M3))*N3 -> 10 | Q3: =A2 -> 0 | R3: =B2 -> 0 | S3: =IF(E10,DEGREES(Q3),Q3) -> 0 | T3: =IF(E8,90-S3-E9,S3+90+E9) -> 90 | U3: =IF(E11,ABS(E6)-R3,ABS(E5)+R3) -> 0 | V3: =COS(RADIANS(T3))*U3 -> 0 | W3: =SIN(RADIANS(T3))*U3 -> 0
D4: Value | E4: =10/E3 -> 0.83333333 | F4: =IF(E8,(ROW()-ROW(F3))*5,((ROW(F75)-ROW())*5)) -> 5 | G4: =IF(F4-E9>=0,F4-E9,360-E9+F4) -> 5 | H4: =IF(G4=360,0,IF(MOD(G4,E2)=0,G4,"")) | I4: =IF(E13,H4,CHAR(160)) | J4: =E20 -> 10 | K4: 0 | L4: =L3 -> 1 | M4: =IF(E8,90-INDEX(F3:F74,L4,1),INDEX(F3:F74,L4,1)+90) -> 90 | N4: =IF(E12,-(E7),NA()) -> -10 | O4: =COS(RADIANS(M4))*N4 -> -6.1257423e-16 | P4: =SIN(RADIANS(M4))*N4 -> -10 | Q4: =A3 -> 150 | R4: =B3 -> 10 | S4: =IF(E10,DEGREES(Q4),Q4) -> 150 | T4: =IF(E8,90-S4-E9,S4+90+E9) -> -60 | U4: =IF(E11,ABS(E6)-R4,ABS(E5)+R4) -> 10 | V4: =COS(RADIANS(T4))*U4 -> 5 | W4: =SIN(RADIANS(T4))*U4 -> -8.660254
A5: 0 | B5: 0 | D5: MinAxisValue | E5: 0 | F5: =IF(E8,(ROW()-ROW(F3))*5,((ROW(F75)-ROW())*5)) -> 10 | G5: =IF(F5-E9>=0,F5-E9,360-E9+F5) -> 10 | H5: =IF(G5=360,0,IF(MOD(G5,E2)=0,G5,"")) | I5: =IF(E13,H5,CHAR(160)) | J5: =NA() -> #N/A | Q5: =A4 -> 0 | R5: =B4 -> 0 | S5: =IF(E10,DEGREES(Q5),Q5) -> 0 | T5: =IF(E8,90-S5-E9,S5+90+E9) -> 90 | U5: =IF(E11,ABS(E6)-R5,ABS(E5)+R5) -> 0
A6: =C24 -> 150 | B6: 10 | D6: MaxAxisValue | E6: 10 | F6: =IF(E8,(ROW()-ROW(F3))*5,((ROW(F75)-ROW())*5)) -> 15 | G6: =IF(F6-E9>=0,F6-E9,360-E9+F6) -> 15 | H6: =IF(G6=360,0,IF(MOD(G6,E2)=0,G6,"")) | I6: =IF(E13,H6,CHAR(160)) | J6: =NA() -> #N/A | K6: 5 | L6: =MATCH(K6,H3:H74,0) -> #N/A | M6: =IF(E8,90-INDEX(F3:F74,L6,1),INDEX(F3:F74,L6,1)+90) -> #N/A | N6: =IF(E12,+(E7),NA()) -> 10 | O6: =COS(RADIANS(M6))*N6 -> #N/A | P6: =SIN(RADIANS(M6))*N6 -> #N/A | Q6: =A5 -> 0 | R6: =B5 -> 0 | S6: =IF(E10,DEGREES(Q6),Q6) -> 0 | T6: =IF(E8,90-S6-E9,S6+90+E9) -> 90 | U6: =IF(E11,ABS(E6)-R6,ABS(E5)+R6) -> 0 | V6: =COS(RADIANS(T6))*U6 -> 0 | W6: =SIN(RADIANS(T6))*U6 -> 0
D7: Radius | E7: =E6-E5 -> 10 | F7: =IF(E8,(ROW()-ROW(F3))*5,((ROW(F75)-ROW())*5)) -> 20 | G7: =IF(F7-E9>=0,F7-E9,360-E9+F7) -> 20 | H7: =IF(G7=360,0,IF(MOD(G7,E2)=0,G7,"")) | I7: =IF(E13,H7,CHAR(160)) | J7: =NA() -> #N/A | K7: 5 | L7: =L6 -> #N/A | M7: =IF(E8,90-INDEX(F3:F74,L7,1),INDEX(F3:F74,L7,1)+90) -> #N/A | N7: =IF(E12,-(E7),NA()) -> -10 | O7: =COS(RADIANS(M7))*N7 -> #N/A | P7: =SIN(RADIANS(M7))*N7 -> #N/A | Q7: =A6 -> 150 | R7: =B6 -> 10 | S7: =IF(E10,DEGREES(Q7),Q7) -> 150 | T7: =IF(E8,90-S7-E9,S7+90+E9) -> -60 | U7: =IF(E11,ABS(E6)-R7,ABS(E5)+R7) -> 10 | V7: =COS(RADIANS(T7))*U7 -> 5 | W7: =SIN(RADIANS(T7))*U7 -> -8.660254
A8: 0 | B8: 0 | D8: Clockwise | E8: TRUE | F8: =IF(E8,(ROW()-ROW(F3))*5,((ROW(F75)-ROW())*5)) -> 25 | G8: =IF(F8-E9>=0,F8-E9,360-E9+F8) -> 25 | H8: =IF(G8=360,0,IF(MOD(G8,E2)=0,G8,"")) | I8: =IF(E13,H8,CHAR(160)) | J8: =NA() -> #N/A | Q8: =A7 -> 0 | R8: =B7 -> 0 | S8: =IF(E10,DEGREES(Q8),Q8) -> 0 | T8: =IF(E8,90-S8-E9,S8+90+E9) -> 90 | U8: =IF(E11,ABS(E6)-R8,ABS(E5)+R8) -> 0
A9: =C25 -> 180 | B9: 10 | D9: StartAngle | E9: 0 | F9: =IF(E8,(ROW()-ROW(F3))*5,((ROW(F75)-ROW())*5)) -> 30 | G9: =IF(F9-E9>=0,F9-E9,360-E9+F9) -> 30 | H9: =IF(G9=360,0,IF(MOD(G9,E2)=0,G9,"")) -> 30 | I9: =IF(E13,H9,CHAR(160)) -> 30 | J9: =NA() -> #N/A | K9: 10 | L9: =MATCH(K9,H3:H74,0) -> #N/A | M9: =IF(E8,90-INDEX(F3:F74,L9,1),INDEX(F3:F74,L9,1)+90) -> #N/A | N9: =IF(E12,+(E7),NA()) -> 10 | O9: =COS(RADIANS(M9))*N9 -> #N/A | P9: =SIN(RADIANS(M9))*N9 -> #N/A | Q9: =A8 -> 0 | R9: =B8 -> 0 | S9: =IF(E10,DEGREES(Q9),Q9) -> 0 | T9: =IF(E8,90-S9-E9,S9+90+E9) -> 90 | U9: =IF(E11,ABS(E6)-R9,ABS(E5)+R9) -> 0 | V9: =COS(RADIANS(T9))*U9 -> 0 | W9: =SIN(RADIANS(T9))*U9 -> 0
D10: Radians | E10: FALSE | F10: =IF(E8,(ROW()-ROW(F3))*5,((ROW(F75)-ROW())*5)) -> 35 | G10: =IF(F10-E9>=0,F10-E9,360-E9+F10) -> 35 | H10: =IF(G10=360,0,IF(MOD(G10,E2)=0,G10,"")) | I10: =IF(E13,H10,CHAR(160)) | J10: =NA() -> #N/A | K10: 10 | L10: =L9 -> #N/A | M10: =IF(E8,90-INDEX(F3:F74,L10,1),INDEX(F3:F74,L10,1)+90) -> #N/A | N10: =IF(E12,-(E7),NA()) -> -10 | O10: =COS(RADIANS(M10))*N10 -> #N/A | P10: =SIN(RADIANS(M10))*N10 -> #N/A | Q10: =A9 -> 180 | R10: =B9 -> 10 | S10: =IF(E10,DEGREES(Q10),Q10) -> 180 | T10: =IF(E8,90-S10-E9,S10+90+E9) -> -90 | U10: =IF(E11,ABS(E6)-R10,ABS(E5)+R10) -> 10 | V10: =COS(RADIANS(T10))*U10 -> 6.1257423e-16 | W10: =SIN(RADIANS(T10))*U10 -> -10
A11: 0 | B11: 0 | D11: ReverseAxis | E11: FALSE | F11: =IF(E8,(ROW()-ROW(F3))*5,((ROW(F75)-ROW())*5)) -> 40 | G11: =IF(F11-E9>=0,F11-E9,360-E9+F11) -> 40 | H11: =IF(G11=360,0,IF(MOD(G11,E2)=0,G11,"")) | I11: =IF(E13,H11,CHAR(160)) | J11: =NA() -> #N/A | Q11: =A10 -> 0 | R11: =B10 -> 0 | S11: =IF(E10,DEGREES(Q11),Q11) -> 0 | T11: =IF(E8,90-S11-E9,S11+90+E9) -> 90 | U11: =IF(E11,ABS(E6)-R11,ABS(E5)+R11) -> 0
A12: =C26 -> 180 | B12: 10 | D12: Display Spokes | E12: TRUE | F12: =IF(E8,(ROW()-ROW(F3))*5,((ROW(F75)-ROW())*5)) -> 45 | G12: =IF(F12-E9>=0,F12-E9,360-E9+F12) -> 45 | H12: =IF(G12=360,0,IF(MOD(G12,E2)=0,G12,"")) | I12: =IF(E13,H12,CHAR(160)) | J12: =NA() -> #N/A | K12: 15 | L12: =MATCH(K12,H3:H74,0) -> #N/A | M12: =IF(E8,90-INDEX(F3:F74,L12,1),INDEX(F3:F74,L12,1)+90) -> #N/A | N12: =IF(E12,+(E7),NA()) -> 10 | O12: =COS(RADIANS(M12))*N12 -> #N/A | P12: =SIN(RADIANS(M12))*N12 -> #N/A | Q12: =A11 -> 0 | R12: =B11 -> 0 | S12: =IF(E10,DEGREES(Q12),Q12) -> 0 | T12: =IF(E8,90-S12-E9,S12+90+E9) -> 90 | U12: =IF(E11,ABS(E6)-R12,ABS(E5)+R12) -> 0 | V12: =COS(RADIANS(T12))*U12 -> 0 | W12: =SIN(RADIANS(T12))*U12 -> 0
D13: Display Spoke Labels | E13: TRUE | F13: =IF(E8,(ROW()-ROW(F3))*5,((ROW(F75)-ROW())*5)) -> 50 | G13: =IF(F13-E9>=0,F13-E9,360-E9+F13) -> 50 | H13: =IF(G13=360,0,IF(MOD(G13,E2)=0,G13,"")) | I13: =IF(E13,H13,CHAR(160)) | J13: =NA() -> #N/A | K13: 15 | L13: =L12 -> #N/A | M13: =IF(E8,90-INDEX(F3:F74,L13,1),INDEX(F3:F74,L13,1)+90) -> #N/A | N13: =IF(E12,-(E7),NA()) -> -10 | O13: =COS(RADIANS(M13))*N13 -> #N/A | P13: =SIN(RADIANS(M13))*N13 -> #N/A | Q13: =A12 -> 180 | R13: =B12 -> 10 | S13: =IF(E10,DEGREES(Q13),Q13) -> 180 | T13: =IF(E8,90-S13-E9,S13+90+E9) -> -90 | U13: =IF(E11,ABS(E6)-R13,ABS(E5)+R13) -> 10 | V13: =COS(RADIANS(T13))*U13 -> 6.1257423e-16 | W13: =SIN(RADIANS(T13))*U13 -> -10
A14: 0 | B14: 0 | D14: Display Gridlines | E14: TRUE | F14: =IF(E8,(ROW()-ROW(F3))*5,((ROW(F75)-ROW())*5)) -> 55 | G14: =IF(F14-E9>=0,F14-E9,360-E9+F14) -> 55 | H14: =IF(G14=360,0,IF(MOD(G14,E2)=0,G14,"")) | I14: =IF(E13,H14,CHAR(160)) | J14: =NA() -> #N/A | Q14: =A13 -> 0 | R14: =B13 -> 0 | S14: =IF(E10,DEGREES(Q14),Q14) -> 0 | T14: =IF(E8,90-S14-E9,S14+90+E9) -> 90 | U14: =IF(E11,ABS(E6)-R14,ABS(E5)+R14) -> 0
A15: =C27 -> 510 | B15: 10 | D15: Display Data Lines | E15: TRUE | F15: =IF(E8,(ROW()-ROW(F3))*5,((ROW(F75)-ROW())*5)) -> 60 | G15: =IF(F15-E9>=0,F15-E9,360-E9+F15) -> 60 | H15: =IF(G15=360,0,IF(MOD(G15,E2)=0,G15,"")) -> 60 | I15: =IF(E13,H15,CHAR(160)) -> 60 | J15: =NA() -> #N/A | K15: 20 | L15: =MATCH(K15,H3:H74,0) -> #N/A | M15: =IF(E8,90-INDEX(F3:F74,L15,1),INDEX(F3:F74,L15,1)+90) -> #N/A | N15: =IF(E12,+(E7),NA()) -> 10 | O15: =COS(RADIANS(M15))*N15 -> #N/A | P15: =SIN(RADIANS(M15))*N15 -> #N/A | Q15: =A14 -> 0 | R15: =B14 -> 0 | S15: =IF(E10,DEGREES(Q15),Q15) -> 0 | T15: =IF(E8,90-S15-E9,S15+90+E9) -> 90 | U15: =IF(E11,ABS(E6)-R15,ABS(E5)+R15) -> 0 | V15: =COS(RADIANS(T15))*U15 -> 0 | W15: =SIN(RADIANS(T15))*U15 -> 0
D16: Display Data Markers | E16: FALSE | F16: =IF(E8,(ROW()-ROW(F3))*5,((ROW(F75)-ROW())*5)) -> 65 | G16: =IF(F16-E9>=0,F16-E9,360-E9+F16) -> 65 | H16: =IF(G16=360,0,IF(MOD(G16,E2)=0,G16,"")) | I16: =IF(E13,H16,CHAR(160)) | J16: =NA() -> #N/A | K16: 20 | L16: =L15 -> #N/A | M16: =IF(E8,90-INDEX(F3:F74,L16,1),INDEX(F3:F74,L16,1)+90) -> #N/A | N16: =IF(E12,-(E7),NA()) -> -10 | O16: =COS(RADIANS(M16))*N16 -> #N/A | P16: =SIN(RADIANS(M16))*N16 -> #N/A | Q16: =A15 -> 510 | R16: =B15 -> 10 | S16: =IF(E10,DEGREES(Q16),Q16) -> 510 | T16: =IF(E8,90-S16-E9,S16+90+E9) -> -420 | U16: =IF(E11,ABS(E6)-R16,ABS(E5)+R16) -> 10 | V16: =COS(RADIANS(T16))*U16 -> 5 | W16: =SIN(RADIANS(T16))*U16 -> -8.660254
A17: 0 | B17: 0 | D17: Display Legend | E17: TRUE | F17: =IF(E8,(ROW()-ROW(F3))*5,((ROW(F75)-ROW())*5)) -> 70 | G17: =IF(F17-E9>=0,F17-E9,360-E9+F17) -> 70 | H17: =IF(G17=360,0,IF(MOD(G17,E2)=0,G17,"")) | I17: =IF(E13,H17,CHAR(160)) | J17: =NA() -> #N/A | Q17: =A16 -> 0 | R17: =B16 -> 0 | S17: =IF(E10,DEGREES(Q17),Q17) -> 0 | T17: =IF(E8,90-S17-E9,S17+90+E9) -> 90 | U17: =IF(E11,ABS(E6)-R17,ABS(E5)+R17) -> 0
A18: =C28 -> 510 | B18: 10 | D18: Display Axis | E18: TRUE | F18: =IF(E8,(ROW()-ROW(F3))*5,((ROW(F75)-ROW())*5)) -> 75 | G18: =IF(F18-E9>=0,F18-E9,360-E9+F18) -> 75 | H18: =IF(G18=360,0,IF(MOD(G18,E2)=0,G18,"")) | I18: =IF(E13,H18,CHAR(160)) | J18: =NA() -> #N/A | K18: 25 | L18: =MATCH(K18,H3:H74,0) -> #N/A | M18: =IF(E8,90-INDEX(F3:F74,L18,1),INDEX(F3:F74,L18,1)+90) -> #N/A | N18: =IF(E12,+(E7),NA()) -> 10 | O18: =COS(RADIANS(M18))*N18 -> #N/A | P18: =SIN(RADIANS(M18))*N18 -> #N/A | Q18: =A17 -> 0 | R18: =B17 -> 0 | S18: =IF(E10,DEGREES(Q18),Q18) -> 0 | T18: =IF(E8,90-S18-E9,S18+90+E9) -> 90 | U18: =IF(E11,ABS(E6)-R18,ABS(E5)+R18) -> 0 | V18: =COS(RADIANS(T18))*U18 -> 0 | W18: =SIN(RADIANS(T18))*U18 -> 0
B19: 0 | D19: MinDataValue | E19: 0 | F19: =IF(E8,(ROW()-ROW(F3))*5,((ROW(F75)-ROW())*5)) -> 80 | G19: =IF(F19-E9>=0,F19-E9,360-E9+F19) -> 80 | H19: =IF(G19=360,0,IF(MOD(G19,E2)=0,G19,"")) | I19: =IF(E13,H19,CHAR(160)) | J19: =NA() -> #N/A | K19: 25 | L19: =L18 -> #N/A | M19: =IF(E8,90-INDEX(F3:F74,L19,1),INDEX(F3:F74,L19,1)+90) -> #N/A | N19: =IF(E12,-(E7),NA()) -> -10 | O19: =COS(RADIANS(M19))*N19 -> #N/A | P19: =SIN(RADIANS(M19))*N19 -> #N/A | Q19: =A18 -> 510 | R19: =B18 -> 10 | S19: =IF(E10,DEGREES(Q19),Q19) -> 510 | T19: =IF(E8,90-S19-E9,S19+90+E9) -> -420 | U19: =IF(E11,ABS(E6)-R19,ABS(E5)+R19) -> 10 | V19: =COS(RADIANS(T19))*U19 -> 5 | W19: =SIN(RADIANS(T19))*U19 -> -8.660254
A20: 0 | B20: 0 | D20: MaxDataValue | E20: 10 | F20: =IF(E8,(ROW()-ROW(F3))*5,((ROW(F75)-ROW())*5)) -> 85 | G20: =IF(F20-E9>=0,F20-E9,360-E9+F20) -> 85 | H20: =IF(G20=360,0,IF(MOD(G20,E2)=0,G20,"")) | I20: =IF(E13,H20,CHAR(160)) | J20: =NA() -> #N/A | Q20: =A19 -> 0 | R20: =B19 -> 0 | S20: =IF(E10,DEGREES(Q20),Q20) -> 0 | T20: =IF(E8,90-S20-E9,S20+90+E9) -> 90 | U20: =IF(E11,ABS(E6)-R20,ABS(E5)+R20) -> 0
A21: =C29 -> 510 | B21: 10 | D21: DataRange | E21: ='Example10'!$A$1:$B$21 | F21: =IF(E8,(ROW()-ROW(F3))*5,((ROW(F75)-ROW())*5)) -> 90 | G21: =IF(F21-E9>=0,F21-E9,360-E9+F21) -> 90 | H21: =IF(G21=360,0,IF(MOD(G21,E2)=0,G21,"")) -> 90 | I21: =IF(E13,H21,CHAR(160)) -> 90 | J21: =NA() -> #N/A | K21: 30 | L21: =MATCH(K21,H3:H74,0) -> 7 | M21: =IF(E8,90-INDEX(F3:F74,L21,1),INDEX(F3:F74,L21,1)+90) -> 60 | N21: =IF(E12,+(E7),NA()) -> 10 | O21: =COS(RADIANS(M21))*N21 -> 5 | P21: =SIN(RADIANS(M21))*N21 -> 8.660254 | Q21: =A20 -> 0 | R21: =B20 -> 0 | S21: =IF(E10,DEGREES(Q21),Q21) -> 0 | T21: =IF(E8,90-S21-E9,S21+90+E9) -> 90 | U21: =IF(E11,ABS(E6)-R21,ABS(E5)+R21) -> 0 | V21: =COS(RADIANS(T21))*U21 -> 0 | W21: =SIN(RADIANS(T21))*U21 -> 0
D22: DataChanged | E22: FAUX | F22: =IF(E8,(ROW()-ROW(F3))*5,((ROW(F75)-ROW())*5)) -> 95 | G22: =IF(F22-E9>=0,F22-E9,360-E9+F22) -> 95 | H22: =IF(G22=360,0,IF(MOD(G22,E2)=0,G22,"")) | I22: =IF(E13,H22,CHAR(160)) | J22: =NA() -> #N/A | K22: 30 | L22: =L21 -> 7 | M22: =IF(E8,90-INDEX(F3:F74,L22,1),INDEX(F3:F74,L22,1)+90) -> 60 | N22: =IF(E12,-(E7),NA()) -> -10 | O22: =COS(RADIANS(M22))*N22 -> -5 | P22: =SIN(RADIANS(M22))*N22 -> -8.660254 | Q22: =A21 -> 510 | R22: =B21 -> 10 | S22: =IF(E10,DEGREES(Q22),Q22) -> 510 | T22: =IF(E8,90-S22-E9,S22+90+E9) -> -420 | U22: =IF(E11,ABS(E6)-R22,ABS(E5)+R22) -> 10 | V22: =COS(RADIANS(T22))*U22 -> 5 | W22: =SIN(RADIANS(T22))*U22 -> -8.660254
A23: 0 | B23: 0 | C23: =B115 -> 150 | F23: =IF(E8,(ROW()-ROW(F3))*5,((ROW(F75)-ROW())*5)) -> 100 | G23: =IF(F23-E9>=0,F23-E9,360-E9+F23) -> 100 | H23: =IF(G23=360,0,IF(MOD(G23,E2)=0,G23,"")) | I23: =IF(E13,H23,CHAR(160)) | J23: =NA() -> #N/A
A24: =C30 -> 510 | B24: 10 | C24: =B116 -> 150 | F24: =IF(E8,(ROW()-ROW(F3))*5,((ROW(F75)-ROW())*5)) -> 105 | G24: =IF(F24-E9>=0,F24-E9,360-E9+F24) -> 105 | H24: =IF(G24=360,0,IF(MOD(G24,E2)=0,G24,"")) | I24: =IF(E13,H24,CHAR(160)) | J24: =NA() -> #N/A | K24: 35 | L24: =MATCH(K24,H3:H74,0) -> #N/A | M24: =IF(E8,90-INDEX(F3:F74,L24,1),INDEX(F3:F74,L24,1)+90) -> #N/A | N24: =IF(E12,+(E7),NA()) -> 10 | O24: =COS(RADIANS(M24))*N24 -> #N/A | P24: =SIN(RADIANS(M24))*N24 -> #N/A | Q24: =A23 -> 0 | R24: =B23 -> 0 | S24: =IF(E31,DEGREES(Q24),Q24) -> 0 | T24: =IF($E$8,90-S24-E30,S24+90+E30) -> 90 | U24: =IF(E32,ABS(E27)-R24,ABS(E26)+R24) -> 0 | V24: =COS(RADIANS(T24))*U24 -> 0 | W24: =SIN(RADIANS(T24))*U24 -> 0
C25: =B117 -> 180 | F25: =IF(E8,(ROW()-ROW(F3))*5,((ROW(F75)-ROW())*5)) -> 110 | G25: =IF(F25-E9>=0,F25-E9,360-E9+F25) -> 110 | H25: =IF(G25=360,0,IF(MOD(G25,E2)=0,G25,"")) | I25: =IF(E13,H25,CHAR(160)) | J25: =NA() -> #N/A | K25: 35 | L25: =L24 -> #N/A | M25: =IF(E8,90-INDEX(F3:F74,L25,1),INDEX(F3:F74,L25,1)+90) -> #N/A | N25: =IF(E12,-(E7),NA()) -> -10 | O25: =COS(RADIANS(M25))*N25 -> #N/A | P25: =SIN(RADIANS(M25))*N25 -> #N/A | Q25: =A24 -> 510 | R25: =B24 -> 10 | S25: =IF(E31,DEGREES(Q25),Q25) -> 510 | T25: =IF($E$8,90-S25-E31,S25+90+E31) -> -420 | U25: =IF(E32,ABS(E27)-R25,ABS(E26)+R25) -> 10 | V25: =COS(RADIANS(T25))*U25 -> 5 | W25: =SIN(RADIANS(T25))*U25 -> -8.660254
A26: 0 | B26: 0 | C26: =B118 -> 180 | F26: =IF(E8,(ROW()-ROW(F3))*5,((ROW(F75)-ROW())*5)) -> 115 | G26: =IF(F26-E9>=0,F26-E9,360-E9+F26) -> 115 | H26: =IF(G26=360,0,IF(MOD(G26,E2)=0,G26,"")) | I26: =IF(E13,H26,CHAR(160)) | J26: =NA() -> #N/A | Q26: =A25 -> 0 | R26: =B25 -> 0 | S26: =IF(E31,DEGREES(Q26),Q26) -> 0 | T26: =IF($E$8,90-S26-E32,S26+90+E32) -> 90 | U26: =IF(E32,ABS(E27)-R26,ABS(E26)+R26) -> 0
A27: =C31 -> 510 | B27: 10 | C27: =B119 -> 510 | F27: =IF(E8,(ROW()-ROW(F3))*5,((ROW(F75)-ROW())*5)) -> 120 | G27: =IF(F27-E9>=0,F27-E9,360-E9+F27) -> 120 | H27: =IF(G27=360,0,IF(MOD(G27,E2)=0,G27,"")) -> 120 | I27: =IF(E13,H27,CHAR(160)) -> 120 | J27: =NA() -> #N/A | K27: 40 | L27: =MATCH(K27,H3:H74,0) -> #N/A | M27: =IF(E8,90-INDEX(F3:F74,L27,1),INDEX(F3:F74,L27,1)+90) -> #N/A | N27: =IF(E12,+(E7),NA()) -> 10 | O27: =COS(RADIANS(M27))*N27 -> #N/A | P27: =SIN(RADIANS(M27))*N27 -> #N/A | Q27: =A26 -> 0 | R27: =B26 -> 0 | S27: =IF(E31,DEGREES(Q27),Q27) -> 0 | T27: =IF($E$8,90-S27-E33,S27+90+E33) -> 90 | U27: =IF(E32,ABS(E27)-R27,ABS(E26)+R27) -> 0 | V27: =COS(RADIANS(T27))*U27 -> 0 | W27: =SIN(RADIANS(T27))*U27 -> 0
C28: =B120 -> 510 | F28: =IF(E8,(ROW()-ROW(F3))*5,((ROW(F75)-ROW())*5)) -> 125 | G28: =IF(F28-E9>=0,F28-E9,360-E9+F28) -> 125 | H28: =IF(G28=360,0,IF(MOD(G28,E2)=0,G28,"")) | I28: =IF(E13,H28,CHAR(160)) | J28: =NA() -> #N/A | K28: 40 | L28: =L27 -> #N/A | M28: =IF(E8,90-INDEX(F3:F74,L28,1),INDEX(F3:F74,L28,1)+90) -> #N/A | N28: =IF(E12,-(E7),NA()) -> -10 | O28: =COS(RADIANS(M28))*N28 -> #N/A | P28: =SIN(RADIANS(M28))*N28 -> #N/A | Q28: =A27 -> 510 | R28: =B27 -> 10 | S28: =IF(E31,DEGREES(Q28),Q28) -> 510 | T28: =IF($E$8,90-S28-E34,S28+90+E34) -> -420 | U28: =IF(E32,ABS(E27)-R28,ABS(E26)+R28) -> 10 | V28: =COS(RADIANS(T28))*U28 -> 5 | W28: =SIN(RADIANS(T28))*U28 -> -8.660254
A29: 0 | B29: 0 | C29: =B121 -> 510 | F29: =IF(E8,(ROW()-ROW(F3))*5,((ROW(F75)-ROW())*5)) -> 130 | G29: =IF(F29-E9>=0,F29-E9,360-E9+F29) -> 130 | H29: =IF(G29=360,0,IF(MOD(G29,E2)=0,G29,"")) | I29: =IF(E13,H29,CHAR(160)) | J29: =NA() -> #N/A | Q29: =A28 -> 0 | R29: =B28 -> 0 | S29: =IF(E31,DEGREES(Q29),Q29) -> 0 | T29: =IF($E$8,90-S29-E35,S29+90+E35) -> 90 | U29: =IF(E32,ABS(E27)-R29,ABS(E26)+R29) -> 0
A30: =C32 -> 510 | B30: 10 | C30: =B122 -> 510 | F30: =IF(E8,(ROW()-ROW(F3))*5,((ROW(F75)-ROW())*5)) -> 135 | G30: =IF(F30-E9>=0,F30-E9,360-E9+F30) -> 135 | H30: =IF(G30=360,0,IF(MOD(G30,E2)=0,G30,"")) | I30: =IF(E13,H30,CHAR(160)) | J30: =NA() -> #N/A | K30: 45 | L30: =MATCH(K30,H3:H74,0) -> #N/A | M30: =IF(E8,90-INDEX(F3:F74,L30,1),INDEX(F3:F74,L30,1)+90) -> #N/A | N30: =IF(E12,+(E7),NA()) -> 10 | O30: =COS(RADIANS(M30))*N30 -> #N/A | P30: =SIN(RADIANS(M30))*N30 -> #N/A | Q30: =A29 -> 0 | R30: =B29 -> 0 | S30: =IF(E31,DEGREES(Q30),Q30) -> 0 | T30: =IF($E$8,90-S30-E36,S30+90+E36) -> 90 | U30: =IF(E32,ABS(E27)-R30,ABS(E26)+R30) -> 0 | V30: =COS(RADIANS(T30))*U30 -> 0 | W30: =SIN(RADIANS(T30))*U30 -> 0
C31: =B123 -> 510 | F31: =IF(E8,(ROW()-ROW(F3))*5,((ROW(F75)-ROW())*5)) -> 140 | G31: =IF(F31-E9>=0,F31-E9,360-E9+F31) -> 140 | H31: =IF(G31=360,0,IF(MOD(G31,E2)=0,G31,"")) | I31: =IF(E13,H31,CHAR(160)) | J31: =NA() -> #N/A | K31: 45 | L31: =L30 -> #N/A | M31: =IF(E8,90-INDEX(F3:F74,L31,1),INDEX(F3:F74,L31,1)+90) -> #N/A | N31: =IF(E12,-(E7),NA()) -> -10 | O31: =COS(RADIANS(M31))*N31 -> #N/A | P31: =SIN(RADIANS(M31))*N31 -> #N/A | Q31: =A30 -> 510 | R31: =B30 -> 10 | S31: =IF(E31,DEGREES(Q31),Q31) -> 510 | T31: =IF($E$8,90-S31-E37,S31+90+E37) -> -420 | U31: =IF(E32,ABS(E27)-R31,ABS(E26)+R31) -> 10 | V31: =COS(RADIANS(T31))*U31 -> 5 | W31: =SIN(RADIANS(T31))*U31 -> -8.660254
A32: 0 | B32: 0 | C32: =B124 -> 510 | F32: =IF(E8,(ROW()-ROW(F3))*5,((ROW(F75)-ROW())*5)) -> 145 | G32: =IF(F32-E9>=0,F32-E9,360-E9+F32) -> 145 | H32: =IF(G32=360,0,IF(MOD(G32,E2)=0,G32,"")) | I32: =IF(E13,H32,CHAR(160)) | J32: =NA() -> #N/A | Q32: =A31 -> 0 | R32: =B31 -> 0 | S32: =IF(E31,DEGREES(Q32),Q32) -> 0 | T32: =IF($E$8,90-S32-E38,S32+90+E38) -> 90 | U32: =IF(E32,ABS(E27)-R32,ABS(E26)+R32) -> 0
A33: =C33 -> 510 | B33: 10 | C33: =B125 -> 510 | F33: =IF(E8,(ROW()-ROW(F3))*5,((ROW(F75)-ROW())*5)) -> 150 | G33: =IF(F33-E9>=0,F33-E9,360-E9+F33) -> 150 | H33: =IF(G33=360,0,IF(MOD(G33,E2)=0,G33,"")) -> 150 | I33: =IF(E13,H33,CHAR(160)) -> 150 | J33: =NA() -> #N/A | K33: 50 | L33: =MATCH(K33,H3:H74,0) -> #N/A | M33: =IF(E8,90-INDEX(F3:F74,L33,1),INDEX(F3:F74,L33,1)+90) -> #N/A | N33: =IF(E12,+(E7),NA()) -> 10 | O33: =COS(RADIANS(M33))*N33 -> #N/A | P33: =SIN(RADIANS(M33))*N33 -> #N/A | Q33: =A32 -> 0 | R33: =B32 -> 0 | S33: =IF(E31,DEGREES(Q33),Q33) -> 0 | T33: =IF($E$8,90-S33-E39,S33+90+E39) -> 90 | U33: =IF(E32,ABS(E27)-R33,ABS(E26)+R33) -> 0 | V33: =COS(RADIANS(T33))*U33 -> 0 | W33: =SIN(RADIANS(T33))*U33 -> 0
C34: =B126 -> 510 | F34: =IF(E8,(ROW()-ROW(F3))*5,((ROW(F75)-ROW())*5)) -> 155 | G34: =IF(F34-E9>=0,F34-E9,360-E9+F34) -> 155 | H34: =IF(G34=360,0,IF(MOD(G34,E2)=0,G34,"")) | I34: =IF(E13,H34,CHAR(160)) | J34: =NA() -> #N/A | K34: 50 | L34: =L33 -> #N/A | M34: =IF(E8,90-INDEX(F3:F74,L34,1),INDEX(F3:F74,L34,1)+90) -> #N/A | N34: =IF(E12,-(E7),NA()) -> -10 | O34: =COS(RADIANS(M34))*N34 -> #N/A | P34: =SIN(RADIANS(M34))*N34 -> #N/A | Q34: =A33 -> 510 | R34: =B33 -> 10 | S34: =IF(E31,DEGREES(Q34),Q34) -> 510 | T34: =IF($E$8,90-S34-E40,S34+90+E40) -> -420 | U34: =IF(E32,ABS(E27)-R34,ABS(E26)+R34) -> 10 | V34: =COS(RADIANS(T34))*U34 -> 5 | W34: =SIN(RADIANS(T34))*U34 -> -8.660254
A35: 0 | B35: 0 | C35: =B127 -> 510 | F35: =IF(E8,(ROW()-ROW(F3))*5,((ROW(F75)-ROW())*5)) -> 160 | G35: =IF(F35-E9>=0,F35-E9,360-E9+F35) -> 160 | H35: =IF(G35=360,0,IF(MOD(G35,E2)=0,G35,"")) | I35: =IF(E13,H35,CHAR(160)) | J35: =NA() -> #N/A | Q35: =A34 -> 0 | R35: =B34 -> 0 | S35: =IF(E31,DEGREES(Q35),Q35) -> 0 | T35: =IF($E$8,90-S35-E41,S35+90+E41) -> 90 | U35: =IF(E32,ABS(E27)-R35,ABS(E26)+R35) -> 0
A36: =C34 -> 510 | B36: 10 | C36: =B128 -> 510 | F36: =IF(E8,(ROW()-ROW(F3))*5,((ROW(F75)-ROW())*5)) -> 165 | G36: =IF(F36-E9>=0,F36-E9,360-E9+F36) -> 165 | H36: =IF(G36=360,0,IF(MOD(G36,E2)=0,G36,"")) | I36: =IF(E13,H36,CHAR(160)) | J36: =NA() -> #N/A | K36: 55 | L36: =MATCH(K36,H3:H74,0) -> #N/A | M36: =IF(E8,90-INDEX(F3:F74,L36,1),INDEX(F3:F74,L36,1)+90) -> #N/A | N36: =IF(E12,+(E7),NA()) -> 10 | O36: =COS(RADIANS(M36))*N36 -> #N/A | P36: =SIN(RADIANS(M36))*N36 -> #N/A | Q36: =A35 -> 0 | R36: =B35 -> 0 | S36: =IF(E31,DEGREES(Q36),Q36) -> 0 | T36: =IF($E$8,90-S36-E42,S36+90+E42) -> 90 | U36: =IF(E32,ABS(E27)-R36,ABS(E26)+R36) -> 0 | V36: =COS(RADIANS(T36))*U36 -> 0 | W36: =SIN(RADIANS(T36))*U36 -> 0
C37: =B129 -> 510 | F37: =IF(E8,(ROW()-ROW(F3))*5,((ROW(F75)-ROW())*5)) -> 170 | G37: =IF(F37-E9>=0,F37-E9,360-E9+F37) -> 170 | H37: =IF(G37=360,0,IF(MOD(G37,E2)=0,G37,"")) | I37: =IF(E13,H37,CHAR(160)) | J37: =NA() -> #N/A | K37: 55 | L37: =L36 -> #N/A | M37: =IF(E8,90-INDEX(F3:F74,L37,1),INDEX(F3:F74,L37,1)+90) -> #N/A | N37: =IF(E12,-(E7),NA()) -> -10 | O37: =COS(RADIANS(M37))*N37 -> #N/A | P37: =SIN(RADIANS(M37))*N37 -> #N/A | Q37: =A36 -> 510 | R37: =B36 -> 10 | S37: =IF(E31,DEGREES(Q37),Q37) -> 510 | T37: =IF($E$8,90-S37-E43,S37+90+E43) -> -420 | U37: =IF(E32,ABS(E27)-R37,ABS(E26)+R37) -> 10 | V37: =COS(RADIANS(T37))*U37 -> 5 | W37: =SIN(RADIANS(T37))*U37 -> -8.660254
A38: 0 | B38: 0 | C38: =B130 -> 510 | F38: =IF(E8,(ROW()-ROW(F3))*5,((ROW(F75)-ROW())*5)) -> 175 | G38: =IF(F38-E9>=0,F38-E9,360-E9+F38) -> 175 | H38: =IF(G38=360,0,IF(MOD(G38,E2)=0,G38,"")) | I38: =IF(E13,H38,CHAR(160)) | J38: =NA() -> #N/A | Q38: =A37 -> 0 | R38: =B37 -> 0 | S38: =IF(E31,DEGREES(Q38),Q38) -> 0 | T38: =IF($E$8,90-S38-E44,S38+90+E44) -> 90 | U38: =IF(E32,ABS(E27)-R38,ABS(E26)+R38) -> 0
A39: =C35 -> 510 | B39: 10 | C39: =B131 -> 510 | F39: =IF(E8,(ROW()-ROW(F3))*5,((ROW(F75)-ROW())*5)) -> 180 | G39: =IF(F39-E9>=0,F39-E9,360-E9+F39) -> 180 | H39: =IF(G39=360,0,IF(MOD(G39,E2)=0,G39,"")) -> 180 | I39: =IF(E13,H39,CHAR(160)) -> 180 | J39: =NA() -> #N/A | K39: 60 | L39: =MATCH(K39,H3:H74,0) -> 13 | M39: =IF(E8,90-INDEX(F3:F74,L39,1),INDEX(F3:F74,L39,1)+90) -> 30 | N39: =IF(E12,+(E7),NA()) -> 10 | O39: =COS(RADIANS(M39))*N39 -> 8.660254 | P39: =SIN(RADIANS(M39))*N39 -> 5 | Q39: =A38 -> 0 | R39: =B38 -> 0 | S39: =IF(E31,DEGREES(Q39),Q39) -> 0 | T39: =IF($E$8,90-S39-E45,S39+90+E45) -> 90 | U39: =IF(E32,ABS(E27)-R39,ABS(E26)+R39) -> 0 | V39: =COS(RADIANS(T39))*U39 -> 0 | W39: =SIN(RADIANS(T39))*U39 -> 0
B40: 0 | C40: =B132 -> 510 | F40: =IF(E8,(ROW()-ROW(F3))*5,((ROW(F75)-ROW())*5)) -> 185 | G40: =IF(F40-E9>=0,F40-E9,360-E9+F40) -> 185 | H40: =IF(G40=360,0,IF(MOD(G40,E2)=0,G40,"")) | I40: =IF(E13,H40,CHAR(160)) | J40: =NA() -> #N/A | K40: 60 | L40: =L39 -> 13 | M40: =IF(E8,90-INDEX(F3:F74,L40,1),INDEX(F3:F74,L40,1)+90) -> 30 | N40: =IF(E12,-(E7),NA()) -> -10 | O40: =COS(RADIANS(M40))*N40 -> -8.660254 | P40: =SIN(RADIANS(M40))*N40 -> -5 | Q40: =A39 -> 510 | R40: =B39 -> 10 | S40: =IF(E31,DEGREES(Q40),Q40) -> 510 | T40: =IF($E$8,90-S40-E46,S40+90+E46) -> -420 | U40: =IF(E32,ABS(E27)-R40,ABS(E26)+R40) -> 10 | V40: =COS(RADIANS(T40))*U40 -> 5 | W40: =SIN(RADIANS(T40))*U40 -> -8.660254
...

Sheet C
B1: Directions
A2: 0 | B2: 0 | D2: Interval | E2: 30 | J2: PLRPLT_BASE | P2: PLRPLT_SPOKES | W2: ='C'!$B$1 -> Directions
A3: =C23 -> 290 | B3: 10 | D3: NIntervals | E3: =360/E2 -> 12 | F3: =IF(E8,(ROW()-ROW(F3))*5,((ROW(F75)-ROW())*5)) -> 0 | G3: =IF(F3-E9>=0,F3-E9,360-E9+F3) -> 0 | H3: =IF(G3=360,0,IF(MOD(G3,E2)=0,G3,"")) -> 0 | I3: =IF(E13,H3,CHAR(160)) -> 0 | J3: =E19 -> 0 | K3: 0 | L3: =MATCH(K3,H3:H74,0) -> 1 | M3: =IF(E8,90-INDEX(F3:F74,L3,1),INDEX(F3:F74,L3,1)+90) -> 90 | N3: =IF(E12,+(E7),NA()) -> 10 | O3: =COS(RADIANS(M3))*N3 -> 6.1257423e-16 | P3: =SIN(RADIANS(M3))*N3 -> 10 | Q3: =A2 -> 0 | R3: =B2 -> 0 | S3: =IF(E10,DEGREES(Q3),Q3) -> 0 | T3: =IF(E8,90-S3-E9,S3+90+E9) -> 90 | U3: =IF(E11,ABS(E6)-R3,ABS(E5)+R3) -> 0 | V3: =COS(RADIANS(T3))*U3 -> 0 | W3: =SIN(RADIANS(T3))*U3 -> 0
D4: Value | E4: =10/E3 -> 0.83333333 | F4: =IF(E8,(ROW()-ROW(F3))*5,((ROW(F75)-ROW())*5)) -> 5 | G4: =IF(F4-E9>=0,F4-E9,360-E9+F4) -> 5 | H4: =IF(G4=360,0,IF(MOD(G4,E2)=0,G4,"")) | I4: =IF(E13,H4,CHAR(160)) | J4: =E20 -> 10 | K4: 0 | L4: =L3 -> 1 | M4: =IF(E8,90-INDEX(F3:F74,L4,1),INDEX(F3:F74,L4,1)+90) -> 90 | N4: =IF(E12,-(E7),NA()) -> -10 | O4: =COS(RADIANS(M4))*N4 -> -6.1257423e-16 | P4: =SIN(RADIANS(M4))*N4 -> -10 | Q4: =A3 -> 290 | R4: =B3 -> 10 | S4: =IF(E10,DEGREES(Q4),Q4) -> 290 | T4: =IF(E8,90-S4-E9,S4+90+E9) -> -200 | U4: =IF(E11,ABS(E6)-R4,ABS(E5)+R4) -> 10 | V4: =COS(RADIANS(T4))*U4 -> -9.3969262 | W4: =SIN(RADIANS(T4))*U4 -> 3.4202014
A5: 0 | B5: 0 | D5: MinAxisValue | E5: 0 | F5: =IF(E8,(ROW()-ROW(F3))*5,((ROW(F75)-ROW())*5)) -> 10 | G5: =IF(F5-E9>=0,F5-E9,360-E9+F5) -> 10 | H5: =IF(G5=360,0,IF(MOD(G5,E2)=0,G5,"")) | I5: =IF(E13,H5,CHAR(160)) | J5: =NA() -> #N/A | Q5: =A4 -> 0 | R5: =B4 -> 0 | S5: =IF(E10,DEGREES(Q5),Q5) -> 0 | T5: =IF(E8,90-S5-E9,S5+90+E9) -> 90 | U5: =IF(E11,ABS(E6)-R5,ABS(E5)+R5) -> 0
A6: =C24 -> 300 | B6: 10 | D6: MaxAxisValue | E6: 10 | F6: =IF(E8,(ROW()-ROW(F3))*5,((ROW(F75)-ROW())*5)) -> 15 | G6: =IF(F6-E9>=0,F6-E9,360-E9+F6) -> 15 | H6: =IF(G6=360,0,IF(MOD(G6,E2)=0,G6,"")) | I6: =IF(E13,H6,CHAR(160)) | J6: =NA() -> #N/A | K6: 5 | L6: =MATCH(K6,H3:H74,0) -> #N/A | M6: =IF(E8,90-INDEX(F3:F74,L6,1),INDEX(F3:F74,L6,1)+90) -> #N/A | N6: =IF(E12,+(E7),NA()) -> 10 | O6: =COS(RADIANS(M6))*N6 -> #N/A | P6: =SIN(RADIANS(M6))*N6 -> #N/A | Q6: =A5 -> 0 | R6: =B5 -> 0 | S6: =IF(E10,DEGREES(Q6),Q6) -> 0 | T6: =IF(E8,90-S6-E9,S6+90+E9) -> 90 | U6: =IF(E11,ABS(E6)-R6,ABS(E5)+R6) -> 0 | V6: =COS(RADIANS(T6))*U6 -> 0 | W6: =SIN(RADIANS(T6))*U6 -> 0
D7: Radius | E7: =E6-E5 -> 10 | F7: =IF(E8,(ROW()-ROW(F3))*5,((ROW(F75)-ROW())*5)) -> 20 | G7: =IF(F7-E9>=0,F7-E9,360-E9+F7) -> 20 | H7: =IF(G7=360,0,IF(MOD(G7,E2)=0,G7,"")) | I7: =IF(E13,H7,CHAR(160)) | J7: =NA() -> #N/A | K7: 5 | L7: =L6 -> #N/A | M7: =IF(E8,90-INDEX(F3:F74,L7,1),INDEX(F3:F74,L7,1)+90) -> #N/A | N7: =IF(E12,-(E7),NA()) -> -10 | O7: =COS(RADIANS(M7))*N7 -> #N/A | P7: =SIN(RADIANS(M7))*N7 -> #N/A | Q7: =A6 -> 300 | R7: =B6 -> 10 | S7: =IF(E10,DEGREES(Q7),Q7) -> 300 | T7: =IF(E8,90-S7-E9,S7+90+E9) -> -210 | U7: =IF(E11,ABS(E6)-R7,ABS(E5)+R7) -> 10 | V7: =COS(RADIANS(T7))*U7 -> -8.660254 | W7: =SIN(RADIANS(T7))*U7 -> 5
A8: 0 | B8: 0 | D8: Clockwise | E8: TRUE | F8: =IF(E8,(ROW()-ROW(F3))*5,((ROW(F75)-ROW())*5)) -> 25 | G8: =IF(F8-E9>=0,F8-E9,360-E9+F8) -> 25 | H8: =IF(G8=360,0,IF(MOD(G8,E2)=0,G8,"")) | I8: =IF(E13,H8,CHAR(160)) | J8: =NA() -> #N/A | Q8: =A7 -> 0 | R8: =B7 -> 0 | S8: =IF(E10,DEGREES(Q8),Q8) -> 0 | T8: =IF(E8,90-S8-E9,S8+90+E9) -> 90 | U8: =IF(E11,ABS(E6)-R8,ABS(E5)+R8) -> 0
A9: =C25 -> 310 | B9: 10 | D9: StartAngle | E9: 0 | F9: =IF(E8,(ROW()-ROW(F3))*5,((ROW(F75)-ROW())*5)) -> 30 | G9: =IF(F9-E9>=0,F9-E9,360-E9+F9) -> 30 | H9: =IF(G9=360,0,IF(MOD(G9,E2)=0,G9,"")) -> 30 | I9: =IF(E13,H9,CHAR(160)) -> 30 | J9: =NA() -> #N/A | K9: 10 | L9: =MATCH(K9,H3:H74,0) -> #N/A | M9: =IF(E8,90-INDEX(F3:F74,L9,1),INDEX(F3:F74,L9,1)+90) -> #N/A | N9: =IF(E12,+(E7),NA()) -> 10 | O9: =COS(RADIANS(M9))*N9 -> #N/A | P9: =SIN(RADIANS(M9))*N9 -> #N/A | Q9: =A8 -> 0 | R9: =B8 -> 0 | S9: =IF(E10,DEGREES(Q9),Q9) -> 0 | T9: =IF(E8,90-S9-E9,S9+90+E9) -> 90 | U9: =IF(E11,ABS(E6)-R9,ABS(E5)+R9) -> 0 | V9: =COS(RADIANS(T9))*U9 -> 0 | W9: =SIN(RADIANS(T9))*U9 -> 0
D10: Radians | E10: FALSE | F10: =IF(E8,(ROW()-ROW(F3))*5,((ROW(F75)-ROW())*5)) -> 35 | G10: =IF(F10-E9>=0,F10-E9,360-E9+F10) -> 35 | H10: =IF(G10=360,0,IF(MOD(G10,E2)=0,G10,"")) | I10: =IF(E13,H10,CHAR(160)) | J10: =NA() -> #N/A | K10: 10 | L10: =L9 -> #N/A | M10: =IF(E8,90-INDEX(F3:F74,L10,1),INDEX(F3:F74,L10,1)+90) -> #N/A | N10: =IF(E12,-(E7),NA()) -> -10 | O10: =COS(RADIANS(M10))*N10 -> #N/A | P10: =SIN(RADIANS(M10))*N10 -> #N/A | Q10: =A9 -> 310 | R10: =B9 -> 10 | S10: =IF(E10,DEGREES(Q10),Q10) -> 310 | T10: =IF(E8,90-S10-E9,S10+90+E9) -> -220 | U10: =IF(E11,ABS(E6)-R10,ABS(E5)+R10) -> 10 | V10: =COS(RADIANS(T10))*U10 -> -7.6604444 | W10: =SIN(RADIANS(T10))*U10 -> 6.4278761
A11: 0 | B11: 0 | D11: ReverseAxis | E11: FALSE | F11: =IF(E8,(ROW()-ROW(F3))*5,((ROW(F75)-ROW())*5)) -> 40 | G11: =IF(F11-E9>=0,F11-E9,360-E9+F11) -> 40 | H11: =IF(G11=360,0,IF(MOD(G11,E2)=0,G11,"")) | I11: =IF(E13,H11,CHAR(160)) | J11: =NA() -> #N/A | Q11: =A10 -> 0 | R11: =B10 -> 0 | S11: =IF(E10,DEGREES(Q11),Q11) -> 0 | T11: =IF(E8,90-S11-E9,S11+90+E9) -> 90 | U11: =IF(E11,ABS(E6)-R11,ABS(E5)+R11) -> 0
A12: =C26 -> 650 | B12: 10 | D12: Display Spokes | E12: TRUE | F12: =IF(E8,(ROW()-ROW(F3))*5,((ROW(F75)-ROW())*5)) -> 45 | G12: =IF(F12-E9>=0,F12-E9,360-E9+F12) -> 45 | H12: =IF(G12=360,0,IF(MOD(G12,E2)=0,G12,"")) | I12: =IF(E13,H12,CHAR(160)) | J12: =NA() -> #N/A | K12: 15 | L12: =MATCH(K12,H3:H74,0) -> #N/A | M12: =IF(E8,90-INDEX(F3:F74,L12,1),INDEX(F3:F74,L12,1)+90) -> #N/A | N12: =IF(E12,+(E7),NA()) -> 10 | O12: =COS(RADIANS(M12))*N12 -> #N/A | P12: =SIN(RADIANS(M12))*N12 -> #N/A | Q12: =A11 -> 0 | R12: =B11 -> 0 | S12: =IF(E10,DEGREES(Q12),Q12) -> 0 | T12: =IF(E8,90-S12-E9,S12+90+E9) -> 90 | U12: =IF(E11,ABS(E6)-R12,ABS(E5)+R12) -> 0 | V12: =COS(RADIANS(T12))*U12 -> 0 | W12: =SIN(RADIANS(T12))*U12 -> 0
D13: Display Spoke Labels | E13: TRUE | F13: =IF(E8,(ROW()-ROW(F3))*5,((ROW(F75)-ROW())*5)) -> 50 | G13: =IF(F13-E9>=0,F13-E9,360-E9+F13) -> 50 | H13: =IF(G13=360,0,IF(MOD(G13,E2)=0,G13,"")) | I13: =IF(E13,H13,CHAR(160)) | J13: =NA() -> #N/A | K13: 15 | L13: =L12 -> #N/A | M13: =IF(E8,90-INDEX(F3:F74,L13,1),INDEX(F3:F74,L13,1)+90) -> #N/A | N13: =IF(E12,-(E7),NA()) -> -10 | O13: =COS(RADIANS(M13))*N13 -> #N/A | P13: =SIN(RADIANS(M13))*N13 -> #N/A | Q13: =A12 -> 650 | R13: =B12 -> 10 | S13: =IF(E10,DEGREES(Q13),Q13) -> 650 | T13: =IF(E8,90-S13-E9,S13+90+E9) -> -560 | U13: =IF(E11,ABS(E6)-R13,ABS(E5)+R13) -> 10 | V13: =COS(RADIANS(T13))*U13 -> -9.3969262 | W13: =SIN(RADIANS(T13))*U13 -> 3.4202014
A14: 0 | B14: 0 | D14: Display Gridlines | E14: TRUE | F14: =IF(E8,(ROW()-ROW(F3))*5,((ROW(F75)-ROW())*5)) -> 55 | G14: =IF(F14-E9>=0,F14-E9,360-E9+F14) -> 55 | H14: =IF(G14=360,0,IF(MOD(G14,E2)=0,G14,"")) | I14: =IF(E13,H14,CHAR(160)) | J14: =NA() -> #N/A | Q14: =A13 -> 0 | R14: =B13 -> 0 | S14: =IF(E10,DEGREES(Q14),Q14) -> 0 | T14: =IF(E8,90-S14-E9,S14+90+E9) -> 90 | U14: =IF(E11,ABS(E6)-R14,ABS(E5)+R14) -> 0
A15: =C27 -> 650 | B15: 10 | D15: Display Data Lines | E15: TRUE | F15: =IF(E8,(ROW()-ROW(F3))*5,((ROW(F75)-ROW())*5)) -> 60 | G15: =IF(F15-E9>=0,F15-E9,360-E9+F15) -> 60 | H15: =IF(G15=360,0,IF(MOD(G15,E2)=0,G15,"")) -> 60 | I15: =IF(E13,H15,CHAR(160)) -> 60 | J15: =NA() -> #N/A | K15: 20 | L15: =MATCH(K15,H3:H74,0) -> #N/A | M15: =IF(E8,90-INDEX(F3:F74,L15,1),INDEX(F3:F74,L15,1)+90) -> #N/A | N15: =IF(E12,+(E7),NA()) -> 10 | O15: =COS(RADIANS(M15))*N15 -> #N/A | P15: =SIN(RADIANS(M15))*N15 -> #N/A | Q15: =A14 -> 0 | R15: =B14 -> 0 | S15: =IF(E10,DEGREES(Q15),Q15) -> 0 | T15: =IF(E8,90-S15-E9,S15+90+E9) -> 90 | U15: =IF(E11,ABS(E6)-R15,ABS(E5)+R15) -> 0 | V15: =COS(RADIANS(T15))*U15 -> 0 | W15: =SIN(RADIANS(T15))*U15 -> 0
D16: Display Data Markers | E16: FALSE | F16: =IF(E8,(ROW()-ROW(F3))*5,((ROW(F75)-ROW())*5)) -> 65 | G16: =IF(F16-E9>=0,F16-E9,360-E9+F16) -> 65 | H16: =IF(G16=360,0,IF(MOD(G16,E2)=0,G16,"")) | I16: =IF(E13,H16,CHAR(160)) | J16: =NA() -> #N/A | K16: 20 | L16: =L15 -> #N/A | M16: =IF(E8,90-INDEX(F3:F74,L16,1),INDEX(F3:F74,L16,1)+90) -> #N/A | N16: =IF(E12,-(E7),NA()) -> -10 | O16: =COS(RADIANS(M16))*N16 -> #N/A | P16: =SIN(RADIANS(M16))*N16 -> #N/A | Q16: =A15 -> 650 | R16: =B15 -> 10 | S16: =IF(E10,DEGREES(Q16),Q16) -> 650 | T16: =IF(E8,90-S16-E9,S16+90+E9) -> -560 | U16: =IF(E11,ABS(E6)-R16,ABS(E5)+R16) -> 10 | V16: =COS(RADIANS(T16))*U16 -> -9.3969262 | W16: =SIN(RADIANS(T16))*U16 -> 3.4202014
A17: 0 | B17: 0 | D17: Display Legend | E17: TRUE | F17: =IF(E8,(ROW()-ROW(F3))*5,((ROW(F75)-ROW())*5)) -> 70 | G17: =IF(F17-E9>=0,F17-E9,360-E9+F17) -> 70 | H17: =IF(G17=360,0,IF(MOD(G17,E2)=0,G17,"")) | I17: =IF(E13,H17,CHAR(160)) | J17: =NA() -> #N/A | Q17: =A16 -> 0 | R17: =B16 -> 0 | S17: =IF(E10,DEGREES(Q17),Q17) -> 0 | T17: =IF(E8,90-S17-E9,S17+90+E9) -> 90 | U17: =IF(E11,ABS(E6)-R17,ABS(E5)+R17) -> 0
A18: =C28 -> 650 | B18: 10 | D18: Display Axis | E18: TRUE | F18: =IF(E8,(ROW()-ROW(F3))*5,((ROW(F75)-ROW())*5)) -> 75 | G18: =IF(F18-E9>=0,F18-E9,360-E9+F18) -> 75 | H18: =IF(G18=360,0,IF(MOD(G18,E2)=0,G18,"")) | I18: =IF(E13,H18,CHAR(160)) | J18: =NA() -> #N/A | K18: 25 | L18: =MATCH(K18,H3:H74,0) -> #N/A | M18: =IF(E8,90-INDEX(F3:F74,L18,1),INDEX(F3:F74,L18,1)+90) -> #N/A | N18: =IF(E12,+(E7),NA()) -> 10 | O18: =COS(RADIANS(M18))*N18 -> #N/A | P18: =SIN(RADIANS(M18))*N18 -> #N/A | Q18: =A17 -> 0 | R18: =B17 -> 0 | S18: =IF(E10,DEGREES(Q18),Q18) -> 0 | T18: =IF(E8,90-S18-E9,S18+90+E9) -> 90 | U18: =IF(E11,ABS(E6)-R18,ABS(E5)+R18) -> 0 | V18: =COS(RADIANS(T18))*U18 -> 0 | W18: =SIN(RADIANS(T18))*U18 -> 0
B19: 0 | D19: MinDataValue | E19: 0 | F19: =IF(E8,(ROW()-ROW(F3))*5,((ROW(F75)-ROW())*5)) -> 80 | G19: =IF(F19-E9>=0,F19-E9,360-E9+F19) -> 80 | H19: =IF(G19=360,0,IF(MOD(G19,E2)=0,G19,"")) | I19: =IF(E13,H19,CHAR(160)) | J19: =NA() -> #N/A | K19: 25 | L19: =L18 -> #N/A | M19: =IF(E8,90-INDEX(F3:F74,L19,1),INDEX(F3:F74,L19,1)+90) -> #N/A | N19: =IF(E12,-(E7),NA()) -> -10 | O19: =COS(RADIANS(M19))*N19 -> #N/A | P19: =SIN(RADIANS(M19))*N19 -> #N/A | Q19: =A18 -> 650 | R19: =B18 -> 10 | S19: =IF(E10,DEGREES(Q19),Q19) -> 650 | T19: =IF(E8,90-S19-E9,S19+90+E9) -> -560 | U19: =IF(E11,ABS(E6)-R19,ABS(E5)+R19) -> 10 | V19: =COS(RADIANS(T19))*U19 -> -9.3969262 | W19: =SIN(RADIANS(T19))*U19 -> 3.4202014
A20: 0 | B20: 0 | D20: MaxDataValue | E20: 10 | F20: =IF(E8,(ROW()-ROW(F3))*5,((ROW(F75)-ROW())*5)) -> 85 | G20: =IF(F20-E9>=0,F20-E9,360-E9+F20) -> 85 | H20: =IF(G20=360,0,IF(MOD(G20,E2)=0,G20,"")) | I20: =IF(E13,H20,CHAR(160)) | J20: =NA() -> #N/A | Q20: =A19 -> 0 | R20: =B19 -> 0 | S20: =IF(E10,DEGREES(Q20),Q20) -> 0 | T20: =IF(E8,90-S20-E9,S20+90+E9) -> 90 | U20: =IF(E11,ABS(E6)-R20,ABS(E5)+R20) -> 0
A21: =C29 -> 650 | B21: 10 | D21: DataRange | E21: ='Example10'!$A$1:$B$21 | F21: =IF(E8,(ROW()-ROW(F3))*5,((ROW(F75)-ROW())*5)) -> 90 | G21: =IF(F21-E9>=0,F21-E9,360-E9+F21) -> 90 | H21: =IF(G21=360,0,IF(MOD(G21,E2)=0,G21,"")) -> 90 | I21: =IF(E13,H21,CHAR(160)) -> 90 | J21: =NA() -> #N/A | K21: 30 | L21: =MATCH(K21,H3:H74,0) -> 7 | M21: =IF(E8,90-INDEX(F3:F74,L21,1),INDEX(F3:F74,L21,1)+90) -> 60 | N21: =IF(E12,+(E7),NA()) -> 10 | O21: =COS(RADIANS(M21))*N21 -> 5 | P21: =SIN(RADIANS(M21))*N21 -> 8.660254 | Q21: =A20 -> 0 | R21: =B20 -> 0 | S21: =IF(E10,DEGREES(Q21),Q21) -> 0 | T21: =IF(E8,90-S21-E9,S21+90+E9) -> 90 | U21: =IF(E11,ABS(E6)-R21,ABS(E5)+R21) -> 0 | V21: =COS(RADIANS(T21))*U21 -> 0 | W21: =SIN(RADIANS(T21))*U21 -> 0
D22: DataChanged | E22: FAUX | F22: =IF(E8,(ROW()-ROW(F3))*5,((ROW(F75)-ROW())*5)) -> 95 | G22: =IF(F22-E9>=0,F22-E9,360-E9+F22) -> 95 | H22: =IF(G22=360,0,IF(MOD(G22,E2)=0,G22,"")) | I22: =IF(E13,H22,CHAR(160)) | J22: =NA() -> #N/A | K22: 30 | L22: =L21 -> 7 | M22: =IF(E8,90-INDEX(F3:F74,L22,1),INDEX(F3:F74,L22,1)+90) -> 60 | N22: =IF(E12,-(E7),NA()) -> -10 | O22: =COS(RADIANS(M22))*N22 -> -5 | P22: =SIN(RADIANS(M22))*N22 -> -8.660254 | Q22: =A21 -> 650 | R22: =B21 -> 10 | S22: =IF(E10,DEGREES(Q22),Q22) -> 650 | T22: =IF(E8,90-S22-E9,S22+90+E9) -> -560 | U22: =IF(E11,ABS(E6)-R22,ABS(E5)+R22) -> 10 | V22: =COS(RADIANS(T22))*U22 -> -9.3969262 | W22: =SIN(RADIANS(T22))*U22 -> 3.4202014
A23: 0 | B23: 0 | C23: =B115 -> 290 | F23: =IF(E8,(ROW()-ROW(F3))*5,((ROW(F75)-ROW())*5)) -> 100 | G23: =IF(F23-E9>=0,F23-E9,360-E9+F23) -> 100 | H23: =IF(G23=360,0,IF(MOD(G23,E2)=0,G23,"")) | I23: =IF(E13,H23,CHAR(160)) | J23: =NA() -> #N/A
A24: =C30 -> 650 | B24: 10 | C24: =B116 -> 300 | F24: =IF(E8,(ROW()-ROW(F3))*5,((ROW(F75)-ROW())*5)) -> 105 | G24: =IF(F24-E9>=0,F24-E9,360-E9+F24) -> 105 | H24: =IF(G24=360,0,IF(MOD(G24,E2)=0,G24,"")) | I24: =IF(E13,H24,CHAR(160)) | J24: =NA() -> #N/A | K24: 35 | L24: =MATCH(K24,H3:H74,0) -> #N/A | M24: =IF(E8,90-INDEX(F3:F74,L24,1),INDEX(F3:F74,L24,1)+90) -> #N/A | N24: =IF(E12,+(E7),NA()) -> 10 | O24: =COS(RADIANS(M24))*N24 -> #N/A | P24: =SIN(RADIANS(M24))*N24 -> #N/A | Q24: =A23 -> 0 | R24: =B23 -> 0 | S24: =IF(E31,DEGREES(Q24),Q24) -> 0 | T24: =IF($E$8,90-S24-E30,S24+90+E30) -> 90 | U24: =IF(E32,ABS(E27)-R24,ABS(E26)+R24) -> 0 | V24: =COS(RADIANS(T24))*U24 -> 0 | W24: =SIN(RADIANS(T24))*U24 -> 0
C25: =B117 -> 310 | F25: =IF(E8,(ROW()-ROW(F3))*5,((ROW(F75)-ROW())*5)) -> 110 | G25: =IF(F25-E9>=0,F25-E9,360-E9+F25) -> 110 | H25: =IF(G25=360,0,IF(MOD(G25,E2)=0,G25,"")) | I25: =IF(E13,H25,CHAR(160)) | J25: =NA() -> #N/A | K25: 35 | L25: =L24 -> #N/A | M25: =IF(E8,90-INDEX(F3:F74,L25,1),INDEX(F3:F74,L25,1)+90) -> #N/A | N25: =IF(E12,-(E7),NA()) -> -10 | O25: =COS(RADIANS(M25))*N25 -> #N/A | P25: =SIN(RADIANS(M25))*N25 -> #N/A | Q25: =A24 -> 650 | R25: =B24 -> 10 | S25: =IF(E31,DEGREES(Q25),Q25) -> 650 | T25: =IF($E$8,90-S25-E31,S25+90+E31) -> -560 | U25: =IF(E32,ABS(E27)-R25,ABS(E26)+R25) -> 10 | V25: =COS(RADIANS(T25))*U25 -> -9.3969262 | W25: =SIN(RADIANS(T25))*U25 -> 3.4202014
