Workbook

Sheet Nom1 Équipe ABC
B2: FORMULE
A3: 42887
A4: 42891
A5: 42898
A6: 42905
A7: 42912
A8: 42919
A9: 42926
A10: 42933
A11: 42940
A12: 42947
A13: 42954
A14: 42961
... A55: 43248

Sheet Sommaire
A1: Constat du nombre de rendez-vous par conseiller
B2: Rendez-vous Physique | C2: Rendez-vous téléphonique
A4: Équipe abc
A5: Nom1 | B5: =IFERROR(AVERAGE('1er et 2 juin:Dernière feuille'!B6),"") -> 7 | C5: =IFERROR(AVERAGE('1er et 2 juin:Dernière feuille'!C6),"") -> 2
A6: Nom2 | B6: =IFERROR(AVERAGE('1er et 2 juin:Dernière feuille'!B7),"") -> 6.1428571 | C6: =IFERROR(AVERAGE('1er et 2 juin:Dernière feuille'!C7),"") -> 0.375
A7: Nom3 | B7: =IFERROR(AVERAGE('1er et 2 juin:Dernière feuille'!B8),"") -> 6.5714286 | C7: =IFERROR(AVERAGE('1er et 2 juin:Dernière feuille'!C8),"") -> 0.125
A8: Nom4 | B8: =IFERROR(AVERAGE('1er et 2 juin:Dernière feuille'!B9),"") -> 4.1666667 | C8: =IFERROR(AVERAGE('1er et 2 juin:Dernière feuille'!C9),"") -> 0.42857143
A9: Nom5 | B9: =IFERROR(AVERAGE('1er et 2 juin:Dernière feuille'!B10),"") | C9: =IFERROR(AVERAGE('1er et 2 juin:Dernière feuille'!C10),"") -> 3
B10: =IFERROR(AVERAGE('1er et 2 juin:Dernière feuille'!B11),"") | C10: =IFERROR(AVERAGE('1er et 2 juin:Dernière feuille'!C11),"") -> 4
A11: Équipe def | B11: =IFERROR(AVERAGE('1er et 2 juin:Dernière feuille'!B12),"") -> 0.57142857 | C11: =IFERROR(AVERAGE('1er et 2 juin:Dernière feuille'!C12),"") -> 1.375
B12: =IFERROR(AVERAGE('1er et 2 juin:Dernière feuille'!B13),"") -> 7 | C12: =IFERROR(AVERAGE('1er et 2 juin:Dernière feuille'!C13),"") -> 4
A13: Nom1 | B13: =IFERROR(AVERAGE('1er et 2 juin:Dernière feuille'!B14),"") -> 6.2857143 | C13: =IFERROR(AVERAGE('1er et 2 juin:Dernière feuille'!C14),"") -> 4
A14: Nom2 | B14: =IFERROR(AVERAGE('1er et 2 juin:Dernière feuille'!B15),"") -> 7.7142857 | C14: =IFERROR(AVERAGE('1er et 2 juin:Dernière feuille'!C15),"") -> 5.5
A15: Nom3 | B15: =IFERROR(AVERAGE('1er et 2 juin:Dernière feuille'!B16),"") -> 5.1428571 | C15: =IFERROR(AVERAGE('1er et 2 juin:Dernière feuille'!C16),"") -> 3.375
A16: Nom4 | B16: =IFERROR(AVERAGE('1er et 2 juin:Dernière feuille'!B17),"") -> 2.5714286 | C16: =IFERROR(AVERAGE('1er et 2 juin:Dernière feuille'!C17),"") -> 3.375
A17: Nom5 | B17: =IFERROR(AVERAGE('1er et 2 juin:Dernière feuille'!B18),"") -> 6.1428571 | C17: =IFERROR(AVERAGE('1er et 2 juin:Dernière feuille'!C18),"") -> 2.75
A18: Nom6 | B18: =IFERROR(AVERAGE('1er et 2 juin:Dernière feuille'!B19),"") -> 4.1428571 | C18: =IFERROR(AVERAGE('1er et 2 juin:Dernière feuille'!C19),"") -> 1.375
A19: Nom7 | B19: =IFERROR(AVERAGE('1er et 2 juin:Dernière feuille'!B20),"") -> 5.8571429 | C19: =IFERROR(AVERAGE('1er et 2 juin:Dernière feuille'!C20),"") -> 2
A20: Nom8 | B20: =IFERROR(AVERAGE('1er et 2 juin:Dernière feuille'!B21),"") -> 5.1428571 | C20: =IFERROR(AVERAGE('1er et 2 juin:Dernière feuille'!C21),"") -> 0.71428571
A21: Nom9 | B21: =IFERROR(AVERAGE('1er et 2 juin:Dernière feuille'!B22),"") -> 4.8571429 | C21: =IFERROR(AVERAGE('1er et 2 juin:Dernière feuille'!C22),"") -> 3.1666667
A22: Nom10 | B22: =IFERROR(AVERAGE('1er et 2 juin:Dernière feuille'!B23),"") | C22: =IFERROR(AVERAGE('1er et 2 juin:Dernière feuille'!C23),"")
A23: Équipe ghi | B23: =IFERROR(AVERAGE('1er et 2 juin:Dernière feuille'!B24),"") | C23: =IFERROR(AVERAGE('1er et 2 juin:Dernière feuille'!C24),"")
B24: =IFERROR(AVERAGE('1er et 2 juin:Dernière feuille'!B25),"") | C24: =IFERROR(AVERAGE('1er et 2 juin:Dernière feuille'!C25),"")
A25: Developpeur | B25: =IFERROR(AVERAGE('1er et 2 juin:Dernière feuille'!B26),"") | C25: =IFERROR(AVERAGE('1er et 2 juin:Dernière feuille'!C26),"")
B26: =IFERROR(AVERAGE('1er et 2 juin:Dernière feuille'!B27),"") -> 5.2857143 | C26: =IFERROR(AVERAGE('1er et 2 juin:Dernière feuille'!C27),"") -> 1.5714286
A27: Nom1 | B27: =IFERROR(AVERAGE('1er et 2 juin:Dernière feuille'!B28),"") | C27: =IFERROR(AVERAGE('1er et 2 juin:Dernière feuille'!C28),"")
B28: =IFERROR(AVERAGE('1er et 2 juin:Dernière feuille'!B29),"") | C28: =IFERROR(AVERAGE('1er et 2 juin:Dernière feuille'!C29),"")
A29: Équipe 123 | B29: =IFERROR(AVERAGE('1er et 2 juin:Dernière feuille'!B30),"") | C29: =IFERROR(AVERAGE('1er et 2 juin:Dernière feuille'!C30),"")
B30: =IFERROR(AVERAGE('1er et 2 juin:Dernière feuille'!B31),"") -> 5.5714286 | C30: =IFERROR(AVERAGE('1er et 2 juin:Dernière feuille'!C31),"") -> 1.3333333
A31: Nom1 | B31: =IFERROR(AVERAGE('1er et 2 juin:Dernière feuille'!B32),"") -> 4.8571429 | C31: =IFERROR(AVERAGE('1er et 2 juin:Dernière feuille'!C32),"") -> 1.7142857
A32: Nom2 | B32: =IFERROR(AVERAGE('1er et 2 juin:Dernière feuille'!B33),"") -> 6.7142857 | C32: =IFERROR(AVERAGE('1er et 2 juin:Dernière feuille'!C33),"") -> 1.5714286
A33: Nom3 | B33: =IFERROR(AVERAGE('1er et 2 juin:Dernière feuille'!B34),"") -> 0 | C33: =IFERROR(AVERAGE('1er et 2 juin:Dernière feuille'!C34),"") -> 0
A34: Nom4 | B34: =IFERROR(AVERAGE('1er et 2 juin:Dernière feuille'!B35),"") | C34: =IFERROR(AVERAGE('1er et 2 juin:Dernière feuille'!C35),"")
B35: =IFERROR(AVERAGE('1er et 2 juin:Dernière feuille'!B36),"") | C35: =IFERROR(AVERAGE('1er et 2 juin:Dernière feuille'!C36),"")
A36: Équipe xyz
A37: Nom1 | B37: 0 | C37: 0
A38: Nom2 | B38: =IFERROR(AVERAGE('1er et 2 juin:Dernière feuille'!B38),"") -> 8.7142857 | C38: =IFERROR(AVERAGE('1er et 2 juin:Dernière feuille'!C38),"") -> 1.2857143
A39: Nom3 | B39: =IFERROR(AVERAGE('1er et 2 juin:Dernière feuille'!B39),"") -> 6.2857143 | C39: =IFERROR(AVERAGE('1er et 2 juin:Dernière feuille'!C39),"") -> 2.4285714
A40: Nom4 | B40: =IFERROR(AVERAGE('1er et 2 juin:Dernière feuille'!B40),"") -> 7.4285714 | C40: =IFERROR(AVERAGE('1er et 2 juin:Dernière feuille'!C40),"") -> 4.4285714
A41: Nom5 | B41: =IFERROR(AVERAGE('1er et 2 juin:Dernière feuille'!B41),"") -> 9 | C41: =IFERROR(AVERAGE('1er et 2 juin:Dernière feuille'!C41),"") -> 4.1428571
...

Sheet 1er et 2 juin
A1: Constat du nombre de rendez-vous par conseiller
A2: Semaine : 1 et 2 juin 2017 | B2: Rendez-vous Physique | C2: Rendez-vous téléphonique
A4: Équipe abc
A5: Nom1 | B5: 3 | C5: 0
A6: Nom2 | B6: 3 | C6: 1
A7: Nom3 | B7: 2 | C7: 0
A8: Nom4 | B8: 2 | C8: 0
A9: Nom5 | B9: 1 | C9: 0
A11: Équipe def
A12: Nom0 | B12: 2 | C12: 1
A13: Nom1 | B13: 3 | C13: 1
A14: Nom2 | B14: 1 | C14: 0
A15: Nom3 | B15: 3 | C15: 2
A16: Nom4 | B16: 3 | C16: 1
A17: Nom5 | B17: 0 | C17: 0
A18: Nom6 | B18: 3 | C18: 0
A19: Nom7 | B19: 3 | C19: 2
A20: Nom8 | B20: 3 | C20: 0
A21: Nom9 | B21: 5 | C21: 0
A22: Nom10 | B22: 2 | C22: 3
A23: Équipe ghi
A25: Developpeur
A27: Nom1 | B27: 0 | C27: 0
A29: Équipe 123
A31: Nom1 | B31: 5 | C31: 1
A32: Nom2 | B32: 4 | C32: 2
A33: Nom3 | B33: 3 | C33: 3
A34: Nom4 | B34: 0 | C34: 0
A36: Équipe xyz
A37: Nom1 | B37: 0 | C37: 0
A38: Nom2 | B38: 3 | C38: 2
A39: Nom3 | B39: 0 | C39: 0
A40: Nom4 | B40: 2 | C40: 2
A41: Nom5 | B41: 1 | C41: 2
A42: Nom6 | B42: 6 | C42: 0

Sheet Semaine du 5 juin 2017
A1: SEMAINE | B1: EQUIPE | C1: NOM | D1: Rendez-vous Physique | E1: Rendez-vous téléphonique
A2: 42891 | B2: abc | C2: 1 | D2: 6 | E2: 2
A3: 42891 | B3: abc | C3: 2 | D3: 1 | E3: 0
A4: 42891 | B4: abc | C4: 3 | D4: 6 | E4: 0
A5: 42891 | B5: abc | C5: 4 | D5: 5 | E5: 0
A6: 42891 | B6: abc | C6: 5 | D6: 10 | E6: 0
A7: 42891 | B7: def | C7: 0 | D7: 8 | E7: 3
A8: 42891 | B8: def | C8: 1 | D8: 7 | E8: 0
A9: 42891 | B9: def | C9: 2 | D9: 8 | E9: 3
A10: 42891 | B10: def | C10: 3 | D10: 10 | E10: 3
A11: 42891 | B11: def | C11: 4 | D11: 6 | E11: 4
A12: 42891 | B12: def | C12: 5 | D12: 0 | E12: 0
A13: 42891 | B13: def | C13: 6 | D13: 3 | E13: 2
... A19: 42898 | B19: abc | C19: 2 | D19: 1000 | E19: 4

Sheet Semaine du 12 juin 2017
A1: Constat du nombre de rendez-vous par conseiller
A2: Semaine du 12 juin 2017 | B2: Rendez-vous Physique | C2: Rendez-vous téléphonique
A4: Équipe abc
A5: Nom1 | B5: 7 | C5: 1
A6: Nom2 | B6: 8 | C6: 1
A7: Nom3 | B7: 7 | C7: 1
A8: Nom4 | B8: 7 | C8: 0
A9: Nom5 | B9: 8 | C9: 1
A11: Équipe def
A12: Nom0 | B12: 2 | C12: 0
A13: Nom1 | B13: 9 | C13: 2
A14: Nom2 | B14: 5 | C14: 6
A15: Nom3 | B15: 9 | C15: 6
A16: Nom4 | B16: 7 | C16: 1
A17: Nom5 | B17: 0 | C17: 3
A18: Nom6 | B18: 8 | C18: 2
A19: Nom7 | B19: 7 | C19: 0
A20: Nom8 | B20: 5 | C20: 1
A21: Nom9 | B21: 9 | C21: 1
A22: Nom10 | B22: 3
A23: Équipe ghi
A25: Developpeur
A27: Nom1 | B27: 7 | C27: 3
A29: Équipe 123
A31: Nom1 | B31: 5 | C31: 1
A32: Nom2 | B32: 2 | C32: 5
A33: Nom3 | B33: 7 | C33: 2
A34: Nom4 | B34: 0 | C34: 0
A36: Équipe xyz
A37: Nom1 | B37: 0 | C37: 0
A38: Nom2 | B38: 11 | C38: 4
A39: Nom3 | B39: 6 | C39: 3
A40: Nom4 | B40: 7 | C40: 8
A41: Nom5 | B41: 10 | C41: 6
A42: Nom6 | B42: 6 | C42: 7

Sheet Semaine du 19 juin 2017
A1: Constat du nombre de rendez-vous par conseiller
A2: Semaine du 19 juin 2017 | B2: Rendez-vous Physique | C2: Rendez-vous téléphonique
A4: Équipe abc
A5: Nom1 | B5: 6 | C5: 1
A6: Nom2 | B6: 8 | C6: 1
A7: Nom3 | B7: 8 | C7: 1
A8: Nom4 | B8: 5 | C8: 0
A9: Nom5 | B9: 2 | C9: 0
A11: Équipe def
A12: Nom0 | B12: 0 | C12: 5
A13: Nom1 | B13: 8 | C13: 6
A14: Nom2 | B14: 7 | C14: 6
A15: Nom3 | B15: 11 | C15: 8
A16: Nom4 | B16: 6 | C16: 0
A17: Nom5 | B17: 0 | C17: 0
A18: Nom6 | B18: 11 | C18: 1
A19: Nom7 | B19: 3 | C19: 3
A20: Nom8 | B20: 5 | C20: 3
A21: Nom9 | B21: 12 | C21: 2
A22: Nom10 | B22: 6 | C22: 3
A23: Équipe ghi
A25: Developpeur
A27: Nom1 | B27: 4 | C27: 5
A29: Équipe 123
A31: Nom1 | B31: 9 | C31: 3
A32: Nom2 | B32: 9 | C32: 1
A33: Nom3 | B33: 10 | C33: 3
A34: Nom4 | B34: 0 | C34: 0
A36: Équipe xyz
A37: Nom1 | B37: 0 | C37: 0
A38: Nom2 | B38: 14 | C38: 0
A39: Nom3 | B39: 9 | C39: 3
A40: Nom4 | B40: 8 | C40: 6
A41: Nom5 | B41: 15 | C41: 5
A42: Nom6 | B42: 7 | C42: 4

Sheet Semaine du 26 juin 2017
A1: Constat du nombre de rendez-vous par conseiller
A2: Semaine du 26 juin 2017 | B2: Rendez-vous Physique | C2: Rendez-vous téléphonique
A4: Équipe abc
A5: Nom1 | B5: 10 | C5: 1
A6: Nom2 | B6: 8 | C6: 2
A7: Nom3 | B7: 8 | C7: 1
A8: Nom4 | B8: 7 | C8: 0
A9: Nom5 | B9: 8 | C9: 0
A11: Équipe def
A12: Nom0 | B12: 0 | C12: 0
A13: Nom1 | B13: 6 | C13: 5
A14: Nom2 | B14: 3 | C14: 2
A15: Nom3 | B15: 8 | C15: 3
A16: Nom4 | B16: 7 | C16: 2
A17: Nom5 | B17: 0 | C17: 0
A18: Nom6 | B18: 8 | C18: 6
A19: Nom7 | B19: 8 | C19: 2
A20: Nom8 | B20: 0 | C20: 0
A21: Nom9 | B21: 10 | C21: 2
A22: Nom10 | B22: 5 | C22: 3
A23: Équipe ghi
A25: Developpeur
A27: Nom1 | B27: 5 | C27: 2
A29: Équipe 123
A31: Nom1 | B31: 9
A32: Nom2 | B32: 6 | C32: 2
A33: Nom3 | B33: 0 | C33: 0
A34: Nom4 | B34: 0 | C34: 0
A36: Équipe xyz
A37: Nom1 | B37: 0 | C37: 0
A38: Nom2 | B38: 9 | C38: 2
A39: Nom3 | B39: 5 | C39: 2
A40: Nom4 | B40: 5 | C40: 3
A41: Nom5 | B41: 5 | C41: 3
A42: Nom6 | B42: 6 | C42: 4

Sheet Semaine du 03 juillet
A1: Constat du nombre de rendez-vous par conseiller
A2: Semaine du 3 juillet 2017 | B2: Rendez-vous Physique | C2: Rendez-vous téléphonique
A4: Équipe abc
A5: Nom1 | B5: 7 | C5: 1
A6: Nom2 | B6: 5 | C6: 2
A7: Nom3 | B7: 3 | C7: 0
A8: Nom4 | B8: 6 | C8: 0
A9: Nom5 | B9: 6 | C9: 0
A11: Équipe def
A12: Nom0 | B12: 0 | C12: 0
A13: Nom1 | B13: 5 | C13: 5
A14: Nom2 | B14: 11 | C14: 1
A15: Nom3 | B15: 9 | C15: 4
A16: Nom4 | B16: 9 | C16: 4
A17: Nom5 | B17: 0 | C17: 0
A18: Nom6 | B18: 8 | C18: 6
A19: Nom7 | B19: 8 | C19: 2
A20: Nom8 | B20: 7 | C20: 2
A21: Nom9 | B21: 0 | C21: 0
A22: Nom10 | B22: 6 | C22: 0
A23: Équipe ghi
A25: Developpeur
A27: Nom1 | B27: 4 | C27: 1
A29: Équipe 123
A31: Nom1 | B31: 0 | C31: 0
A32: Nom2 | B32: 0 | C32: 0
A33: Nom3 | B33: 9 | C33: 2
A34: Nom4 | B34: 0 | C34: 0
A36: Équipe xyz
A37: Nom1 | B37: 0 | C37: 0
A38: Nom2 | B38: 11 | C38: 1
A39: Nom3 | B39: 6 | C39: 2
A40: Nom4 | B40: 5 | C40: 5
A41: Nom5 | B41: 6 | C41: 3
A42: Nom6 | B42: 4 | C42: 2

Sheet Semaine du 10 juillet 
A1: Constat du nombre de rendez-vous par conseiller
A2: Semaine du 10 juillet 2017 | B2: Rendez-vous Physique | C2: Rendez-vous téléphonique
A4: Équipe abc
A5: Nom1 | B5: 0 | C5: 0
A6: Nom2 | B6: 11 | C6: 2
A7: Nom3 | B7: 6 | C7: 0
A8: Nom4 | B8: 8 | C8: 0
A9: Nom5
A11: Équipe def
A12: Nom0 | B12: 0 | C12: 0
A13: Nom1 | B13: 7 | C13: 4
A14: Nom2 | B14: 9 | C14: 6
A15: Nom3 | B15: 6 | C15: 3
A16: Nom4 | B16: 4 | C16: 10
A17: Nom5 | B17: 7 | C17: 10
A18: Nom6 | B18: 5 | C18: 6
A19: Nom7 | B19: 0 | C19: 0
A20: Nom8 | B20: 10 | C20: 4
A21: Nom9 | B21: 0 | C21: 0
A22: Nom10 | B22: 8 | C22: 3
A23: Équipe ghi
A25: Developpeur
A27: Nom1 | B27: 11 | C27: 0
A29: Équipe 123
A31: Nom1 | B31: 0 | C31: 0
A32: Nom2 | B32: 0 | C32: 0
A33: Nom3 | B33: 10 | C33: 0
A34: Nom4 | B34: 0 | C34: 0
A36: Équipe xyz
A37: Nom1 | B37: 0 | C37: 0
A38: Nom2 | B38: 13 | C38: 0
A39: Nom3 | B39: 11 | C39: 4
A40: Nom4 | B40: 14 | C40: 3
A41: Nom5 | B41: 17 | C41: 6
A42: Nom6 | B42: 0 | C42: 0

Sheet Semaine du 17 juillet
A1: Constat du nombre de rendez-vous par conseiller
A2: Semaine du 17 juillet 2017 | B2: Rendez-vous Physique | C2: Rendez-vous téléphonique
A4: Équipe abc
A5: Nom1 | B5: 0 | C5: 0
A6: Nom2 | B6: 6 | C6: 2
A7: Nom3 | B7: 9 | C7: 0
A8: Nom4 | B8: 11 | C8: 0
A9: Nom5 | B9: 0 | C9: 0
A11: Équipe def
A12: Nom0 | B12: 0 | C12: 0
A13: Nom1 | B13: 11 | C13: 3
A14: Nom2 | B14: 8 | C14: 4
A15: Nom3 | B15: 8 | C15: 10
A16: Nom4 | B16: 0 | C16: 0
A17: Nom5 | B17: 11 | C17: 4
A18: Nom6 | B18: 0 | C18: 0
A19: Nom7 | B19: 0 | C19: 0
A20: Nom8 | B20: 11 | C20: 4
A21: Nom9 | B21: 0 | C21: 0
A22: Nom10 | B22: 4 | C22: 7
A23: Équipe ghi
A25: Developpeur
A27: Nom1 | B27: 6 | C27: 0
A29: Équipe 123
A31: Nom1 | B31: 11 | C31: 3
A32: Nom2 | B32: 13 | C32: 2
A33: Nom3 | B33: 8 | C33: 1
A34: Nom4 | B34: 0 | C34: 0
A36: Équipe xyz
A37: Nom1 | B37: 0 | C37: 0
A38: Nom2 | B38: 0 | C38: 0
A39: Nom3 | B39: 7 | C39: 3
A40: Nom4 | B40: 11 | C40: 4
A41: Nom5 | B41: 9 | C41: 4
A42: Nom6 | B42: 0 | C42: 0

Sheet Dernière feuille
