Workbook
Name NUM: Feuil1!$B$1:$B$30

Sheet Feuil1
A3: 10 | B3: A
A4: 5 | B4: B
A5: 9999 | B5: A
A6: 10 | B6: B | L6: {=IFERROR(OFFSET($B$2,MATCH(0,COUNTIF(L$5:L5,B$3:B$16),0),),"")} -> A | M6: =SUMPRODUCT(($B$3:$B$100=L6)*($A$3:$A$100)) -> 10009
A7: 3 | B7: C | L7: {=IFERROR(OFFSET($B$2,MATCH(0,COUNTIF(L$5:L6,B$3:B$16),0),),"")} -> B | M7: =SUMPRODUCT(($B$3:$B$100=L7)*($A$3:$A$100)) -> 15
A8: 1 | B8: tulipe1 | F8: SIERREUR(DECALER($B$2;EQUIV(0;NB.SI(L$5:L5;B$3:B$16);0););"") | L8: {=IFERROR(OFFSET($B$2,MATCH(0,COUNTIF(L$5:L7,B$3:B$16),0),),"")} -> C | M8: =SUMPRODUCT(($B$3:$B$100=L8)*($A$3:$A$100)) -> 3
A9: 1 | B9: tulipe1 | L9: {=IFERROR(OFFSET($B$2,MATCH(0,COUNTIF(L$5:L8,B$3:B$16),0),),"")} -> tulipe1 | M9: =SUMPRODUCT(($B$3:$B$100=L9)*($A$3:$A$100)) -> 3
A10: 57 | B10: tulipe3 | F10: formule qui trie sans double | L10: {=IFERROR(OFFSET($B$2,MATCH(0,COUNTIF(L$5:L9,B$3:B$16),0),),"")} -> tulipe3 | M10: =SUMPRODUCT(($B$3:$B$100=L10)*($A$3:$A$100)) -> 57
A11: 1 | B11: tulipe5 | F11: B$2 est lla cellule juste avant le tablo , cela peut etre l'entete | L11: {=IFERROR(OFFSET($B$2,MATCH(0,COUNTIF(L$5:L10,B$3:B$16),0),),"")} -> tulipe5 | M11: =SUMPRODUCT(($B$3:$B$100=L11)*($A$3:$A$100)) -> 2
A12: 1 | B12: tulipe5 | F12: ne pas avoir de vide dans la colonne | L12: {=IFERROR(OFFSET($B$2,MATCH(0,COUNTIF(L$5:L11,B$3:B$16),0),),"")} -> tulipe6 | M12: =SUMPRODUCT(($B$3:$B$100=L12)*($A$3:$A$100)) -> 1
A13: 1 | B13: tulipe6 | F13: bien cibler la plage ou la nommer en dynamique | L13: {=IFERROR(OFFSET($B$2,MATCH(0,COUNTIF(L$5:L12,B$3:B$16),0),),"")} -> tulipe9 | M13: =SUMPRODUCT(($B$3:$B$100=L13)*($A$3:$A$100)) -> 2
A14: 1 | B14: tulipe1 | L14: {=IFERROR(OFFSET($B$2,MATCH(0,COUNTIF(L$5:L13,B$3:B$16),0),),"")} | M14: =SUMPRODUCT(($B$3:$B$100=L14)*($A$3:$A$100)) -> 0
A15: 1 | B15: tulipe9 | F15: L$5 est la 1ere cel de référence ,elle peut etre vide ou pas | L15: {=IFERROR(OFFSET($B$2,MATCH(0,COUNTIF(L$5:L14,B$3:B$16),0),),"")} | M15: =SUMPRODUCT(($B$3:$B$100=L15)*($A$3:$A$100)) -> 0
A16: 1 | B16: tulipe9 | L16: {=IFERROR(OFFSET($B$2,MATCH(0,COUNTIF(L$5:L15,B$3:B$16),0),),"")} | M16: =SUMPRODUCT(($B$3:$B$100=L16)*($A$3:$A$100)) -> 0
F17: la fonction est matricielle tridactyle : validation avec les 3 touches | L17: {=IFERROR(OFFSET($B$2,MATCH(0,COUNTIF(L$5:L16,B$3:B$16),0),),"")} | M17: =SUMPRODUCT(($B$3:$B$100=L17)*($A$3:$A$100)) -> 0
F18: Ctrl Maj Entrée en simultané sur la 1ere cel (L6) ,puis incrementation | L18: {=IFERROR(OFFSET($B$2,MATCH(0,COUNTIF(L$5:L17,B$3:B$16),0),),"")} | M18: =SUMPRODUCT(($B$3:$B$100=L18)*($A$3:$A$100)) -> 0
L19: {=IFERROR(OFFSET($B$2,MATCH(0,COUNTIF(L$5:L18,B$3:B$16),0),),"")} | M19: =SUMPRODUCT(($B$3:$B$100=L19)*($A$3:$A$100)) -> 0

Sheet Feuil2
A3: 10 | B3: A
A4: 5 | B4: B
A5: 9999 | B5: A
A6: 10 | B6: B | L6: {=IFERROR(OFFSET($B$2,MATCH(0,COUNTIF(L$5:L5,B$3:B$16),0),),"")} -> A | M6: =SUMPRODUCT(($B$3:$B$100=L6)*($A$3:$A$100)) -> 10009
A7: 77 | B7: F | L7: {=IFERROR(OFFSET($B$2,MATCH(0,COUNTIF(L$5:L6,B$3:B$16),0),),"")} -> B | M7: =SUMPRODUCT(($B$3:$B$100=L7)*($A$3:$A$100)) -> 15
A8: 1 | B8: tulipe1 | L8: {=IFERROR(OFFSET($B$2,MATCH(0,COUNTIF(L$5:L7,B$3:B$16),0),),"")} -> F | M8: =SUMPRODUCT(($B$3:$B$100=L8)*($A$3:$A$100)) -> 77
A9: 1 | B9: tulipe1 | L9: {=IFERROR(OFFSET($B$2,MATCH(0,COUNTIF(L$5:L8,B$3:B$16),0),),"")} -> tulipe1 | M9: =SUMPRODUCT(($B$3:$B$100=L9)*($A$3:$A$100)) -> 3
A10: 57 | B10: tulipe3 | L10: {=IFERROR(OFFSET($B$2,MATCH(0,COUNTIF(L$5:L9,B$3:B$16),0),),"")} -> tulipe3 | M10: =SUMPRODUCT(($B$3:$B$100=L10)*($A$3:$A$100)) -> 57
A11: 1 | B11: tulipe5 | L11: {=IFERROR(OFFSET($B$2,MATCH(0,COUNTIF(L$5:L10,B$3:B$16),0),),"")} -> tulipe5 | M11: =SUMPRODUCT(($B$3:$B$100=L11)*($A$3:$A$100)) -> 2
A12: 1 | B12: tulipe5 | L12: {=IFERROR(OFFSET($B$2,MATCH(0,COUNTIF(L$5:L11,B$3:B$16),0),),"")} -> tulipe6 | M12: =SUMPRODUCT(($B$3:$B$100=L12)*($A$3:$A$100)) -> 1
A13: 1 | B13: tulipe6 | L13: {=IFERROR(OFFSET($B$2,MATCH(0,COUNTIF(L$5:L12,B$3:B$16),0),),"")} -> tulipe9 | M13: =SUMPRODUCT(($B$3:$B$100=L13)*($A$3:$A$100)) -> 2
A14: 1 | B14: tulipe1 | L14: {=IFERROR(OFFSET($B$2,MATCH(0,COUNTIF(L$5:L13,B$3:B$16),0),),"")} | M14: =SUMPRODUCT(($B$3:$B$100=L14)*($A$3:$A$100)) -> 0
A15: 1 | B15: tulipe9 | L15: {=IFERROR(OFFSET($B$2,MATCH(0,COUNTIF(L$5:L14,B$3:B$16),0),),"")} | M15: =SUMPRODUCT(($B$3:$B$100=L15)*($A$3:$A$100)) -> 0
A16: 1 | B16: tulipe9 | L16: {=IFERROR(OFFSET($B$2,MATCH(0,COUNTIF(L$5:L15,B$3:B$16),0),),"")} | M16: =SUMPRODUCT(($B$3:$B$100=L16)*($A$3:$A$100)) -> 0
L17: {=IFERROR(OFFSET($B$2,MATCH(0,COUNTIF(L$5:L16,B$3:B$16),0),),"")} | M17: =SUMPRODUCT(($B$3:$B$100=L17)*($A$3:$A$100)) -> 0
L18: {=IFERROR(OFFSET($B$2,MATCH(0,COUNTIF(L$5:L17,B$3:B$16),0),),"")} | M18: =SUMPRODUCT(($B$3:$B$100=L18)*($A$3:$A$100)) -> 0
L19: {=IFERROR(OFFSET($B$2,MATCH(0,COUNTIF(L$5:L18,B$3:B$16),0),),"")} | M19: =SUMPRODUCT(($B$3:$B$100=L19)*($A$3:$A$100)) -> 0

Sheet Feuil3
A3: 10 | B3: A
A4: 5 | B4: B
A5: 10 | B5: A
A6: -8888 | B6: B | L6: {=IFERROR(OFFSET($B$2,MATCH(0,COUNTIF(L$5:L5,B$3:B$16),0),),"")} -> A | M6: =SUMPRODUCT(($B$3:$B$100=L6)*($A$3:$A$100)) -> 20
A7: 3 | B7: D | L7: {=IFERROR(OFFSET($B$2,MATCH(0,COUNTIF(L$5:L6,B$3:B$16),0),),"")} -> B | M7: =SUMPRODUCT(($B$3:$B$100=L7)*($A$3:$A$100)) -> -8883
A8: 1 | B8: tulipe1 | L8: {=IFERROR(OFFSET($B$2,MATCH(0,COUNTIF(L$5:L7,B$3:B$16),0),),"")} -> D | M8: =SUMPRODUCT(($B$3:$B$100=L8)*($A$3:$A$100)) -> 3
A9: 1 | B9: tulipe1 | L9: {=IFERROR(OFFSET($B$2,MATCH(0,COUNTIF(L$5:L8,B$3:B$16),0),),"")} -> tulipe1 | M9: =SUMPRODUCT(($B$3:$B$100=L9)*($A$3:$A$100)) -> 3
A10: 1 | B10: tulipe3 | L10: {=IFERROR(OFFSET($B$2,MATCH(0,COUNTIF(L$5:L9,B$3:B$16),0),),"")} -> tulipe3 | M10: =SUMPRODUCT(($B$3:$B$100=L10)*($A$3:$A$100)) -> 1
A11: 1 | B11: tulipe5 | L11: {=IFERROR(OFFSET($B$2,MATCH(0,COUNTIF(L$5:L10,B$3:B$16),0),),"")} -> tulipe5 | M11: =SUMPRODUCT(($B$3:$B$100=L11)*($A$3:$A$100)) -> 936
A12: 935 | B12: tulipe5 | L12: {=IFERROR(OFFSET($B$2,MATCH(0,COUNTIF(L$5:L11,B$3:B$16),0),),"")} -> tulipe6 | M12: =SUMPRODUCT(($B$3:$B$100=L12)*($A$3:$A$100)) -> 1
A13: 1 | B13: tulipe6 | L13: {=IFERROR(OFFSET($B$2,MATCH(0,COUNTIF(L$5:L12,B$3:B$16),0),),"")} -> tulipe9 | M13: =SUMPRODUCT(($B$3:$B$100=L13)*($A$3:$A$100)) -> 2
A14: 1 | B14: tulipe1 | L14: {=IFERROR(OFFSET($B$2,MATCH(0,COUNTIF(L$5:L13,B$3:B$16),0),),"")} | M14: =SUMPRODUCT(($B$3:$B$100=L14)*($A$3:$A$100)) -> 0
A15: 1 | B15: tulipe9 | L15: {=IFERROR(OFFSET($B$2,MATCH(0,COUNTIF(L$5:L14,B$3:B$16),0),),"")} | M15: =SUMPRODUCT(($B$3:$B$100=L15)*($A$3:$A$100)) -> 0
A16: 1 | B16: tulipe9 | L16: {=IFERROR(OFFSET($B$2,MATCH(0,COUNTIF(L$5:L15,B$3:B$16),0),),"")} | M16: =SUMPRODUCT(($B$3:$B$100=L16)*($A$3:$A$100)) -> 0
L17: {=IFERROR(OFFSET($B$2,MATCH(0,COUNTIF(L$5:L16,B$3:B$16),0),),"")} | M17: =SUMPRODUCT(($B$3:$B$100=L17)*($A$3:$A$100)) -> 0
L18: {=IFERROR(OFFSET($B$2,MATCH(0,COUNTIF(L$5:L17,B$3:B$16),0),),"")} | M18: =SUMPRODUCT(($B$3:$B$100=L18)*($A$3:$A$100)) -> 0
L19: {=IFERROR(OFFSET($B$2,MATCH(0,COUNTIF(L$5:L18,B$3:B$16),0),),"")} | M19: =SUMPRODUCT(($B$3:$B$100=L19)*($A$3:$A$100)) -> 0

Sheet TCD
A2: N° feuille | B2: 2 | C2: à saisir
C3: il faut actualise le TCD !
A4: Étiquettes de lignes | B4: Somme de Nombre
B5: 0
A6: A | B6: 10009
A7: B | B7: 15
A8: F | B8: 77
A9: tulipe1 | B9: 3
A10: tulipe3 | B10: 57
A11: tulipe5 | B11: 2
A12: tulipe6 | B12: 1
A13: tulipe9 | B13: 2
A14: Total général | B14: 10166

Sheet Recap
A1: Feuille | B1: Nombre | C1: Titre
A2: 1 | B2: =IF(Tableau1[[#This Row],[Feuille]]=TCD!$B$2,Feuil1!A3,"") | C2: =IF(Tableau1[[#This Row],[Feuille]]=TCD!$B$2,Feuil1!B3,"")
A3: 1 | B3: =IF(Tableau1[[#This Row],[Feuille]]=TCD!$B$2,Feuil1!A4,"") | C3: =IF(Tableau1[[#This Row],[Feuille]]=TCD!$B$2,Feuil1!B4,"")
A4: 1 | B4: =IF(Tableau1[[#This Row],[Feuille]]=TCD!$B$2,Feuil1!A5,"") | C4: =IF(Tableau1[[#This Row],[Feuille]]=TCD!$B$2,Feuil1!B5,"")
A5: 1 | B5: =IF(Tableau1[[#This Row],[Feuille]]=TCD!$B$2,Feuil1!A6,"") | C5: =IF(Tableau1[[#This Row],[Feuille]]=TCD!$B$2,Feuil1!B6,"")
A6: 1 | B6: =IF(Tableau1[[#This Row],[Feuille]]=TCD!$B$2,Feuil1!A7,"") | C6: =IF(Tableau1[[#This Row],[Feuille]]=TCD!$B$2,Feuil1!B7,"")
A7: 1 | B7: =IF(Tableau1[[#This Row],[Feuille]]=TCD!$B$2,Feuil1!A8,"") | C7: =IF(Tableau1[[#This Row],[Feuille]]=TCD!$B$2,Feuil1!B8,"")
A8: 1 | B8: =IF(Tableau1[[#This Row],[Feuille]]=TCD!$B$2,Feuil1!A9,"") | C8: =IF(Tableau1[[#This Row],[Feuille]]=TCD!$B$2,Feuil1!B9,"")
A9: 1 | B9: =IF(Tableau1[[#This Row],[Feuille]]=TCD!$B$2,Feuil1!A10,"") | C9: =IF(Tableau1[[#This Row],[Feuille]]=TCD!$B$2,Feuil1!B10,"")
A10: 1 | B10: =IF(Tableau1[[#This Row],[Feuille]]=TCD!$B$2,Feuil1!A11,"") | C10: =IF(Tableau1[[#This Row],[Feuille]]=TCD!$B$2,Feuil1!B11,"")
A11: 1 | B11: =IF(Tableau1[[#This Row],[Feuille]]=TCD!$B$2,Feuil1!A12,"") | C11: =IF(Tableau1[[#This Row],[Feuille]]=TCD!$B$2,Feuil1!B12,"")
A12: 1 | B12: =IF(Tableau1[[#This Row],[Feuille]]=TCD!$B$2,Feuil1!A13,"") | C12: =IF(Tableau1[[#This Row],[Feuille]]=TCD!$B$2,Feuil1!B13,"")
A13: 1 | B13: =IF(Tableau1[[#This Row],[Feuille]]=TCD!$B$2,Feuil1!A14,"") | C13: =IF(Tableau1[[#This Row],[Feuille]]=TCD!$B$2,Feuil1!B14,"")
... A21: 1 | B21: =IF(Tableau1[[#This Row],[Feuille]]=TCD!$B$2,Feuil1!A22,"") | C21: =IF(Tableau1[[#This Row],[Feuille]]=TCD!$B$2,Feuil1!B22,"")
A22: 2 | B22: =IF(Tableau1[[#This Row],[Feuille]]=TCD!$B$2,Feuil2!A3,"") -> 10 | C22: =IF(Tableau1[[#This Row],[Feuille]]=TCD!$B$2,Feuil2!B3,"") -> A
A23: 2 | B23: =IF(Tableau1[[#This Row],[Feuille]]=TCD!$B$2,Feuil2!A4,"") -> 5 | C23: =IF(Tableau1[[#This Row],[Feuille]]=TCD!$B$2,Feuil2!B4,"") -> B
A24: 2 | B24: =IF(Tableau1[[#This Row],[Feuille]]=TCD!$B$2,Feuil2!A5,"") -> 9999 | C24: =IF(Tableau1[[#This Row],[Feuille]]=TCD!$B$2,Feuil2!B5,"") -> A
A25: 2 | B25: =IF(Tableau1[[#This Row],[Feuille]]=TCD!$B$2,Feuil2!A6,"") -> 10 | C25: =IF(Tableau1[[#This Row],[Feuille]]=TCD!$B$2,Feuil2!B6,"") -> B
A26: 2 | B26: =IF(Tableau1[[#This Row],[Feuille]]=TCD!$B$2,Feuil2!A7,"") -> 77 | C26: =IF(Tableau1[[#This Row],[Feuille]]=TCD!$B$2,Feuil2!B7,"") -> F
A27: 2 | B27: =IF(Tableau1[[#This Row],[Feuille]]=TCD!$B$2,Feuil2!A8,"") -> 1 | C27: =IF(Tableau1[[#This Row],[Feuille]]=TCD!$B$2,Feuil2!B8,"") -> tulipe1
A28: 2 | B28: =IF(Tableau1[[#This Row],[Feuille]]=TCD!$B$2,Feuil2!A9,"") -> 1 | C28: =IF(Tableau1[[#This Row],[Feuille]]=TCD!$B$2,Feuil2!B9,"") -> tulipe1
A29: 2 | B29: =IF(Tableau1[[#This Row],[Feuille]]=TCD!$B$2,Feuil2!A10,"") -> 57 | C29: =IF(Tableau1[[#This Row],[Feuille]]=TCD!$B$2,Feuil2!B10,"") -> tulipe3
A30: 2 | B30: =IF(Tableau1[[#This Row],[Feuille]]=TCD!$B$2,Feuil2!A11,"") -> 1 | C30: =IF(Tableau1[[#This Row],[Feuille]]=TCD!$B$2,Feuil2!B11,"") -> tulipe5
A31: 2 | B31: =IF(Tableau1[[#This Row],[Feuille]]=TCD!$B$2,Feuil2!A12,"") -> 1 | C31: =IF(Tableau1[[#This Row],[Feuille]]=TCD!$B$2,Feuil2!B12,"") -> tulipe5
A32: 2 | B32: =IF(Tableau1[[#This Row],[Feuille]]=TCD!$B$2,Feuil2!A13,"") -> 1 | C32: =IF(Tableau1[[#This Row],[Feuille]]=TCD!$B$2,Feuil2!B13,"") -> tulipe6
A33: 2 | B33: =IF(Tableau1[[#This Row],[Feuille]]=TCD!$B$2,Feuil2!A14,"") -> 1 | C33: =IF(Tableau1[[#This Row],[Feuille]]=TCD!$B$2,Feuil2!B14,"") -> tulipe1
... A40: 2 | B40: =IF(Tableau1[[#This Row],[Feuille]]=TCD!$B$2,Feuil2!A21,"") -> 0 | C40: =IF(Tableau1[[#This Row],[Feuille]]=TCD!$B$2,Feuil2!B21,"") -> 0
