Workbook
Name Segment_A: #N/A

Sheet BDD
B4: A | C4: B | D4: C
B5: Test1 | C5: 1 | D5: 2
B6: Test2 | C6: 1 | D6: 3
B7: Test3 | C7: 2 | D7: 2
B8: Test4 | C8: 5 | D8: 9
B9: Test5 | C9: 3 | D9: 5

Sheet Test
F1: =F17 -> 2 | G1: =G17 -> 4
B3: Nom | C3: Debut | D3: Fin
B4: =IF(AND(BDD!C6>Test!$F$1,BDD!D5<Test!$G$1),BDD!B5,"") | C4: =IF(Tableau1[[#This Row],[Nom]]="","",BDD!C5) | D4: =IF(Tableau1[[#This Row],[Nom]]="","",BDD!D5)
B5: =IF(AND(BDD!C7>Test!$F$1,BDD!D6<Test!$G$1),BDD!B6,"") | C5: =IF(Tableau1[[#This Row],[Nom]]="","",BDD!C6) | D5: =IF(Tableau1[[#This Row],[Nom]]="","",BDD!D6)
B6: =IF(AND(BDD!C8>Test!$F$1,BDD!D7<Test!$G$1),BDD!B7,"") -> Test3 | C6: =IF(Tableau1[[#This Row],[Nom]]="","",BDD!C7) -> 2 | D6: =IF(Tableau1[[#This Row],[Nom]]="","",BDD!D7) -> 2 | L6: Étiquettes de lignes | M6: B | N6: C
B7: =IF(AND(BDD!C9>Test!$F$1,BDD!D8<Test!$G$1),BDD!B8,"") | C7: =IF(Tableau1[[#This Row],[Nom]]="","",BDD!C8) | D7: =IF(Tableau1[[#This Row],[Nom]]="","",BDD!D8) | L7: Test2 | M7: 1 | N7: 3
B8: =IF(AND(BDD!C10>Test!$F$1,BDD!D9<Test!$G$1),BDD!B9,"") | C8: =IF(Tableau1[[#This Row],[Nom]]="","",BDD!C9) | D8: =IF(Tableau1[[#This Row],[Nom]]="","",BDD!D9)
B9: =IF(AND(BDD!C11>Test!$F$1,BDD!D10<Test!$G$1),BDD!B10,"") | C9: =IF(Tableau1[[#This Row],[Nom]]="","",BDD!C10) | D9: =IF(Tableau1[[#This Row],[Nom]]="","",BDD!D10)
B10: =IF(AND(BDD!C12>Test!$F$1,BDD!D11<Test!$G$1),BDD!B11,"") | C10: =IF(Tableau1[[#This Row],[Nom]]="","",BDD!C11) | D10: =IF(Tableau1[[#This Row],[Nom]]="","",BDD!D11)
B11: =IF(AND(BDD!C13>Test!$F$1,BDD!D12<Test!$G$1),BDD!B12,"") | C11: =IF(Tableau1[[#This Row],[Nom]]="","",BDD!C12) | D11: =IF(Tableau1[[#This Row],[Nom]]="","",BDD!D12)
F17: 2 | G17: 4
