Workbook

Sheet Feuil1
C1: Poste actuel | D1: Poste désiré | G1: Niveau Poste actuel | H1: Niveau Poste désiré | I1: niveau mini
C2: Agent log contre réception | D2: Agent logistique Mini Rex | F2: titre | G2: =C2 -> Agent log contre réception | H2: =D2 -> Agent logistique Mini Rex | I2: niveau mini
B3: Contrôler la pièce | C3: =IF($C$2="","",VLOOKUP($C$2,'Postes et compétences'!$A$2:$G$15,2,0)) -> Contrôle dimensionnel | D3: =IF($D$2="","",VLOOKUP($D$2,'Postes et compétences'!$A$2:$G$15,2,0)) -> Contrôle documentaire | F3: Contrôler la pièce | G3: =VLOOKUP(C3,'Postes et compétences'!$A$25:$B$28,2,0) -> 3 | H3: =VLOOKUP(D3,'Postes et compétences'!$A$25:$B$28,2,0) -> 2 | I3: 2
B4: Maitrîser l'emballage | C4: =IF($C$2="","",VLOOKUP($C$2,'Postes et compétences'!$A$2:$G$15,3,0)) -> Niveau 0 | D4: =IF($D$2="","",VLOOKUP($D$2,'Postes et compétences'!$A$2:$G$15,3,0)) -> (Dé)conditionnements complexes et pièces aéronautiques | F4: Maitrîser l'emballage | G4: =VLOOKUP(C4,'Postes et compétences'!$C$25:$D$28,2,0) -> 0 | H4: =VLOOKUP(D4,'Postes et compétences'!$C$25:$D$28,2,0) -> 3 | I4: 2
B5: Gérer la relation client et l'urgence | C5: =IF($C$2="","",VLOOKUP($C$2,'Postes et compétences'!$A$2:$G$15,4,0)) -> Activité demandes + réponse quotidiennes | D5: =IF($D$2="","",VLOOKUP($D$2,'Postes et compétences'!$A$2:$G$15,4,0)) -> Activité fonction des demandes | F5: Gérer la relation client et l'urgence | G5: =VLOOKUP(C5,'Postes et compétences'!$E$25:$F$28,2,0) -> 3 | H5: =VLOOKUP(D5,'Postes et compétences'!$E$25:$F$28,2,0) -> 1 | I5: 2
B6: Maîtriser SAP | C6: =IF($C$2="","",VLOOKUP($C$2,'Postes et compétences'!$A$2:$G$15,5,0)) -> Transactions et non-conformités | D6: =IF($D$2="","",VLOOKUP($D$2,'Postes et compétences'!$A$2:$G$15,5,0)) -> Saisies | F6: Maîtriser SAP | G6: =VLOOKUP(C6,'Postes et compétences'!$G$25:$H$28,2,0) -> 2 | H6: =VLOOKUP(D6,'Postes et compétences'!$G$25:$H$28,2,0) -> 1 | I6: 2
B7: Conduire un chariot | C7: =IF($C$2="","",VLOOKUP($C$2,'Postes et compétences'!$A$2:$G$15,6,0)) -> Niveau 0 | D7: =IF($D$2="","",VLOOKUP($D$2,'Postes et compétences'!$A$2:$G$15,6,0)) -> CACES 1, 3 ou 5 quotidien | F7: Conduire un chariot | G7: =VLOOKUP(C7,'Postes et compétences'!$C$32:$D$35,2,0) -> 0 | H7: =VLOOKUP(D7,'Postes et compétences'!$C$32:$D$35,2,0) -> 2 | I7: 2
B8: Travailler avec des contraintes physiques | C8: =IF($C$2="","",VLOOKUP($C$2,'Postes et compétences'!$A$2:$G$15,7,0)) -> Charges lourdes | D8: =IF($D$2="","",VLOOKUP($D$2,'Postes et compétences'!$A$2:$G$15,7,0)) -> Postures à risques | F8: Travailler avec des contraintes physiques | G8: =VLOOKUP(C8,'Postes et compétences'!$E$32:$F$35,2,0) -> 2 | H8: =VLOOKUP(D8,'Postes et compétences'!$E$32:$F$35,2,0) -> 3 | I8: 2

Sheet Postes et compétences
A1: Postes | B1: Contrôler la pièce | C1: Maîtriser l'emballage | D1: Gérer la relation client et l'urgence | E1: Maîtriser SAP | F1: Conduire un chariot | G1: Travailler avec des contraintes physiques
A2: Agent logistique Mini Rex | B2: Contrôle documentaire | C2: (Dé)conditionnements complexes et pièces aéronautiques | D2: Activité fonction des demandes | E2: Saisies | F2: CACES 1, 3 ou 5 quotidien | G2: Postures à risques
A3: Agent log Contre Réception | B3: Contrôle dimensionnel | C3: Niveau 0 | D3: Activité demandes + réponse quotidiennes | E3: Transactions et non-conformités | F3: Niveau 0 | G3: Charges lourdes
A24: Contrôler la pièce | C24: Maîtriser l'emballage | E24: Gérer la relation client et l'urgence | G24: Maîtriser SAP
A25: Niveau 0 | B25: 0 | C25: Niveau 0 | D25: 0 | E25: Niveau 0 | F25: 0 | G25: Niveau 0 | H25: 0
A26: Contrôle visuel simple | B26: 1 | C26: (Dé)conditionnements simples | D26: 1 | E26: Activité fonction des demandes | F26: 1 | G26: Saisies | H26: 1
A27: Contrôle documentaire | B27: 2 | C27: (Dé)conditionnements complexes | D27: 2 | E27: Activité demandes + réponse occasionnelles | F27: 2 | G27: Transactions et non-conformités | H27: 2
A28: Contrôle dimensionnel | B28: 3 | C28: (Dé)conditionnements complexes et pièces aéronautiques | D28: 3 | E28: Activité demandes + réponse quotidiennes | F28: 3 | G28: Autonomie | H28: 3
C31: Conduire un chariot | E31: Travailler avec des contraintes physiques
C32: Niveau 0 | D32: 0 | E32: Niveau 0 | F32: 0
C33: CACES 1, 3 ou 5 occasionnel | D33: 1 | E33: Charges légères | F33: 1
C34: CACES 1, 3 ou 5 quotidien | D34: 2 | E34: Charges lourdes | F34: 2
C35: CACES 5+ quotidien | D35: 3 | E35: Postures à risques | F35: 3

Sheet Feuil3
