Workbook

Sheet ENTETE
A1: ENTETE
G50: fin 1

Sheet TABLEAU 1
A11: Colonne1 | B11: Colonne2 | C11: Colonne3 | D11: Colonne4 | E11: Colonne5 | F11: Colonne6
C21: test

Sheet TABLEAU 2
A33: Colonne1 | B33: Colonne2 | C33: Colonne3 | D33: Colonne4 | E33: Colonne5 | F33: Colonne6

Sheet Feuil1
A1: =ENTETE!A1 -> ENTETE | B1: =ENTETE!B1 -> 0 | C1: =ENTETE!C1 -> 0 | D1: =ENTETE!D1 -> 0 | E1: =ENTETE!E1 -> 0 | F1: =ENTETE!F1 -> 0 | G1: =ENTETE!G1 -> 0 | I1: ='TABLEAU 1'!A1 -> 0 | J1: ='TABLEAU 1'!B1 -> 0 | K1: ='TABLEAU 1'!C1 -> 0 | L1: ='TABLEAU 1'!D1 -> 0 | M1: ='TABLEAU 1'!E1 -> 0
A2: =ENTETE!A2 -> 0 | B2: =ENTETE!B2 -> 0 | C2: =ENTETE!C2 -> 0 | D2: =ENTETE!D2 -> 0 | E2: =ENTETE!E2 -> 0 | F2: =ENTETE!F2 -> 0 | G2: =ENTETE!G2 -> 0 | I2: ='TABLEAU 1'!A2 -> 0 | J2: ='TABLEAU 1'!B2 -> 0 | K2: ='TABLEAU 1'!C2 -> 0 | L2: ='TABLEAU 1'!D2 -> 0 | M2: ='TABLEAU 1'!E2 -> 0
A3: =ENTETE!A3 -> 0 | B3: =ENTETE!B3 -> 0 | C3: =ENTETE!C3 -> 0 | D3: =ENTETE!D3 -> 0 | E3: =ENTETE!E3 -> 0 | F3: =ENTETE!F3 -> 0 | G3: =ENTETE!G3 -> 0 | I3: ='TABLEAU 1'!A3 -> 0 | J3: ='TABLEAU 1'!B3 -> 0 | K3: ='TABLEAU 1'!C3 -> 0 | L3: ='TABLEAU 1'!D3 -> 0 | M3: ='TABLEAU 1'!E3 -> 0
A4: =ENTETE!A4 -> 0 | B4: =ENTETE!B4 -> 0 | C4: =ENTETE!C4 -> 0 | D4: =ENTETE!D4 -> 0 | E4: =ENTETE!E4 -> 0 | F4: =ENTETE!F4 -> 0 | G4: =ENTETE!G4 -> 0 | I4: ='TABLEAU 1'!A4 -> 0 | J4: ='TABLEAU 1'!B4 -> 0 | K4: ='TABLEAU 1'!C4 -> 0 | L4: ='TABLEAU 1'!D4 -> 0 | M4: ='TABLEAU 1'!E4 -> 0
A5: =ENTETE!A5 -> 0 | B5: =ENTETE!B5 -> 0 | C5: =ENTETE!C5 -> 0 | D5: =ENTETE!D5 -> 0 | E5: =ENTETE!E5 -> 0 | F5: =ENTETE!F5 -> 0 | G5: =ENTETE!G5 -> 0 | I5: ='TABLEAU 1'!A5 -> 0 | J5: ='TABLEAU 1'!B5 -> 0 | K5: ='TABLEAU 1'!C5 -> 0 | L5: ='TABLEAU 1'!D5 -> 0 | M5: ='TABLEAU 1'!E5 -> 0
A6: =ENTETE!A6 -> 0 | B6: =ENTETE!B6 -> 0 | C6: =ENTETE!C6 -> 0 | D6: =ENTETE!D6 -> 0 | E6: =ENTETE!E6 -> 0 | F6: =ENTETE!F6 -> 0 | G6: =ENTETE!G6 -> 0 | I6: ='TABLEAU 1'!A6 -> 0 | J6: ='TABLEAU 1'!B6 -> 0 | K6: ='TABLEAU 1'!C6 -> 0 | L6: ='TABLEAU 1'!D6 -> 0 | M6: ='TABLEAU 1'!E6 -> 0
A7: =ENTETE!A7 -> 0 | B7: =ENTETE!B7 -> 0 | C7: =ENTETE!C7 -> 0 | D7: =ENTETE!D7 -> 0 | E7: =ENTETE!E7 -> 0 | F7: =ENTETE!F7 -> 0 | G7: =ENTETE!G7 -> 0 | I7: ='TABLEAU 1'!A7 -> 0 | J7: ='TABLEAU 1'!B7 -> 0 | K7: ='TABLEAU 1'!C7 -> 0 | L7: ='TABLEAU 1'!D7 -> 0 | M7: ='TABLEAU 1'!E7 -> 0
A8: =ENTETE!A8 -> 0 | B8: =ENTETE!B8 -> 0 | C8: =ENTETE!C8 -> 0 | D8: =ENTETE!D8 -> 0 | E8: =ENTETE!E8 -> 0 | F8: =ENTETE!F8 -> 0 | G8: =ENTETE!G8 -> 0 | I8: ='TABLEAU 1'!A8 -> 0 | J8: ='TABLEAU 1'!B8 -> 0 | K8: ='TABLEAU 1'!C8 -> 0 | L8: ='TABLEAU 1'!D8 -> 0 | M8: ='TABLEAU 1'!E8 -> 0
A9: =ENTETE!A9 -> 0 | B9: =ENTETE!B9 -> 0 | C9: =ENTETE!C9 -> 0 | D9: =ENTETE!D9 -> 0 | E9: =ENTETE!E9 -> 0 | F9: =ENTETE!F9 -> 0 | G9: =ENTETE!G9 -> 0 | I9: ='TABLEAU 1'!A9 -> 0 | J9: ='TABLEAU 1'!B9 -> 0 | K9: ='TABLEAU 1'!C9 -> 0 | L9: ='TABLEAU 1'!D9 -> 0 | M9: ='TABLEAU 1'!E9 -> 0
A10: =ENTETE!A10 -> 0 | B10: =ENTETE!B10 -> 0 | C10: =ENTETE!C10 -> 0 | D10: =ENTETE!D10 -> 0 | E10: =ENTETE!E10 -> 0 | F10: =ENTETE!F10 -> 0 | G10: =ENTETE!G10 -> 0 | I10: ='TABLEAU 1'!A10 -> 0 | J10: ='TABLEAU 1'!B10 -> 0 | K10: ='TABLEAU 1'!C10 -> 0 | L10: ='TABLEAU 1'!D10 -> 0 | M10: ='TABLEAU 1'!E10 -> 0
A11: =ENTETE!A11 -> 0 | B11: =ENTETE!B11 -> 0 | C11: =ENTETE!C11 -> 0 | D11: =ENTETE!D11 -> 0 | E11: =ENTETE!E11 -> 0 | F11: =ENTETE!F11 -> 0 | G11: =ENTETE!G11 -> 0 | I11: ='TABLEAU 1'!A11 -> Colonne1 | J11: ='TABLEAU 1'!B11 -> Colonne2 | K11: ='TABLEAU 1'!C11 -> Colonne3 | L11: ='TABLEAU 1'!D11 -> Colonne4 | M11: ='TABLEAU 1'!E11 -> Colonne5
A12: =ENTETE!A12 -> 0 | B12: =ENTETE!B12 -> 0 | C12: =ENTETE!C12 -> 0 | D12: =ENTETE!D12 -> 0 | E12: =ENTETE!E12 -> 0 | F12: =ENTETE!F12 -> 0 | G12: =ENTETE!G12 -> 0 | I12: ='TABLEAU 1'!A12 -> 0 | J12: ='TABLEAU 1'!B12 -> 0 | K12: ='TABLEAU 1'!C12 -> 0 | L12: ='TABLEAU 1'!D12 -> 0 | M12: ='TABLEAU 1'!E12 -> 0
... A50: =ENTETE!A50 -> 0 | B50: =ENTETE!B50 -> 0 | C50: =ENTETE!C50 -> 0 | D50: =ENTETE!D50 -> 0 | E50: =ENTETE!E50 -> 0 | F50: =ENTETE!F50 -> 0 | G50: =ENTETE!G50 -> fin 1 | I50: ='TABLEAU 1'!A50 -> 0 | J50: ='TABLEAU 1'!B50 -> 0 | K50: ='TABLEAU 1'!C50 -> 0 | L50: ='TABLEAU 1'!D50 -> 0 | M50: ='TABLEAU 1'!E50 -> 0
