Workbook
Name Segment_Divers: #N/A
Name Segment_Ligne: #N/A
Name Segment_REF: #N/A
Name Segment_Type: #N/A
Name Segment_Ville: #N/A

Sheet Feuil1
A3: Étiquettes de lignes | B3: Ville | C3: REF | D3: Type | E3: Divers
A4: 0 | B4: 0 | C4: 0 | D4: 0 | E4: 0
A5: 1 | B5: Bordeaux | C5: NC204F | D5: Air | E5: AB
A6: 2 | B6: Paris | C6: VX206G | D6: Terre | E6: AC
A7: 3 | B7: Lyon | C7: KX405F | D7: Terre | E7: BC
A8: 4 | B8: Grenoble | C8: RX101I | D8: Eau | E8: BX
A9: 5 | B9: Toulouse | C9: OX623G | D9: Eau | E9: UV
A10: 6 | B10: Marseille | C10: UX274H | D10: Air | E10: AX
A11: 7 | B11: Rennes | C11: NC204F | D11: Air | E11: AB
A12: 8 | B12: Nantes | C12: VX206G | D12: Eau | E12: AC
A13: 9 | B13: Nice | C13: KX405F | D13: Terre | E13: BC
A14: 10 | B14: Lille | C14: RX101I | D14: Air | E14: BX
A15: 11 | B15: Strasbourg | C15: OX623G | D15: Terre | E15: UV
A16: 12 | B16: Caen | C16: UX274H | D16: Eau | E16: AX
... A49: 130014 | B49: Amiens | C49: KX405F | D49: Air | E49: BC
A50: (vide) | B50: (vide) | C50: (vide) | D50: (vide) | E50: (vide)
A51: Total général

Sheet BD1
A1: Ligne | B1: Ville | C1: REF | D1: Type | E1: Divers
A2: 1 | B2: Bordeaux | C2: NC204F | D2: Air | E2: AB
A3: 2 | B3: Paris | C3: VX206G | D3: Terre | E3: AC
A4: 3 | B4: Lyon | C4: KX405F | D4: Terre | E4: BC
A5: 4 | B5: Grenoble | C5: RX101I | D5: Eau | E5: BX
A6: 5 | B6: Toulouse | C6: OX623G | D6: Eau | E6: UV
A7: 6 | B7: Marseille | C7: UX274H | D7: Air | E7: AX
A8: 7 | B8: Rennes | C8: NC204F | D8: Air | E8: AB
A9: 8 | B9: Nantes | C9: VX206G | D9: Eau | E9: AC
A10: 9 | B10: Nice | C10: KX405F | D10: Terre | E10: BC
A11: 10 | B11: Lille | C11: RX101I | D11: Air | E11: BX
A12: 11 | B12: Strasbourg | C12: OX623G | D12: Terre | E12: UV
A13: 12 | B13: Caen | C13: UX274H | D13: Eau | E13: AX
... A16: 15 | B16: Amiens | C16: KX405F | D16: Air | E16: BC
A18: ='BD2'!A2 -> 65536 | B18: ='BD2'!B2 -> Bordeaux | C18: ='BD2'!C2 -> NC204F | D18: ='BD2'!D2 -> Air | E18: ='BD2'!E2 -> AB
A19: ='BD2'!A3 -> 65537 | B19: ='BD2'!B3 -> Paris | C19: ='BD2'!C3 -> VX206G | D19: ='BD2'!D3 -> Terre | E19: ='BD2'!E3 -> AC
A20: ='BD2'!A4 -> 65538 | B20: ='BD2'!B4 -> Lyon | C20: ='BD2'!C4 -> KX405F | D20: ='BD2'!D4 -> Terre | E20: ='BD2'!E4 -> BC
A21: ='BD2'!A5 -> 65539 | B21: ='BD2'!B5 -> Grenoble | C21: ='BD2'!C5 -> RX101I | D21: ='BD2'!D5 -> Eau | E21: ='BD2'!E5 -> BX
A22: ='BD2'!A6 -> 65540 | B22: ='BD2'!B6 -> Toulouse | C22: ='BD2'!C6 -> OX623G | D22: ='BD2'!D6 -> Eau | E22: ='BD2'!E6 -> UV
A23: ='BD2'!A7 -> 65541 | B23: ='BD2'!B7 -> Marseille | C23: ='BD2'!C7 -> UX274H | D23: ='BD2'!D7 -> Air | E23: ='BD2'!E7 -> AX
A24: ='BD2'!A8 -> 65542 | B24: ='BD2'!B8 -> Rennes | C24: ='BD2'!C8 -> NC204F | D24: ='BD2'!D8 -> Air | E24: ='BD2'!E8 -> AB
A25: ='BD2'!A9 -> 65543 | B25: ='BD2'!B9 -> Nantes | C25: ='BD2'!C9 -> VX206G | D25: ='BD2'!D9 -> Eau | E25: ='BD2'!E9 -> AC
A26: ='BD2'!A10 -> 65544 | B26: ='BD2'!B10 -> Nice | C26: ='BD2'!C10 -> KX405F | D26: ='BD2'!D10 -> Terre | E26: ='BD2'!E10 -> BC
A27: ='BD2'!A11 -> 65545 | B27: ='BD2'!B11 -> Lille | C27: ='BD2'!C11 -> RX101I | D27: ='BD2'!D11 -> Air | E27: ='BD2'!E11 -> BX
A28: ='BD2'!A12 -> 65546 | B28: ='BD2'!B12 -> Strasbourg | C28: ='BD2'!C12 -> OX623G | D28: ='BD2'!D12 -> Terre | E28: ='BD2'!E12 -> UV
A29: ='BD2'!A13 -> 65547 | B29: ='BD2'!B13 -> Caen | C29: ='BD2'!C13 -> UX274H | D29: ='BD2'!D13 -> Eau | E29: ='BD2'!E13 -> AX
... A126: ='BD2'!A110 -> 0 | B126: ='BD2'!B110 -> 0 | C126: ='BD2'!C110 -> 0 | D126: ='BD2'!D110 -> 0 | E126: ='BD2'!E110 -> 0
A131: ='BD3'!A2 -> 130000 | B131: ='BD3'!B2 -> Bordeaux | C131: ='BD3'!C2 -> NC204F | D131: ='BD3'!D2 -> Air | E131: ='BD3'!E2 -> AB
A132: ='BD3'!A3 -> 130001 | B132: ='BD3'!B3 -> Paris | C132: ='BD3'!C3 -> VX206G | D132: ='BD3'!D3 -> Terre | E132: ='BD3'!E3 -> AC
A133: ='BD3'!A4 -> 130002 | B133: ='BD3'!B4 -> Lyon | C133: ='BD3'!C4 -> KX405F | D133: ='BD3'!D4 -> Terre | E133: ='BD3'!E4 -> BC
A134: ='BD3'!A5 -> 130003 | B134: ='BD3'!B5 -> Grenoble | C134: ='BD3'!C5 -> RX101I | D134: ='BD3'!D5 -> Eau | E134: ='BD3'!E5 -> BX
A135: ='BD3'!A6 -> 130004 | B135: ='BD3'!B6 -> Toulouse | C135: ='BD3'!C6 -> OX623G | D135: ='BD3'!D6 -> Eau | E135: ='BD3'!E6 -> UV
A136: ='BD3'!A7 -> 130005 | B136: ='BD3'!B7 -> Marseille | C136: ='BD3'!C7 -> UX274H | D136: ='BD3'!D7 -> Air | E136: ='BD3'!E7 -> AX
A137: ='BD3'!A8 -> 130006 | B137: ='BD3'!B8 -> Rennes | C137: ='BD3'!C8 -> NC204F | D137: ='BD3'!D8 -> Air | E137: ='BD3'!E8 -> AB
A138: ='BD3'!A9 -> 130007 | B138: ='BD3'!B9 -> Nantes | C138: ='BD3'!C9 -> VX206G | D138: ='BD3'!D9 -> Eau | E138: ='BD3'!E9 -> AC
A139: ='BD3'!A10 -> 130008 | B139: ='BD3'!B10 -> Nice | C139: ='BD3'!C10 -> KX405F | D139: ='BD3'!D10 -> Terre | E139: ='BD3'!E10 -> BC
A140: ='BD3'!A11 -> 130009 | B140: ='BD3'!B11 -> Lille | C140: ='BD3'!C11 -> RX101I | D140: ='BD3'!D11 -> Air | E140: ='BD3'!E11 -> BX
A141: ='BD3'!A12 -> 130010 | B141: ='BD3'!B12 -> Strasbourg | C141: ='BD3'!C12 -> OX623G | D141: ='BD3'!D12 -> Terre | E141: ='BD3'!E12 -> UV
A142: ='BD3'!A13 -> 130011 | B142: ='BD3'!B13 -> Caen | C142: ='BD3'!C13 -> UX274H | D142: ='BD3'!D13 -> Eau | E142: ='BD3'!E13 -> AX
... A155: ='BD3'!A26 -> 0 | B155: ='BD3'!B26 -> 0 | C155: ='BD3'!C26 -> 0 | D155: ='BD3'!D26 -> 0 | E155: ='BD3'!E26 -> 0

Sheet BD2
A1: Ligne | B1: Ville | C1: REF | D1: Type | E1: Divers
A2: 65536 | B2: Bordeaux | C2: NC204F | D2: Air | E2: AB
A3: 65537 | B3: Paris | C3: VX206G | D3: Terre | E3: AC
A4: 65538 | B4: Lyon | C4: KX405F | D4: Terre | E4: BC
A5: 65539 | B5: Grenoble | C5: RX101I | D5: Eau | E5: BX
A6: 65540 | B6: Toulouse | C6: OX623G | D6: Eau | E6: UV
A7: 65541 | B7: Marseille | C7: UX274H | D7: Air | E7: AX
A8: 65542 | B8: Rennes | C8: NC204F | D8: Air | E8: AB
A9: 65543 | B9: Nantes | C9: VX206G | D9: Eau | E9: AC
A10: 65544 | B10: Nice | C10: KX405F | D10: Terre | E10: BC
A11: 65545 | B11: Lille | C11: RX101I | D11: Air | E11: BX
A12: 65546 | B12: Strasbourg | C12: OX623G | D12: Terre | E12: UV
A13: 65547 | B13: Caen | C13: UX274H | D13: Eau | E13: AX
... A16: 65550 | B16: Amiens | C16: KX405F | D16: Air | E16: BC

Sheet BD3
A1: Ligne | B1: Ville | C1: REF | D1: Type | E1: Divers
A2: 130000 | B2: Bordeaux | C2: NC204F | D2: Air | E2: AB
A3: 130001 | B3: Paris | C3: VX206G | D3: Terre | E3: AC
A4: 130002 | B4: Lyon | C4: KX405F | D4: Terre | E4: BC
A5: 130003 | B5: Grenoble | C5: RX101I | D5: Eau | E5: BX
A6: 130004 | B6: Toulouse | C6: OX623G | D6: Eau | E6: UV
A7: 130005 | B7: Marseille | C7: UX274H | D7: Air | E7: AX
A8: 130006 | B8: Rennes | C8: NC204F | D8: Air | E8: AB
A9: 130007 | B9: Nantes | C9: VX206G | D9: Eau | E9: AC
A10: 130008 | B10: Nice | C10: KX405F | D10: Terre | E10: BC
A11: 130009 | B11: Lille | C11: RX101I | D11: Air | E11: BX
A12: 130010 | B12: Strasbourg | C12: OX623G | D12: Terre | E12: UV
A13: 130011 | B13: Caen | C13: UX274H | D13: Eau | E13: AX
... A16: 130014 | B16: Amiens | C16: KX405F | D16: Air | E16: BC

Sheet RECHERCHE
B1: Ligne | C1: Ville | D1: REF | E1: Type | F1: Divers
A2: Recherche :

Sheet LISTES
A1: Ville | B1: REF | C1: Type | D1: Divers
