Workbook
Name Segment_Etat__logement: #N/A

Sheet feuille 1
B1: ="Evolution des températures de jour : " &B2 -> Evolution des températures de jour : Rue 2 | I1: ="Semaine 0"& WEEKNUM(D2,2) -> Semaine 08 | K1: ="Evolution des températures de nuit : "&B2 -> Evolution des températures de nuit : Rue 2 | R1: =I1 -> Semaine 08
B2: Rue 2 | C2: Etat logement | D2: ='[1]la feuille intmédiaire'!B1 -> 43514 | E2: =D2+1 -> 43515 | F2: =D2+2 -> 43516 | G2: =D2+3 -> 43517 | H2: =D2+4 -> 43518 | I2: =D2+5 -> 43519 | J2: =D2+6 -> 43520 | K2: =B2 -> Rue 2 | L2: Etat logement | M2: =D2 -> 43514 | N2: =E2 -> 43515 | O2: =F2 -> 43516 | P2: =G2 -> 43517 | Q2: =H2 -> 43518 | R2: =I2 -> 43519 | S2: =J2 -> 43520
A3: RUE DE LA LOI 3C0AE8 12D - UG20089 | B3: 1 | D3: 23.19 | E3: 23.54 | F3: 23.54 | G3: 23.06 | H3: 23.19 | I3: 23.08 | J3: 23.08 | K3: 3C0AE8 12D - UG20089 | M3: 23.17 | N3: 23.88 | O3: 23.88 | P3: 23.7 | Q3: 23.17 | R3: 23.7 | S3: 23.7
A4: RUE DE LA LOI 3C0B10 7G - UG20020 | B4: 2 | D4: 23.96 | E4: 24.21 | F4: 24.21 | G4: 24.08 | H4: 23.96 | I4: 24.44 | J4: 24.44 | K4: 3C0B10 7G - UG20020 | M4: 24.07 | N4: 23.3 | O4: 23.3 | P4: 24.12 | Q4: 24.07 | R4: 24.73 | S4: 24.73
A5: RUE DE LA LOI D3BB74 7C - UG20016 | B5: 3 | D5: 23.39 | E5: 23.12 | F5: 23.12 | G5: 23.31 | H5: 23.39 | I5: 22.04 | J5: 22.04 | K5: D3BB74 7C - UG20016 | M5: 23.33 | N5: 23.75 | O5: 23.75 | P5: 23.62 | Q5: 23.33 | R5: 22.63 | S5: 22.63
A6: RUE DE LA LOI 3C0B3C 1D - UG19993 | B6: 4 | K6: 3C0B3C 1D - UG19993
A7: RUE DE LA LOI D3549C 4H - UG20061 | B7: 5 | D7: 23.07 | E7: 23.87 | F7: 23.87 | G7: 23.64 | H7: 23.07 | I7: 22.9 | J7: 22.9 | K7: D3549C 4H - UG20061 | M7: 23.67 | N7: 24.63 | O7: 24.63 | P7: 24.23 | Q7: 23.67 | R7: 23.6 | S7: 23.6
A8: RUE DE LA LOI 3C0B0A 5H - UG20013 | B8: 6 | D8: 22.71 | E8: 23.51 | F8: 23.51 | G8: 23.21 | H8: 22.71 | I8: 22.8 | J8: 22.8 | K8: 3C0B0A 5H - UG20013 | M8: 22.92 | N8: 23.9 | O8: 23.9 | P8: 23.67 | Q8: 22.92 | R8: 22.92 | S8: 22.92
A9: RUE DE LA LOI 3C0B3A 9A - UG20022 | B9: 7 | D9: 22.56 | E9: 21.69 | F9: 21.69 | G9: 22.03 | H9: 22.56 | I9: 21.73 | J9: 21.73 | K9: 3C0B3A 9A - UG20022 | M9: 22.95 | N9: 22.48 | O9: 22.48 | P9: 22.32 | Q9: 22.95 | R9: 22.8 | S9: 22.8
G22: =(COUNTIF($D$3:$J$8,"<=21")-COUNTIF($D$3:$J$8,"<=19"))/COUNTIF($D$3:$J$8,"<>""") -> 0 | H22: ="Sur la "&I1&", période jour "&TEXT(G22*1000,"0,00 %")&" Des logements bien-chauffés, "&TEXT(G24*1000,"0,00 %")&" Des logements sont sous chauffés et "&TEXT(G26*1000,"0,00 %")&" Des logements surchauffés." -> Sur la Semaine 08, période jour 0,00% Des logements bien-chauffés, 0,00% Des logements sont sous chauffés et 83,33% Des logements surchauffés. | P22: =(COUNTIF($M$3:$S$8,"<=21")-COUNTIF($M$3:$S$8,"<=19"))/COUNTIF($M$3:$S$8,"<>""") -> 0 | Q22: ="Sur la "&I1&", période jour "&TEXT(P22*1000,"0,00 %")&" Des logements bien-chauffés, " &TEXT(P24*1000,"0,00 %")&" Des logements sont sous chauffés et "&TEXT(P26*1000,"0,00 %")&" Des logements surchauffés." -> Sur la Semaine 08, période jour 0,00% Des logements bien-chauffés, 0,00% Des logements sont sous chauffés et 83,33% Des logements surchauffés.
G24: =COUNTIF($D$3:$J$8,"<=19")/COUNTIF($D$3:$J$8,"<>""") -> 0 | P24: =COUNTIF($D$3:$J$8,"<=19")/COUNTIF($D$3:$J$8,"<>""") -> 0
G26: =COUNTIF($D$3:$J$8,">=21")/COUNTIF($D$3:$J$8,"<>""") -> 0.83333333 | P26: =COUNTIF($D$3:$J$8,">=21")/COUNTIF($D$3:$J$8,"<>""") -> 0.83333333

Sheet feuille 2
B1: ="Evolution des températures de jour : " &B2 -> Evolution des températures de jour : Rue 2 | I1: ="Semaine 0"& WEEKNUM(D2,2) -> Semaine 08 | K1: ="Evolution des températures de nuit : "&B2 -> Evolution des températures de nuit : Rue 2 | R1: =I1 -> Semaine 08
B2: Rue 2 | C2: Etat logement | D2: ='[1]la feuille intmédiaire'!B1 -> 43514 | E2: =D2+1 -> 43515 | F2: =D2+2 -> 43516 | G2: =D2+3 -> 43517 | H2: =D2+4 -> 43518 | I2: =D2+5 -> 43519 | J2: =D2+6 -> 43520 | K2: =B2 -> Rue 2 | L2: Etat logement | M2: =D2 -> 43514 | N2: =E2 -> 43515 | O2: =F2 -> 43516 | P2: =G2 -> 43517 | Q2: =H2 -> 43518 | R2: =I2 -> 43519 | S2: =J2 -> 43520
A3: RUE BALZAC D29E2F 14F - UG 19121 | B3: 1 | C3: Vacant | D3: 24.1 | E3: 23.89 | F3: 23.89 | G3: 24.02 | H3: 24.1 | I3: 24.28 | J3: 24.28 | K3: =B3 -> 1 | L3: =C3 -> Vacant | M3: 24.03 | N3: 24.12 | O3: 24.12 | P3: 23.8 | Q3: 24.03 | R3: 24.38 | S3: 24.38
A4: RUE BALZAC D2F70E 20E - UG 19150 | B4: 2 | C4: Occupé | D4: 23.56 | E4: 23.55 | F4: 23.55 | G4: 23.58 | H4: 23.56 | I4: 23.23 | J4: 23.23 | K4: =B4 -> 2 | L4: =C4 -> Occupé | M4: 23.6 | N4: 23.42 | O4: 23.42 | P4: 23.58 | Q4: 23.6 | R4: 23.57 | S4: 23.57
A5: RUE BALZAC D2F6BF 20G - UG 19152 | B5: 3 | C5: Occupé | D5: 22.59 | E5: 22.93 | F5: 22.93 | G5: 22.84 | H5: 22.59 | I5: 22.84 | J5: 22.84 | K5: =B5 -> 3 | L5: =C5 -> Occupé | M5: 22.37 | N5: 22.17 | O5: 22.17 | P5: 22.4 | Q5: 22.37 | R5: 22.27 | S5: 22.27
A6: RUE BALZAC D35407 2A - UG 19056 | B6: 4 | C6: Occupé | D6: 23.38 | E6: 23.52 | F6: 23.52 | G6: 23.56 | H6: 23.38 | I6: 23.43 | J6: 23.43 | K6: =B6 -> 4 | L6: =C6 -> Occupé | M6: 23.35 | N6: 23.22 | O6: 23.22 | P6: 23.42 | Q6: 23.35 | R6: 23.45 | S6: 23.45
A7: RUE BALZAC D3B587 6J - UG 19085 | B7: 5 | C7: Occupé | D7: 21.21 | E7: 21.33 | F7: 21.33 | G7: 21.39 | H7: 21.21 | I7: 21.42 | J7: 21.42 | K7: =B7 -> 5 | L7: =C7 -> Occupé | M7: 20.77 | N7: 20.32 | O7: 20.32 | P7: 20.47 | Q7: 20.77 | R7: 20.5 | S7: 20.5
A8: RUE BALZAC D34CE9 20A - UG 19146 | B8: 6 | C8: Occupé | D8: 23.04 | E8: 22.95 | F8: 22.95 | G8: 23.01 | H8: 23.04 | I8: 22.64 | J8: 22.64 | K8: =B8 -> 6 | L8: =C8 -> Occupé | M8: 23.32 | N8: 23.38 | O8: 23.38 | P8: 23.38 | Q8: 23.32 | R8: 23.53 | S8: 23.53
B9: 7 | C9: Occupé | K9: =B9 -> 7 | L9: =C9 -> Occupé
G22: =(COUNTIF($D$3:$J$8,"<=21")-COUNTIF($D$3:$J$8,"<=19"))/COUNTIF($D$3:$J$8,"<>""") -> 0 | H22: ="Sur la "&I1&", période jour "&TEXT(G22*1000,"0,00 %")&" Des logements bien-chauffés, "&TEXT(G24*1000,"0,00 %")&" Des logements sont sous chauffés et "&TEXT(G26*1000,"0,00 %")&" Des logements surchauffés." -> Sur la Semaine 08, période jour 0,00% Des logements bien-chauffés, 0,00% Des logements sont sous chauffés et 100,00% Des logements surchauffés. | P22: =(COUNTIF($M$3:$S$8,"<=21")-COUNTIF($M$3:$S$8,"<=19"))/COUNTIF($M$3:$S$8,"<>""") -> 0.16666667 | Q22: ="Sur la "&I1&", période jour "&TEXT(P22*1000,"0,00 %")&" Des logements bien-chauffés, " &TEXT(P24*1000,"0,00 %")&" Des logements sont sous chauffés et "&TEXT(P26*1000,"0,00 %")&" Des logements surchauffés." -> Sur la Semaine 08, période jour 16,67% Des logements bien-chauffés, 0,00% Des logements sont sous chauffés et 100,00% Des logements surchauffés.
G24: =COUNTIF($D$3:$J$8,"<=19")/COUNTIF($D$3:$J$8,"<>""") -> 0 | P24: =COUNTIF($D$3:$J$8,"<=19")/COUNTIF($D$3:$J$8,"<>""") -> 0
G26: =COUNTIF($D$3:$J$8,">=21")/COUNTIF($D$3:$J$8,"<>""") -> 1 | P26: =COUNTIF($D$3:$J$8,">=21")/COUNTIF($D$3:$J$8,"<>""") -> 1

Sheet Synthèse
A1: ='feuille 1'!B2 -> Rue 2 | B1: ='feuille 1'!C2 -> Etat logement | C1: ='feuille 1'!D2 -> 43514 | D1: ='feuille 1'!E2 -> 43515 | E1: ='feuille 1'!F2 -> 43516 | F1: ='feuille 1'!G2 -> 43517 | G1: ='feuille 1'!H2 -> 43518 | H1: ='feuille 1'!I2 -> 43519 | ... T1: ='feuille 1'!U2 -> 0
A2: ='feuille 1'!B3 -> 1 | B2: ='feuille 1'!C3 | C2: ='feuille 1'!D3 -> 23.19 | D2: ='feuille 1'!E3 -> 23.54 | E2: ='feuille 1'!F3 -> 23.54 | F2: ='feuille 1'!G3 -> 23.06 | G2: ='feuille 1'!H3 -> 23.19 | H2: ='feuille 1'!I3 -> 23.08 | ... T2: ='feuille 1'!U3 -> 0
A3: ='feuille 1'!B4 -> 2 | B3: ='feuille 1'!C4 | C3: ='feuille 1'!D4 -> 23.96 | D3: ='feuille 1'!E4 -> 24.21 | E3: ='feuille 1'!F4 -> 24.21 | F3: ='feuille 1'!G4 -> 24.08 | G3: ='feuille 1'!H4 -> 23.96 | H3: ='feuille 1'!I4 -> 24.44 | ... T3: ='feuille 1'!U4 -> 0
A4: ='feuille 1'!B5 -> 3 | B4: ='feuille 1'!C5 | C4: ='feuille 1'!D5 -> 23.39 | D4: ='feuille 1'!E5 -> 23.12 | E4: ='feuille 1'!F5 -> 23.12 | F4: ='feuille 1'!G5 -> 23.31 | G4: ='feuille 1'!H5 -> 23.39 | H4: ='feuille 1'!I5 -> 22.04 | ... T4: ='feuille 1'!U5 -> 0
A5: ='feuille 1'!B6 -> 4 | B5: ='feuille 1'!C6 | C5: ='feuille 1'!D6 -> 0 | D5: ='feuille 1'!E6 -> 0 | E5: ='feuille 1'!F6 -> 0 | F5: ='feuille 1'!G6 -> 0 | G5: ='feuille 1'!H6 -> 0 | H5: ='feuille 1'!I6 -> 0 | ... T5: ='feuille 1'!U6 -> 0
A6: ='feuille 1'!B7 -> 5 | B6: ='feuille 1'!C7 | C6: ='feuille 1'!D7 -> 23.07 | D6: ='feuille 1'!E7 -> 23.87 | E6: ='feuille 1'!F7 -> 23.87 | F6: ='feuille 1'!G7 -> 23.64 | G6: ='feuille 1'!H7 -> 23.07 | H6: ='feuille 1'!I7 -> 22.9 | ... T6: ='feuille 1'!U7 -> 0
A7: ='feuille 1'!B8 -> 6 | B7: ='feuille 1'!C8 | C7: ='feuille 1'!D8 -> 22.71 | D7: ='feuille 1'!E8 -> 23.51 | E7: ='feuille 1'!F8 -> 23.51 | F7: ='feuille 1'!G8 -> 23.21 | G7: ='feuille 1'!H8 -> 22.71 | H7: ='feuille 1'!I8 -> 22.8 | ... T7: ='feuille 1'!U8 -> 0
A8: ='feuille 1'!B9 -> 7 | B8: ='feuille 1'!C9 | C8: ='feuille 1'!D9 -> 22.56 | D8: ='feuille 1'!E9 -> 21.69 | E8: ='feuille 1'!F9 -> 21.69 | F8: ='feuille 1'!G9 -> 22.03 | G8: ='feuille 1'!H9 -> 22.56 | H8: ='feuille 1'!I9 -> 21.73 | ... T8: ='feuille 1'!U9 -> 0
A9: ='feuille 1'!B10 -> 0 | B9: ='feuille 1'!C10 -> 0 | C9: ='feuille 1'!D10 -> 0 | D9: ='feuille 1'!E10 -> 0 | E9: ='feuille 1'!F10 -> 0 | F9: ='feuille 1'!G10 | G9: ='feuille 1'!H10 | H9: ='feuille 1'!I10 -> 0 | ... T9: ='feuille 1'!U10 -> 0
A10: ='feuille 1'!B11 -> 0 | B10: ='feuille 1'!C11 -> 0 | C10: ='feuille 1'!D11 -> 0 | D10: ='feuille 1'!E11 -> 0 | E10: ='feuille 1'!F11 -> 0 | F10: ='feuille 1'!G11 | G10: ='feuille 1'!H11 -> 0 | H10: ='feuille 1'!I11 -> 0 | ... T10: ='feuille 1'!U11 -> 0
A11: ='feuille 1'!B12 -> 0 | B11: ='feuille 1'!C12 -> 0 | C11: ='feuille 1'!D12 -> 0 | D11: ='feuille 1'!E12 -> 0 | E11: ='feuille 1'!F12 -> 0 | F11: ='feuille 1'!G12 -> 0 | G11: ='feuille 1'!H12 -> 0 | H11: ='feuille 1'!I12 -> 0 | ... T11: ='feuille 1'!U12 -> 0
A12: ='feuille 1'!B13 -> 0 | B12: ='feuille 1'!C13 -> 0 | C12: ='feuille 1'!D13 -> 0 | D12: ='feuille 1'!E13 -> 0 | E12: ='feuille 1'!F13 -> 0 | F12: ='feuille 1'!G13 -> 0 | G12: ='feuille 1'!H13 -> 0 | H12: ='feuille 1'!I13 -> 0 | ... T12: ='feuille 1'!U13 -> 0
... A15: ='feuille 1'!B16 -> 0 | B15: ='feuille 1'!C16 -> 0 | C15: ='feuille 1'!D16 -> 0 | D15: ='feuille 1'!E16 -> 0 | E15: ='feuille 1'!F16 -> 0 | F15: ='feuille 1'!G16 -> 0 | G15: ='feuille 1'!H16 -> 0 | H15: ='feuille 1'!I16 -> 0 | ... T15: ='feuille 1'!U16 -> 0
A16: ='feuille 2'!B3 -> 1 | B16: ='feuille 2'!C3 -> Vacant | C16: ='feuille 2'!D3 -> 24.1 | D16: ='feuille 2'!E3 -> 23.89 | E16: ='feuille 2'!F3 -> 23.89 | F16: ='feuille 2'!G3 -> 24.02 | G16: ='feuille 2'!H3 -> 24.1 | H16: ='feuille 2'!I3 -> 24.28 | ... T16: ='feuille 2'!U3 -> 0
A17: ='feuille 2'!B4 -> 2 | B17: ='feuille 2'!C4 -> Occupé | C17: ='feuille 2'!D4 -> 23.56 | D17: ='feuille 2'!E4 -> 23.55 | E17: ='feuille 2'!F4 -> 23.55 | F17: ='feuille 2'!G4 -> 23.58 | G17: ='feuille 2'!H4 -> 23.56 | H17: ='feuille 2'!I4 -> 23.23 | ... T17: ='feuille 2'!U4 -> 0
A18: ='feuille 2'!B5 -> 3 | B18: ='feuille 2'!C5 -> Occupé | C18: ='feuille 2'!D5 -> 22.59 | D18: ='feuille 2'!E5 -> 22.93 | E18: ='feuille 2'!F5 -> 22.93 | F18: ='feuille 2'!G5 -> 22.84 | G18: ='feuille 2'!H5 -> 22.59 | H18: ='feuille 2'!I5 -> 22.84 | ... T18: ='feuille 2'!U5 -> 0
A19: ='feuille 2'!B6 -> 4 | B19: ='feuille 2'!C6 -> Occupé | C19: ='feuille 2'!D6 -> 23.38 | D19: ='feuille 2'!E6 -> 23.52 | E19: ='feuille 2'!F6 -> 23.52 | F19: ='feuille 2'!G6 -> 23.56 | G19: ='feuille 2'!H6 -> 23.38 | H19: ='feuille 2'!I6 -> 23.43 | ... T19: ='feuille 2'!U6 -> 0
A20: ='feuille 2'!B7 -> 5 | B20: ='feuille 2'!C7 -> Occupé | C20: ='feuille 2'!D7 -> 21.21 | D20: ='feuille 2'!E7 -> 21.33 | E20: ='feuille 2'!F7 -> 21.33 | F20: ='feuille 2'!G7 -> 21.39 | G20: ='feuille 2'!H7 -> 21.21 | H20: ='feuille 2'!I7 -> 21.42 | ... T20: ='feuille 2'!U7 -> 0
A21: ='feuille 2'!B8 -> 6 | B21: ='feuille 2'!C8 -> Occupé | C21: ='feuille 2'!D8 -> 23.04 | D21: ='feuille 2'!E8 -> 22.95 | E21: ='feuille 2'!F8 -> 22.95 | F21: ='feuille 2'!G8 -> 23.01 | G21: ='feuille 2'!H8 -> 23.04 | H21: ='feuille 2'!I8 -> 22.64 | ... T21: ='feuille 2'!U8 -> 0
A22: ='feuille 2'!B9 -> 7 | B22: ='feuille 2'!C9 -> Occupé | C22: ='feuille 2'!D9 -> 0 | D22: ='feuille 2'!E9 -> 0 | E22: ='feuille 2'!F9 -> 0 | F22: ='feuille 2'!G9 -> 0 | G22: ='feuille 2'!H9 -> 0 | H22: ='feuille 2'!I9 -> 0 | ... T22: ='feuille 2'!U9 -> 0
A23: ='feuille 2'!B10 -> 0 | B23: ='feuille 2'!C10 -> 0 | C23: ='feuille 2'!D10 -> 0 | D23: ='feuille 2'!E10 -> 0 | E23: ='feuille 2'!F10 -> 0 | F23: ='feuille 2'!G10 | G23: ='feuille 2'!H10 | H23: ='feuille 2'!I10 -> 0 | ... T23: ='feuille 2'!U10 -> 0
A24: ='feuille 2'!B11 -> 0 | B24: ='feuille 2'!C11 -> 0 | C24: ='feuille 2'!D11 -> 0 | D24: ='feuille 2'!E11 -> 0 | E24: ='feuille 2'!F11 -> 0 | F24: ='feuille 2'!G11 | G24: ='feuille 2'!H11 -> 0 | H24: ='feuille 2'!I11 -> 0 | ... T24: ='feuille 2'!U11 -> 0
A25: ='feuille 2'!B12 -> 0 | B25: ='feuille 2'!C12 -> 0 | C25: ='feuille 2'!D12 -> 0 | D25: ='feuille 2'!E12 -> 0 | E25: ='feuille 2'!F12 -> 0 | F25: ='feuille 2'!G12 -> 0 | G25: ='feuille 2'!H12 -> 0 | H25: ='feuille 2'!I12 -> 0 | ... T25: ='feuille 2'!U12 -> 0
A26: ='feuille 2'!B13 -> 0 | B26: ='feuille 2'!C13 -> 0 | C26: ='feuille 2'!D13 -> 0 | D26: ='feuille 2'!E13 -> 0 | E26: ='feuille 2'!F13 -> 0 | F26: ='feuille 2'!G13 -> 0 | G26: ='feuille 2'!H13 -> 0 | H26: ='feuille 2'!I13 -> 0 | ... T26: ='feuille 2'!U13 -> 0

Sheet TCD
A3: Étiquettes de lignes | B3: Somme de 18/02/2019 | C3: Somme de 19/02/2019 | D3: Somme de 20/02/2019 | E3: Somme de 21/02/2019
A4: 1 | B4: 24.1 | C4: 23.89 | D4: 23.89 | E4: 24.02
A5: Vacant | B5: 24.1 | C5: 23.89 | D5: 23.89 | E5: 24.02
A6: 2 | B6: 23.56 | C6: 23.55 | D6: 23.55 | E6: 23.58
A7: Occupé | B7: 23.56 | C7: 23.55 | D7: 23.55 | E7: 23.58
A8: 3 | B8: 22.59 | C8: 22.93 | D8: 22.93 | E8: 22.84
A9: Occupé | B9: 22.59 | C9: 22.93 | D9: 22.93 | E9: 22.84
A10: 4 | B10: 23.38 | C10: 23.52 | D10: 23.52 | E10: 23.56
A11: Occupé | B11: 23.38 | C11: 23.52 | D11: 23.52 | E11: 23.56
A12: 5 | B12: 21.21 | C12: 21.33 | D12: 21.33 | E12: 21.39
A13: Occupé | B13: 21.21 | C13: 21.33 | D13: 21.33 | E13: 21.39
A14: 6 | B14: 23.04 | C14: 22.95 | D14: 22.95 | E14: 23.01
A15: Occupé | B15: 23.04 | C15: 22.95 | D15: 22.95 | E15: 23.01
A16: 7 | B16: 0 | C16: 0 | D16: 0 | E16: 0
A17: Occupé | B17: 0 | C17: 0 | D17: 0 | E17: 0
A18: Total général | B18: 137.88 | C18: 138.17 | D18: 138.17 | E18: 138.4
